{"text_format":"1","workbook":"xlsx","n_sheets":12,"sheets":["Cover","Summary Report","Report Sheet","Abbreviations","Orifice","Field Sheets","CO2 Conversion Factors","SOP","X Steam Example","SEA Steam Leak Est rev 8.1","X Steam Functions","Abbreviations (2)"],"not_rendered":{"charts":1,"images":1,"macros":1,"external_links":1,"defined_names":126,"comments":0,"pivot_tables":0},"unopened":[],"bounds":{"document_bytes":16777216,"sheet_cells":100000,"rows_first":2000,"rows_last":500,"rows_between":2000,"halvings":0,"cell_chars":16384,"cell_head_chars":4096},"cells_cut":0,"cells_raw":0,"read":"whole","date_system":"1900"}

{"sheet":"Cover","index":0,"n_rows":18,"n_cols":5,"rows_kept":18,"cut":false,"hidden":false,"merged":[[5,2,5,4],[4,1,4,4],[7,1,7,4],[17,1,17,4]]}
[]
[]
[]
[]
[]
[null,"Fuel type","Natural Gas"]
[]
[null," Add the steam cost and units"]
[null,"Cost of Steam ",14,"$/1000lbs"]
[]
[null,"Operating time:","Days/Year","Hrs/Day","Operating factor"]
[null,"All year",365,24,{"$f":"D12*C12","v":8760}]
[null,"Weekdays (8hrs)",{"$f":"52*5","v":260},8,2080]
[null,"Weekdays (24hrs)",{"$f":"52*5","v":260},24,6240]
[null,"Heating Season",{"$f":"7*30","v":210},24,5040]
[null,null,null,null,0]
[null,"DEFAULT",365,24,8760]
[null,"Copy Rights: Not to be copied or distributed without specific permission from Inveno Engineering LLC; kelly.paffel@invenoeng.com"]

{"sheet":"Summary Report","index":1,"n_rows":69,"n_cols":15,"rows_kept":69,"cut":false,"hidden":false,"merged":[[1,1,1,6],[3,4,3,5],[4,4,4,5],[5,4,5,5],[2,4,2,5],[2,1,2,3],[4,1,4,3],[1,11,1,15],[7,11,7,13],[3,11,3,15],[7,14,7,15],[5,11,5,13],[29,1,29,6],[6,11,6,13],[8,1,9,6],[51,1,51,9],[30,12,30,14],[29,9,29,14],[6,4,6,5],[7,4,7,5],[30,4,30,6],[11,1,11,7]]}
[]
[null,"Annual Loss and Emission Summary",null,null,null,null,null,null,null,null,null,"Steam Trap Summary"]
[null,"Steam Loss",null,null,{"$f":"SUMPRODUCT(SUBTOTAL(9,OFFSET(Report_AmountSteamLoss,ROW(Report_AmountSteamLoss)-MIN(ROW(Report_AmountSteamLoss)),,1)))*1000/8760","v":160.57073042192849},null,{"$f":"IF(Cover_Select_SteamCostUnits=\"£/1000kg\",\"kg/hr (average)\",\"lbs/hr (average)\")","v":"lbs/hr (average)"}]
[null,"Steam Loss",null,null,{"$f":"SUMPRODUCT(SUBTOTAL(9,OFFSET(Report_AmountSteamLoss,ROW(Report_AmountSteamLoss)-MIN(ROW(Report_AmountSteamLoss)),,1)))*1000","v":1406599.5984960936},null,{"$f":"IF(Cover_Select_SteamCostUnits=\"£/1000kg\",\"kg/annum\",\"lbs/annum\")","v":"lbs/annum"}]
[null,"Monetry Loss",null,null,{"$f":"SUMPRODUCT(SUBTOTAL(9,OFFSET(Report_CostSteamLoss,ROW(Report_CostSteamLoss)-MIN(ROW(Report_CostSteamLoss)),,1)))","v":19692.394378945319},null,{"$f":"IF(Cover_Select_SteamCostUnits=\"£/1000kg\",\"£/annum\",\"$/annum\")","v":"$/annum"}]
[null,"CO2 Emissions",null,null,{"$f":"SUM(Report_CO2)","v":290717.94049822021},null,{"$f":"IF(Cover_Select_SteamCostUnits=\"£/1000kg\",\"kg/annum\",\"lbs/annum\")","v":"lbs/annum"}]
[null,"NOX Emissions",null,null,{"$f":"SUM(Report_NOX)","v":798.55294330311074},null,{"$f":"IF(Cover_Select_SteamCostUnits=\"£/1000kg\",\"kg/annum\",\"lbs/annum\")","v":"lbs/annum"},null,null,null,null,null,null,null,"Survey Date"]
[null,"CH4 Emissions",null,null,{"$f":"SUM(Report_SO2)","v":307.00816992268938},null,{"$f":"IF(Cover_Select_SteamCostUnits=\"£/1000kg\",\"kg/annum\",\"lbs/annum\")","v":"lbs/annum"},null,null,null,null,null,null,null,"2015-12-16"]
[null,"(*based on data provided of cost/1000 lbs steam and 365 days/year operation for steam mains and 7 month seasonal operation for various heating loads. Loss assumes that all steam is being vented to atmopshere at the receiver tank and delivered back to the boiler)"]
[]
[]
[null,"Steam Trap Operation Summary"]
[null,"Condition",null,null,null,"Count","% of Total","% of Total"]
[null,{"$f":"Abbreviations!B48","v":"PO"},{"$f":"VLOOKUP(B14,Abb_Lookup_Status,2,FALSE)","v":"Proper Operation"},null,null,{"$f":"SUMPRODUCT(SUBTOTAL(3,OFFSET(Report_Status,ROW(Report_Status)-MIN(ROW(Report_Status)),,1))*(Report_Status=B14))","v":25},{"$f":"F14/$F$26","v":0.30120481927710846},{"$f":"$F14/($F$26-$F$21-$F$24-$F$25)","v":0.30120481927710846}]
[null,{"$f":"Abbreviations!B49","v":"BLW"},"Blowing Failure Mode",null,null,10,0.12048192771084337,{"$f":"$F15/($F$26-$F$21-$F$24-$F$25)","v":0.12048192771084337}]
[null,{"$f":"Abbreviations!B50","v":"LL"},{"$f":"VLOOKUP(B16,Abb_Lookup_Status,2,FALSE)","v":"Large Leak"},null,null,3,3.614457831325301E-2,3.614457831325301E-2]
[null,{"$f":"Abbreviations!B51","v":"SL"},"Small Leak",null,null,5,6.0240963855421686E-2,6.0240963855421686E-2]
[null,{"$f":"Abbreviations!B52","v":"PRI"},"Loss of Prime (IB Only)",null,null,0,0,0]
[null,{"$f":"Abbreviations!B53","v":"LNK"},"Linkage",null,null,4,4.8192771084337352E-2,4.8192771084337352E-2]
[null,{"$f":"Abbreviations!B54","v":"CHK"},"Check Valve Problem",null,null,0,0,0]
[null,{"$f":"Abbreviations!B55","v":"ACC"},"Could Not Access",null,null,0,0]
[null,{"$f":"Abbreviations!B56","v":"SBD"},"Steam binding",null,null,0,0,0]
[null,{"$f":"Abbreviations!B57","v":"CLD"},"Cold - (below op temp)",null,null,36,0.43373493975903615,0.43373493975903615]
[null,{"$f":"Abbreviations!B58","v":"NIS"},"Not in Service (steam on)",null,null,0,0]
[null,{"$f":"Abbreviations!B59","v":"OFF"},"Steam service was off",null,null,0,0]
[null,null,null,null,"Total",{"$f":"SUM(F14:F25)","v":83},{"$f":"SUM(G14:G25)","v":1},{"$f":"SUM(H14:H25)","v":1}]
[]
[]
[]
[null,"Manufacturer Summary",null,null,null,null,null,null,null,"Steam Trap Summary"]
[null,null,null,"Installed","In Service",null,null,null,null,null,null,"Installed","In Service"]
[null,"Manufacturer",null,"Count","Count","Failed","% Failed",null,null,"Steam Trap Type",null,"Count","Count","Failed","% Failure"]
[null,{"$f":"Abbreviations!B26","v":"ARM"},{"$f":"VLOOKUP(B33,Abb_Lookup_Manufacturer,2,FALSE)","v":"Armstrong"},{"$f":"COUNTIF(Report_Manufacturers,B33)","v":83},{"$f":"COUNTIF(Report_TrapManuInService,B33)","v":83},{"$f":"COUNTIF(Report_TrapManuIsFailed,B33)","v":58},{"$f":"IF(E33=0,0,F33/E33)","v":0.6987951807228916},null,null,{"$f":"Abbreviations!B63","v":"IB"},{"$f":"VLOOKUP(J33,Abb_Lookup_TrapType,2,FALSE)","v":"Inverted Bucket"},{"$f":"COUNTIF(Report_TrapType,J33)","v":56},{"$f":"COUNTIF(Report_TrapTypeInService,J33)","v":56},{"$f":"COUNTIF(Report_TrapTypeIsFailed,J33)","v":37},{"$f":"IF(M33=0,0,N33/M33)","v":0.6607142857142857}]
[null,{"$f":"Abbreviations!B27","v":"BLO"},"Blok Gouda",0,0,0,{"$f":"IF(E34=0,0,F34/E34)","v":0},null,null,{"$f":"Abbreviations!B64","v":"FT"},"Float & Thermostatic",27,27,21,0.77777777777777779]
[null,{"$f":"Abbreviations!B28","v":"COL"},"Colton",0,0,0,0,null,null,{"$f":"Abbreviations!B65","v":"FF"},"Free Float",0,0,0,0]
[null,{"$f":"Abbreviations!B29","v":"ERW"},"Erwell",0,0,0,0,null,null,{"$f":"Abbreviations!B66","v":"TD"},"Thermodynamic",0,0,0,0]
[null,{"$f":"Abbreviations!B30","v":"GES"},"Gestra",0,0,0,0,null,null,{"$f":"Abbreviations!B67","v":"TS"},"Thermostatic",0,0,0,0]
[null,{"$f":"Abbreviations!B31","v":"HOF"},"Hoffman",0,0,0,0,null,null,{"$f":"Abbreviations!B68","v":"BM"},"Bi-metallic",0,0,0,0]
[null,{"$f":"Abbreviations!B32","v":"NIC"},"Nicholson",0,0,0,0,null,null,{"$f":"Abbreviations!B69","v":"O"},"Orifice",0,0,0,0]
[null,{"$f":"Abbreviations!B33","v":"JUK"},"Jucker",0,0,0,0,null,null,null,null,{"$f":"SUM(L33:L39)","v":83},{"$f":"SUM(M33:M39)","v":83},{"$f":"SUM(N33:N39)","v":58},0.6987951807228916]
[null,{"$f":"Abbreviations!B34","v":"SPI"},"Spirax Sarco",0,0,0,0,null,null,"(* In Service does not include NIS and OFF Steam Traps)"]
[null,{"$f":"Abbreviations!B35","v":"TLV"},"TLV",0,0,0,0]
[null,{"$f":"Abbreviations!B36","v":"UNK"},"Unknown or illegible",0,0,0,0]
[null,{"$f":"Abbreviations!B37","v":"TRA"},"Trane",0,0,0,0]
[null,{"$f":"Abbreviations!B38","v":"VEL"},"Velan",0,0,0,0]
[null,{"$f":"Abbreviations!B39","v":"WLW"},"Watlow",0,0,0,{"$f":"IF(E46=0,0,F46/E46)","v":0}]
[null,{"$f":"Abbreviations!B40","v":"YAR"},"Yarway",0,0,0,{"$f":"IF(E47=0,0,F47/E47)","v":0}]
[null,null,"Total",{"$f":"SUM(D33:D47)","v":83},{"$f":"SUM(E33:E47)","v":83},{"$f":"SUM(F33:F47)","v":58},{"$f":"IF(E48=0,0,F48/E48)","v":0.6987951807228916}]
[null,"(* In Service does not include NIS and OFF Steam Traps)"]
[]
[]
[null,"Steam Trap Type by Manufacturer"]
[null,null,null,"IB","FT","FF","TD","TS","BM","O"]
[null,{"$f":"Abbreviations!B26","v":"ARM"},{"$f":"VLOOKUP(B54,Abb_Lookup_Manufacturer,2,FALSE)","v":"Armstrong"},{"$f":"COUNTIF(Report_ManuTrapType,$B54&D$53)","v":56},{"$f":"COUNTIF(Report_ManuTrapType,$B54&E$53)","v":27},0,0,0,0,0]
[null,{"$f":"Abbreviations!B27","v":"BLO"},"Blok Gouda",0,0,0,0,0,0,0]
[null,{"$f":"Abbreviations!B28","v":"COL"},"Colton",0,0,0,0,0,0,0]
[null,{"$f":"Abbreviations!B29","v":"ERW"},"Erwell",0,0,0,0,0,0,0]
[null,{"$f":"Abbreviations!B30","v":"GES"},"Gestra",0,0,0,0,0,0,0]
[null,{"$f":"Abbreviations!B31","v":"HOF"},"Hoffman",0,0,0,0,0,0,0]
[null,{"$f":"Abbreviations!B32","v":"NIC"},"Nicholson",0,0,0,0,0,0,0]
[null,{"$f":"Abbreviations!B33","v":"JUK"},"Jucker",0,0,0,0,0,0,0]
[null,{"$f":"Abbreviations!B34","v":"SPI"},"Spirax Sarco",0,0,0,0,0,0,0]
[null,{"$f":"Abbreviations!B35","v":"TLV"},"TLV",0,0,0,0,0,0,0]
[null,{"$f":"Abbreviations!B36","v":"UNK"},"Unknown or illegible",0,0,0,0,0,0,0]
[null,{"$f":"Abbreviations!B37","v":"TRA"},"Trane",0,0,0,0,0,0,0]
[null,{"$f":"Abbreviations!B38","v":"VEL"},"Velan",0,0,0,0,0,0,0]
[null,{"$f":"Abbreviations!B39","v":"WLW"},"Watlow",0,0,0,0,0,0,0]
[null,{"$f":"Abbreviations!B40","v":"YAR"},"Yarway",0,0,0,0,0,0,0]
[null,"Copy Rights: Not to be copied or distributed without specific permission from Inveno Engineering LLC; kelly.paffel@invenoeng.com"]

{"sheet":"Report Sheet","index":2,"n_rows":1234,"n_cols":60,"rows_kept":1234,"cut":false,"hidden":false,"merged":[[0,37,0,39],[0,45,0,49],[0,19,0,30],[0,31,0,34],[0,0,0,4]]}
["PLANT DETAILS",null,null,null,null,"Steam Trap Details",null,null,null,null,null,null,null,null,null,null,null,null,null,"INSTALLATION DETAILS",null,null,null,null,null,null,null,null,null,null,null,"DRIP POCKET DETAILS",null,null,null,"NOTES","PHOTOS","EMISSIONS",null,null,null,null,null,null,null,"CALCULATIONS DO NOT DELETE"]
["REVIEW DATE","TRAP ID","AREA","SPECIFIC LOCATION","DESCRIPTION","MANUFACTURER","MODEL","TYPE","ORIFACE DIAMETER","TRAP CAPACITY","APPLICATION","OPERATIONAL STATUS","CONNECTION TYPE","CONNECTION SIZE\n(INCHES)","INLET\nPRESSURE","OUTLET\nPRESSURE","INLET\nTEMPERATURE","OUTLET\nTEMPERATURE","SUPERHEAT","INSTALLED ELEVATION","CONDENSATE\nRETURN","CONDENSATE ELEVATION RISE","UPSTREAM\nISOLATION VALVE","DOWNSTREAM\nISOLATION VALVE","UNIVERSAL MOUNT","STRAINER","STRAINER\nBLOWDOWN","DOWNSTREAM\nPIPE SIZE INCREASE","CHECK VALVE","BYPASS","OPERATION TIME","HEADER SIZE","POCKET SIZE","POCKET LENGTH","BLOWDOWN","COMMENTS / NOTES","PHOTO REFERENCE",{"$f":"IF(Cover_Select_SteamCostUnits=\"£/1000kg\", \"kgs of CO2\", \"x1000lbs of CO2\")","v":"x1000lbs of CO2"},{"$f":"IF(Cover_Select_SteamCostUnits=\"£/1000kg\", \"kgs of NOX\", \"lbs of NOX\")","v":"lbs of NOX"},{"$f":"IF(Cover_Select_SteamCostUnits=\"£/1000kg\", \"kgs of CH4\", \"lbs of SO2\")","v":"lbs of SO2"},"STEAM LOSS PER ANNUM x1000","STEAM COST\nPER ANNUM","RECOMMENDED\nTYPE (NOT IN USE)",null,null,"Manufacturer in Service","Manufacturer\nin Service & Failed","Trap Type in Service","Trap Type\nin Service & Failed","Manufacturer & Trap Type","Trap Type Failed CLD","Trap Type Failed SL","Trap Type Failed LL","Trap Type Failed BLW",null,"EXXON","SS","TLV"]
["2015-12-16","NA",null,"507 Mech Room 124",null,"ARM",null,"IB","5/32",null,"UH","BLW","NPT","3/4",100,0,null,null,null,null,null,null,"Y","Y","N","Y",null,null,null,null,"HEATING SEASON",null,null,null,null,null,"3078,914",{"$f":"IF(O3=\"130\",2014.4*AO3*'CO2 Conversion Factors'!$D$20/0.8/1000,2096.16*AO3*'CO2 Conversion Factors'!$D$20/0.8/1000)","v":65037.570581257307},{"$f":"IF(O3=\"130\",2014.4*AO3*'CO2 Conversion Factors'!$G$20/0.8/1000,2096.16*AO3*'CO2 Conversion Factors'!$G$20/0.8/1000)","v":178.64719089555047},{"$f":"IF(O3=\"130\",2014.4*AO3*'CO2 Conversion Factors'!$J$20/0.8/1000,2096.16*AO3*'CO2 Conversion Factors'!$J$20/0.8/1000)","v":68.681917208655349},{"$f":"IFERROR(IF(OR(L3=\"BLW\",L3=\"PRI\",L3=\"LNK\"),IF(Cover_Select_SteamCostUnits=\"£/1000kg\",11.6*(VLOOKUP($I3,Abb_Lookup_OrifaceDia,2,FALSE)^2)*SQRT(($O3-$P3)*($O3+$P3)),25.57363*(VLOOKUP($I3,Abb_Lookup_OrifaceDia,2,FALSE)^2)*SQRT(($O3-$P3)*($O3+$P3)))*(VLOOKUP(AE3,Cover_Lookup_OpTime,4,FALSE)/1000),IF(L3=\"LL\",IF(Cover_Select_SteamCostUnits=\"£/1000kg\",11.6*(VLOOKUP($I3,Abb_Lookup_OrifaceDia,2,FALSE)^2)*SQRT(($O3-$P3)*($O3+$P3)),25.57363*(VLOOKUP($I3,Abb_Lookup_OrifaceDia,2,FALSE)^2)*SQRT(($O3-$P3)*($O3+$P3)))*(VLOOKUP(AE3,Cover_Lookup_OpTime,4,FALSE)/2000),IF(L3=\"SL\",IF(Cover_Select_SteamCostUnits=\"£/1000kg\",11.6*(VLOOKUP($I3,Abb_Lookup_OrifaceDia,2,FALSE)^2)*SQRT(($O3-$P3)*($O3+$P3)),25.57363*(VLOOKUP($I3,Abb_Lookup_OrifaceDia,2,FALSE)^2)*SQRT(($O3-$P3)*($O3+$P3)))*(VLOOKUP(AE3,Cover_Lookup_OpTime,4,FALSE)/4000),0))),0)","v":314.67552539062501},{"$f":"IFERROR(AO3*Cover_Select_SteamCost,0)","v":4405.4573554687504},null,null,null,{"$f":"IF(NOT(OR(L3=\"NIS\",L3=\"OFF\")),F3)","v":"ARM"},{"$f":"IF(NOT(OR(L3=\"NIS\",L3=\"OFF\",L3=\"PO\")),F3)","v":"ARM"},{"$f":"IF(NOT(OR(L3=\"NIS\",L3=\"OFF\")),H3)","v":"IB"},{"$f":"IF(NOT(OR(L3=\"NIS\",L3=\"OFF\",L3=\"PO\")),H3)","v":"IB"},{"$f":"F3&H3","v":"ARMIB"},{"$f":"IF(L3=\"CLD\", H3)","v":false},{"$f":"IF(L3=\"SL\", H3)","v":false},{"$f":"IF(L3=\"LL\", H3)","v":false},{"$f":"IF(L3=\"BLW\", H3)","v":"IB"},null,null,null,null,null,{"$f":"VLOOKUP(D3,#REF!,5)","v":{"$error":"#REF!"}}]
["2015-12-16","NA",null,"507 Mech Room 135",null,"ARM",null,"IB","5/32",null,"UH","BLW","NPT","3/4",12,0,null,null,null,null,null,null,"Y","Y","N","Y",null,null,null,null,"HEATING SEASON",null,null,null,null,null,"3080,915",{"$f":"IF(O4=\"130\",2014.4*AO4*'CO2 Conversion Factors'!$D$20/0.8/1000,2096.16*AO4*'CO2 Conversion Factors'!$D$20/0.8/1000)","v":7804.5084697508764},{"$f":"IF(O4=\"130\",2014.4*AO4*'CO2 Conversion Factors'!$G$20/0.8/1000,2096.16*AO4*'CO2 Conversion Factors'!$G$20/0.8/1000)","v":21.437662907466056},{"$f":"IF(O4=\"130\",2014.4*AO4*'CO2 Conversion Factors'!$J$20/0.8/1000,2096.16*AO4*'CO2 Conversion Factors'!$J$20/0.8/1000)","v":8.2418300650386431},37.761063046875002,528.65488265625004,null,null,null,"ARM","ARM","IB","IB",{"$f":"F4&H4","v":"ARMIB"},{"$f":"IF(L4=\"CLD\", H4)","v":false},{"$f":"IF(L4=\"SL\", H4)","v":false},{"$f":"IF(L4=\"LL\", H4)","v":false},{"$f":"IF(L4=\"BLW\", H4)","v":"IB"},null,null,null,null,null,{"$f":"VLOOKUP(D4,#REF!,5)","v":{"$error":"#REF!"}}]
["2015-12-16","NA",null,"507 N above Mech Room",null,"ARM",null,"FT","5/32",null,"UH","CLD","NPT","1",100,0,null,null,null,null,null,null,"Y","Y","N","Y",null,null,null,null,"HEATING SEASON",null,null,null,null,null,"3080,915",{"$f":"IF(O5=\"130\",2014.4*AO5*'CO2 Conversion Factors'!$D$20/0.8/1000,2096.16*AO5*'CO2 Conversion Factors'!$D$20/0.8/1000)","v":0},{"$f":"IF(O5=\"130\",2014.4*AO5*'CO2 Conversion Factors'!$G$20/0.8/1000,2096.16*AO5*'CO2 Conversion Factors'!$G$20/0.8/1000)","v":0},{"$f":"IF(O5=\"130\",2014.4*AO5*'CO2 Conversion Factors'!$J$20/0.8/1000,2096.16*AO5*'CO2 Conversion Factors'!$J$20/0.8/1000)","v":0},0,0,null,null,null,"ARM","ARM","FT","FT","ARMFT","FT",false,false,false,null,null,null,null,null,{"$f":"VLOOKUP(D5,#REF!,5)","v":{"$error":"#REF!"}}]
["2015-12-16","NA",null,"508 N above Mech Room",null,"ARM",null,"FT","5/32",null,"UH","CLD","NPT","1",100,0,null,null,null,null,null,null,"Y","Y","N","Y",null,null,null,null,"HEATING SEASON",null,null,null,null,"Incorrect installation","3082,916",{"$f":"IF(O6=\"130\",2014.4*AO6*'CO2 Conversion Factors'!$D$20/0.8/1000,2096.16*AO6*'CO2 Conversion Factors'!$D$20/0.8/1000)","v":0},{"$f":"IF(O6=\"130\",2014.4*AO6*'CO2 Conversion Factors'!$G$20/0.8/1000,2096.16*AO6*'CO2 Conversion Factors'!$G$20/0.8/1000)","v":0},{"$f":"IF(O6=\"130\",2014.4*AO6*'CO2 Conversion Factors'!$J$20/0.8/1000,2096.16*AO6*'CO2 Conversion Factors'!$J$20/0.8/1000)","v":0},0,0,null,null,null,"ARM","ARM","FT","FT","ARMFT","FT",false,false,false,null,null,null,null,null,{"$f":"VLOOKUP(D6,#REF!,5)","v":{"$error":"#REF!"}}]
["2015-12-16","NA",null,"509 N above Mech Room",null,"ARM","TVS811","IB","5/32",null,"UH","BLW","NPT","1",100,0,null,null,null,null,null,null,"Y","Y","N","Y",null,null,null,null,"HEATING SEASON",null,null,null,null,null,"3082,916",{"$f":"IF(O7=\"130\",2014.4*AO7*'CO2 Conversion Factors'!$D$20/0.8/1000,2096.16*AO7*'CO2 Conversion Factors'!$D$20/0.8/1000)","v":65037.570581257307},{"$f":"IF(O7=\"130\",2014.4*AO7*'CO2 Conversion Factors'!$G$20/0.8/1000,2096.16*AO7*'CO2 Conversion Factors'!$G$20/0.8/1000)","v":178.64719089555047},{"$f":"IF(O7=\"130\",2014.4*AO7*'CO2 Conversion Factors'!$J$20/0.8/1000,2096.16*AO7*'CO2 Conversion Factors'!$J$20/0.8/1000)","v":68.681917208655349},314.67552539062501,4405.4573554687504,null,null,null,"ARM","ARM","IB","IB","ARMIB",false,false,false,"IB",null,null,null,null,null,{"$f":"VLOOKUP(D7,#REF!,5)","v":{"$error":"#REF!"}}]
["2015-12-16",1872,null,"NE 507",null,"ARM",null,"IB","5/32",null,"UH","PO","NPT","3/4",25,0,null,null,null,null,null,null,"Y","Y","N","Y",null,null,null,null,"HEATING SEASON",null,null,null,null,null,"3084,917",{"$f":"IF(O8=\"130\",2014.4*AO8*'CO2 Conversion Factors'!$D$20/0.8/1000,2096.16*AO8*'CO2 Conversion Factors'!$D$20/0.8/1000)","v":0},{"$f":"IF(O8=\"130\",2014.4*AO8*'CO2 Conversion Factors'!$G$20/0.8/1000,2096.16*AO8*'CO2 Conversion Factors'!$G$20/0.8/1000)","v":0},{"$f":"IF(O8=\"130\",2014.4*AO8*'CO2 Conversion Factors'!$J$20/0.8/1000,2096.16*AO8*'CO2 Conversion Factors'!$J$20/0.8/1000)","v":0},0,0,null,null,null,"ARM",false,"IB",false,{"$f":"F8&H8","v":"ARMIB"},false,false,false,false,null,null,null,null,null,{"$f":"VLOOKUP(D8,#REF!,5)","v":{"$error":"#REF!"}}]
["2015-12-16",2324,null,"NE 507",null,"ARM",1811,"IB","5/32",null,"UH","PO","NPT","3/4",25,0,null,null,null,null,null,null,"Y","Y",null,"Y",null,null,null,null,"HEATING SEASON",null,null,null,null,null,"3084,917",{"$f":"IF(O9=\"130\",2014.4*AO9*'CO2 Conversion Factors'!$D$20/0.8/1000,2096.16*AO9*'CO2 Conversion Factors'!$D$20/0.8/1000)","v":0},{"$f":"IF(O9=\"130\",2014.4*AO9*'CO2 Conversion Factors'!$G$20/0.8/1000,2096.16*AO9*'CO2 Conversion Factors'!$G$20/0.8/1000)","v":0},{"$f":"IF(O9=\"130\",2014.4*AO9*'CO2 Conversion Factors'!$J$20/0.8/1000,2096.16*AO9*'CO2 Conversion Factors'!$J$20/0.8/1000)","v":0},0,0,null,null,null,"ARM",false,"IB",false,"ARMIB",false,false,false,false,null,null,null,null,null,{"$f":"VLOOKUP(D9,#REF!,5)","v":{"$error":"#REF!"}}]
["2015-12-16","NA",null,"NE 507",null,"ARM",null,"IB","5/32",null,"UH","PO","NPT","3/4",25,0,null,null,null,null,null,null,"Y","Y",null,"Y",null,null,null,null,"HEATING SEASON",null,null,null,null,null,"3084,917",{"$f":"IF(O10=\"130\",2014.4*AO10*'CO2 Conversion Factors'!$D$20/0.8/1000,2096.16*AO10*'CO2 Conversion Factors'!$D$20/0.8/1000)","v":0},{"$f":"IF(O10=\"130\",2014.4*AO10*'CO2 Conversion Factors'!$G$20/0.8/1000,2096.16*AO10*'CO2 Conversion Factors'!$G$20/0.8/1000)","v":0},{"$f":"IF(O10=\"130\",2014.4*AO10*'CO2 Conversion Factors'!$J$20/0.8/1000,2096.16*AO10*'CO2 Conversion Factors'!$J$20/0.8/1000)","v":0},0,0,null,null,null,"ARM",false,"IB",false,"ARMIB",false,false,false,false,null,null,null,null,null,{"$f":"VLOOKUP(D10,#REF!,5)","v":{"$error":"#REF!"}}]
["2015-12-16","NA",null,"EAST SIDE 507 - Al BOOTH BLASTING",null,"ARM",null,"FT","5/32",null,"UH","CLD","NPT","2.0",25,0,null,null,null,null,null,null,"Y","Y",null,"Y",null,null,null,null,"HEATING SEASON",null,null,null,null,null,"3084,917",{"$f":"IF(O11=\"130\",2014.4*AO11*'CO2 Conversion Factors'!$D$20/0.8/1000,2096.16*AO11*'CO2 Conversion Factors'!$D$20/0.8/1000)","v":0},{"$f":"IF(O11=\"130\",2014.4*AO11*'CO2 Conversion Factors'!$G$20/0.8/1000,2096.16*AO11*'CO2 Conversion Factors'!$G$20/0.8/1000)","v":0},{"$f":"IF(O11=\"130\",2014.4*AO11*'CO2 Conversion Factors'!$J$20/0.8/1000,2096.16*AO11*'CO2 Conversion Factors'!$J$20/0.8/1000)","v":0},0,0,null,null,null,"ARM","ARM","FT","FT","ARMFT","FT",false,false,false,null,null,null,null,null,{"$f":"VLOOKUP(D11,#REF!,5)","v":{"$error":"#REF!"}}]
["2015-12-16","NA",null,"EAST SIDE 507 - Al BOOTH BLASTING",null,"ARM",null,"FT","5/32",null,"UH","PO","NPT","2.0",25,0,null,null,null,null,null,null,"Y","Y",null,"Y",null,null,null,null,"HEATING SEASON",null,null,null,null,null,"3086,3087,918,919",{"$f":"IF(O12=\"130\",2014.4*AO12*'CO2 Conversion Factors'!$D$20/0.8/1000,2096.16*AO12*'CO2 Conversion Factors'!$D$20/0.8/1000)","v":0},{"$f":"IF(O12=\"130\",2014.4*AO12*'CO2 Conversion Factors'!$G$20/0.8/1000,2096.16*AO12*'CO2 Conversion Factors'!$G$20/0.8/1000)","v":0},{"$f":"IF(O12=\"130\",2014.4*AO12*'CO2 Conversion Factors'!$J$20/0.8/1000,2096.16*AO12*'CO2 Conversion Factors'!$J$20/0.8/1000)","v":0},0,{"$f":"IFERROR(AO12*Cover_Select_SteamCost,0)","v":0},null,null,null,{"$f":"IF(NOT(OR(L12=\"NIS\",L12=\"OFF\")),F12)","v":"ARM"},{"$f":"IF(NOT(OR(L12=\"NIS\",L12=\"OFF\",L12=\"PO\")),F12)","v":false},{"$f":"IF(NOT(OR(L12=\"NIS\",L12=\"OFF\")),H12)","v":"FT"},{"$f":"IF(NOT(OR(L12=\"NIS\",L12=\"OFF\",L12=\"PO\")),H12)","v":false},{"$f":"F12&H12","v":"ARMFT"},{"$f":"IF(L12=\"CLD\", H12)","v":false},{"$f":"IF(L12=\"SL\", H12)","v":false},{"$f":"IF(L12=\"LL\", H12)","v":false},{"$f":"IF(L12=\"BLW\", H12)","v":false},null,null,null,null,null,{"$f":"VLOOKUP(D12,#REF!,5)","v":{"$error":"#REF!"}}]
["2015-12-16","NA",null,"East Wall 507- ABOVE E&I",null,"ARM",null,"FT","5/32",null,"UH","CLD","NPT","3/4",25,0,null,null,null,null,null,null,"Y","Y",null,"Y",null,null,null,null,"HEATING SEASON",null,null,null,null,null,"3088,920",{"$f":"IF(O13=\"130\",2014.4*AO13*'CO2 Conversion Factors'!$D$20/0.8/1000,2096.16*AO13*'CO2 Conversion Factors'!$D$20/0.8/1000)","v":0},{"$f":"IF(O13=\"130\",2014.4*AO13*'CO2 Conversion Factors'!$G$20/0.8/1000,2096.16*AO13*'CO2 Conversion Factors'!$G$20/0.8/1000)","v":0},{"$f":"IF(O13=\"130\",2014.4*AO13*'CO2 Conversion Factors'!$J$20/0.8/1000,2096.16*AO13*'CO2 Conversion Factors'!$J$20/0.8/1000)","v":0},0,0,null,null,null,"ARM","ARM","FT","FT","ARMFT","FT",false,false,false,null,null,null,null,null,{"$f":"VLOOKUP(D13,#REF!,5)","v":{"$error":"#REF!"}}]
["2015-12-16","NA",null,"CENTER SOUTH SIDE 507",null,"ARM",null,"FT","5/32",null,"UH","CLD","NPT","2.0",25,0,null,null,null,null,null,null,"Y","Y",null,"Y",null,null,null,null,"HEATING SEASON",null,null,null,null,null,"3088,920",{"$f":"IF(O14=\"130\",2014.4*AO14*'CO2 Conversion Factors'!$D$20/0.8/1000,2096.16*AO14*'CO2 Conversion Factors'!$D$20/0.8/1000)","v":0},{"$f":"IF(O14=\"130\",2014.4*AO14*'CO2 Conversion Factors'!$G$20/0.8/1000,2096.16*AO14*'CO2 Conversion Factors'!$G$20/0.8/1000)","v":0},{"$f":"IF(O14=\"130\",2014.4*AO14*'CO2 Conversion Factors'!$J$20/0.8/1000,2096.16*AO14*'CO2 Conversion Factors'!$J$20/0.8/1000)","v":0},0,0,null,null,null,"ARM","ARM","FT","FT","ARMFT","FT",false,false,false,null,null,null,null,null,{"$f":"VLOOKUP(D14,#REF!,5)","v":{"$error":"#REF!"}}]
["2015-12-16","NA",null,"CENTER SOUTH SIDE 507",null,"ARM",null,"IB","5/32",null,"UH","CLD","NPT","2.0",25,0,null,null,null,null,null,null,"Y","Y",null,"Y",null,null,null,null,"HEATING SEASON",null,null,null,null,null,"3088,920",{"$f":"IF(O15=\"130\",2014.4*AO15*'CO2 Conversion Factors'!$D$20/0.8/1000,2096.16*AO15*'CO2 Conversion Factors'!$D$20/0.8/1000)","v":0},{"$f":"IF(O15=\"130\",2014.4*AO15*'CO2 Conversion Factors'!$G$20/0.8/1000,2096.16*AO15*'CO2 Conversion Factors'!$G$20/0.8/1000)","v":0},{"$f":"IF(O15=\"130\",2014.4*AO15*'CO2 Conversion Factors'!$J$20/0.8/1000,2096.16*AO15*'CO2 Conversion Factors'!$J$20/0.8/1000)","v":0},0,0,null,null,null,"ARM","ARM","IB","IB","ARMIB","IB",false,false,false,null,null,null,null,null,{"$f":"VLOOKUP(D15,#REF!,5)","v":{"$error":"#REF!"}}]
["2015-12-16","NA",null,"CENTER SOUTH SIDE 507",null,"ARM",null,"IB","5/32",null,"UH","CLD","NPT","3/4",25,0,null,null,null,null,null,null,"Y","Y",null,"Y",null,null,null,null,"HEATING SEASON",null,null,null,null,null,"3088,920",{"$f":"IF(O16=\"130\",2014.4*AO16*'CO2 Conversion Factors'!$D$20/0.8/1000,2096.16*AO16*'CO2 Conversion Factors'!$D$20/0.8/1000)","v":0},{"$f":"IF(O16=\"130\",2014.4*AO16*'CO2 Conversion Factors'!$G$20/0.8/1000,2096.16*AO16*'CO2 Conversion Factors'!$G$20/0.8/1000)","v":0},{"$f":"IF(O16=\"130\",2014.4*AO16*'CO2 Conversion Factors'!$J$20/0.8/1000,2096.16*AO16*'CO2 Conversion Factors'!$J$20/0.8/1000)","v":0},0,0,null,null,null,"ARM","ARM","IB","IB","ARMIB","IB",false,false,false,null,null,null,null,null,{"$f":"VLOOKUP(D16,#REF!,5)","v":{"$error":"#REF!"}}]
["2015-12-16",2954,null,"CENTER S 507",null,"ARM",null,"IB","5/32",null,"UH","LL","NPT","3/4",25,0,null,null,null,null,null,null,"Y","Y",null,"Y",null,null,null,null,"HEATING SEASON",null,null,null,null,null,"3090,922,923",{"$f":"IF(O17=\"130\",2014.4*AO17*'CO2 Conversion Factors'!$D$20/0.8/1000,2096.16*AO17*'CO2 Conversion Factors'!$D$20/0.8/1000)","v":8129.6963226571634},{"$f":"IF(O17=\"130\",2014.4*AO17*'CO2 Conversion Factors'!$G$20/0.8/1000,2096.16*AO17*'CO2 Conversion Factors'!$G$20/0.8/1000)","v":22.330898861943808},{"$f":"IF(O17=\"130\",2014.4*AO17*'CO2 Conversion Factors'!$J$20/0.8/1000,2096.16*AO17*'CO2 Conversion Factors'!$J$20/0.8/1000)","v":8.5852396510819187},39.334440673828126,550.6821694335938,null,null,null,"ARM","ARM","IB","IB","ARMIB",false,false,"IB",false,null,null,null,null,null,{"$f":"VLOOKUP(D17,#REF!,5)","v":{"$error":"#REF!"}}]
["2015-12-16",2955,null,"CENTER S 507",null,"ARM",1811,"IB","5/32",null,"UH","BLW","NPT","3/4",25,0,null,null,null,null,null,null,"Y","Y",null,"Y",null,null,null,null,"HEATING SEASON",null,null,null,null,null,"3092,922,923",{"$f":"IF(O18=\"130\",2014.4*AO18*'CO2 Conversion Factors'!$D$20/0.8/1000,2096.16*AO18*'CO2 Conversion Factors'!$D$20/0.8/1000)","v":16259.392645314327},{"$f":"IF(O18=\"130\",2014.4*AO18*'CO2 Conversion Factors'!$G$20/0.8/1000,2096.16*AO18*'CO2 Conversion Factors'!$G$20/0.8/1000)","v":44.661797723887616},{"$f":"IF(O18=\"130\",2014.4*AO18*'CO2 Conversion Factors'!$J$20/0.8/1000,2096.16*AO18*'CO2 Conversion Factors'!$J$20/0.8/1000)","v":17.170479302163837},78.668881347656253,1101.3643388671876,null,null,null,"ARM","ARM","IB","IB","ARMIB",false,false,false,"IB",null,null,null,null,null,{"$f":"VLOOKUP(D18,#REF!,5)","v":{"$error":"#REF!"}}]
["2015-12-16","NA",null,"CENTER S 507",null,"ARM",1811,"IB","5/32",null,"UH","LNK","NPT","3/4",25,0,null,null,null,null,null,null,"Y","Y",null,"Y",null,null,null,null,"HEATING SEASON",null,null,null,null,null,"3094,924,926",{"$f":"IF(O19=\"130\",2014.4*AO19*'CO2 Conversion Factors'!$D$20/0.8/1000,2096.16*AO19*'CO2 Conversion Factors'!$D$20/0.8/1000)","v":16259.392645314327},{"$f":"IF(O19=\"130\",2014.4*AO19*'CO2 Conversion Factors'!$G$20/0.8/1000,2096.16*AO19*'CO2 Conversion Factors'!$G$20/0.8/1000)","v":44.661797723887616},{"$f":"IF(O19=\"130\",2014.4*AO19*'CO2 Conversion Factors'!$J$20/0.8/1000,2096.16*AO19*'CO2 Conversion Factors'!$J$20/0.8/1000)","v":17.170479302163837},78.668881347656253,1101.3643388671876,null,null,null,"ARM","ARM","IB","IB","ARMIB",false,false,false,false,null,null,null,null,null,{"$f":"VLOOKUP(D19,#REF!,5)","v":{"$error":"#REF!"}}]
["2015-12-16",2951,null,"WELD SHOP",null,"ARM",1811,"IB","5/32",null,"UH","BLW","NPT","3/4",25,0,null,null,null,null,null,null,"Y","Y",null,"Y",null,null,null,null,"HEATING SEASON",null,null,null,null,null,"3094,924,925,926",{"$f":"IF(O20=\"130\",2014.4*AO20*'CO2 Conversion Factors'!$D$20/0.8/1000,2096.16*AO20*'CO2 Conversion Factors'!$D$20/0.8/1000)","v":16259.392645314327},{"$f":"IF(O20=\"130\",2014.4*AO20*'CO2 Conversion Factors'!$G$20/0.8/1000,2096.16*AO20*'CO2 Conversion Factors'!$G$20/0.8/1000)","v":44.661797723887616},{"$f":"IF(O20=\"130\",2014.4*AO20*'CO2 Conversion Factors'!$J$20/0.8/1000,2096.16*AO20*'CO2 Conversion Factors'!$J$20/0.8/1000)","v":17.170479302163837},78.668881347656253,1101.3643388671876,null,null,null,"ARM","ARM","IB","IB","ARMIB",false,false,false,"IB",null,null,null,null,null,{"$f":"VLOOKUP(D20,#REF!,5)","v":{"$error":"#REF!"}}]
["2015-12-16",2968,null,"WELD SHOP",null,"ARM",null,"IB","5/32",null,"UH","LL","NPT","1/2",25,0,null,null,null,null,null,null,"Y","Y",null,"Y",null,null,null,null,"HEATING SEASON",null,null,null,null,null,"3094,927,926",{"$f":"IF(O21=\"130\",2014.4*AO21*'CO2 Conversion Factors'!$D$20/0.8/1000,2096.16*AO21*'CO2 Conversion Factors'!$D$20/0.8/1000)","v":8129.6963226571634},{"$f":"IF(O21=\"130\",2014.4*AO21*'CO2 Conversion Factors'!$G$20/0.8/1000,2096.16*AO21*'CO2 Conversion Factors'!$G$20/0.8/1000)","v":22.330898861943808},{"$f":"IF(O21=\"130\",2014.4*AO21*'CO2 Conversion Factors'!$J$20/0.8/1000,2096.16*AO21*'CO2 Conversion Factors'!$J$20/0.8/1000)","v":8.5852396510819187},39.334440673828126,550.6821694335938,null,null,null,"ARM","ARM","IB","IB","ARMIB",false,false,"IB",false,null,null,null,null,null,{"$f":"VLOOKUP(D21,#REF!,5)","v":{"$error":"#REF!"}}]
["2015-12-16",2965,null,"209 PAINT CORNER",null,"ARM",1811,"IB","5/32",null,"UH","LNK","NPT","3/4",110,0,null,null,null,null,null,null,"Y","Y",null,"Y",null,null,null,null,"HEATING SEASON",null,null,null,null,null,"3094,927",{"$f":"IF(O22=\"130\",2014.4*AO22*'CO2 Conversion Factors'!$D$20/0.8/1000,2096.16*AO22*'CO2 Conversion Factors'!$D$20/0.8/1000)","v":71541.327639383046},{"$f":"IF(O22=\"130\",2014.4*AO22*'CO2 Conversion Factors'!$G$20/0.8/1000,2096.16*AO22*'CO2 Conversion Factors'!$G$20/0.8/1000)","v":196.5119099851056},{"$f":"IF(O22=\"130\",2014.4*AO22*'CO2 Conversion Factors'!$J$20/0.8/1000,2096.16*AO22*'CO2 Conversion Factors'!$J$20/0.8/1000)","v":75.550108929520903},346.14307792968759,4846.0030910156265,null,null,null,"ARM","ARM","IB","IB","ARMIB",false,false,false,false,null,null,null,null,null,{"$f":"VLOOKUP(D22,#REF!,5)","v":{"$error":"#REF!"}}]
["2015-12-16",2967,null,"209 PAINT CORNER",null,"ARM",null,"FT","5/32",null,"UH","CLD","NPT","2.0",110,0,null,null,null,null,null,null,"Y","Y",null,"Y",null,null,null,null,"HEATING SEASON",null,null,null,null,null,"3096,3097,929,930",{"$f":"IF(O23=\"130\",2014.4*AO23*'CO2 Conversion Factors'!$D$20/0.8/1000,2096.16*AO23*'CO2 Conversion Factors'!$D$20/0.8/1000)","v":0},{"$f":"IF(O23=\"130\",2014.4*AO23*'CO2 Conversion Factors'!$G$20/0.8/1000,2096.16*AO23*'CO2 Conversion Factors'!$G$20/0.8/1000)","v":0},{"$f":"IF(O23=\"130\",2014.4*AO23*'CO2 Conversion Factors'!$J$20/0.8/1000,2096.16*AO23*'CO2 Conversion Factors'!$J$20/0.8/1000)","v":0},0,0,null,null,null,"ARM","ARM","FT","FT","ARMFT","FT",false,false,false,null,null,null,null,null,{"$f":"VLOOKUP(D23,#REF!,5)","v":{"$error":"#REF!"}}]
["2015-12-16",2966,null,"209 PAINT CORNER",null,"ARM",null,"FT","5/32",null,"UH","PO","NPT","3/4",110,0,null,null,null,null,null,null,"Y","Y",null,"Y",null,null,null,null,"HEATING SEASON",null,null,null,null,null,"3098,931",{"$f":"IF(O24=\"130\",2014.4*AO24*'CO2 Conversion Factors'!$D$20/0.8/1000,2096.16*AO24*'CO2 Conversion Factors'!$D$20/0.8/1000)","v":0},{"$f":"IF(O24=\"130\",2014.4*AO24*'CO2 Conversion Factors'!$G$20/0.8/1000,2096.16*AO24*'CO2 Conversion Factors'!$G$20/0.8/1000)","v":0},{"$f":"IF(O24=\"130\",2014.4*AO24*'CO2 Conversion Factors'!$J$20/0.8/1000,2096.16*AO24*'CO2 Conversion Factors'!$J$20/0.8/1000)","v":0},0,0,null,null,null,"ARM",false,"FT",false,"ARMFT",false,false,false,false,null,null,null,null,null,{"$f":"VLOOKUP(D24,#REF!,5)","v":{"$error":"#REF!"}}]
["2015-12-16","NA",null,"SMALL STRUT CENTER OFFICE",null,"ARM","D-52","FT","5/32",null,"UH","CLD","NPT","2.0",110,0,null,null,null,null,null,null,"Y","Y",null,"Y",null,null,null,null,"HEATING SEASON",null,null,null,null,null,"3098,931",{"$f":"IF(O25=\"130\",2014.4*AO25*'CO2 Conversion Factors'!$D$20/0.8/1000,2096.16*AO25*'CO2 Conversion Factors'!$D$20/0.8/1000)","v":0},{"$f":"IF(O25=\"130\",2014.4*AO25*'CO2 Conversion Factors'!$G$20/0.8/1000,2096.16*AO25*'CO2 Conversion Factors'!$G$20/0.8/1000)","v":0},{"$f":"IF(O25=\"130\",2014.4*AO25*'CO2 Conversion Factors'!$J$20/0.8/1000,2096.16*AO25*'CO2 Conversion Factors'!$J$20/0.8/1000)","v":0},0,0,null,null,null,"ARM","ARM","FT","FT","ARMFT","FT",false,false,false,null,null,null,null,null,{"$f":"VLOOKUP(D25,#REF!,5)","v":{"$error":"#REF!"}}]
["2015-12-16","NA",null,"SMALL STRUT CENTER OFFICE",null,"ARM","D-52","FT","5/32",null,"UH","CLD","NPT","2.0",110,0,null,null,null,null,null,null,"Y","Y",null,"Y",null,null,null,null,"HEATING SEASON",null,null,null,null,null,"3098,931",{"$f":"IF(O26=\"130\",2014.4*AO26*'CO2 Conversion Factors'!$D$20/0.8/1000,2096.16*AO26*'CO2 Conversion Factors'!$D$20/0.8/1000)","v":0},{"$f":"IF(O26=\"130\",2014.4*AO26*'CO2 Conversion Factors'!$G$20/0.8/1000,2096.16*AO26*'CO2 Conversion Factors'!$G$20/0.8/1000)","v":0},{"$f":"IF(O26=\"130\",2014.4*AO26*'CO2 Conversion Factors'!$J$20/0.8/1000,2096.16*AO26*'CO2 Conversion Factors'!$J$20/0.8/1000)","v":0},0,0,null,null,null,"ARM","ARM","FT","FT","ARMFT","FT",false,false,false,null,null,null,null,null,{"$f":"VLOOKUP(D26,#REF!,5)","v":{"$error":"#REF!"}}]
["2015-12-16","NA",null,"N of 252 ROOM",null,"ARM",null,"IB","5/32",null,"UH","LNK","NPT","1/2",25,0,null,null,null,null,null,null,"Y","Y",null,"Y",null,null,null,null,"HEATING SEASON",null,null,null,null,null,"3098,931",{"$f":"IF(O27=\"130\",2014.4*AO27*'CO2 Conversion Factors'!$D$20/0.8/1000,2096.16*AO27*'CO2 Conversion Factors'!$D$20/0.8/1000)","v":16259.392645314327},{"$f":"IF(O27=\"130\",2014.4*AO27*'CO2 Conversion Factors'!$G$20/0.8/1000,2096.16*AO27*'CO2 Conversion Factors'!$G$20/0.8/1000)","v":44.661797723887616},{"$f":"IF(O27=\"130\",2014.4*AO27*'CO2 Conversion Factors'!$J$20/0.8/1000,2096.16*AO27*'CO2 Conversion Factors'!$J$20/0.8/1000)","v":17.170479302163837},78.668881347656253,1101.3643388671876,null,null,null,"ARM","ARM","IB","IB","ARMIB",false,false,false,false,null,null,null,null,null,{"$f":"VLOOKUP(D27,#REF!,5)","v":{"$error":"#REF!"}}]
["2015-12-16",2946,null,"POLE # F5, H4",null,"ARM",1811,"IB","5/33",null,"UH","BLW","NPT","3/4",25,0,null,null,null,null,null,null,"Y","Y",null,"Y",null,null,null,null,"HEATING SEASON",null,null,null,null,null,"3100,932",{"$f":"IF(O28=\"130\",2014.4*AO28*'CO2 Conversion Factors'!$D$20/0.8/1000,2096.16*AO28*'CO2 Conversion Factors'!$D$20/0.8/1000)","v":0},{"$f":"IF(O28=\"130\",2014.4*AO28*'CO2 Conversion Factors'!$G$20/0.8/1000,2096.16*AO28*'CO2 Conversion Factors'!$G$20/0.8/1000)","v":0},{"$f":"IF(O28=\"130\",2014.4*AO28*'CO2 Conversion Factors'!$J$20/0.8/1000,2096.16*AO28*'CO2 Conversion Factors'!$J$20/0.8/1000)","v":0},0,0,null,null,null,"ARM","ARM","IB","IB","ARMIB",false,false,false,"IB",null,null,null,null,null,{"$f":"VLOOKUP(D28,#REF!,5)","v":{"$error":"#REF!"}}]
["2015-12-16","NA",null,"STRUT PRE-PAINT",null,"ARM",null,"IB","5/34",null,"UH","BLW","NPT","3/4",25,0,null,null,null,null,null,null,"Y","Y",null,"Y",null,null,null,null,"HEATING SEASON",null,null,null,null,null,"3102,3103,933",{"$f":"IF(O29=\"130\",2014.4*AO29*'CO2 Conversion Factors'!$D$20/0.8/1000,2096.16*AO29*'CO2 Conversion Factors'!$D$20/0.8/1000)","v":0},{"$f":"IF(O29=\"130\",2014.4*AO29*'CO2 Conversion Factors'!$G$20/0.8/1000,2096.16*AO29*'CO2 Conversion Factors'!$G$20/0.8/1000)","v":0},{"$f":"IF(O29=\"130\",2014.4*AO29*'CO2 Conversion Factors'!$J$20/0.8/1000,2096.16*AO29*'CO2 Conversion Factors'!$J$20/0.8/1000)","v":0},0,0,null,null,null,"ARM","ARM","IB","IB","ARMIB",false,false,false,"IB",null,null,null,null,null,{"$f":"VLOOKUP(D29,#REF!,5)","v":{"$error":"#REF!"}}]
["2015-12-16",128,null,"W MECH ROOM, N of OFFICE",null,"ARM",null,"IB","5/35",null,"UH","PO","NPT","3/4",25,0,null,null,null,null,null,null,"Y","Y",null,"Y",null,null,null,null,"HEATING SEASON",null,null,null,null,null,"3102,3103,933",{"$f":"IF(O30=\"130\",2014.4*AO30*'CO2 Conversion Factors'!$D$20/0.8/1000,2096.16*AO30*'CO2 Conversion Factors'!$D$20/0.8/1000)","v":0},{"$f":"IF(O30=\"130\",2014.4*AO30*'CO2 Conversion Factors'!$G$20/0.8/1000,2096.16*AO30*'CO2 Conversion Factors'!$G$20/0.8/1000)","v":0},{"$f":"IF(O30=\"130\",2014.4*AO30*'CO2 Conversion Factors'!$J$20/0.8/1000,2096.16*AO30*'CO2 Conversion Factors'!$J$20/0.8/1000)","v":0},0,0,null,null,null,"ARM",false,"IB",false,"ARMIB",false,false,false,false,null,null,null,null,null,{"$f":"VLOOKUP(D30,#REF!,5)","v":{"$error":"#REF!"}}]
["2015-12-16",127,null,"W MECH ROOM, N of OFFICE",null,"ARM",null,"FT","5/36",null,"UH","PO","NPT","1 1/2",25,0,null,null,null,null,null,null,"Y","Y",null,"Y",null,null,null,null,"HEATING SEASON",null,null,null,null,null,"3102,3103,933",{"$f":"IF(O31=\"130\",2014.4*AO31*'CO2 Conversion Factors'!$D$20/0.8/1000,2096.16*AO31*'CO2 Conversion Factors'!$D$20/0.8/1000)","v":0},{"$f":"IF(O31=\"130\",2014.4*AO31*'CO2 Conversion Factors'!$G$20/0.8/1000,2096.16*AO31*'CO2 Conversion Factors'!$G$20/0.8/1000)","v":0},{"$f":"IF(O31=\"130\",2014.4*AO31*'CO2 Conversion Factors'!$J$20/0.8/1000,2096.16*AO31*'CO2 Conversion Factors'!$J$20/0.8/1000)","v":0},0,0,null,null,null,"ARM",false,"FT",false,"ARMFT",false,false,false,false,null,null,null,null,null,{"$f":"VLOOKUP(D31,#REF!,5)","v":{"$error":"#REF!"}}]
["2015-12-16",2331,null,"300' SE of MECH ROOM",null,"ARM",null,"IB","5/37",null,"UH","SL","NPT","3/4",25,0,null,null,null,null,null,null,"Y","Y",null,"Y",null,null,null,null,"HEATING SEASON",null,null,null,null,null,"3102,3103,933",{"$f":"IF(O32=\"130\",2014.4*AO32*'CO2 Conversion Factors'!$D$20/0.8/1000,2096.16*AO32*'CO2 Conversion Factors'!$D$20/0.8/1000)","v":0},{"$f":"IF(O32=\"130\",2014.4*AO32*'CO2 Conversion Factors'!$G$20/0.8/1000,2096.16*AO32*'CO2 Conversion Factors'!$G$20/0.8/1000)","v":0},{"$f":"IF(O32=\"130\",2014.4*AO32*'CO2 Conversion Factors'!$J$20/0.8/1000,2096.16*AO32*'CO2 Conversion Factors'!$J$20/0.8/1000)","v":0},0,0,null,null,null,"ARM","ARM","IB","IB","ARMIB",false,"IB",false,false,null,null,null,null,null,{"$f":"VLOOKUP(D32,#REF!,5)","v":{"$error":"#REF!"}}]
["2015-12-16",3819,null,"TRANE UNIT",null,"ARM",null,"FT","5/38",null,"UH","CLD","NPT","3/4",25,0,null,null,null,null,null,null,"Y","Y",null,"Y",null,null,null,null,"HEATING SEASON",null,null,null,null,null,"3104,3105,934,935",{"$f":"IF(O33=\"130\",2014.4*AO33*'CO2 Conversion Factors'!$D$20/0.8/1000,2096.16*AO33*'CO2 Conversion Factors'!$D$20/0.8/1000)","v":0},{"$f":"IF(O33=\"130\",2014.4*AO33*'CO2 Conversion Factors'!$G$20/0.8/1000,2096.16*AO33*'CO2 Conversion Factors'!$G$20/0.8/1000)","v":0},{"$f":"IF(O33=\"130\",2014.4*AO33*'CO2 Conversion Factors'!$J$20/0.8/1000,2096.16*AO33*'CO2 Conversion Factors'!$J$20/0.8/1000)","v":0},0,0,null,null,null,"ARM","ARM","FT","FT","ARMFT","FT",false,false,false,null,null,null,null,null,{"$f":"VLOOKUP(D33,#REF!,5)","v":{"$error":"#REF!"}}]
["2015-12-16",3822,null,"TRANE UNIT",null,"ARM",null,"FT","5/39",null,"UH","CLD","NPT","3/4",25,0,null,null,null,null,null,null,"Y","Y",null,"Y",null,null,null,null,"HEATING SEASON",null,null,null,null,null,"3106,3107,934,935",{"$f":"IF(O34=\"130\",2014.4*AO34*'CO2 Conversion Factors'!$D$20/0.8/1000,2096.16*AO34*'CO2 Conversion Factors'!$D$20/0.8/1000)","v":0},{"$f":"IF(O34=\"130\",2014.4*AO34*'CO2 Conversion Factors'!$G$20/0.8/1000,2096.16*AO34*'CO2 Conversion Factors'!$G$20/0.8/1000)","v":0},{"$f":"IF(O34=\"130\",2014.4*AO34*'CO2 Conversion Factors'!$J$20/0.8/1000,2096.16*AO34*'CO2 Conversion Factors'!$J$20/0.8/1000)","v":0},0,0,null,null,null,"ARM","ARM","FT","FT","ARMFT","FT",false,false,false,null,null,null,null,null,{"$f":"VLOOKUP(D34,#REF!,5)","v":{"$error":"#REF!"}}]
["2015-12-16",3823,null,"TRANE UNIT",null,"ARM",null,"FT","5/40",null,"UH","CLD","NPT","3/4",25,0,null,null,null,null,null,null,"Y","Y",null,"Y",null,null,null,null,"HEATING SEASON",null,null,null,null,"OUTLET OPEN TO ATMOSPHERE","3108,3109,937",{"$f":"IF(O35=\"130\",2014.4*AO35*'CO2 Conversion Factors'!$D$20/0.8/1000,2096.16*AO35*'CO2 Conversion Factors'!$D$20/0.8/1000)","v":0},{"$f":"IF(O35=\"130\",2014.4*AO35*'CO2 Conversion Factors'!$G$20/0.8/1000,2096.16*AO35*'CO2 Conversion Factors'!$G$20/0.8/1000)","v":0},{"$f":"IF(O35=\"130\",2014.4*AO35*'CO2 Conversion Factors'!$J$20/0.8/1000,2096.16*AO35*'CO2 Conversion Factors'!$J$20/0.8/1000)","v":0},0,0,null,null,null,"ARM","ARM","FT","FT","ARMFT","FT",false,false,false,null,null,null,null,null,{"$f":"VLOOKUP(D35,#REF!,5)","v":{"$error":"#REF!"}}]
["2015-12-16","N/A",null,"ROOF 33 TOP",null,"ARM",null,"IB","5/41",null,"UH","PO","NPT","2.0",25,0,null,null,null,null,null,null,"Y","Y",null,"Y",null,null,null,null,"HEATING SEASON",null,null,null,null,null,"3108,3109,937",{"$f":"IF(O36=\"130\",2014.4*AO36*'CO2 Conversion Factors'!$D$20/0.8/1000,2096.16*AO36*'CO2 Conversion Factors'!$D$20/0.8/1000)","v":0},{"$f":"IF(O36=\"130\",2014.4*AO36*'CO2 Conversion Factors'!$G$20/0.8/1000,2096.16*AO36*'CO2 Conversion Factors'!$G$20/0.8/1000)","v":0},{"$f":"IF(O36=\"130\",2014.4*AO36*'CO2 Conversion Factors'!$J$20/0.8/1000,2096.16*AO36*'CO2 Conversion Factors'!$J$20/0.8/1000)","v":0},0,0,null,null,null,"ARM",false,"IB",false,"ARMIB",false,false,false,false,null,null,null,null,null,{"$f":"VLOOKUP(D36,#REF!,5)","v":{"$error":"#REF!"}}]
["2015-12-16","NA",null,"ROOF 33 TOP",null,"ARM",null,"IB","5/42",null,"UH","PO","NPT","2.0",25,0,null,null,null,null,null,null,"Y","Y",null,"Y",null,null,null,null,"HEATING SEASON",null,null,null,null,null,"3108,3109,937",{"$f":"IF(O37=\"130\",2014.4*AO37*'CO2 Conversion Factors'!$D$20/0.8/1000,2096.16*AO37*'CO2 Conversion Factors'!$D$20/0.8/1000)","v":0},{"$f":"IF(O37=\"130\",2014.4*AO37*'CO2 Conversion Factors'!$G$20/0.8/1000,2096.16*AO37*'CO2 Conversion Factors'!$G$20/0.8/1000)","v":0},{"$f":"IF(O37=\"130\",2014.4*AO37*'CO2 Conversion Factors'!$J$20/0.8/1000,2096.16*AO37*'CO2 Conversion Factors'!$J$20/0.8/1000)","v":0},0,0,null,null,null,"ARM",false,"IB",false,"ARMIB",false,false,false,false,null,null,null,null,null,{"$f":"VLOOKUP(D37,#REF!,5)","v":{"$error":"#REF!"}}]
["2015-12-16",3824,null,"ROOF 33 TOP",null,"ARM",null,"IB","5/43",null,"UH","PO","NPT","2.0",25,0,null,null,null,null,null,null,"Y","Y",null,"Y",null,null,null,null,"HEATING SEASON",null,null,null,null,null,"3108,3109,937",{"$f":"IF(O38=\"130\",2014.4*AO38*'CO2 Conversion Factors'!$D$20/0.8/1000,2096.16*AO38*'CO2 Conversion Factors'!$D$20/0.8/1000)","v":0},{"$f":"IF(O38=\"130\",2014.4*AO38*'CO2 Conversion Factors'!$G$20/0.8/1000,2096.16*AO38*'CO2 Conversion Factors'!$G$20/0.8/1000)","v":0},{"$f":"IF(O38=\"130\",2014.4*AO38*'CO2 Conversion Factors'!$J$20/0.8/1000,2096.16*AO38*'CO2 Conversion Factors'!$J$20/0.8/1000)","v":0},0,0,null,null,null,"ARM",false,"IB",false,"ARMIB",false,false,false,false,null,null,null,null,null,{"$f":"VLOOKUP(D38,#REF!,5)","v":{"$error":"#REF!"}}]
["2015-12-16","NA",null,"ROOF 6",null,"ARM",null,"IB","5/44",null,"UH","CLD","NPT","3/4",25,0,null,null,null,null,null,null,"Y","Y",null,"Y",null,null,null,null,"HEATING SEASON",null,null,null,null,null,"3112,938,939",{"$f":"IF(O39=\"130\",2014.4*AO39*'CO2 Conversion Factors'!$D$20/0.8/1000,2096.16*AO39*'CO2 Conversion Factors'!$D$20/0.8/1000)","v":0},{"$f":"IF(O39=\"130\",2014.4*AO39*'CO2 Conversion Factors'!$G$20/0.8/1000,2096.16*AO39*'CO2 Conversion Factors'!$G$20/0.8/1000)","v":0},{"$f":"IF(O39=\"130\",2014.4*AO39*'CO2 Conversion Factors'!$J$20/0.8/1000,2096.16*AO39*'CO2 Conversion Factors'!$J$20/0.8/1000)","v":0},0,0,null,null,null,"ARM","ARM","IB","IB","ARMIB","IB",false,false,false,null,null,null,null,null,{"$f":"VLOOKUP(D39,#REF!,5)","v":{"$error":"#REF!"}}]
["2015-12-16","NA",null,"ROOF 5",null,"ARM",null,"IB","5/45",null,"UH","CLD","NPT","3/4",25,0,null,null,null,null,null,null,"Y","Y",null,"Y",null,null,null,null,"HEATING SEASON",null,null,null,null,null,"3112,938,939",{"$f":"IF(O40=\"130\",2014.4*AO40*'CO2 Conversion Factors'!$D$20/0.8/1000,2096.16*AO40*'CO2 Conversion Factors'!$D$20/0.8/1000)","v":0},{"$f":"IF(O40=\"130\",2014.4*AO40*'CO2 Conversion Factors'!$G$20/0.8/1000,2096.16*AO40*'CO2 Conversion Factors'!$G$20/0.8/1000)","v":0},{"$f":"IF(O40=\"130\",2014.4*AO40*'CO2 Conversion Factors'!$J$20/0.8/1000,2096.16*AO40*'CO2 Conversion Factors'!$J$20/0.8/1000)","v":0},0,0,null,null,null,"ARM","ARM","IB","IB","ARMIB","IB",false,false,false,null,null,null,null,null,{"$f":"VLOOKUP(D40,#REF!,5)","v":{"$error":"#REF!"}}]
["2015-12-16","NA",null,"ROOF 14",null,"ARM",null,"IB","5/46",null,"UH","CLD","NPT","3/4",25,0,null,null,null,null,null,null,"Y","Y",null,"Y",null,null,null,null,"HEATING SEASON",null,null,null,null,null,"941",{"$f":"IF(O41=\"130\",2014.4*AO41*'CO2 Conversion Factors'!$D$20/0.8/1000,2096.16*AO41*'CO2 Conversion Factors'!$D$20/0.8/1000)","v":0},{"$f":"IF(O41=\"130\",2014.4*AO41*'CO2 Conversion Factors'!$G$20/0.8/1000,2096.16*AO41*'CO2 Conversion Factors'!$G$20/0.8/1000)","v":0},{"$f":"IF(O41=\"130\",2014.4*AO41*'CO2 Conversion Factors'!$J$20/0.8/1000,2096.16*AO41*'CO2 Conversion Factors'!$J$20/0.8/1000)","v":0},0,0,null,null,null,"ARM","ARM","IB","IB","ARMIB","IB",false,false,false,null,null,null,null,null,{"$f":"VLOOKUP(D41,#REF!,5)","v":{"$error":"#REF!"}}]
["2015-12-16","NA",null,"ROOF 15",null,"ARM",null,"IB","5/47",null,"UH","PO","NPT","3/4",25,0,null,null,null,null,null,null,"Y","Y",null,"Y",null,null,null,null,"HEATING SEASON",null,null,null,null,null,"3116,3117,942",{"$f":"IF(O42=\"130\",2014.4*AO42*'CO2 Conversion Factors'!$D$20/0.8/1000,2096.16*AO42*'CO2 Conversion Factors'!$D$20/0.8/1000)","v":0},{"$f":"IF(O42=\"130\",2014.4*AO42*'CO2 Conversion Factors'!$G$20/0.8/1000,2096.16*AO42*'CO2 Conversion Factors'!$G$20/0.8/1000)","v":0},{"$f":"IF(O42=\"130\",2014.4*AO42*'CO2 Conversion Factors'!$J$20/0.8/1000,2096.16*AO42*'CO2 Conversion Factors'!$J$20/0.8/1000)","v":0},0,0,null,null,null,"ARM",false,"IB",false,"ARMIB",false,false,false,false,null,null,null,null,null,{"$f":"VLOOKUP(D42,#REF!,5)","v":{"$error":"#REF!"}}]
["2015-12-16","NA",null,"ROOF 16",null,"ARM",null,"IB","5/48",null,"UH","LL","NPT","3/4",25,0,null,null,null,null,null,null,"Y","Y",null,"Y",null,null,null,null,"HEATING SEASON",null,null,null,null,null,"3118,3119,943",{"$f":"IF(O43=\"130\",2014.4*AO43*'CO2 Conversion Factors'!$D$20/0.8/1000,2096.16*AO43*'CO2 Conversion Factors'!$D$20/0.8/1000)","v":0},{"$f":"IF(O43=\"130\",2014.4*AO43*'CO2 Conversion Factors'!$G$20/0.8/1000,2096.16*AO43*'CO2 Conversion Factors'!$G$20/0.8/1000)","v":0},{"$f":"IF(O43=\"130\",2014.4*AO43*'CO2 Conversion Factors'!$J$20/0.8/1000,2096.16*AO43*'CO2 Conversion Factors'!$J$20/0.8/1000)","v":0},0,0,null,null,null,"ARM","ARM","IB","IB","ARMIB",false,false,"IB",false,null,null,null,null,null,{"$f":"VLOOKUP(D43,#REF!,5)","v":{"$error":"#REF!"}}]
["2015-12-16","NA",null,"ROOF 17",null,"ARM",null,"IB","5/49",null,"UH","CLD","NPT","3/4",25,0,null,null,null,null,null,null,"Y","Y",null,"Y",null,null,null,null,"HEATING SEASON",null,null,null,null,null,"3122,3123",{"$f":"IF(O44=\"130\",2014.4*AO44*'CO2 Conversion Factors'!$D$20/0.8/1000,2096.16*AO44*'CO2 Conversion Factors'!$D$20/0.8/1000)","v":0},{"$f":"IF(O44=\"130\",2014.4*AO44*'CO2 Conversion Factors'!$G$20/0.8/1000,2096.16*AO44*'CO2 Conversion Factors'!$G$20/0.8/1000)","v":0},{"$f":"IF(O44=\"130\",2014.4*AO44*'CO2 Conversion Factors'!$J$20/0.8/1000,2096.16*AO44*'CO2 Conversion Factors'!$J$20/0.8/1000)","v":0},0,0,null,null,null,"ARM","ARM","IB","IB","ARMIB","IB",false,false,false,null,null,null,null,null,{"$f":"VLOOKUP(D44,#REF!,5)","v":{"$error":"#REF!"}}]
["2015-12-16","NA",null,"ROOF 8",null,"ARM",null,"IB","5/50",null,"UH","CLD","NPT","3/4",25,0,null,null,null,null,null,null,"Y","Y",null,"Y",null,null,null,null,"HEATING SEASON",null,null,null,null,null,"3128,3130,945",{"$f":"IF(O45=\"130\",2014.4*AO45*'CO2 Conversion Factors'!$D$20/0.8/1000,2096.16*AO45*'CO2 Conversion Factors'!$D$20/0.8/1000)","v":0},{"$f":"IF(O45=\"130\",2014.4*AO45*'CO2 Conversion Factors'!$G$20/0.8/1000,2096.16*AO45*'CO2 Conversion Factors'!$G$20/0.8/1000)","v":0},{"$f":"IF(O45=\"130\",2014.4*AO45*'CO2 Conversion Factors'!$J$20/0.8/1000,2096.16*AO45*'CO2 Conversion Factors'!$J$20/0.8/1000)","v":0},0,0,null,null,null,"ARM","ARM","IB","IB","ARMIB","IB",false,false,false,null,null,null,null,null,{"$f":"VLOOKUP(D45,#REF!,5)","v":{"$error":"#REF!"}}]
["2015-12-16","NA",null,"ROOF 7",null,"ARM",null,"IB","5/51",null,"UH","CLD","NPT","3/4",25,0,null,null,null,null,null,null,"Y","Y",null,"Y",null,null,null,null,"HEATING SEASON",null,null,null,null,null,"3136,3137,3134,946",{"$f":"IF(O46=\"130\",2014.4*AO46*'CO2 Conversion Factors'!$D$20/0.8/1000,2096.16*AO46*'CO2 Conversion Factors'!$D$20/0.8/1000)","v":0},{"$f":"IF(O46=\"130\",2014.4*AO46*'CO2 Conversion Factors'!$G$20/0.8/1000,2096.16*AO46*'CO2 Conversion Factors'!$G$20/0.8/1000)","v":0},{"$f":"IF(O46=\"130\",2014.4*AO46*'CO2 Conversion Factors'!$J$20/0.8/1000,2096.16*AO46*'CO2 Conversion Factors'!$J$20/0.8/1000)","v":0},0,0,null,null,null,"ARM","ARM","IB","IB","ARMIB","IB",false,false,false,null,null,null,null,null,{"$f":"VLOOKUP(D46,#REF!,5)","v":{"$error":"#REF!"}}]
["2015-12-16","NA",null,"ROOF 9",null,"ARM",null,"IB","5/52",null,"UH","PO","NPT","3/4",25,0,null,null,null,null,null,null,"Y","Y",null,"Y",null,null,null,null,"HEATING SEASON",null,null,null,null,null,"3138,947",{"$f":"IF(O47=\"130\",2014.4*AO47*'CO2 Conversion Factors'!$D$20/0.8/1000,2096.16*AO47*'CO2 Conversion Factors'!$D$20/0.8/1000)","v":0},{"$f":"IF(O47=\"130\",2014.4*AO47*'CO2 Conversion Factors'!$G$20/0.8/1000,2096.16*AO47*'CO2 Conversion Factors'!$G$20/0.8/1000)","v":0},{"$f":"IF(O47=\"130\",2014.4*AO47*'CO2 Conversion Factors'!$J$20/0.8/1000,2096.16*AO47*'CO2 Conversion Factors'!$J$20/0.8/1000)","v":0},0,0,null,null,null,"ARM",false,"IB",false,"ARMIB",false,false,false,false,null,null,null,null,null,{"$f":"VLOOKUP(D47,#REF!,5)","v":{"$error":"#REF!"}}]
["2015-12-16","NA",null,"ROOF 24",null,"ARM",null,"IB","5/53",null,"UH","SL","NPT","3/4",25,0,null,null,null,null,null,null,"Y","Y",null,"Y",null,null,null,null,"HEATING SEASON",null,null,null,null,null,"3139,3140,948",{"$f":"IF(O48=\"130\",2014.4*AO48*'CO2 Conversion Factors'!$D$20/0.8/1000,2096.16*AO48*'CO2 Conversion Factors'!$D$20/0.8/1000)","v":0},{"$f":"IF(O48=\"130\",2014.4*AO48*'CO2 Conversion Factors'!$G$20/0.8/1000,2096.16*AO48*'CO2 Conversion Factors'!$G$20/0.8/1000)","v":0},{"$f":"IF(O48=\"130\",2014.4*AO48*'CO2 Conversion Factors'!$J$20/0.8/1000,2096.16*AO48*'CO2 Conversion Factors'!$J$20/0.8/1000)","v":0},0,0,null,null,null,"ARM","ARM","IB","IB","ARMIB",false,"IB",false,false,null,null,null,null,null,{"$f":"VLOOKUP(D48,#REF!,5)","v":{"$error":"#REF!"}}]
["2015-12-16","NA",null,"ROOF 18",null,"ARM",1811,"IB","5/54",null,"UH","CLD","NPT","3/4",25,0,null,null,null,null,null,null,"Y","Y",null,"Y",null,null,null,null,"HEATING SEASON",null,null,null,null,null,"949",{"$f":"IF(O49=\"130\",2014.4*AO49*'CO2 Conversion Factors'!$D$20/0.8/1000,2096.16*AO49*'CO2 Conversion Factors'!$D$20/0.8/1000)","v":0},{"$f":"IF(O49=\"130\",2014.4*AO49*'CO2 Conversion Factors'!$G$20/0.8/1000,2096.16*AO49*'CO2 Conversion Factors'!$G$20/0.8/1000)","v":0},{"$f":"IF(O49=\"130\",2014.4*AO49*'CO2 Conversion Factors'!$J$20/0.8/1000,2096.16*AO49*'CO2 Conversion Factors'!$J$20/0.8/1000)","v":0},0,0,null,null,null,"ARM","ARM","IB","IB","ARMIB","IB",false,false,false,null,null,null,null,null,{"$f":"VLOOKUP(D49,#REF!,5)","v":{"$error":"#REF!"}}]
["2015-12-16",178,null,"ROOF 10",null,"ARM",1811,"IB","5/55",null,"UH","CLD","NPT","3/4",25,0,null,null,null,null,null,null,"Y","Y",null,"Y",null,null,null,null,"HEATING SEASON",null,null,null,null,null,"3143,3144",{"$f":"IF(O50=\"130\",2014.4*AO50*'CO2 Conversion Factors'!$D$20/0.8/1000,2096.16*AO50*'CO2 Conversion Factors'!$D$20/0.8/1000)","v":0},{"$f":"IF(O50=\"130\",2014.4*AO50*'CO2 Conversion Factors'!$G$20/0.8/1000,2096.16*AO50*'CO2 Conversion Factors'!$G$20/0.8/1000)","v":0},{"$f":"IF(O50=\"130\",2014.4*AO50*'CO2 Conversion Factors'!$J$20/0.8/1000,2096.16*AO50*'CO2 Conversion Factors'!$J$20/0.8/1000)","v":0},0,0,null,null,null,"ARM","ARM","IB","IB","ARMIB","IB",false,false,false,null,null,null,null,null,{"$f":"VLOOKUP(D50,#REF!,5)","v":{"$error":"#REF!"}}]
["2015-12-16",131,null,"ROOF 1",null,"ARM",null,"FT","5/56",null,"UH","PO","NPT","3/4",25,0,null,null,null,null,null,null,"Y","Y",null,"Y",null,null,null,null,"HEATING SEASON",null,null,null,null,null,"3141,3142,951",{"$f":"IF(O51=\"130\",2014.4*AO51*'CO2 Conversion Factors'!$D$20/0.8/1000,2096.16*AO51*'CO2 Conversion Factors'!$D$20/0.8/1000)","v":0},{"$f":"IF(O51=\"130\",2014.4*AO51*'CO2 Conversion Factors'!$G$20/0.8/1000,2096.16*AO51*'CO2 Conversion Factors'!$G$20/0.8/1000)","v":0},{"$f":"IF(O51=\"130\",2014.4*AO51*'CO2 Conversion Factors'!$J$20/0.8/1000,2096.16*AO51*'CO2 Conversion Factors'!$J$20/0.8/1000)","v":0},0,0,null,null,null,"ARM",false,"FT",false,"ARMFT",false,false,false,false,null,null,null,null,null,{"$f":"VLOOKUP(D51,#REF!,5)","v":{"$error":"#REF!"}}]
["2015-12-16","NA",null,"ROOF 2",null,"ARM",null,"IB","5/57",null,"UH","PO","NPT","3/4",25,0,null,null,null,null,null,null,"Y","Y",null,"Y",null,null,null,null,"HEATING SEASON",null,null,null,null,null,"3145,3146",{"$f":"IF(O52=\"130\",2014.4*AO52*'CO2 Conversion Factors'!$D$20/0.8/1000,2096.16*AO52*'CO2 Conversion Factors'!$D$20/0.8/1000)","v":0},{"$f":"IF(O52=\"130\",2014.4*AO52*'CO2 Conversion Factors'!$G$20/0.8/1000,2096.16*AO52*'CO2 Conversion Factors'!$G$20/0.8/1000)","v":0},{"$f":"IF(O52=\"130\",2014.4*AO52*'CO2 Conversion Factors'!$J$20/0.8/1000,2096.16*AO52*'CO2 Conversion Factors'!$J$20/0.8/1000)","v":0},0,0,null,null,null,"ARM",false,"IB",false,"ARMIB",false,false,false,false,null,null,null,null,null,{"$f":"VLOOKUP(D52,#REF!,5)","v":{"$error":"#REF!"}}]
["2015-12-16","NA",null,"ROOF 3",null,"ARM",1811,"IB","5/58",null,"UH","CLD","NPT","3/4",25,0,null,null,null,null,null,null,"Y","Y",null,"Y",null,null,null,null,"HEATING SEASON",null,null,null,null,null,"3147,3148",{"$f":"IF(O53=\"130\",2014.4*AO53*'CO2 Conversion Factors'!$D$20/0.8/1000,2096.16*AO53*'CO2 Conversion Factors'!$D$20/0.8/1000)","v":0},{"$f":"IF(O53=\"130\",2014.4*AO53*'CO2 Conversion Factors'!$G$20/0.8/1000,2096.16*AO53*'CO2 Conversion Factors'!$G$20/0.8/1000)","v":0},{"$f":"IF(O53=\"130\",2014.4*AO53*'CO2 Conversion Factors'!$J$20/0.8/1000,2096.16*AO53*'CO2 Conversion Factors'!$J$20/0.8/1000)","v":0},0,0,null,null,null,"ARM","ARM","IB","IB","ARMIB","IB",false,false,false,null,null,null,null,null,{"$f":"VLOOKUP(D53,#REF!,5)","v":{"$error":"#REF!"}}]
["2015-12-16","NA",null,"ROOF 11",null,"ARM",1811,"IB","5/59",null,"UH","SL","NPT","3/4",25,0,null,null,null,null,null,null,"Y","Y",null,"Y",null,null,null,null,"HEATING SEASON",null,null,null,null,null,"3149,3150,955,956",{"$f":"IF(O54=\"130\",2014.4*AO54*'CO2 Conversion Factors'!$D$20/0.8/1000,2096.16*AO54*'CO2 Conversion Factors'!$D$20/0.8/1000)","v":0},{"$f":"IF(O54=\"130\",2014.4*AO54*'CO2 Conversion Factors'!$G$20/0.8/1000,2096.16*AO54*'CO2 Conversion Factors'!$G$20/0.8/1000)","v":0},{"$f":"IF(O54=\"130\",2014.4*AO54*'CO2 Conversion Factors'!$J$20/0.8/1000,2096.16*AO54*'CO2 Conversion Factors'!$J$20/0.8/1000)","v":0},0,0,null,null,null,"ARM","ARM","IB","IB","ARMIB",false,"IB",false,false,null,null,null,null,null,{"$f":"VLOOKUP(D54,#REF!,5)","v":{"$error":"#REF!"}}]
["2015-12-16","NA",null,"ROOF 12",null,"ARM",1811,"IB","5/60",null,"UH","BLW","NPT","3/4",25,0,null,null,null,null,null,null,"Y","Y",null,"Y",null,null,null,null,"HEATING SEASON",null,null,null,null,null,"3151,3152",{"$f":"IF(O55=\"130\",2014.4*AO55*'CO2 Conversion Factors'!$D$20/0.8/1000,2096.16*AO55*'CO2 Conversion Factors'!$D$20/0.8/1000)","v":0},{"$f":"IF(O55=\"130\",2014.4*AO55*'CO2 Conversion Factors'!$G$20/0.8/1000,2096.16*AO55*'CO2 Conversion Factors'!$G$20/0.8/1000)","v":0},{"$f":"IF(O55=\"130\",2014.4*AO55*'CO2 Conversion Factors'!$J$20/0.8/1000,2096.16*AO55*'CO2 Conversion Factors'!$J$20/0.8/1000)","v":0},0,0,null,null,null,"ARM","ARM","IB","IB","ARMIB",false,false,false,"IB",null,null,null,null,null,{"$f":"VLOOKUP(D55,#REF!,5)","v":{"$error":"#REF!"}}]
["2015-12-16","NA",null,"ROOF 19",null,"ARM",1811,"IB","5/61",null,"UH","PO","NPT","1",25,0,null,null,null,null,null,null,"Y","Y",null,"Y",null,null,null,null,"HEATING SEASON",null,null,null,null,null,"3153,3154",{"$f":"IF(O56=\"130\",2014.4*AO56*'CO2 Conversion Factors'!$D$20/0.8/1000,2096.16*AO56*'CO2 Conversion Factors'!$D$20/0.8/1000)","v":0},{"$f":"IF(O56=\"130\",2014.4*AO56*'CO2 Conversion Factors'!$G$20/0.8/1000,2096.16*AO56*'CO2 Conversion Factors'!$G$20/0.8/1000)","v":0},{"$f":"IF(O56=\"130\",2014.4*AO56*'CO2 Conversion Factors'!$J$20/0.8/1000,2096.16*AO56*'CO2 Conversion Factors'!$J$20/0.8/1000)","v":0},0,0,null,null,null,"ARM",false,"IB",false,"ARMIB",false,false,false,false,null,null,null,null,null,{"$f":"VLOOKUP(D56,#REF!,5)","v":{"$error":"#REF!"}}]
["2015-12-16","NA",null,"ROOF 13",null,"ARM",null,"FT","5/62",null,"UH","CLD","NPT","1",25,0,null,null,null,null,null,null,"Y","Y",null,"Y",null,null,null,null,"HEATING SEASON",null,null,null,null,null,"960",{"$f":"IF(O57=\"130\",2014.4*AO57*'CO2 Conversion Factors'!$D$20/0.8/1000,2096.16*AO57*'CO2 Conversion Factors'!$D$20/0.8/1000)","v":0},{"$f":"IF(O57=\"130\",2014.4*AO57*'CO2 Conversion Factors'!$G$20/0.8/1000,2096.16*AO57*'CO2 Conversion Factors'!$G$20/0.8/1000)","v":0},{"$f":"IF(O57=\"130\",2014.4*AO57*'CO2 Conversion Factors'!$J$20/0.8/1000,2096.16*AO57*'CO2 Conversion Factors'!$J$20/0.8/1000)","v":0},0,0,null,null,null,"ARM","ARM","FT","FT","ARMFT","FT",false,false,false,null,null,null,null,null,{"$f":"VLOOKUP(D57,#REF!,5)","v":{"$error":"#REF!"}}]
["2015-12-16","NA",null,"ROOF 4",null,"ARM",null,"FT","5/63",null,"UH","CLD","NPT","3/4",25,0,null,null,null,null,null,null,"Y","Y",null,"Y",null,null,null,null,"HEATING SEASON",null,null,null,null,null,"962,961",{"$f":"IF(O58=\"130\",2014.4*AO58*'CO2 Conversion Factors'!$D$20/0.8/1000,2096.16*AO58*'CO2 Conversion Factors'!$D$20/0.8/1000)","v":0},{"$f":"IF(O58=\"130\",2014.4*AO58*'CO2 Conversion Factors'!$G$20/0.8/1000,2096.16*AO58*'CO2 Conversion Factors'!$G$20/0.8/1000)","v":0},{"$f":"IF(O58=\"130\",2014.4*AO58*'CO2 Conversion Factors'!$J$20/0.8/1000,2096.16*AO58*'CO2 Conversion Factors'!$J$20/0.8/1000)","v":0},0,0,null,null,null,"ARM","ARM","FT","FT","ARMFT","FT",false,false,false,null,null,null,null,null,{"$f":"VLOOKUP(D58,#REF!,5)","v":{"$error":"#REF!"}}]
["2015-12-16",143,null,"ROOF 5",null,"ARM",1811,"IB","5/64",null,"UH","CLD","NPT","3/4",25,0,null,null,null,null,null,null,"Y","Y",null,"Y",null,null,null,null,"HEATING SEASON",null,null,null,null,null,"3155,963",{"$f":"IF(O59=\"130\",2014.4*AO59*'CO2 Conversion Factors'!$D$20/0.8/1000,2096.16*AO59*'CO2 Conversion Factors'!$D$20/0.8/1000)","v":0},{"$f":"IF(O59=\"130\",2014.4*AO59*'CO2 Conversion Factors'!$G$20/0.8/1000,2096.16*AO59*'CO2 Conversion Factors'!$G$20/0.8/1000)","v":0},{"$f":"IF(O59=\"130\",2014.4*AO59*'CO2 Conversion Factors'!$J$20/0.8/1000,2096.16*AO59*'CO2 Conversion Factors'!$J$20/0.8/1000)","v":0},0,0,null,null,null,"ARM","ARM","IB","IB","ARMIB","IB",false,false,false,null,null,null,null,null,{"$f":"VLOOKUP(D59,#REF!,5)","v":{"$error":"#REF!"}}]
["2015-12-16","NA",null,"ROOF 37",null,"ARM","D-188","IB","5/65",null,"UH","PO","NPT","2.0",25,0,null,null,null,null,null,null,"Y","Y",null,"Y",null,null,null,null,"HEATING SEASON",null,null,null,null,null,"3155,963",{"$f":"IF(O60=\"130\",2014.4*AO60*'CO2 Conversion Factors'!$D$20/0.8/1000,2096.16*AO60*'CO2 Conversion Factors'!$D$20/0.8/1000)","v":0},{"$f":"IF(O60=\"130\",2014.4*AO60*'CO2 Conversion Factors'!$G$20/0.8/1000,2096.16*AO60*'CO2 Conversion Factors'!$G$20/0.8/1000)","v":0},{"$f":"IF(O60=\"130\",2014.4*AO60*'CO2 Conversion Factors'!$J$20/0.8/1000,2096.16*AO60*'CO2 Conversion Factors'!$J$20/0.8/1000)","v":0},0,0,null,null,null,"ARM",false,"IB",false,"ARMIB",false,false,false,false,null,null,null,null,null,{"$f":"VLOOKUP(D60,#REF!,5)","v":{"$error":"#REF!"}}]
["2015-12-16","NA",null,"ROOF 34",null,"ARM","D-188","IB","5/66",null,"UH","PO","NPT","2.0",25,0,null,null,null,null,null,null,"Y","Y",null,"Y",null,null,null,null,"HEATING SEASON",null,null,null,null,null,"3155,963",{"$f":"IF(O61=\"130\",2014.4*AO61*'CO2 Conversion Factors'!$D$20/0.8/1000,2096.16*AO61*'CO2 Conversion Factors'!$D$20/0.8/1000)","v":0},{"$f":"IF(O61=\"130\",2014.4*AO61*'CO2 Conversion Factors'!$G$20/0.8/1000,2096.16*AO61*'CO2 Conversion Factors'!$G$20/0.8/1000)","v":0},{"$f":"IF(O61=\"130\",2014.4*AO61*'CO2 Conversion Factors'!$J$20/0.8/1000,2096.16*AO61*'CO2 Conversion Factors'!$J$20/0.8/1000)","v":0},0,0,null,null,null,"ARM",false,"IB",false,"ARMIB",false,false,false,false,null,null,null,null,null,{"$f":"VLOOKUP(D61,#REF!,5)","v":{"$error":"#REF!"}}]
["2015-12-16","NA",null,"ROOF 34",null,"ARM","D-188","IB","5/67",null,"UH","PO","NPT","2.0",25,0,null,null,null,null,null,null,"Y","Y",null,"Y",null,null,null,null,"HEATING SEASON",null,null,null,null,null,"3155,963",{"$f":"IF(O62=\"130\",2014.4*AO62*'CO2 Conversion Factors'!$D$20/0.8/1000,2096.16*AO62*'CO2 Conversion Factors'!$D$20/0.8/1000)","v":0},{"$f":"IF(O62=\"130\",2014.4*AO62*'CO2 Conversion Factors'!$G$20/0.8/1000,2096.16*AO62*'CO2 Conversion Factors'!$G$20/0.8/1000)","v":0},{"$f":"IF(O62=\"130\",2014.4*AO62*'CO2 Conversion Factors'!$J$20/0.8/1000,2096.16*AO62*'CO2 Conversion Factors'!$J$20/0.8/1000)","v":0},0,0,null,null,null,"ARM",false,"IB",false,"ARMIB",false,false,false,false,null,null,null,null,null,{"$f":"VLOOKUP(D62,#REF!,5)","v":{"$error":"#REF!"}}]
["2015-12-16","RO3821",null,"TRANE UNIT",null,"ARM",null,"FT","5/68",null,"UH","CLD","NPT","2.0",25,0,null,null,null,null,null,null,"Y","Y",null,"Y",null,null,null,null,"HEATING SEASON",null,null,null,null,null,"964",{"$f":"IF(O63=\"130\",2014.4*AO63*'CO2 Conversion Factors'!$D$20/0.8/1000,2096.16*AO63*'CO2 Conversion Factors'!$D$20/0.8/1000)","v":0},{"$f":"IF(O63=\"130\",2014.4*AO63*'CO2 Conversion Factors'!$G$20/0.8/1000,2096.16*AO63*'CO2 Conversion Factors'!$G$20/0.8/1000)","v":0},{"$f":"IF(O63=\"130\",2014.4*AO63*'CO2 Conversion Factors'!$J$20/0.8/1000,2096.16*AO63*'CO2 Conversion Factors'!$J$20/0.8/1000)","v":0},0,0,null,null,null,"ARM","ARM","FT","FT","ARMFT","FT",false,false,false,null,null,null,null,null,{"$f":"VLOOKUP(D63,#REF!,5)","v":{"$error":"#REF!"}}]
["2015-12-16","RO3820",null,"TRANE UNIT",null,"ARM",null,"FT","5/69",null,"UH","CLD","NPT","2.0",25,0,null,null,null,null,null,null,"Y","Y",null,"Y",null,null,null,null,"HEATING SEASON",null,null,null,null,null,"965",{"$f":"IF(O64=\"130\",2014.4*AO64*'CO2 Conversion Factors'!$D$20/0.8/1000,2096.16*AO64*'CO2 Conversion Factors'!$D$20/0.8/1000)","v":0},{"$f":"IF(O64=\"130\",2014.4*AO64*'CO2 Conversion Factors'!$G$20/0.8/1000,2096.16*AO64*'CO2 Conversion Factors'!$G$20/0.8/1000)","v":0},{"$f":"IF(O64=\"130\",2014.4*AO64*'CO2 Conversion Factors'!$J$20/0.8/1000,2096.16*AO64*'CO2 Conversion Factors'!$J$20/0.8/1000)","v":0},0,0,null,null,null,"ARM","ARM","FT","FT","ARMFT","FT",false,false,false,null,null,null,null,null,{"$f":"VLOOKUP(D64,#REF!,5)","v":{"$error":"#REF!"}}]
["2015-12-16",167,null,"ROOF 25",null,"ARM",null,"IB","5/70",null,"UH","PO","NPT","3/4",25,0,null,null,null,null,null,null,"Y","Y",null,"Y",null,null,null,null,"HEATING SEASON",null,null,null,null,"LEAKING VALVE","3157,3158",{"$f":"IF(O65=\"130\",2014.4*AO65*'CO2 Conversion Factors'!$D$20/0.8/1000,2096.16*AO65*'CO2 Conversion Factors'!$D$20/0.8/1000)","v":0},{"$f":"IF(O65=\"130\",2014.4*AO65*'CO2 Conversion Factors'!$G$20/0.8/1000,2096.16*AO65*'CO2 Conversion Factors'!$G$20/0.8/1000)","v":0},{"$f":"IF(O65=\"130\",2014.4*AO65*'CO2 Conversion Factors'!$J$20/0.8/1000,2096.16*AO65*'CO2 Conversion Factors'!$J$20/0.8/1000)","v":0},0,0,null,null,null,"ARM",false,"IB",false,"ARMIB",false,false,false,false,null,null,null,null,null,{"$f":"VLOOKUP(D65,#REF!,5)","v":{"$error":"#REF!"}}]
["2015-12-16",168,null,"ROOF 26",null,"ARM",null,"IB","5/71",null,"UH","PO","NPT","3/4",25,0,null,null,null,null,null,null,"Y","Y",null,"Y",null,null,null,null,"HEATING SEASON",null,null,null,null,"BAD VALVE","966",{"$f":"IF(O66=\"130\",2014.4*AO66*'CO2 Conversion Factors'!$D$20/0.8/1000,2096.16*AO66*'CO2 Conversion Factors'!$D$20/0.8/1000)","v":0},{"$f":"IF(O66=\"130\",2014.4*AO66*'CO2 Conversion Factors'!$G$20/0.8/1000,2096.16*AO66*'CO2 Conversion Factors'!$G$20/0.8/1000)","v":0},{"$f":"IF(O66=\"130\",2014.4*AO66*'CO2 Conversion Factors'!$J$20/0.8/1000,2096.16*AO66*'CO2 Conversion Factors'!$J$20/0.8/1000)","v":0},0,0,null,null,null,"ARM",false,"IB",false,"ARMIB",false,false,false,false,null,null,null,null,null,{"$f":"VLOOKUP(D66,#REF!,5)","v":{"$error":"#REF!"}}]
["2015-12-16","NA",null,"ROOF 22",null,"ARM",null,"IB","5/72",null,"UH","CLD","NPT","3/4",25,0,null,null,null,null,null,null,"Y","Y",null,"Y",null,null,null,null,"HEATING SEASON",null,null,null,null,null,"3159,3160",{"$f":"IF(O67=\"130\",2014.4*AO67*'CO2 Conversion Factors'!$D$20/0.8/1000,2096.16*AO67*'CO2 Conversion Factors'!$D$20/0.8/1000)","v":0},{"$f":"IF(O67=\"130\",2014.4*AO67*'CO2 Conversion Factors'!$G$20/0.8/1000,2096.16*AO67*'CO2 Conversion Factors'!$G$20/0.8/1000)","v":0},{"$f":"IF(O67=\"130\",2014.4*AO67*'CO2 Conversion Factors'!$J$20/0.8/1000,2096.16*AO67*'CO2 Conversion Factors'!$J$20/0.8/1000)","v":0},{"$f":"IFERROR(IF(OR(L67=\"BLW\",L67=\"PRI\",L67=\"LNK\"),IF(Cover_Select_SteamCostUnits=\"£/1000kg\",11.6*(VLOOKUP($I67,Abb_Lookup_OrifaceDia,2,FALSE)^2)*SQRT(($O67-$P67)*($O67+$P67)),25.57363*(VLOOKUP($I67,Abb_Lookup_OrifaceDia,2,FALSE)^2)*SQRT(($O67-$P67)*($O67+$P67)))*(VLOOKUP(AE67,Cover_Lookup_OpTime,4,FALSE)/1000),IF(L67=\"LL\",IF(Cover_Select_SteamCostUnits=\"£/1000kg\",11.6*(VLOOKUP($I67,Abb_Lookup_OrifaceDia,2,FALSE)^2)*SQRT(($O67-$P67)*($O67+$P67)),25.57363*(VLOOKUP($I67,Abb_Lookup_OrifaceDia,2,FALSE)^2)*SQRT(($O67-$P67)*($O67+$P67)))*(VLOOKUP(AE67,Cover_Lookup_OpTime,4,FALSE)/2000),IF(L67=\"SL\",IF(Cover_Select_SteamCostUnits=\"£/1000kg\",11.6*(VLOOKUP($I67,Abb_Lookup_OrifaceDia,2,FALSE)^2)*SQRT(($O67-$P67)*($O67+$P67)),25.57363*(VLOOKUP($I67,Abb_Lookup_OrifaceDia,2,FALSE)^2)*SQRT(($O67-$P67)*($O67+$P67)))*(VLOOKUP(AE67,Cover_Lookup_OpTime,4,FALSE)/4000),0))),0)","v":0},0,null,null,null,"ARM","ARM","IB","IB","ARMIB","IB",false,false,false,null,null,null,null,null,{"$f":"VLOOKUP(D67,#REF!,5)","v":{"$error":"#REF!"}}]
["2015-12-16","NA",null,"ROOF 23",null,"ARM",null,"IB","5/73",null,"UH","SL","NPT","3/4",25,0,null,null,null,null,null,null,"Y","Y",null,"Y",null,null,null,null,"HEATING SEASON",null,null,null,null,null,"3161,3162",{"$f":"IF(O68=\"130\",2014.4*AO68*'CO2 Conversion Factors'!$D$20/0.8/1000,2096.16*AO68*'CO2 Conversion Factors'!$D$20/0.8/1000)","v":0},{"$f":"IF(O68=\"130\",2014.4*AO68*'CO2 Conversion Factors'!$G$20/0.8/1000,2096.16*AO68*'CO2 Conversion Factors'!$G$20/0.8/1000)","v":0},{"$f":"IF(O68=\"130\",2014.4*AO68*'CO2 Conversion Factors'!$J$20/0.8/1000,2096.16*AO68*'CO2 Conversion Factors'!$J$20/0.8/1000)","v":0},0,{"$f":"IFERROR(AO68*Cover_Select_SteamCost,0)","v":0},null,null,null,{"$f":"IF(NOT(OR(L68=\"NIS\",L68=\"OFF\")),F68)","v":"ARM"},{"$f":"IF(NOT(OR(L68=\"NIS\",L68=\"OFF\",L68=\"PO\")),F68)","v":"ARM"},{"$f":"IF(NOT(OR(L68=\"NIS\",L68=\"OFF\")),H68)","v":"IB"},{"$f":"IF(NOT(OR(L68=\"NIS\",L68=\"OFF\",L68=\"PO\")),H68)","v":"IB"},"ARMIB",false,"IB",false,false,null,null,null,null,null,{"$f":"VLOOKUP(D68,#REF!,5)","v":{"$error":"#REF!"}}]
["2015-12-16","NA",null,"ROOF 19",null,"ARM",1811,"IB","5/74",null,"UH","BLW","NPT","3/4",25,0,null,null,null,null,null,null,"Y","Y",null,"Y",null,null,null,null,"HEATING SEASON",null,null,null,null,"BAD VALVE","3163,968",{"$f":"IF(O69=\"130\",2014.4*AO69*'CO2 Conversion Factors'!$D$20/0.8/1000,2096.16*AO69*'CO2 Conversion Factors'!$D$20/0.8/1000)","v":0},{"$f":"IF(O69=\"130\",2014.4*AO69*'CO2 Conversion Factors'!$G$20/0.8/1000,2096.16*AO69*'CO2 Conversion Factors'!$G$20/0.8/1000)","v":0},{"$f":"IF(O69=\"130\",2014.4*AO69*'CO2 Conversion Factors'!$J$20/0.8/1000,2096.16*AO69*'CO2 Conversion Factors'!$J$20/0.8/1000)","v":0},0,0,null,null,null,"ARM","ARM","IB","IB",{"$f":"F69&H69","v":"ARMIB"},{"$f":"IF(L69=\"CLD\", H69)","v":false},{"$f":"IF(L69=\"SL\", H69)","v":false},{"$f":"IF(L69=\"LL\", H69)","v":false},{"$f":"IF(L69=\"BLW\", H69)","v":"IB"},null,null,null,null,null,{"$f":"VLOOKUP(D69,#REF!,5)","v":{"$error":"#REF!"}}]
["2015-12-16","NA",null,"ROOF 18",null,"ARM",1811,"IB","5/75",null,"UH","CLD","NPT","3/4",25,0,null,null,null,null,null,null,"Y","Y",null,"Y",null,null,null,null,"HEATING SEASON",null,null,null,null,null,"968",{"$f":"IF(O70=\"130\",2014.4*AO70*'CO2 Conversion Factors'!$D$20/0.8/1000,2096.16*AO70*'CO2 Conversion Factors'!$D$20/0.8/1000)","v":0},{"$f":"IF(O70=\"130\",2014.4*AO70*'CO2 Conversion Factors'!$G$20/0.8/1000,2096.16*AO70*'CO2 Conversion Factors'!$G$20/0.8/1000)","v":0},{"$f":"IF(O70=\"130\",2014.4*AO70*'CO2 Conversion Factors'!$J$20/0.8/1000,2096.16*AO70*'CO2 Conversion Factors'!$J$20/0.8/1000)","v":0},0,0,null,null,null,"ARM","ARM","IB","IB","ARMIB","IB",false,false,false,null,null,null,null,null,{"$f":"VLOOKUP(D70,#REF!,5)","v":{"$error":"#REF!"}}]
["2015-12-16","NA",null,"ROOF 20",null,"ARM",1811,"IB","5/76",null,"UH","PO","NPT","3/4",25,0,null,null,null,null,null,null,"Y","Y",null,"Y",null,null,null,null,"HEATING SEASON",null,null,null,null,"BAD VALVE","3165,3166",{"$f":"IF(O71=\"130\",2014.4*AO71*'CO2 Conversion Factors'!$D$20/0.8/1000,2096.16*AO71*'CO2 Conversion Factors'!$D$20/0.8/1000)","v":0},{"$f":"IF(O71=\"130\",2014.4*AO71*'CO2 Conversion Factors'!$G$20/0.8/1000,2096.16*AO71*'CO2 Conversion Factors'!$G$20/0.8/1000)","v":0},{"$f":"IF(O71=\"130\",2014.4*AO71*'CO2 Conversion Factors'!$J$20/0.8/1000,2096.16*AO71*'CO2 Conversion Factors'!$J$20/0.8/1000)","v":0},0,0,null,null,null,"ARM",false,"IB",false,"ARMIB",false,false,false,false,null,null,null,null,null,{"$f":"VLOOKUP(D71,#REF!,5)","v":{"$error":"#REF!"}}]
["2015-12-16","NA",null,"ROOF 21",null,"ARM",1811,"IB","5/77",null,"UH","CLD","NPT","3/4",25,0,null,null,null,null,null,null,"Y","Y",null,"Y",null,null,null,null,"HEATING SEASON",null,null,null,null,null,"969",{"$f":"IF(O72=\"130\",2014.4*AO72*'CO2 Conversion Factors'!$D$20/0.8/1000,2096.16*AO72*'CO2 Conversion Factors'!$D$20/0.8/1000)","v":0},{"$f":"IF(O72=\"130\",2014.4*AO72*'CO2 Conversion Factors'!$G$20/0.8/1000,2096.16*AO72*'CO2 Conversion Factors'!$G$20/0.8/1000)","v":0},{"$f":"IF(O72=\"130\",2014.4*AO72*'CO2 Conversion Factors'!$J$20/0.8/1000,2096.16*AO72*'CO2 Conversion Factors'!$J$20/0.8/1000)","v":0},0,0,null,null,null,"ARM","ARM","IB","IB","ARMIB","IB",false,false,false]
["2015-12-16","NA",null,"ABOVE OFFICE",null,"ARM","TVS 811","IB","5/78",null,"UH","PO","NPT","3/4",25,0,null,null,null,null,null,null,"Y","Y",null,"Y",null,null,null,null,"HEATING SEASON",null,null,null,null,null,"3167,3168",{"$f":"IF(O73=\"130\",2014.4*AO73*'CO2 Conversion Factors'!$D$20/0.8/1000,2096.16*AO73*'CO2 Conversion Factors'!$D$20/0.8/1000)","v":0},{"$f":"IF(O73=\"130\",2014.4*AO73*'CO2 Conversion Factors'!$G$20/0.8/1000,2096.16*AO73*'CO2 Conversion Factors'!$G$20/0.8/1000)","v":0},{"$f":"IF(O73=\"130\",2014.4*AO73*'CO2 Conversion Factors'!$J$20/0.8/1000,2096.16*AO73*'CO2 Conversion Factors'!$J$20/0.8/1000)","v":0},0,0,null,null,null,"ARM",false,"IB",false,"ARMIB",false,false,false,false,null,null,null,null,null,{"$f":"VLOOKUP(D73,#REF!,5)","v":{"$error":"#REF!"}}]
["2015-12-16","NA",null,"ABOVE OFFICE",null,"ARM",null,"FT","5/79",null,"UH","CLD","NPT","3/4",25,0,null,null,null,null,null,null,"Y","Y",null,"Y",null,null,null,null,"HEATING SEASON",null,null,null,null,null,"3169,970",{"$f":"IF(O74=\"130\",2014.4*AO74*'CO2 Conversion Factors'!$D$20/0.8/1000,2096.16*AO74*'CO2 Conversion Factors'!$D$20/0.8/1000)","v":0},{"$f":"IF(O74=\"130\",2014.4*AO74*'CO2 Conversion Factors'!$G$20/0.8/1000,2096.16*AO74*'CO2 Conversion Factors'!$G$20/0.8/1000)","v":0},{"$f":"IF(O74=\"130\",2014.4*AO74*'CO2 Conversion Factors'!$J$20/0.8/1000,2096.16*AO74*'CO2 Conversion Factors'!$J$20/0.8/1000)","v":0},0,0,null,null,null,"ARM","ARM","FT","FT","ARMFT","FT",false,false,false,null,null,null,null,null,{"$f":"VLOOKUP(D74,#REF!,5)","v":{"$error":"#REF!"}}]
["2015-12-16","NA",null,"ABOVE OFFICE",null,"ARM","TVS 811","IB","5/80",null,"UH","SL","NPT","3/4",25,0,null,null,null,null,null,null,"Y","Y",null,"Y",null,null,null,null,"HEATING SEASON",null,null,null,null,null,"970",{"$f":"IF(O75=\"130\",2014.4*AO75*'CO2 Conversion Factors'!$D$20/0.8/1000,2096.16*AO75*'CO2 Conversion Factors'!$D$20/0.8/1000)","v":0},{"$f":"IF(O75=\"130\",2014.4*AO75*'CO2 Conversion Factors'!$G$20/0.8/1000,2096.16*AO75*'CO2 Conversion Factors'!$G$20/0.8/1000)","v":0},{"$f":"IF(O75=\"130\",2014.4*AO75*'CO2 Conversion Factors'!$J$20/0.8/1000,2096.16*AO75*'CO2 Conversion Factors'!$J$20/0.8/1000)","v":0},0,0,null,null,null,"ARM","ARM","IB","IB","ARMIB",false,"IB",false,false,null,null,null,null,null,{"$f":"VLOOKUP(D75,#REF!,5)","v":{"$error":"#REF!"}}]
["2015-12-16","NA",null,"ABOVE OFFICE",null,"ARM",null,"FT","5/81",null,"UH","CLD","NPT","3/4",25,0,null,null,null,null,null,null,"Y","Y",null,"Y",null,null,null,null,"HEATING SEASON",null,null,null,null,null,"3171,971",{"$f":"IF(O76=\"130\",2014.4*AO76*'CO2 Conversion Factors'!$D$20/0.8/1000,2096.16*AO76*'CO2 Conversion Factors'!$D$20/0.8/1000)","v":0},{"$f":"IF(O76=\"130\",2014.4*AO76*'CO2 Conversion Factors'!$G$20/0.8/1000,2096.16*AO76*'CO2 Conversion Factors'!$G$20/0.8/1000)","v":0},{"$f":"IF(O76=\"130\",2014.4*AO76*'CO2 Conversion Factors'!$J$20/0.8/1000,2096.16*AO76*'CO2 Conversion Factors'!$J$20/0.8/1000)","v":0},0,0,null,null,null,"ARM","ARM","FT","FT","ARMFT","FT",false,false,false,null,null,null,null,null,{"$f":"VLOOKUP(D76,#REF!,5)","v":{"$error":"#REF!"}}]
["2015-12-16","NA",null,"ABOVE OFFICE",null,"ARM",null,"FT","5/82",null,"UH","CLD","NPT","3/4",25,0,null,null,null,null,null,null,"Y","Y",null,"Y",null,null,null,null,"HEATING SEASON",null,null,null,null,null,"3173,3174",{"$f":"IF(O77=\"130\",2014.4*AO77*'CO2 Conversion Factors'!$D$20/0.8/1000,2096.16*AO77*'CO2 Conversion Factors'!$D$20/0.8/1000)","v":0},{"$f":"IF(O77=\"130\",2014.4*AO77*'CO2 Conversion Factors'!$G$20/0.8/1000,2096.16*AO77*'CO2 Conversion Factors'!$G$20/0.8/1000)","v":0},{"$f":"IF(O77=\"130\",2014.4*AO77*'CO2 Conversion Factors'!$J$20/0.8/1000,2096.16*AO77*'CO2 Conversion Factors'!$J$20/0.8/1000)","v":0},0,0,null,null,null,"ARM","ARM","FT","FT","ARMFT","FT",false,false,false,null,null,null,null,null,{"$f":"VLOOKUP(D77,#REF!,5)","v":{"$error":"#REF!"}}]
["2015-12-16","NA",null,"ABOVE OFFICE",null,"ARM",null,"IB","5/83",null,"UH","PO","NPT","3/4",25,0,null,null,null,null,null,null,"Y","Y",null,"Y",null,null,null,null,"HEATING SEASON",null,null,null,null,"BAD VALVE","3175,3176",{"$f":"IF(O78=\"130\",2014.4*AO78*'CO2 Conversion Factors'!$D$20/0.8/1000,2096.16*AO78*'CO2 Conversion Factors'!$D$20/0.8/1000)","v":0},{"$f":"IF(O78=\"130\",2014.4*AO78*'CO2 Conversion Factors'!$G$20/0.8/1000,2096.16*AO78*'CO2 Conversion Factors'!$G$20/0.8/1000)","v":0},{"$f":"IF(O78=\"130\",2014.4*AO78*'CO2 Conversion Factors'!$J$20/0.8/1000,2096.16*AO78*'CO2 Conversion Factors'!$J$20/0.8/1000)","v":0},0,0,null,null,null,"ARM",false,"IB",false,"ARMIB",false,false,false,false,null,null,null,null,null,{"$f":"VLOOKUP(D78,#REF!,5)","v":{"$error":"#REF!"}}]
["2015-12-16",2962,null,"ABOVE OFFICE",null,"ARM",null,"FT","5/84",null,"UH","PO","NPT","1",25,0,null,null,null,null,null,null,"Y","Y",null,"Y",null,null,null,null,"HEATING SEASON",null,null,null,null,null,"3177,3178",{"$f":"IF(O79=\"130\",2014.4*AO79*'CO2 Conversion Factors'!$D$20/0.8/1000,2096.16*AO79*'CO2 Conversion Factors'!$D$20/0.8/1000)","v":0},{"$f":"IF(O79=\"130\",2014.4*AO79*'CO2 Conversion Factors'!$G$20/0.8/1000,2096.16*AO79*'CO2 Conversion Factors'!$G$20/0.8/1000)","v":0},{"$f":"IF(O79=\"130\",2014.4*AO79*'CO2 Conversion Factors'!$J$20/0.8/1000,2096.16*AO79*'CO2 Conversion Factors'!$J$20/0.8/1000)","v":0},0,0,null,null,null,"ARM",false,"FT",false,"ARMFT",false,false,false,false,null,null,null,null,null,{"$f":"VLOOKUP(D79,#REF!,5)","v":{"$error":"#REF!"}}]
["2015-12-16",2961,null,"ABOVE OFFICE",null,"ARM",null,"FT","5/85",null,"UH","CLD","NPT","1",25,0,null,null,null,null,null,null,"Y","Y",null,"Y",null,null,null,null,"HEATING SEASON",null,null,null,null,null,"3179,3180",{"$f":"IF(O80=\"130\",2014.4*AO80*'CO2 Conversion Factors'!$D$20/0.8/1000,2096.16*AO80*'CO2 Conversion Factors'!$D$20/0.8/1000)","v":0},{"$f":"IF(O80=\"130\",2014.4*AO80*'CO2 Conversion Factors'!$G$20/0.8/1000,2096.16*AO80*'CO2 Conversion Factors'!$G$20/0.8/1000)","v":0},{"$f":"IF(O80=\"130\",2014.4*AO80*'CO2 Conversion Factors'!$J$20/0.8/1000,2096.16*AO80*'CO2 Conversion Factors'!$J$20/0.8/1000)","v":0},0,0,null,null,null,"ARM","ARM","FT","FT","ARMFT","FT",false,false,false,null,null,null,null,null,{"$f":"VLOOKUP(D80,#REF!,5)","v":{"$error":"#REF!"}}]
["2015-12-16",2960,null,"ABOVE OFFICE",null,"ARM",null,"FT","5/86",null,"UH","PO","NPT","1",25,0,null,null,null,null,null,null,"Y","Y",null,"Y",null,null,null,null,"HEATING SEASON",null,null,null,null,null,"972",{"$f":"IF(O81=\"130\",2014.4*AO81*'CO2 Conversion Factors'!$D$20/0.8/1000,2096.16*AO81*'CO2 Conversion Factors'!$D$20/0.8/1000)","v":0},{"$f":"IF(O81=\"130\",2014.4*AO81*'CO2 Conversion Factors'!$G$20/0.8/1000,2096.16*AO81*'CO2 Conversion Factors'!$G$20/0.8/1000)","v":0},{"$f":"IF(O81=\"130\",2014.4*AO81*'CO2 Conversion Factors'!$J$20/0.8/1000,2096.16*AO81*'CO2 Conversion Factors'!$J$20/0.8/1000)","v":0},0,0,null,null,null,"ARM",false,"FT",false,"ARMFT",false,false,false,false,null,null,null,null,null,{"$f":"VLOOKUP(D81,#REF!,5)","v":{"$error":"#REF!"}}]
["2015-12-16",2963,null,"ABOVE OFFICE",null,"ARM",null,"IB","5/87",null,"UH","LNK","NPT","1",25,0,null,null,null,null,null,null,"Y","Y",null,"Y",null,null,null,null,"HEATING SEASON",null,null,null,null,null,"972",{"$f":"IF(O82=\"130\",2014.4*AO82*'CO2 Conversion Factors'!$D$20/0.8/1000,2096.16*AO82*'CO2 Conversion Factors'!$D$20/0.8/1000)","v":0},{"$f":"IF(O82=\"130\",2014.4*AO82*'CO2 Conversion Factors'!$G$20/0.8/1000,2096.16*AO82*'CO2 Conversion Factors'!$G$20/0.8/1000)","v":0},{"$f":"IF(O82=\"130\",2014.4*AO82*'CO2 Conversion Factors'!$J$20/0.8/1000,2096.16*AO82*'CO2 Conversion Factors'!$J$20/0.8/1000)","v":0},0,0,null,null,null,"ARM","ARM","IB","IB","ARMIB",false,false,false,false,null,null,null,null,null,{"$f":"VLOOKUP(D82,#REF!,5)","v":{"$error":"#REF!"}}]
["2015-12-16","NA",null,"ABOVE OFFICE",null,"ARM",null,"FT","5/88",null,"UH","CLD","NPT","1",25,0,null,null,null,null,null,null,"Y","Y",null,"Y",null,null,null,null,"HEATING SEASON",null,null,null,null,null,"3181,3182",{"$f":"IF(O83=\"130\",2014.4*AO83*'CO2 Conversion Factors'!$D$20/0.8/1000,2096.16*AO83*'CO2 Conversion Factors'!$D$20/0.8/1000)","v":0},{"$f":"IF(O83=\"130\",2014.4*AO83*'CO2 Conversion Factors'!$G$20/0.8/1000,2096.16*AO83*'CO2 Conversion Factors'!$G$20/0.8/1000)","v":0},{"$f":"IF(O83=\"130\",2014.4*AO83*'CO2 Conversion Factors'!$J$20/0.8/1000,2096.16*AO83*'CO2 Conversion Factors'!$J$20/0.8/1000)","v":0},0,0,null,null,null,"ARM","ARM","FT","FT","ARMFT","FT",false,false,false]
["2015-12-16","NA",null,"ABOVE OFFICE",null,"ARM",null,"FT","5/89",null,"UH","CLD","NPT","1",25,0,null,null,null,null,null,null,"Y","Y",null,"Y",null,null,null,null,"HEATING SEASON",null,null,null,null,null,null,{"$f":"IF(O84=\"130\",2014.4*AO84*'CO2 Conversion Factors'!$D$20/0.8/1000,2096.16*AO84*'CO2 Conversion Factors'!$D$20/0.8/1000)","v":0},{"$f":"IF(O84=\"130\",2014.4*AO84*'CO2 Conversion Factors'!$G$20/0.8/1000,2096.16*AO84*'CO2 Conversion Factors'!$G$20/0.8/1000)","v":0},{"$f":"IF(O84=\"130\",2014.4*AO84*'CO2 Conversion Factors'!$J$20/0.8/1000,2096.16*AO84*'CO2 Conversion Factors'!$J$20/0.8/1000)","v":0},0,0,null,null,null,"ARM","ARM","FT","FT","ARMFT","FT",false,false,false]
["2015-12-16","NA",null,"ABOVE OFFICE",null,"ARM",null,"IB","5/90",null,"UH","BLW","NPT","3/4",25,0,null,null,null,null,null,null,"Y","Y",null,"Y",null,null,null,null,"HEATING SEASON",null,null,null,null,null,null,{"$f":"IF(O85=\"130\",2014.4*AO85*'CO2 Conversion Factors'!$D$20/0.8/1000,2096.16*AO85*'CO2 Conversion Factors'!$D$20/0.8/1000)","v":0},{"$f":"IF(O85=\"130\",2014.4*AO85*'CO2 Conversion Factors'!$G$20/0.8/1000,2096.16*AO85*'CO2 Conversion Factors'!$G$20/0.8/1000)","v":0},{"$f":"IF(O85=\"130\",2014.4*AO85*'CO2 Conversion Factors'!$J$20/0.8/1000,2096.16*AO85*'CO2 Conversion Factors'!$J$20/0.8/1000)","v":0},0,0,null,null,null,"ARM","ARM","IB","IB","ARMIB",false,false,false,"IB"]
[null,null,null,null,null,null,null,null,null,null,null,null,null,null,null,null,null,null,null,null,null,null,null,null,null,null,null,null,null,null,null,null,null,null,null,null,null,{"$f":"IF(O86=\"130\",2014.4*AO86*'CO2 Conversion Factors'!$D$20/0.8/1000,2096.16*AO86*'CO2 Conversion Factors'!$D$20/0.8/1000)","v":0},{"$f":"IF(O86=\"130\",2014.4*AO86*'CO2 Conversion Factors'!$G$20/0.8/1000,2096.16*AO86*'CO2 Conversion Factors'!$G$20/0.8/1000)","v":0},{"$f":"IF(O86=\"130\",2014.4*AO86*'CO2 Conversion Factors'!$J$20/0.8/1000,2096.16*AO86*'CO2 Conversion Factors'!$J$20/0.8/1000)","v":0},0,0,null,null,null,0,0,0,0,"",false,false,false,false]
[null,null,null,null,null,null,null,null,null,null,null,null,null,null,null,null,null,null,null,null,null,null,null,null,null,null,null,null,null,null,null,null,null,null,null,null,null,{"$f":"IF(O87=\"130\",2014.4*AO87*'CO2 Conversion Factors'!$D$20/0.8/1000,2096.16*AO87*'CO2 Conversion Factors'!$D$20/0.8/1000)","v":0},{"$f":"IF(O87=\"130\",2014.4*AO87*'CO2 Conversion Factors'!$G$20/0.8/1000,2096.16*AO87*'CO2 Conversion Factors'!$G$20/0.8/1000)","v":0},{"$f":"IF(O87=\"130\",2014.4*AO87*'CO2 Conversion Factors'!$J$20/0.8/1000,2096.16*AO87*'CO2 Conversion Factors'!$J$20/0.8/1000)","v":0},0,0,null,null,null,0,0,0,0,"",false,false,false,false]
[null,null,null,null,null,null,null,null,null,null,null,null,null,null,null,null,null,null,null,null,null,null,null,null,null,null,null,null,null,null,null,null,null,null,null,null,null,{"$f":"IF(O88=\"130\",2014.4*AO88*'CO2 Conversion Factors'!$D$20/0.8/1000,2096.16*AO88*'CO2 Conversion Factors'!$D$20/0.8/1000)","v":0},{"$f":"IF(O88=\"130\",2014.4*AO88*'CO2 Conversion Factors'!$G$20/0.8/1000,2096.16*AO88*'CO2 Conversion Factors'!$G$20/0.8/1000)","v":0},{"$f":"IF(O88=\"130\",2014.4*AO88*'CO2 Conversion Factors'!$J$20/0.8/1000,2096.16*AO88*'CO2 Conversion Factors'!$J$20/0.8/1000)","v":0},0,0,null,null,null,0,0,0,0,"",false,false,false,false]
[null,null,null,null,null,null,null,null,null,null,null,null,null,null,null,null,null,null,null,null,null,null,null,null,null,null,null,null,null,null,null,null,null,null,null,null,null,{"$f":"IF(O89=\"130\",2014.4*AO89*'CO2 Conversion Factors'!$D$20/0.8/1000,2096.16*AO89*'CO2 Conversion Factors'!$D$20/0.8/1000)","v":0},{"$f":"IF(O89=\"130\",2014.4*AO89*'CO2 Conversion Factors'!$G$20/0.8/1000,2096.16*AO89*'CO2 Conversion Factors'!$G$20/0.8/1000)","v":0},{"$f":"IF(O89=\"130\",2014.4*AO89*'CO2 Conversion Factors'!$J$20/0.8/1000,2096.16*AO89*'CO2 Conversion Factors'!$J$20/0.8/1000)","v":0},0,0,null,null,null,0,0,0,0,"",false,false,false,false]
[null,null,null,null,null,null,null,null,null,null,null,null,null,null,null,null,null,null,null,null,null,null,null,null,null,null,null,null,null,null,null,null,null,null,null,null,null,{"$f":"IF(O90=\"130\",2014.4*AO90*'CO2 Conversion Factors'!$D$20/0.8/1000,2096.16*AO90*'CO2 Conversion Factors'!$D$20/0.8/1000)","v":0},{"$f":"IF(O90=\"130\",2014.4*AO90*'CO2 Conversion Factors'!$G$20/0.8/1000,2096.16*AO90*'CO2 Conversion Factors'!$G$20/0.8/1000)","v":0},{"$f":"IF(O90=\"130\",2014.4*AO90*'CO2 Conversion Factors'!$J$20/0.8/1000,2096.16*AO90*'CO2 Conversion Factors'!$J$20/0.8/1000)","v":0},0,0,null,null,null,0,0,0,0,"",false,false,false,false]
[null,null,null,null,null,null,null,null,null,null,null,null,null,null,null,null,null,null,null,null,null,null,null,null,null,null,null,null,null,null,null,null,null,null,null,null,null,{"$f":"IF(O91=\"130\",2014.4*AO91*'CO2 Conversion Factors'!$D$20/0.8/1000,2096.16*AO91*'CO2 Conversion Factors'!$D$20/0.8/1000)","v":0},{"$f":"IF(O91=\"130\",2014.4*AO91*'CO2 Conversion Factors'!$G$20/0.8/1000,2096.16*AO91*'CO2 Conversion Factors'!$G$20/0.8/1000)","v":0},{"$f":"IF(O91=\"130\",2014.4*AO91*'CO2 Conversion Factors'!$J$20/0.8/1000,2096.16*AO91*'CO2 Conversion Factors'!$J$20/0.8/1000)","v":0},0,0,null,null,null,0,0,0,0,"",false,false,false,false]
[null,null,null,null,null,null,null,null,null,null,null,null,null,null,null,null,null,null,null,null,null,null,null,null,null,null,null,null,null,null,null,null,null,null,null,null,null,{"$f":"IF(O92=\"130\",2014.4*AO92*'CO2 Conversion Factors'!$D$20/0.8/1000,2096.16*AO92*'CO2 Conversion Factors'!$D$20/0.8/1000)","v":0},{"$f":"IF(O92=\"130\",2014.4*AO92*'CO2 Conversion Factors'!$G$20/0.8/1000,2096.16*AO92*'CO2 Conversion Factors'!$G$20/0.8/1000)","v":0},{"$f":"IF(O92=\"130\",2014.4*AO92*'CO2 Conversion Factors'!$J$20/0.8/1000,2096.16*AO92*'CO2 Conversion Factors'!$J$20/0.8/1000)","v":0},0,0,null,null,null,0,0,0,0,"",false,false,false,false]
[null,null,null,null,null,null,null,null,null,null,null,null,null,null,null,null,null,null,null,null,null,null,null,null,null,null,null,null,null,null,null,null,null,null,null,null,null,{"$f":"IF(O93=\"130\",2014.4*AO93*'CO2 Conversion Factors'!$D$20/0.8/1000,2096.16*AO93*'CO2 Conversion Factors'!$D$20/0.8/1000)","v":0},{"$f":"IF(O93=\"130\",2014.4*AO93*'CO2 Conversion Factors'!$G$20/0.8/1000,2096.16*AO93*'CO2 Conversion Factors'!$G$20/0.8/1000)","v":0},{"$f":"IF(O93=\"130\",2014.4*AO93*'CO2 Conversion Factors'!$J$20/0.8/1000,2096.16*AO93*'CO2 Conversion Factors'!$J$20/0.8/1000)","v":0},0,0,null,null,null,0,0,0,0,"",false,false,false,false]
[null,null,null,null,null,null,null,null,null,null,null,null,null,null,null,null,null,null,null,null,null,null,null,null,null,null,null,null,null,null,null,null,null,null,null,null,null,{"$f":"IF(O94=\"130\",2014.4*AO94*'CO2 Conversion Factors'!$D$20/0.8/1000,2096.16*AO94*'CO2 Conversion Factors'!$D$20/0.8/1000)","v":0},{"$f":"IF(O94=\"130\",2014.4*AO94*'CO2 Conversion Factors'!$G$20/0.8/1000,2096.16*AO94*'CO2 Conversion Factors'!$G$20/0.8/1000)","v":0},{"$f":"IF(O94=\"130\",2014.4*AO94*'CO2 Conversion Factors'!$J$20/0.8/1000,2096.16*AO94*'CO2 Conversion Factors'!$J$20/0.8/1000)","v":0},0,0,null,null,null,0,0,0,0,"",false,false,false,false]
[null,null,null,null,null,null,null,null,null,null,null,null,null,null,null,null,null,null,null,null,null,null,null,null,null,null,null,null,null,null,null,null,null,null,null,null,null,{"$f":"IF(O95=\"130\",2014.4*AO95*'CO2 Conversion Factors'!$D$20/0.8/1000,2096.16*AO95*'CO2 Conversion Factors'!$D$20/0.8/1000)","v":0},{"$f":"IF(O95=\"130\",2014.4*AO95*'CO2 Conversion Factors'!$G$20/0.8/1000,2096.16*AO95*'CO2 Conversion Factors'!$G$20/0.8/1000)","v":0},{"$f":"IF(O95=\"130\",2014.4*AO95*'CO2 Conversion Factors'!$J$20/0.8/1000,2096.16*AO95*'CO2 Conversion Factors'!$J$20/0.8/1000)","v":0},0,0,null,null,null,0,0,0,0,"",false,false,false,false]
[null,null,null,null,null,null,null,null,null,null,null,null,null,null,null,null,null,null,null,null,null,null,null,null,null,null,null,null,null,null,null,null,null,null,null,null,null,{"$f":"IF(O96=\"130\",2014.4*AO96*'CO2 Conversion Factors'!$D$20/0.8/1000,2096.16*AO96*'CO2 Conversion Factors'!$D$20/0.8/1000)","v":0},{"$f":"IF(O96=\"130\",2014.4*AO96*'CO2 Conversion Factors'!$G$20/0.8/1000,2096.16*AO96*'CO2 Conversion Factors'!$G$20/0.8/1000)","v":0},{"$f":"IF(O96=\"130\",2014.4*AO96*'CO2 Conversion Factors'!$J$20/0.8/1000,2096.16*AO96*'CO2 Conversion Factors'!$J$20/0.8/1000)","v":0},0,0,null,null,null,0,0,0,0,"",false,false,false,false]
[null,null,null,null,null,null,null,null,null,null,null,null,null,null,null,null,null,null,null,null,null,null,null,null,null,null,null,null,null,null,null,null,null,null,null,null,null,{"$f":"IF(O97=\"130\",2014.4*AO97*'CO2 Conversion Factors'!$D$20/0.8/1000,2096.16*AO97*'CO2 Conversion Factors'!$D$20/0.8/1000)","v":0},{"$f":"IF(O97=\"130\",2014.4*AO97*'CO2 Conversion Factors'!$G$20/0.8/1000,2096.16*AO97*'CO2 Conversion Factors'!$G$20/0.8/1000)","v":0},{"$f":"IF(O97=\"130\",2014.4*AO97*'CO2 Conversion Factors'!$J$20/0.8/1000,2096.16*AO97*'CO2 Conversion Factors'!$J$20/0.8/1000)","v":0},0,0,null,null,null,0,0,0,0,"",false,false,false,false]
[null,null,null,null,null,null,null,null,null,null,null,null,null,null,null,null,null,null,null,null,null,null,null,null,null,null,null,null,null,null,null,null,null,null,null,null,null,{"$f":"IF(O98=\"130\",2014.4*AO98*'CO2 Conversion Factors'!$D$20/0.8/1000,2096.16*AO98*'CO2 Conversion Factors'!$D$20/0.8/1000)","v":0},{"$f":"IF(O98=\"130\",2014.4*AO98*'CO2 Conversion Factors'!$G$20/0.8/1000,2096.16*AO98*'CO2 Conversion Factors'!$G$20/0.8/1000)","v":0},{"$f":"IF(O98=\"130\",2014.4*AO98*'CO2 Conversion Factors'!$J$20/0.8/1000,2096.16*AO98*'CO2 Conversion Factors'!$J$20/0.8/1000)","v":0},0,0,null,null,null,0,0,0,0,"",false,false,false,false]
[null,null,null,null,null,null,null,null,null,null,null,null,null,null,null,null,null,null,null,null,null,null,null,null,null,null,null,null,null,null,null,null,null,null,null,null,null,{"$f":"IF(O99=\"130\",2014.4*AO99*'CO2 Conversion Factors'!$D$20/0.8/1000,2096.16*AO99*'CO2 Conversion Factors'!$D$20/0.8/1000)","v":0},{"$f":"IF(O99=\"130\",2014.4*AO99*'CO2 Conversion Factors'!$G$20/0.8/1000,2096.16*AO99*'CO2 Conversion Factors'!$G$20/0.8/1000)","v":0},{"$f":"IF(O99=\"130\",2014.4*AO99*'CO2 Conversion Factors'!$J$20/0.8/1000,2096.16*AO99*'CO2 Conversion Factors'!$J$20/0.8/1000)","v":0},0,0,null,null,null,0,0,0,0,"",false,false,false,false]
[null,null,null,null,null,null,null,null,null,null,null,null,null,null,null,null,null,null,null,null,null,null,null,null,null,null,null,null,null,null,null,null,null,null,null,null,null,{"$f":"IF(O100=\"130\",2014.4*AO100*'CO2 Conversion Factors'!$D$20/0.8/1000,2096.16*AO100*'CO2 Conversion Factors'!$D$20/0.8/1000)","v":0},{"$f":"IF(O100=\"130\",2014.4*AO100*'CO2 Conversion Factors'!$G$20/0.8/1000,2096.16*AO100*'CO2 Conversion Factors'!$G$20/0.8/1000)","v":0},{"$f":"IF(O100=\"130\",2014.4*AO100*'CO2 Conversion Factors'!$J$20/0.8/1000,2096.16*AO100*'CO2 Conversion Factors'!$J$20/0.8/1000)","v":0},0,0,null,null,null,0,0,0,0,"",false,false,false,false]
[null,null,null,null,null,null,null,null,null,null,null,null,null,null,null,null,null,null,null,null,null,null,null,null,null,null,null,null,null,null,null,null,null,null,null,null,null,{"$f":"IF(O101=\"130\",2014.4*AO101*'CO2 Conversion Factors'!$D$20/0.8/1000,2096.16*AO101*'CO2 Conversion Factors'!$D$20/0.8/1000)","v":0},{"$f":"IF(O101=\"130\",2014.4*AO101*'CO2 Conversion Factors'!$G$20/0.8/1000,2096.16*AO101*'CO2 Conversion Factors'!$G$20/0.8/1000)","v":0},{"$f":"IF(O101=\"130\",2014.4*AO101*'CO2 Conversion Factors'!$J$20/0.8/1000,2096.16*AO101*'CO2 Conversion Factors'!$J$20/0.8/1000)","v":0},0,0,null,null,null,0,0,0,0,"",false,false,false,false]
[null,null,null,null,null,null,null,null,null,null,null,null,null,null,null,null,null,null,null,null,null,null,null,null,null,null,null,null,null,null,null,null,null,null,null,null,null,{"$f":"IF(O102=\"130\",2014.4*AO102*'CO2 Conversion Factors'!$D$20/0.8/1000,2096.16*AO102*'CO2 Conversion Factors'!$D$20/0.8/1000)","v":0},{"$f":"IF(O102=\"130\",2014.4*AO102*'CO2 Conversion Factors'!$G$20/0.8/1000,2096.16*AO102*'CO2 Conversion Factors'!$G$20/0.8/1000)","v":0},{"$f":"IF(O102=\"130\",2014.4*AO102*'CO2 Conversion Factors'!$J$20/0.8/1000,2096.16*AO102*'CO2 Conversion Factors'!$J$20/0.8/1000)","v":0},0,0,null,null,null,0,0,0,0,"",false,false,false,false]
[null,null,null,null,null,null,null,null,null,null,null,null,null,null,null,null,null,null,null,null,null,null,null,null,null,null,null,null,null,null,null,null,null,null,null,null,null,{"$f":"IF(O103=\"130\",2014.4*AO103*'CO2 Conversion Factors'!$D$20/0.8/1000,2096.16*AO103*'CO2 Conversion Factors'!$D$20/0.8/1000)","v":0},{"$f":"IF(O103=\"130\",2014.4*AO103*'CO2 Conversion Factors'!$G$20/0.8/1000,2096.16*AO103*'CO2 Conversion Factors'!$G$20/0.8/1000)","v":0},{"$f":"IF(O103=\"130\",2014.4*AO103*'CO2 Conversion Factors'!$J$20/0.8/1000,2096.16*AO103*'CO2 Conversion Factors'!$J$20/0.8/1000)","v":0},0,0,null,null,null,0,0,0,0,"",false,false,false,false]
[null,null,null,null,null,null,null,null,null,null,null,null,null,null,null,null,null,null,null,null,null,null,null,null,null,null,null,null,null,null,null,null,null,null,null,null,null,{"$f":"IF(O104=\"130\",2014.4*AO104*'CO2 Conversion Factors'!$D$20/0.8/1000,2096.16*AO104*'CO2 Conversion Factors'!$D$20/0.8/1000)","v":0},{"$f":"IF(O104=\"130\",2014.4*AO104*'CO2 Conversion Factors'!$G$20/0.8/1000,2096.16*AO104*'CO2 Conversion Factors'!$G$20/0.8/1000)","v":0},{"$f":"IF(O104=\"130\",2014.4*AO104*'CO2 Conversion Factors'!$J$20/0.8/1000,2096.16*AO104*'CO2 Conversion Factors'!$J$20/0.8/1000)","v":0},0,0,null,null,null,0,0,0,0,"",false,false,false,false]
[null,null,null,null,null,null,null,null,null,null,null,null,null,null,null,null,null,null,null,null,null,null,null,null,null,null,null,null,null,null,null,null,null,null,null,null,null,{"$f":"IF(O105=\"130\",2014.4*AO105*'CO2 Conversion Factors'!$D$20/0.8/1000,2096.16*AO105*'CO2 Conversion Factors'!$D$20/0.8/1000)","v":0},{"$f":"IF(O105=\"130\",2014.4*AO105*'CO2 Conversion Factors'!$G$20/0.8/1000,2096.16*AO105*'CO2 Conversion Factors'!$G$20/0.8/1000)","v":0},{"$f":"IF(O105=\"130\",2014.4*AO105*'CO2 Conversion Factors'!$J$20/0.8/1000,2096.16*AO105*'CO2 Conversion Factors'!$J$20/0.8/1000)","v":0},0,0,null,null,null,0,0,0,0,"",false,false,false,false]
[null,null,null,null,null,null,null,null,null,null,null,null,null,null,null,null,null,null,null,null,null,null,null,null,null,null,null,null,null,null,null,null,null,null,null,null,null,{"$f":"IF(O106=\"130\",2014.4*AO106*'CO2 Conversion Factors'!$D$20/0.8/1000,2096.16*AO106*'CO2 Conversion Factors'!$D$20/0.8/1000)","v":0},{"$f":"IF(O106=\"130\",2014.4*AO106*'CO2 Conversion Factors'!$G$20/0.8/1000,2096.16*AO106*'CO2 Conversion Factors'!$G$20/0.8/1000)","v":0},{"$f":"IF(O106=\"130\",2014.4*AO106*'CO2 Conversion Factors'!$J$20/0.8/1000,2096.16*AO106*'CO2 Conversion Factors'!$J$20/0.8/1000)","v":0},0,0,null,null,null,0,0,0,0,"",false,false,false,false]
[null,null,null,null,null,null,null,null,null,null,null,null,null,null,null,null,null,null,null,null,null,null,null,null,null,null,null,null,null,null,null,null,null,null,null,null,null,{"$f":"IF(O107=\"130\",2014.4*AO107*'CO2 Conversion Factors'!$D$20/0.8/1000,2096.16*AO107*'CO2 Conversion Factors'!$D$20/0.8/1000)","v":0},{"$f":"IF(O107=\"130\",2014.4*AO107*'CO2 Conversion Factors'!$G$20/0.8/1000,2096.16*AO107*'CO2 Conversion Factors'!$G$20/0.8/1000)","v":0},{"$f":"IF(O107=\"130\",2014.4*AO107*'CO2 Conversion Factors'!$J$20/0.8/1000,2096.16*AO107*'CO2 Conversion Factors'!$J$20/0.8/1000)","v":0},0,0,null,null,null,0,0,0,0,"",false,false,false,false]
[null,null,null,null,null,null,null,null,null,null,null,null,null,null,null,null,null,null,null,null,null,null,null,null,null,null,null,null,null,null,null,null,null,null,null,null,null,{"$f":"IF(O108=\"130\",2014.4*AO108*'CO2 Conversion Factors'!$D$20/0.8/1000,2096.16*AO108*'CO2 Conversion Factors'!$D$20/0.8/1000)","v":0},{"$f":"IF(O108=\"130\",2014.4*AO108*'CO2 Conversion Factors'!$G$20/0.8/1000,2096.16*AO108*'CO2 Conversion Factors'!$G$20/0.8/1000)","v":0},{"$f":"IF(O108=\"130\",2014.4*AO108*'CO2 Conversion Factors'!$J$20/0.8/1000,2096.16*AO108*'CO2 Conversion Factors'!$J$20/0.8/1000)","v":0},0,0,null,null,null,0,0,0,0,"",false,false,false,false]
[null,null,null,null,null,null,null,null,null,null,null,null,null,null,null,null,null,null,null,null,null,null,null,null,null,null,null,null,null,null,null,null,null,null,null,null,null,{"$f":"IF(O109=\"130\",2014.4*AO109*'CO2 Conversion Factors'!$D$20/0.8/1000,2096.16*AO109*'CO2 Conversion Factors'!$D$20/0.8/1000)","v":0},{"$f":"IF(O109=\"130\",2014.4*AO109*'CO2 Conversion Factors'!$G$20/0.8/1000,2096.16*AO109*'CO2 Conversion Factors'!$G$20/0.8/1000)","v":0},{"$f":"IF(O109=\"130\",2014.4*AO109*'CO2 Conversion Factors'!$J$20/0.8/1000,2096.16*AO109*'CO2 Conversion Factors'!$J$20/0.8/1000)","v":0},0,0,null,null,null,0,0,0,0,"",false,false,false,false]
[null,null,null,null,null,null,null,null,null,null,null,null,null,null,null,null,null,null,null,null,null,null,null,null,null,null,null,null,null,null,null,null,null,null,null,null,null,{"$f":"IF(O110=\"130\",2014.4*AO110*'CO2 Conversion Factors'!$D$20/0.8/1000,2096.16*AO110*'CO2 Conversion Factors'!$D$20/0.8/1000)","v":0},{"$f":"IF(O110=\"130\",2014.4*AO110*'CO2 Conversion Factors'!$G$20/0.8/1000,2096.16*AO110*'CO2 Conversion Factors'!$G$20/0.8/1000)","v":0},{"$f":"IF(O110=\"130\",2014.4*AO110*'CO2 Conversion Factors'!$J$20/0.8/1000,2096.16*AO110*'CO2 Conversion Factors'!$J$20/0.8/1000)","v":0},0,0,null,null,null,0,0,0,0,"",false,false,false,false]
[null,null,null,null,null,null,null,null,null,null,null,null,null,null,null,null,null,null,null,null,null,null,null,null,null,null,null,null,null,null,null,null,null,null,null,null,null,{"$f":"IF(O111=\"130\",2014.4*AO111*'CO2 Conversion Factors'!$D$20/0.8/1000,2096.16*AO111*'CO2 Conversion Factors'!$D$20/0.8/1000)","v":0},{"$f":"IF(O111=\"130\",2014.4*AO111*'CO2 Conversion Factors'!$G$20/0.8/1000,2096.16*AO111*'CO2 Conversion Factors'!$G$20/0.8/1000)","v":0},{"$f":"IF(O111=\"130\",2014.4*AO111*'CO2 Conversion Factors'!$J$20/0.8/1000,2096.16*AO111*'CO2 Conversion Factors'!$J$20/0.8/1000)","v":0},0,0,null,null,null,0,0,0,0,"",false,false,false,false]
[null,null,null,null,null,null,null,null,null,null,null,null,null,null,null,null,null,null,null,null,null,null,null,null,null,null,null,null,null,null,null,null,null,null,null,null,null,{"$f":"IF(O112=\"130\",2014.4*AO112*'CO2 Conversion Factors'!$D$20/0.8/1000,2096.16*AO112*'CO2 Conversion Factors'!$D$20/0.8/1000)","v":0},{"$f":"IF(O112=\"130\",2014.4*AO112*'CO2 Conversion Factors'!$G$20/0.8/1000,2096.16*AO112*'CO2 Conversion Factors'!$G$20/0.8/1000)","v":0},{"$f":"IF(O112=\"130\",2014.4*AO112*'CO2 Conversion Factors'!$J$20/0.8/1000,2096.16*AO112*'CO2 Conversion Factors'!$J$20/0.8/1000)","v":0},0,0,null,null,null,0,0,0,0,"",false,false,false,false]
[null,null,null,null,null,null,null,null,null,null,null,null,null,null,null,null,null,null,null,null,null,null,null,null,null,null,null,null,null,null,null,null,null,null,null,null,null,{"$f":"IF(O113=\"130\",2014.4*AO113*'CO2 Conversion Factors'!$D$20/0.8/1000,2096.16*AO113*'CO2 Conversion Factors'!$D$20/0.8/1000)","v":0},{"$f":"IF(O113=\"130\",2014.4*AO113*'CO2 Conversion Factors'!$G$20/0.8/1000,2096.16*AO113*'CO2 Conversion Factors'!$G$20/0.8/1000)","v":0},{"$f":"IF(O113=\"130\",2014.4*AO113*'CO2 Conversion Factors'!$J$20/0.8/1000,2096.16*AO113*'CO2 Conversion Factors'!$J$20/0.8/1000)","v":0},0,0,null,null,null,0,0,0,0,"",false,false,false,false]
[null,null,null,null,null,null,null,null,null,null,null,null,null,null,null,null,null,null,null,null,null,null,null,null,null,null,null,null,null,null,null,null,null,null,null,null,null,{"$f":"IF(O114=\"130\",2014.4*AO114*'CO2 Conversion Factors'!$D$20/0.8/1000,2096.16*AO114*'CO2 Conversion Factors'!$D$20/0.8/1000)","v":0},{"$f":"IF(O114=\"130\",2014.4*AO114*'CO2 Conversion Factors'!$G$20/0.8/1000,2096.16*AO114*'CO2 Conversion Factors'!$G$20/0.8/1000)","v":0},{"$f":"IF(O114=\"130\",2014.4*AO114*'CO2 Conversion Factors'!$J$20/0.8/1000,2096.16*AO114*'CO2 Conversion Factors'!$J$20/0.8/1000)","v":0},0,0,null,null,null,0,0,0,0,"",false,false,false,false]
[null,null,null,null,null,null,null,null,null,null,null,null,null,null,null,null,null,null,null,null,null,null,null,null,null,null,null,null,null,null,null,null,null,null,null,null,null,{"$f":"IF(O115=\"130\",2014.4*AO115*'CO2 Conversion Factors'!$D$20/0.8/1000,2096.16*AO115*'CO2 Conversion Factors'!$D$20/0.8/1000)","v":0},{"$f":"IF(O115=\"130\",2014.4*AO115*'CO2 Conversion Factors'!$G$20/0.8/1000,2096.16*AO115*'CO2 Conversion Factors'!$G$20/0.8/1000)","v":0},{"$f":"IF(O115=\"130\",2014.4*AO115*'CO2 Conversion Factors'!$J$20/0.8/1000,2096.16*AO115*'CO2 Conversion Factors'!$J$20/0.8/1000)","v":0},0,0,null,null,null,0,0,0,0,"",false,false,false,false]
[null,null,null,null,null,null,null,null,null,null,null,null,null,null,null,null,null,null,null,null,null,null,null,null,null,null,null,null,null,null,null,null,null,null,null,null,null,{"$f":"IF(O116=\"130\",2014.4*AO116*'CO2 Conversion Factors'!$D$20/0.8/1000,2096.16*AO116*'CO2 Conversion Factors'!$D$20/0.8/1000)","v":0},{"$f":"IF(O116=\"130\",2014.4*AO116*'CO2 Conversion Factors'!$G$20/0.8/1000,2096.16*AO116*'CO2 Conversion Factors'!$G$20/0.8/1000)","v":0},{"$f":"IF(O116=\"130\",2014.4*AO116*'CO2 Conversion Factors'!$J$20/0.8/1000,2096.16*AO116*'CO2 Conversion Factors'!$J$20/0.8/1000)","v":0},0,0,null,null,null,0,0,0,0,"",false,false,false,false]
[null,null,null,null,null,null,null,null,null,null,null,null,null,null,null,null,null,null,null,null,null,null,null,null,null,null,null,null,null,null,null,null,null,null,null,null,null,{"$f":"IF(O117=\"130\",2014.4*AO117*'CO2 Conversion Factors'!$D$20/0.8/1000,2096.16*AO117*'CO2 Conversion Factors'!$D$20/0.8/1000)","v":0},{"$f":"IF(O117=\"130\",2014.4*AO117*'CO2 Conversion Factors'!$G$20/0.8/1000,2096.16*AO117*'CO2 Conversion Factors'!$G$20/0.8/1000)","v":0},{"$f":"IF(O117=\"130\",2014.4*AO117*'CO2 Conversion Factors'!$J$20/0.8/1000,2096.16*AO117*'CO2 Conversion Factors'!$J$20/0.8/1000)","v":0},0,0,null,null,null,0,0,0,0,"",false,false,false,false]
[null,null,null,null,null,null,null,null,null,null,null,null,null,null,null,null,null,null,null,null,null,null,null,null,null,null,null,null,null,null,null,null,null,null,null,null,null,{"$f":"IF(O118=\"130\",2014.4*AO118*'CO2 Conversion Factors'!$D$20/0.8/1000,2096.16*AO118*'CO2 Conversion Factors'!$D$20/0.8/1000)","v":0},{"$f":"IF(O118=\"130\",2014.4*AO118*'CO2 Conversion Factors'!$G$20/0.8/1000,2096.16*AO118*'CO2 Conversion Factors'!$G$20/0.8/1000)","v":0},{"$f":"IF(O118=\"130\",2014.4*AO118*'CO2 Conversion Factors'!$J$20/0.8/1000,2096.16*AO118*'CO2 Conversion Factors'!$J$20/0.8/1000)","v":0},0,0,null,null,null,0,0,0,0,"",false,false,false,false]
[null,null,null,null,null,null,null,null,null,null,null,null,null,null,null,null,null,null,null,null,null,null,null,null,null,null,null,null,null,null,null,null,null,null,null,null,null,{"$f":"IF(O119=\"130\",2014.4*AO119*'CO2 Conversion Factors'!$D$20/0.8/1000,2096.16*AO119*'CO2 Conversion Factors'!$D$20/0.8/1000)","v":0},{"$f":"IF(O119=\"130\",2014.4*AO119*'CO2 Conversion Factors'!$G$20/0.8/1000,2096.16*AO119*'CO2 Conversion Factors'!$G$20/0.8/1000)","v":0},{"$f":"IF(O119=\"130\",2014.4*AO119*'CO2 Conversion Factors'!$J$20/0.8/1000,2096.16*AO119*'CO2 Conversion Factors'!$J$20/0.8/1000)","v":0},0,0,null,null,null,0,0,0,0,"",false,false,false,false]
[null,null,null,null,null,null,null,null,null,null,null,null,null,null,null,null,null,null,null,null,null,null,null,null,null,null,null,null,null,null,null,null,null,null,null,null,null,{"$f":"IF(O120=\"130\",2014.4*AO120*'CO2 Conversion Factors'!$D$20/0.8/1000,2096.16*AO120*'CO2 Conversion Factors'!$D$20/0.8/1000)","v":0},{"$f":"IF(O120=\"130\",2014.4*AO120*'CO2 Conversion Factors'!$G$20/0.8/1000,2096.16*AO120*'CO2 Conversion Factors'!$G$20/0.8/1000)","v":0},{"$f":"IF(O120=\"130\",2014.4*AO120*'CO2 Conversion Factors'!$J$20/0.8/1000,2096.16*AO120*'CO2 Conversion Factors'!$J$20/0.8/1000)","v":0},0,0,null,null,null,0,0,0,0,"",false,false,false,false]
[null,null,null,null,null,null,null,null,null,null,null,null,null,null,null,null,null,null,null,null,null,null,null,null,null,null,null,null,null,null,null,null,null,null,null,null,null,{"$f":"IF(O121=\"130\",2014.4*AO121*'CO2 Conversion Factors'!$D$20/0.8/1000,2096.16*AO121*'CO2 Conversion Factors'!$D$20/0.8/1000)","v":0},{"$f":"IF(O121=\"130\",2014.4*AO121*'CO2 Conversion Factors'!$G$20/0.8/1000,2096.16*AO121*'CO2 Conversion Factors'!$G$20/0.8/1000)","v":0},{"$f":"IF(O121=\"130\",2014.4*AO121*'CO2 Conversion Factors'!$J$20/0.8/1000,2096.16*AO121*'CO2 Conversion Factors'!$J$20/0.8/1000)","v":0},0,0,null,null,null,0,0,0,0,"",false,false,false,false]
[null,null,null,null,null,null,null,null,null,null,null,null,null,null,null,null,null,null,null,null,null,null,null,null,null,null,null,null,null,null,null,null,null,null,null,null,null,{"$f":"IF(O122=\"130\",2014.4*AO122*'CO2 Conversion Factors'!$D$20/0.8/1000,2096.16*AO122*'CO2 Conversion Factors'!$D$20/0.8/1000)","v":0},{"$f":"IF(O122=\"130\",2014.4*AO122*'CO2 Conversion Factors'!$G$20/0.8/1000,2096.16*AO122*'CO2 Conversion Factors'!$G$20/0.8/1000)","v":0},{"$f":"IF(O122=\"130\",2014.4*AO122*'CO2 Conversion Factors'!$J$20/0.8/1000,2096.16*AO122*'CO2 Conversion Factors'!$J$20/0.8/1000)","v":0},0,0,null,null,null,0,0,0,0,"",false,false,false,false]
[null,null,null,null,null,null,null,null,null,null,null,null,null,null,null,null,null,null,null,null,null,null,null,null,null,null,null,null,null,null,null,null,null,null,null,null,null,{"$f":"IF(O123=\"130\",2014.4*AO123*'CO2 Conversion Factors'!$D$20/0.8/1000,2096.16*AO123*'CO2 Conversion Factors'!$D$20/0.8/1000)","v":0},{"$f":"IF(O123=\"130\",2014.4*AO123*'CO2 Conversion Factors'!$G$20/0.8/1000,2096.16*AO123*'CO2 Conversion Factors'!$G$20/0.8/1000)","v":0},{"$f":"IF(O123=\"130\",2014.4*AO123*'CO2 Conversion Factors'!$J$20/0.8/1000,2096.16*AO123*'CO2 Conversion Factors'!$J$20/0.8/1000)","v":0},0,0,null,null,null,0,0,0,0,"",false,false,false,false]
[null,null,null,null,null,null,null,null,null,null,null,null,null,null,null,null,null,null,null,null,null,null,null,null,null,null,null,null,null,null,null,null,null,null,null,null,null,{"$f":"IF(O124=\"130\",2014.4*AO124*'CO2 Conversion Factors'!$D$20/0.8/1000,2096.16*AO124*'CO2 Conversion Factors'!$D$20/0.8/1000)","v":0},{"$f":"IF(O124=\"130\",2014.4*AO124*'CO2 Conversion Factors'!$G$20/0.8/1000,2096.16*AO124*'CO2 Conversion Factors'!$G$20/0.8/1000)","v":0},{"$f":"IF(O124=\"130\",2014.4*AO124*'CO2 Conversion Factors'!$J$20/0.8/1000,2096.16*AO124*'CO2 Conversion Factors'!$J$20/0.8/1000)","v":0},0,0,null,null,null,0,0,0,0,"",false,false,false,false]
[null,null,null,null,null,null,null,null,null,null,null,null,null,null,null,null,null,null,null,null,null,null,null,null,null,null,null,null,null,null,null,null,null,null,null,null,null,{"$f":"IF(O125=\"130\",2014.4*AO125*'CO2 Conversion Factors'!$D$20/0.8/1000,2096.16*AO125*'CO2 Conversion Factors'!$D$20/0.8/1000)","v":0},{"$f":"IF(O125=\"130\",2014.4*AO125*'CO2 Conversion Factors'!$G$20/0.8/1000,2096.16*AO125*'CO2 Conversion Factors'!$G$20/0.8/1000)","v":0},{"$f":"IF(O125=\"130\",2014.4*AO125*'CO2 Conversion Factors'!$J$20/0.8/1000,2096.16*AO125*'CO2 Conversion Factors'!$J$20/0.8/1000)","v":0},0,0,null,null,null,0,0,0,0,"",false,false,false,false]
[null,null,null,null,null,null,null,null,null,null,null,null,null,null,null,null,null,null,null,null,null,null,null,null,null,null,null,null,null,null,null,null,null,null,null,null,null,{"$f":"IF(O126=\"130\",2014.4*AO126*'CO2 Conversion Factors'!$D$20/0.8/1000,2096.16*AO126*'CO2 Conversion Factors'!$D$20/0.8/1000)","v":0},{"$f":"IF(O126=\"130\",2014.4*AO126*'CO2 Conversion Factors'!$G$20/0.8/1000,2096.16*AO126*'CO2 Conversion Factors'!$G$20/0.8/1000)","v":0},{"$f":"IF(O126=\"130\",2014.4*AO126*'CO2 Conversion Factors'!$J$20/0.8/1000,2096.16*AO126*'CO2 Conversion Factors'!$J$20/0.8/1000)","v":0},0,0,null,null,null,0,0,0,0,"",false,false,false,false]
[null,null,null,null,null,null,null,null,null,null,null,null,null,null,null,null,null,null,null,null,null,null,null,null,null,null,null,null,null,null,null,null,null,null,null,null,null,{"$f":"IF(O127=\"130\",2014.4*AO127*'CO2 Conversion Factors'!$D$20/0.8/1000,2096.16*AO127*'CO2 Conversion Factors'!$D$20/0.8/1000)","v":0},{"$f":"IF(O127=\"130\",2014.4*AO127*'CO2 Conversion Factors'!$G$20/0.8/1000,2096.16*AO127*'CO2 Conversion Factors'!$G$20/0.8/1000)","v":0},{"$f":"IF(O127=\"130\",2014.4*AO127*'CO2 Conversion Factors'!$J$20/0.8/1000,2096.16*AO127*'CO2 Conversion Factors'!$J$20/0.8/1000)","v":0},0,0,null,null,null,0,0,0,0,"",false,false,false,false]
[null,null,null,null,null,null,null,null,null,null,null,null,null,null,null,null,null,null,null,null,null,null,null,null,null,null,null,null,null,null,null,null,null,null,null,null,null,{"$f":"IF(O128=\"130\",2014.4*AO128*'CO2 Conversion Factors'!$D$20/0.8/1000,2096.16*AO128*'CO2 Conversion Factors'!$D$20/0.8/1000)","v":0},{"$f":"IF(O128=\"130\",2014.4*AO128*'CO2 Conversion Factors'!$G$20/0.8/1000,2096.16*AO128*'CO2 Conversion Factors'!$G$20/0.8/1000)","v":0},{"$f":"IF(O128=\"130\",2014.4*AO128*'CO2 Conversion Factors'!$J$20/0.8/1000,2096.16*AO128*'CO2 Conversion Factors'!$J$20/0.8/1000)","v":0},0,0,null,null,null,0,0,0,0,"",false,false,false,false]
[null,null,null,null,null,null,null,null,null,null,null,null,null,null,null,null,null,null,null,null,null,null,null,null,null,null,null,null,null,null,null,null,null,null,null,null,null,{"$f":"IF(O129=\"130\",2014.4*AO129*'CO2 Conversion Factors'!$D$20/0.8/1000,2096.16*AO129*'CO2 Conversion Factors'!$D$20/0.8/1000)","v":0},{"$f":"IF(O129=\"130\",2014.4*AO129*'CO2 Conversion Factors'!$G$20/0.8/1000,2096.16*AO129*'CO2 Conversion Factors'!$G$20/0.8/1000)","v":0},{"$f":"IF(O129=\"130\",2014.4*AO129*'CO2 Conversion Factors'!$J$20/0.8/1000,2096.16*AO129*'CO2 Conversion Factors'!$J$20/0.8/1000)","v":0},0,0,null,null,null,0,0,0,0,"",false,false,false,false]
[null,null,null,null,null,null,null,null,null,null,null,null,null,null,null,null,null,null,null,null,null,null,null,null,null,null,null,null,null,null,null,null,null,null,null,null,null,{"$f":"IF(O130=\"130\",2014.4*AO130*'CO2 Conversion Factors'!$D$20/0.8/1000,2096.16*AO130*'CO2 Conversion Factors'!$D$20/0.8/1000)","v":0},{"$f":"IF(O130=\"130\",2014.4*AO130*'CO2 Conversion Factors'!$G$20/0.8/1000,2096.16*AO130*'CO2 Conversion Factors'!$G$20/0.8/1000)","v":0},{"$f":"IF(O130=\"130\",2014.4*AO130*'CO2 Conversion Factors'!$J$20/0.8/1000,2096.16*AO130*'CO2 Conversion Factors'!$J$20/0.8/1000)","v":0},0,0,null,null,null,0,0,0,0,"",false,false,false,false]
[null,null,null,null,null,null,null,null,null,null,null,null,null,null,null,null,null,null,null,null,null,null,null,null,null,null,null,null,null,null,null,null,null,null,null,null,null,{"$f":"IF(O131=\"130\",2014.4*AO131*'CO2 Conversion Factors'!$D$20/0.8/1000,2096.16*AO131*'CO2 Conversion Factors'!$D$20/0.8/1000)","v":0},{"$f":"IF(O131=\"130\",2014.4*AO131*'CO2 Conversion Factors'!$G$20/0.8/1000,2096.16*AO131*'CO2 Conversion Factors'!$G$20/0.8/1000)","v":0},{"$f":"IF(O131=\"130\",2014.4*AO131*'CO2 Conversion Factors'!$J$20/0.8/1000,2096.16*AO131*'CO2 Conversion Factors'!$J$20/0.8/1000)","v":0},{"$f":"IFERROR(IF(OR(L131=\"BLW\",L131=\"PRI\",L131=\"LNK\"),IF(Cover_Select_SteamCostUnits=\"£/1000kg\",11.6*(VLOOKUP($I131,Abb_Lookup_OrifaceDia,2,FALSE)^2)*SQRT(($O131-$P131)*($O131+$P131)),25.57363*(VLOOKUP($I131,Abb_Lookup_OrifaceDia,2,FALSE)^2)*SQRT(($O131-$P131)*($O131+$P131)))*(VLOOKUP(AE131,Cover_Lookup_OpTime,4,FALSE)/1000),IF(L131=\"LL\",IF(Cover_Select_SteamCostUnits=\"£/1000kg\",11.6*(VLOOKUP($I131,Abb_Lookup_OrifaceDia,2,FALSE)^2)*SQRT(($O131-$P131)*($O131+$P131)),25.57363*(VLOOKUP($I131,Abb_Lookup_OrifaceDia,2,FALSE)^2)*SQRT(($O131-$P131)*($O131+$P131)))*(VLOOKUP(AE131,Cover_Lookup_OpTime,4,FALSE)/2000),IF(L131=\"SL\",IF(Cover_Select_SteamCostUnits=\"£/1000kg\",11.6*(VLOOKUP($I131,Abb_Lookup_OrifaceDia,2,FALSE)^2)*SQRT(($O131-$P131)*($O131+$P131)),25.57363*(VLOOKUP($I131,Abb_Lookup_OrifaceDia,2,FALSE)^2)*SQRT(($O131-$P131)*($O131+$P131)))*(VLOOKUP(AE131,Cover_Lookup_OpTime,4,FALSE)/4000),0))),0)","v":0},0,null,null,null,0,0,0,0,"",false,false,false,false]
[null,null,null,null,null,null,null,null,null,null,null,null,null,null,null,null,null,null,null,null,null,null,null,null,null,null,null,null,null,null,null,null,null,null,null,null,null,{"$f":"IF(O132=\"130\",2014.4*AO132*'CO2 Conversion Factors'!$D$20/0.8/1000,2096.16*AO132*'CO2 Conversion Factors'!$D$20/0.8/1000)","v":0},{"$f":"IF(O132=\"130\",2014.4*AO132*'CO2 Conversion Factors'!$G$20/0.8/1000,2096.16*AO132*'CO2 Conversion Factors'!$G$20/0.8/1000)","v":0},{"$f":"IF(O132=\"130\",2014.4*AO132*'CO2 Conversion Factors'!$J$20/0.8/1000,2096.16*AO132*'CO2 Conversion Factors'!$J$20/0.8/1000)","v":0},0,{"$f":"IFERROR(AO132*Cover_Select_SteamCost,0)","v":0},null,null,null,{"$f":"IF(NOT(OR(L132=\"NIS\",L132=\"OFF\")),F132)","v":0},{"$f":"IF(NOT(OR(L132=\"NIS\",L132=\"OFF\",L132=\"PO\")),F132)","v":0},{"$f":"IF(NOT(OR(L132=\"NIS\",L132=\"OFF\")),H132)","v":0},{"$f":"IF(NOT(OR(L132=\"NIS\",L132=\"OFF\",L132=\"PO\")),H132)","v":0},"",false,false,false,false]
[null,null,null,null,null,null,null,null,null,null,null,null,null,null,null,null,null,null,null,null,null,null,null,null,null,null,null,null,null,null,null,null,null,null,null,null,null,{"$f":"IF(O133=\"130\",2014.4*AO133*'CO2 Conversion Factors'!$D$20/0.8/1000,2096.16*AO133*'CO2 Conversion Factors'!$D$20/0.8/1000)","v":0},{"$f":"IF(O133=\"130\",2014.4*AO133*'CO2 Conversion Factors'!$G$20/0.8/1000,2096.16*AO133*'CO2 Conversion Factors'!$G$20/0.8/1000)","v":0},{"$f":"IF(O133=\"130\",2014.4*AO133*'CO2 Conversion Factors'!$J$20/0.8/1000,2096.16*AO133*'CO2 Conversion Factors'!$J$20/0.8/1000)","v":0},0,0,null,null,null,0,0,0,0,{"$f":"F133&H133","v":""},{"$f":"IF(L133=\"CLD\", H133)","v":false},{"$f":"IF(L133=\"SL\", H133)","v":false},{"$f":"IF(L133=\"LL\", H133)","v":false},{"$f":"IF(L133=\"BLW\", H133)","v":false}]
[null,null,null,null,null,null,null,null,null,null,null,null,null,null,null,null,null,null,null,null,null,null,null,null,null,null,null,null,null,null,null,null,null,null,null,null,null,{"$f":"IF(O134=\"130\",2014.4*AO134*'CO2 Conversion Factors'!$D$20/0.8/1000,2096.16*AO134*'CO2 Conversion Factors'!$D$20/0.8/1000)","v":0},{"$f":"IF(O134=\"130\",2014.4*AO134*'CO2 Conversion Factors'!$G$20/0.8/1000,2096.16*AO134*'CO2 Conversion Factors'!$G$20/0.8/1000)","v":0},{"$f":"IF(O134=\"130\",2014.4*AO134*'CO2 Conversion Factors'!$J$20/0.8/1000,2096.16*AO134*'CO2 Conversion Factors'!$J$20/0.8/1000)","v":0},0,0,null,null,null,0,0,0,0,"",false,false,false,false]
[null,null,null,null,null,null,null,null,null,null,null,null,null,null,null,null,null,null,null,null,null,null,null,null,null,null,null,null,null,null,null,null,null,null,null,null,null,{"$f":"IF(O135=\"130\",2014.4*AO135*'CO2 Conversion Factors'!$D$20/0.8/1000,2096.16*AO135*'CO2 Conversion Factors'!$D$20/0.8/1000)","v":0},{"$f":"IF(O135=\"130\",2014.4*AO135*'CO2 Conversion Factors'!$G$20/0.8/1000,2096.16*AO135*'CO2 Conversion Factors'!$G$20/0.8/1000)","v":0},{"$f":"IF(O135=\"130\",2014.4*AO135*'CO2 Conversion Factors'!$J$20/0.8/1000,2096.16*AO135*'CO2 Conversion Factors'!$J$20/0.8/1000)","v":0},0,0,null,null,null,0,0,0,0,"",false,false,false,false]
[null,null,null,null,null,null,null,null,null,null,null,null,null,null,null,null,null,null,null,null,null,null,null,null,null,null,null,null,null,null,null,null,null,null,null,null,null,{"$f":"IF(O136=\"130\",2014.4*AO136*'CO2 Conversion Factors'!$D$20/0.8/1000,2096.16*AO136*'CO2 Conversion Factors'!$D$20/0.8/1000)","v":0},{"$f":"IF(O136=\"130\",2014.4*AO136*'CO2 Conversion Factors'!$G$20/0.8/1000,2096.16*AO136*'CO2 Conversion Factors'!$G$20/0.8/1000)","v":0},{"$f":"IF(O136=\"130\",2014.4*AO136*'CO2 Conversion Factors'!$J$20/0.8/1000,2096.16*AO136*'CO2 Conversion Factors'!$J$20/0.8/1000)","v":0},0,0,null,null,null,0,0,0,0,"",false,false,false,false]
[null,null,null,null,null,null,null,null,null,null,null,null,null,null,null,null,null,null,null,null,null,null,null,null,null,null,null,null,null,null,null,null,null,null,null,null,null,{"$f":"IF(O137=\"130\",2014.4*AO137*'CO2 Conversion Factors'!$D$20/0.8/1000,2096.16*AO137*'CO2 Conversion Factors'!$D$20/0.8/1000)","v":0},{"$f":"IF(O137=\"130\",2014.4*AO137*'CO2 Conversion Factors'!$G$20/0.8/1000,2096.16*AO137*'CO2 Conversion Factors'!$G$20/0.8/1000)","v":0},{"$f":"IF(O137=\"130\",2014.4*AO137*'CO2 Conversion Factors'!$J$20/0.8/1000,2096.16*AO137*'CO2 Conversion Factors'!$J$20/0.8/1000)","v":0},0,0,null,null,null,0,0,0,0,"",false,false,false,false]
[null,null,null,null,null,null,null,null,null,null,null,null,null,null,null,null,null,null,null,null,null,null,null,null,null,null,null,null,null,null,null,null,null,null,null,null,null,{"$f":"IF(O138=\"130\",2014.4*AO138*'CO2 Conversion Factors'!$D$20/0.8/1000,2096.16*AO138*'CO2 Conversion Factors'!$D$20/0.8/1000)","v":0},{"$f":"IF(O138=\"130\",2014.4*AO138*'CO2 Conversion Factors'!$G$20/0.8/1000,2096.16*AO138*'CO2 Conversion Factors'!$G$20/0.8/1000)","v":0},{"$f":"IF(O138=\"130\",2014.4*AO138*'CO2 Conversion Factors'!$J$20/0.8/1000,2096.16*AO138*'CO2 Conversion Factors'!$J$20/0.8/1000)","v":0},0,0,null,null,null,0,0,0,0,"",false,false,false,false]
[null,null,null,null,null,null,null,null,null,null,null,null,null,null,null,null,null,null,null,null,null,null,null,null,null,null,null,null,null,null,null,null,null,null,null,null,null,{"$f":"IF(O139=\"130\",2014.4*AO139*'CO2 Conversion Factors'!$D$20/0.8/1000,2096.16*AO139*'CO2 Conversion Factors'!$D$20/0.8/1000)","v":0},{"$f":"IF(O139=\"130\",2014.4*AO139*'CO2 Conversion Factors'!$G$20/0.8/1000,2096.16*AO139*'CO2 Conversion Factors'!$G$20/0.8/1000)","v":0},{"$f":"IF(O139=\"130\",2014.4*AO139*'CO2 Conversion Factors'!$J$20/0.8/1000,2096.16*AO139*'CO2 Conversion Factors'!$J$20/0.8/1000)","v":0},0,0,null,null,null,0,0,0,0,"",false,false,false,false]
[null,null,null,null,null,null,null,null,null,null,null,null,null,null,null,null,null,null,null,null,null,null,null,null,null,null,null,null,null,null,null,null,null,null,null,null,null,{"$f":"IF(O140=\"130\",2014.4*AO140*'CO2 Conversion Factors'!$D$20/0.8/1000,2096.16*AO140*'CO2 Conversion Factors'!$D$20/0.8/1000)","v":0},{"$f":"IF(O140=\"130\",2014.4*AO140*'CO2 Conversion Factors'!$G$20/0.8/1000,2096.16*AO140*'CO2 Conversion Factors'!$G$20/0.8/1000)","v":0},{"$f":"IF(O140=\"130\",2014.4*AO140*'CO2 Conversion Factors'!$J$20/0.8/1000,2096.16*AO140*'CO2 Conversion Factors'!$J$20/0.8/1000)","v":0},0,0,null,null,null,0,0,0,0,"",false,false,false,false]
[null,null,null,null,null,null,null,null,null,null,null,null,null,null,null,null,null,null,null,null,null,null,null,null,null,null,null,null,null,null,null,null,null,null,null,null,null,{"$f":"IF(O141=\"130\",2014.4*AO141*'CO2 Conversion Factors'!$D$20/0.8/1000,2096.16*AO141*'CO2 Conversion Factors'!$D$20/0.8/1000)","v":0},{"$f":"IF(O141=\"130\",2014.4*AO141*'CO2 Conversion Factors'!$G$20/0.8/1000,2096.16*AO141*'CO2 Conversion Factors'!$G$20/0.8/1000)","v":0},{"$f":"IF(O141=\"130\",2014.4*AO141*'CO2 Conversion Factors'!$J$20/0.8/1000,2096.16*AO141*'CO2 Conversion Factors'!$J$20/0.8/1000)","v":0},0,0,null,null,null,0,0,0,0,"",false,false,false,false]
[null,null,null,null,null,null,null,null,null,null,null,null,null,null,null,null,null,null,null,null,null,null,null,null,null,null,null,null,null,null,null,null,null,null,null,null,null,{"$f":"IF(O142=\"130\",2014.4*AO142*'CO2 Conversion Factors'!$D$20/0.8/1000,2096.16*AO142*'CO2 Conversion Factors'!$D$20/0.8/1000)","v":0},{"$f":"IF(O142=\"130\",2014.4*AO142*'CO2 Conversion Factors'!$G$20/0.8/1000,2096.16*AO142*'CO2 Conversion Factors'!$G$20/0.8/1000)","v":0},{"$f":"IF(O142=\"130\",2014.4*AO142*'CO2 Conversion Factors'!$J$20/0.8/1000,2096.16*AO142*'CO2 Conversion Factors'!$J$20/0.8/1000)","v":0},0,0,null,null,null,0,0,0,0,"",false,false,false,false]
[null,null,null,null,null,null,null,null,null,null,null,null,null,null,null,null,null,null,null,null,null,null,null,null,null,null,null,null,null,null,null,null,null,null,null,null,null,{"$f":"IF(O143=\"130\",2014.4*AO143*'CO2 Conversion Factors'!$D$20/0.8/1000,2096.16*AO143*'CO2 Conversion Factors'!$D$20/0.8/1000)","v":0},{"$f":"IF(O143=\"130\",2014.4*AO143*'CO2 Conversion Factors'!$G$20/0.8/1000,2096.16*AO143*'CO2 Conversion Factors'!$G$20/0.8/1000)","v":0},{"$f":"IF(O143=\"130\",2014.4*AO143*'CO2 Conversion Factors'!$J$20/0.8/1000,2096.16*AO143*'CO2 Conversion Factors'!$J$20/0.8/1000)","v":0},0,0,null,null,null,0,0,0,0,"",false,false,false,false]
[null,null,null,null,null,null,null,null,null,null,null,null,null,null,null,null,null,null,null,null,null,null,null,null,null,null,null,null,null,null,null,null,null,null,null,null,null,{"$f":"IF(O144=\"130\",2014.4*AO144*'CO2 Conversion Factors'!$D$20/0.8/1000,2096.16*AO144*'CO2 Conversion Factors'!$D$20/0.8/1000)","v":0},{"$f":"IF(O144=\"130\",2014.4*AO144*'CO2 Conversion Factors'!$G$20/0.8/1000,2096.16*AO144*'CO2 Conversion Factors'!$G$20/0.8/1000)","v":0},{"$f":"IF(O144=\"130\",2014.4*AO144*'CO2 Conversion Factors'!$J$20/0.8/1000,2096.16*AO144*'CO2 Conversion Factors'!$J$20/0.8/1000)","v":0},0,0,null,null,null,0,0,0,0,"",false,false,false,false]
[null,null,null,null,null,null,null,null,null,null,null,null,null,null,null,null,null,null,null,null,null,null,null,null,null,null,null,null,null,null,null,null,null,null,null,null,null,{"$f":"IF(O145=\"130\",2014.4*AO145*'CO2 Conversion Factors'!$D$20/0.8/1000,2096.16*AO145*'CO2 Conversion Factors'!$D$20/0.8/1000)","v":0},{"$f":"IF(O145=\"130\",2014.4*AO145*'CO2 Conversion Factors'!$G$20/0.8/1000,2096.16*AO145*'CO2 Conversion Factors'!$G$20/0.8/1000)","v":0},{"$f":"IF(O145=\"130\",2014.4*AO145*'CO2 Conversion Factors'!$J$20/0.8/1000,2096.16*AO145*'CO2 Conversion Factors'!$J$20/0.8/1000)","v":0},0,0,null,null,null,0,0,0,0,"",false,false,false,false]
[null,null,null,null,null,null,null,null,null,null,null,null,null,null,null,null,null,null,null,null,null,null,null,null,null,null,null,null,null,null,null,null,null,null,null,null,null,{"$f":"IF(O146=\"130\",2014.4*AO146*'CO2 Conversion Factors'!$D$20/0.8/1000,2096.16*AO146*'CO2 Conversion Factors'!$D$20/0.8/1000)","v":0},{"$f":"IF(O146=\"130\",2014.4*AO146*'CO2 Conversion Factors'!$G$20/0.8/1000,2096.16*AO146*'CO2 Conversion Factors'!$G$20/0.8/1000)","v":0},{"$f":"IF(O146=\"130\",2014.4*AO146*'CO2 Conversion Factors'!$J$20/0.8/1000,2096.16*AO146*'CO2 Conversion Factors'!$J$20/0.8/1000)","v":0},0,0,null,null,null,0,0,0,0,"",false,false,false,false]
[null,null,null,null,null,null,null,null,null,null,null,null,null,null,null,null,null,null,null,null,null,null,null,null,null,null,null,null,null,null,null,null,null,null,null,null,null,{"$f":"IF(O147=\"130\",2014.4*AO147*'CO2 Conversion Factors'!$D$20/0.8/1000,2096.16*AO147*'CO2 Conversion Factors'!$D$20/0.8/1000)","v":0},{"$f":"IF(O147=\"130\",2014.4*AO147*'CO2 Conversion Factors'!$G$20/0.8/1000,2096.16*AO147*'CO2 Conversion Factors'!$G$20/0.8/1000)","v":0},{"$f":"IF(O147=\"130\",2014.4*AO147*'CO2 Conversion Factors'!$J$20/0.8/1000,2096.16*AO147*'CO2 Conversion Factors'!$J$20/0.8/1000)","v":0},0,0,null,null,null,0,0,0,0,"",false,false,false,false]
[null,null,null,null,null,null,null,null,null,null,null,null,null,null,null,null,null,null,null,null,null,null,null,null,null,null,null,null,null,null,null,null,null,null,null,null,null,{"$f":"IF(O148=\"130\",2014.4*AO148*'CO2 Conversion Factors'!$D$20/0.8/1000,2096.16*AO148*'CO2 Conversion Factors'!$D$20/0.8/1000)","v":0},{"$f":"IF(O148=\"130\",2014.4*AO148*'CO2 Conversion Factors'!$G$20/0.8/1000,2096.16*AO148*'CO2 Conversion Factors'!$G$20/0.8/1000)","v":0},{"$f":"IF(O148=\"130\",2014.4*AO148*'CO2 Conversion Factors'!$J$20/0.8/1000,2096.16*AO148*'CO2 Conversion Factors'!$J$20/0.8/1000)","v":0},0,0,null,null,null,0,0,0,0,"",false,false,false,false]
[null,null,null,null,null,null,null,null,null,null,null,null,null,null,null,null,null,null,null,null,null,null,null,null,null,null,null,null,null,null,null,null,null,null,null,null,null,{"$f":"IF(O149=\"130\",2014.4*AO149*'CO2 Conversion Factors'!$D$20/0.8/1000,2096.16*AO149*'CO2 Conversion Factors'!$D$20/0.8/1000)","v":0},{"$f":"IF(O149=\"130\",2014.4*AO149*'CO2 Conversion Factors'!$G$20/0.8/1000,2096.16*AO149*'CO2 Conversion Factors'!$G$20/0.8/1000)","v":0},{"$f":"IF(O149=\"130\",2014.4*AO149*'CO2 Conversion Factors'!$J$20/0.8/1000,2096.16*AO149*'CO2 Conversion Factors'!$J$20/0.8/1000)","v":0},0,0,null,null,null,0,0,0,0,"",false,false,false,false]
[null,null,null,null,null,null,null,null,null,null,null,null,null,null,null,null,null,null,null,null,null,null,null,null,null,null,null,null,null,null,null,null,null,null,null,null,null,{"$f":"IF(O150=\"130\",2014.4*AO150*'CO2 Conversion Factors'!$D$20/0.8/1000,2096.16*AO150*'CO2 Conversion Factors'!$D$20/0.8/1000)","v":0},{"$f":"IF(O150=\"130\",2014.4*AO150*'CO2 Conversion Factors'!$G$20/0.8/1000,2096.16*AO150*'CO2 Conversion Factors'!$G$20/0.8/1000)","v":0},{"$f":"IF(O150=\"130\",2014.4*AO150*'CO2 Conversion Factors'!$J$20/0.8/1000,2096.16*AO150*'CO2 Conversion Factors'!$J$20/0.8/1000)","v":0},0,0,null,null,null,0,0,0,0,"",false,false,false,false]
[null,null,null,null,null,null,null,null,null,null,null,null,null,null,null,null,null,null,null,null,null,null,null,null,null,null,null,null,null,null,null,null,null,null,null,null,null,{"$f":"IF(O151=\"130\",2014.4*AO151*'CO2 Conversion Factors'!$D$20/0.8/1000,2096.16*AO151*'CO2 Conversion Factors'!$D$20/0.8/1000)","v":0},{"$f":"IF(O151=\"130\",2014.4*AO151*'CO2 Conversion Factors'!$G$20/0.8/1000,2096.16*AO151*'CO2 Conversion Factors'!$G$20/0.8/1000)","v":0},{"$f":"IF(O151=\"130\",2014.4*AO151*'CO2 Conversion Factors'!$J$20/0.8/1000,2096.16*AO151*'CO2 Conversion Factors'!$J$20/0.8/1000)","v":0},0,0,null,null,null,0,0,0,0,"",false,false,false,false]
[null,null,null,null,null,null,null,null,null,null,null,null,null,null,null,null,null,null,null,null,null,null,null,null,null,null,null,null,null,null,null,null,null,null,null,null,null,{"$f":"IF(O152=\"130\",2014.4*AO152*'CO2 Conversion Factors'!$D$20/0.8/1000,2096.16*AO152*'CO2 Conversion Factors'!$D$20/0.8/1000)","v":0},{"$f":"IF(O152=\"130\",2014.4*AO152*'CO2 Conversion Factors'!$G$20/0.8/1000,2096.16*AO152*'CO2 Conversion Factors'!$G$20/0.8/1000)","v":0},{"$f":"IF(O152=\"130\",2014.4*AO152*'CO2 Conversion Factors'!$J$20/0.8/1000,2096.16*AO152*'CO2 Conversion Factors'!$J$20/0.8/1000)","v":0},0,0,null,null,null,0,0,0,0,"",false,false,false,false]
[null,null,null,null,null,null,null,null,null,null,null,null,null,null,null,null,null,null,null,null,null,null,null,null,null,null,null,null,null,null,null,null,null,null,null,null,null,{"$f":"IF(O153=\"130\",2014.4*AO153*'CO2 Conversion Factors'!$D$20/0.8/1000,2096.16*AO153*'CO2 Conversion Factors'!$D$20/0.8/1000)","v":0},{"$f":"IF(O153=\"130\",2014.4*AO153*'CO2 Conversion Factors'!$G$20/0.8/1000,2096.16*AO153*'CO2 Conversion Factors'!$G$20/0.8/1000)","v":0},{"$f":"IF(O153=\"130\",2014.4*AO153*'CO2 Conversion Factors'!$J$20/0.8/1000,2096.16*AO153*'CO2 Conversion Factors'!$J$20/0.8/1000)","v":0},0,0,null,null,null,0,0,0,0,"",false,false,false,false]
[null,null,null,null,null,null,null,null,null,null,null,null,null,null,null,null,null,null,null,null,null,null,null,null,null,null,null,null,null,null,null,null,null,null,null,null,null,{"$f":"IF(O154=\"130\",2014.4*AO154*'CO2 Conversion Factors'!$D$20/0.8/1000,2096.16*AO154*'CO2 Conversion Factors'!$D$20/0.8/1000)","v":0},{"$f":"IF(O154=\"130\",2014.4*AO154*'CO2 Conversion Factors'!$G$20/0.8/1000,2096.16*AO154*'CO2 Conversion Factors'!$G$20/0.8/1000)","v":0},{"$f":"IF(O154=\"130\",2014.4*AO154*'CO2 Conversion Factors'!$J$20/0.8/1000,2096.16*AO154*'CO2 Conversion Factors'!$J$20/0.8/1000)","v":0},0,0,null,null,null,0,0,0,0,"",false,false,false,false]
[null,null,null,null,null,null,null,null,null,null,null,null,null,null,null,null,null,null,null,null,null,null,null,null,null,null,null,null,null,null,null,null,null,null,null,null,null,{"$f":"IF(O155=\"130\",2014.4*AO155*'CO2 Conversion Factors'!$D$20/0.8/1000,2096.16*AO155*'CO2 Conversion Factors'!$D$20/0.8/1000)","v":0},{"$f":"IF(O155=\"130\",2014.4*AO155*'CO2 Conversion Factors'!$G$20/0.8/1000,2096.16*AO155*'CO2 Conversion Factors'!$G$20/0.8/1000)","v":0},{"$f":"IF(O155=\"130\",2014.4*AO155*'CO2 Conversion Factors'!$J$20/0.8/1000,2096.16*AO155*'CO2 Conversion Factors'!$J$20/0.8/1000)","v":0},0,0,null,null,null,0,0,0,0,"",false,false,false,false]
[null,null,null,null,null,null,null,null,null,null,null,null,null,null,null,null,null,null,null,null,null,null,null,null,null,null,null,null,null,null,null,null,null,null,null,null,null,{"$f":"IF(O156=\"130\",2014.4*AO156*'CO2 Conversion Factors'!$D$20/0.8/1000,2096.16*AO156*'CO2 Conversion Factors'!$D$20/0.8/1000)","v":0},{"$f":"IF(O156=\"130\",2014.4*AO156*'CO2 Conversion Factors'!$G$20/0.8/1000,2096.16*AO156*'CO2 Conversion Factors'!$G$20/0.8/1000)","v":0},{"$f":"IF(O156=\"130\",2014.4*AO156*'CO2 Conversion Factors'!$J$20/0.8/1000,2096.16*AO156*'CO2 Conversion Factors'!$J$20/0.8/1000)","v":0},0,0,null,null,null,0,0,0,0,"",false,false,false,false]
[null,null,null,null,null,null,null,null,null,null,null,null,null,null,null,null,null,null,null,null,null,null,null,null,null,null,null,null,null,null,null,null,null,null,null,null,null,{"$f":"IF(O157=\"130\",2014.4*AO157*'CO2 Conversion Factors'!$D$20/0.8/1000,2096.16*AO157*'CO2 Conversion Factors'!$D$20/0.8/1000)","v":0},{"$f":"IF(O157=\"130\",2014.4*AO157*'CO2 Conversion Factors'!$G$20/0.8/1000,2096.16*AO157*'CO2 Conversion Factors'!$G$20/0.8/1000)","v":0},{"$f":"IF(O157=\"130\",2014.4*AO157*'CO2 Conversion Factors'!$J$20/0.8/1000,2096.16*AO157*'CO2 Conversion Factors'!$J$20/0.8/1000)","v":0},0,0,null,null,null,0,0,0,0,"",false,false,false,false]
[null,null,null,null,null,null,null,null,null,null,null,null,null,null,null,null,null,null,null,null,null,null,null,null,null,null,null,null,null,null,null,null,null,null,null,null,null,{"$f":"IF(O158=\"130\",2014.4*AO158*'CO2 Conversion Factors'!$D$20/0.8/1000,2096.16*AO158*'CO2 Conversion Factors'!$D$20/0.8/1000)","v":0},{"$f":"IF(O158=\"130\",2014.4*AO158*'CO2 Conversion Factors'!$G$20/0.8/1000,2096.16*AO158*'CO2 Conversion Factors'!$G$20/0.8/1000)","v":0},{"$f":"IF(O158=\"130\",2014.4*AO158*'CO2 Conversion Factors'!$J$20/0.8/1000,2096.16*AO158*'CO2 Conversion Factors'!$J$20/0.8/1000)","v":0},0,0,null,null,null,0,0,0,0,"",false,false,false,false]
[null,null,null,null,null,null,null,null,null,null,null,null,null,null,null,null,null,null,null,null,null,null,null,null,null,null,null,null,null,null,null,null,null,null,null,null,null,{"$f":"IF(O159=\"130\",2014.4*AO159*'CO2 Conversion Factors'!$D$20/0.8/1000,2096.16*AO159*'CO2 Conversion Factors'!$D$20/0.8/1000)","v":0},{"$f":"IF(O159=\"130\",2014.4*AO159*'CO2 Conversion Factors'!$G$20/0.8/1000,2096.16*AO159*'CO2 Conversion Factors'!$G$20/0.8/1000)","v":0},{"$f":"IF(O159=\"130\",2014.4*AO159*'CO2 Conversion Factors'!$J$20/0.8/1000,2096.16*AO159*'CO2 Conversion Factors'!$J$20/0.8/1000)","v":0},0,0,null,null,null,0,0,0,0,"",false,false,false,false]
[null,null,null,null,null,null,null,null,null,null,null,null,null,null,null,null,null,null,null,null,null,null,null,null,null,null,null,null,null,null,null,null,null,null,null,null,null,{"$f":"IF(O160=\"130\",2014.4*AO160*'CO2 Conversion Factors'!$D$20/0.8/1000,2096.16*AO160*'CO2 Conversion Factors'!$D$20/0.8/1000)","v":0},{"$f":"IF(O160=\"130\",2014.4*AO160*'CO2 Conversion Factors'!$G$20/0.8/1000,2096.16*AO160*'CO2 Conversion Factors'!$G$20/0.8/1000)","v":0},{"$f":"IF(O160=\"130\",2014.4*AO160*'CO2 Conversion Factors'!$J$20/0.8/1000,2096.16*AO160*'CO2 Conversion Factors'!$J$20/0.8/1000)","v":0},0,0,null,null,null,0,0,0,0,"",false,false,false,false]
[null,null,null,null,null,null,null,null,null,null,null,null,null,null,null,null,null,null,null,null,null,null,null,null,null,null,null,null,null,null,null,null,null,null,null,null,null,{"$f":"IF(O161=\"130\",2014.4*AO161*'CO2 Conversion Factors'!$D$20/0.8/1000,2096.16*AO161*'CO2 Conversion Factors'!$D$20/0.8/1000)","v":0},{"$f":"IF(O161=\"130\",2014.4*AO161*'CO2 Conversion Factors'!$G$20/0.8/1000,2096.16*AO161*'CO2 Conversion Factors'!$G$20/0.8/1000)","v":0},{"$f":"IF(O161=\"130\",2014.4*AO161*'CO2 Conversion Factors'!$J$20/0.8/1000,2096.16*AO161*'CO2 Conversion Factors'!$J$20/0.8/1000)","v":0},0,0,null,null,null,0,0,0,0,"",false,false,false,false]
[null,null,null,null,null,null,null,null,null,null,null,null,null,null,null,null,null,null,null,null,null,null,null,null,null,null,null,null,null,null,null,null,null,null,null,null,null,{"$f":"IF(O162=\"130\",2014.4*AO162*'CO2 Conversion Factors'!$D$20/0.8/1000,2096.16*AO162*'CO2 Conversion Factors'!$D$20/0.8/1000)","v":0},{"$f":"IF(O162=\"130\",2014.4*AO162*'CO2 Conversion Factors'!$G$20/0.8/1000,2096.16*AO162*'CO2 Conversion Factors'!$G$20/0.8/1000)","v":0},{"$f":"IF(O162=\"130\",2014.4*AO162*'CO2 Conversion Factors'!$J$20/0.8/1000,2096.16*AO162*'CO2 Conversion Factors'!$J$20/0.8/1000)","v":0},0,0,null,null,null,0,0,0,0,"",false,false,false,false]
[null,null,null,null,null,null,null,null,null,null,null,null,null,null,null,null,null,null,null,null,null,null,null,null,null,null,null,null,null,null,null,null,null,null,null,null,null,{"$f":"IF(O163=\"130\",2014.4*AO163*'CO2 Conversion Factors'!$D$20/0.8/1000,2096.16*AO163*'CO2 Conversion Factors'!$D$20/0.8/1000)","v":0},{"$f":"IF(O163=\"130\",2014.4*AO163*'CO2 Conversion Factors'!$G$20/0.8/1000,2096.16*AO163*'CO2 Conversion Factors'!$G$20/0.8/1000)","v":0},{"$f":"IF(O163=\"130\",2014.4*AO163*'CO2 Conversion Factors'!$J$20/0.8/1000,2096.16*AO163*'CO2 Conversion Factors'!$J$20/0.8/1000)","v":0},0,0,null,null,null,0,0,0,0,"",false,false,false,false]
[null,null,null,null,null,null,null,null,null,null,null,null,null,null,null,null,null,null,null,null,null,null,null,null,null,null,null,null,null,null,null,null,null,null,null,null,null,{"$f":"IF(O164=\"130\",2014.4*AO164*'CO2 Conversion Factors'!$D$20/0.8/1000,2096.16*AO164*'CO2 Conversion Factors'!$D$20/0.8/1000)","v":0},{"$f":"IF(O164=\"130\",2014.4*AO164*'CO2 Conversion Factors'!$G$20/0.8/1000,2096.16*AO164*'CO2 Conversion Factors'!$G$20/0.8/1000)","v":0},{"$f":"IF(O164=\"130\",2014.4*AO164*'CO2 Conversion Factors'!$J$20/0.8/1000,2096.16*AO164*'CO2 Conversion Factors'!$J$20/0.8/1000)","v":0},0,0,null,null,null,0,0,0,0,"",false,false,false,false]
[null,null,null,null,null,null,null,null,null,null,null,null,null,null,null,null,null,null,null,null,null,null,null,null,null,null,null,null,null,null,null,null,null,null,null,null,null,{"$f":"IF(O165=\"130\",2014.4*AO165*'CO2 Conversion Factors'!$D$20/0.8/1000,2096.16*AO165*'CO2 Conversion Factors'!$D$20/0.8/1000)","v":0},{"$f":"IF(O165=\"130\",2014.4*AO165*'CO2 Conversion Factors'!$G$20/0.8/1000,2096.16*AO165*'CO2 Conversion Factors'!$G$20/0.8/1000)","v":0},{"$f":"IF(O165=\"130\",2014.4*AO165*'CO2 Conversion Factors'!$J$20/0.8/1000,2096.16*AO165*'CO2 Conversion Factors'!$J$20/0.8/1000)","v":0},0,0,null,null,null,0,0,0,0,"",false,false,false,false]
[null,null,null,null,null,null,null,null,null,null,null,null,null,null,null,null,null,null,null,null,null,null,null,null,null,null,null,null,null,null,null,null,null,null,null,null,null,{"$f":"IF(O166=\"130\",2014.4*AO166*'CO2 Conversion Factors'!$D$20/0.8/1000,2096.16*AO166*'CO2 Conversion Factors'!$D$20/0.8/1000)","v":0},{"$f":"IF(O166=\"130\",2014.4*AO166*'CO2 Conversion Factors'!$G$20/0.8/1000,2096.16*AO166*'CO2 Conversion Factors'!$G$20/0.8/1000)","v":0},{"$f":"IF(O166=\"130\",2014.4*AO166*'CO2 Conversion Factors'!$J$20/0.8/1000,2096.16*AO166*'CO2 Conversion Factors'!$J$20/0.8/1000)","v":0},0,0,null,null,null,0,0,0,0,"",false,false,false,false]
[null,null,null,null,null,null,null,null,null,null,null,null,null,null,null,null,null,null,null,null,null,null,null,null,null,null,null,null,null,null,null,null,null,null,null,null,null,{"$f":"IF(O167=\"130\",2014.4*AO167*'CO2 Conversion Factors'!$D$20/0.8/1000,2096.16*AO167*'CO2 Conversion Factors'!$D$20/0.8/1000)","v":0},{"$f":"IF(O167=\"130\",2014.4*AO167*'CO2 Conversion Factors'!$G$20/0.8/1000,2096.16*AO167*'CO2 Conversion Factors'!$G$20/0.8/1000)","v":0},{"$f":"IF(O167=\"130\",2014.4*AO167*'CO2 Conversion Factors'!$J$20/0.8/1000,2096.16*AO167*'CO2 Conversion Factors'!$J$20/0.8/1000)","v":0},0,0,null,null,null,0,0,0,0,"",false,false,false,false]
[null,null,null,null,null,null,null,null,null,null,null,null,null,null,null,null,null,null,null,null,null,null,null,null,null,null,null,null,null,null,null,null,null,null,null,null,null,{"$f":"IF(O168=\"130\",2014.4*AO168*'CO2 Conversion Factors'!$D$20/0.8/1000,2096.16*AO168*'CO2 Conversion Factors'!$D$20/0.8/1000)","v":0},{"$f":"IF(O168=\"130\",2014.4*AO168*'CO2 Conversion Factors'!$G$20/0.8/1000,2096.16*AO168*'CO2 Conversion Factors'!$G$20/0.8/1000)","v":0},{"$f":"IF(O168=\"130\",2014.4*AO168*'CO2 Conversion Factors'!$J$20/0.8/1000,2096.16*AO168*'CO2 Conversion Factors'!$J$20/0.8/1000)","v":0},0,0,null,null,null,0,0,0,0,"",false,false,false,false]
[null,null,null,null,null,null,null,null,null,null,null,null,null,null,null,null,null,null,null,null,null,null,null,null,null,null,null,null,null,null,null,null,null,null,null,null,null,{"$f":"IF(O169=\"130\",2014.4*AO169*'CO2 Conversion Factors'!$D$20/0.8/1000,2096.16*AO169*'CO2 Conversion Factors'!$D$20/0.8/1000)","v":0},{"$f":"IF(O169=\"130\",2014.4*AO169*'CO2 Conversion Factors'!$G$20/0.8/1000,2096.16*AO169*'CO2 Conversion Factors'!$G$20/0.8/1000)","v":0},{"$f":"IF(O169=\"130\",2014.4*AO169*'CO2 Conversion Factors'!$J$20/0.8/1000,2096.16*AO169*'CO2 Conversion Factors'!$J$20/0.8/1000)","v":0},0,0,null,null,null,0,0,0,0,"",false,false,false,false]
[null,null,null,null,null,null,null,null,null,null,null,null,null,null,null,null,null,null,null,null,null,null,null,null,null,null,null,null,null,null,null,null,null,null,null,null,null,{"$f":"IF(O170=\"130\",2014.4*AO170*'CO2 Conversion Factors'!$D$20/0.8/1000,2096.16*AO170*'CO2 Conversion Factors'!$D$20/0.8/1000)","v":0},{"$f":"IF(O170=\"130\",2014.4*AO170*'CO2 Conversion Factors'!$G$20/0.8/1000,2096.16*AO170*'CO2 Conversion Factors'!$G$20/0.8/1000)","v":0},{"$f":"IF(O170=\"130\",2014.4*AO170*'CO2 Conversion Factors'!$J$20/0.8/1000,2096.16*AO170*'CO2 Conversion Factors'!$J$20/0.8/1000)","v":0},0,0,null,null,null,0,0,0,0,"",false,false,false,false]
[null,null,null,null,null,null,null,null,null,null,null,null,null,null,null,null,null,null,null,null,null,null,null,null,null,null,null,null,null,null,null,null,null,null,null,null,null,{"$f":"IF(O171=\"130\",2014.4*AO171*'CO2 Conversion Factors'!$D$20/0.8/1000,2096.16*AO171*'CO2 Conversion Factors'!$D$20/0.8/1000)","v":0},{"$f":"IF(O171=\"130\",2014.4*AO171*'CO2 Conversion Factors'!$G$20/0.8/1000,2096.16*AO171*'CO2 Conversion Factors'!$G$20/0.8/1000)","v":0},{"$f":"IF(O171=\"130\",2014.4*AO171*'CO2 Conversion Factors'!$J$20/0.8/1000,2096.16*AO171*'CO2 Conversion Factors'!$J$20/0.8/1000)","v":0},0,0,null,null,null,0,0,0,0,"",false,false,false,false]
[null,null,null,null,null,null,null,null,null,null,null,null,null,null,null,null,null,null,null,null,null,null,null,null,null,null,null,null,null,null,null,null,null,null,null,null,null,{"$f":"IF(O172=\"130\",2014.4*AO172*'CO2 Conversion Factors'!$D$20/0.8/1000,2096.16*AO172*'CO2 Conversion Factors'!$D$20/0.8/1000)","v":0},{"$f":"IF(O172=\"130\",2014.4*AO172*'CO2 Conversion Factors'!$G$20/0.8/1000,2096.16*AO172*'CO2 Conversion Factors'!$G$20/0.8/1000)","v":0},{"$f":"IF(O172=\"130\",2014.4*AO172*'CO2 Conversion Factors'!$J$20/0.8/1000,2096.16*AO172*'CO2 Conversion Factors'!$J$20/0.8/1000)","v":0},0,0,null,null,null,0,0,0,0,"",false,false,false,false]
[null,null,null,null,null,null,null,null,null,null,null,null,null,null,null,null,null,null,null,null,null,null,null,null,null,null,null,null,null,null,null,null,null,null,null,null,null,{"$f":"IF(O173=\"130\",2014.4*AO173*'CO2 Conversion Factors'!$D$20/0.8/1000,2096.16*AO173*'CO2 Conversion Factors'!$D$20/0.8/1000)","v":0},{"$f":"IF(O173=\"130\",2014.4*AO173*'CO2 Conversion Factors'!$G$20/0.8/1000,2096.16*AO173*'CO2 Conversion Factors'!$G$20/0.8/1000)","v":0},{"$f":"IF(O173=\"130\",2014.4*AO173*'CO2 Conversion Factors'!$J$20/0.8/1000,2096.16*AO173*'CO2 Conversion Factors'!$J$20/0.8/1000)","v":0},0,0,null,null,null,0,0,0,0,"",false,false,false,false]
[null,null,null,null,null,null,null,null,null,null,null,null,null,null,null,null,null,null,null,null,null,null,null,null,null,null,null,null,null,null,null,null,null,null,null,null,null,{"$f":"IF(O174=\"130\",2014.4*AO174*'CO2 Conversion Factors'!$D$20/0.8/1000,2096.16*AO174*'CO2 Conversion Factors'!$D$20/0.8/1000)","v":0},{"$f":"IF(O174=\"130\",2014.4*AO174*'CO2 Conversion Factors'!$G$20/0.8/1000,2096.16*AO174*'CO2 Conversion Factors'!$G$20/0.8/1000)","v":0},{"$f":"IF(O174=\"130\",2014.4*AO174*'CO2 Conversion Factors'!$J$20/0.8/1000,2096.16*AO174*'CO2 Conversion Factors'!$J$20/0.8/1000)","v":0},0,0,null,null,null,0,0,0,0,"",false,false,false,false]
[null,null,null,null,null,null,null,null,null,null,null,null,null,null,null,null,null,null,null,null,null,null,null,null,null,null,null,null,null,null,null,null,null,null,null,null,null,{"$f":"IF(O175=\"130\",2014.4*AO175*'CO2 Conversion Factors'!$D$20/0.8/1000,2096.16*AO175*'CO2 Conversion Factors'!$D$20/0.8/1000)","v":0},{"$f":"IF(O175=\"130\",2014.4*AO175*'CO2 Conversion Factors'!$G$20/0.8/1000,2096.16*AO175*'CO2 Conversion Factors'!$G$20/0.8/1000)","v":0},{"$f":"IF(O175=\"130\",2014.4*AO175*'CO2 Conversion Factors'!$J$20/0.8/1000,2096.16*AO175*'CO2 Conversion Factors'!$J$20/0.8/1000)","v":0},0,0,null,null,null,0,0,0,0,"",false,false,false,false]
[null,null,null,null,null,null,null,null,null,null,null,null,null,null,null,null,null,null,null,null,null,null,null,null,null,null,null,null,null,null,null,null,null,null,null,null,null,{"$f":"IF(O176=\"130\",2014.4*AO176*'CO2 Conversion Factors'!$D$20/0.8/1000,2096.16*AO176*'CO2 Conversion Factors'!$D$20/0.8/1000)","v":0},{"$f":"IF(O176=\"130\",2014.4*AO176*'CO2 Conversion Factors'!$G$20/0.8/1000,2096.16*AO176*'CO2 Conversion Factors'!$G$20/0.8/1000)","v":0},{"$f":"IF(O176=\"130\",2014.4*AO176*'CO2 Conversion Factors'!$J$20/0.8/1000,2096.16*AO176*'CO2 Conversion Factors'!$J$20/0.8/1000)","v":0},0,0,null,null,null,0,0,0,0,"",false,false,false,false]
[null,null,null,null,null,null,null,null,null,null,null,null,null,null,null,null,null,null,null,null,null,null,null,null,null,null,null,null,null,null,null,null,null,null,null,null,null,{"$f":"IF(O177=\"130\",2014.4*AO177*'CO2 Conversion Factors'!$D$20/0.8/1000,2096.16*AO177*'CO2 Conversion Factors'!$D$20/0.8/1000)","v":0},{"$f":"IF(O177=\"130\",2014.4*AO177*'CO2 Conversion Factors'!$G$20/0.8/1000,2096.16*AO177*'CO2 Conversion Factors'!$G$20/0.8/1000)","v":0},{"$f":"IF(O177=\"130\",2014.4*AO177*'CO2 Conversion Factors'!$J$20/0.8/1000,2096.16*AO177*'CO2 Conversion Factors'!$J$20/0.8/1000)","v":0},0,0,null,null,null,0,0,0,0,"",false,false,false,false]
[null,null,null,null,null,null,null,null,null,null,null,null,null,null,null,null,null,null,null,null,null,null,null,null,null,null,null,null,null,null,null,null,null,null,null,null,null,{"$f":"IF(O178=\"130\",2014.4*AO178*'CO2 Conversion Factors'!$D$20/0.8/1000,2096.16*AO178*'CO2 Conversion Factors'!$D$20/0.8/1000)","v":0},{"$f":"IF(O178=\"130\",2014.4*AO178*'CO2 Conversion Factors'!$G$20/0.8/1000,2096.16*AO178*'CO2 Conversion Factors'!$G$20/0.8/1000)","v":0},{"$f":"IF(O178=\"130\",2014.4*AO178*'CO2 Conversion Factors'!$J$20/0.8/1000,2096.16*AO178*'CO2 Conversion Factors'!$J$20/0.8/1000)","v":0},0,0,null,null,null,0,0,0,0,"",false,false,false,false]
[null,null,null,null,null,null,null,null,null,null,null,null,null,null,null,null,null,null,null,null,null,null,null,null,null,null,null,null,null,null,null,null,null,null,null,null,null,{"$f":"IF(O179=\"130\",2014.4*AO179*'CO2 Conversion Factors'!$D$20/0.8/1000,2096.16*AO179*'CO2 Conversion Factors'!$D$20/0.8/1000)","v":0},{"$f":"IF(O179=\"130\",2014.4*AO179*'CO2 Conversion Factors'!$G$20/0.8/1000,2096.16*AO179*'CO2 Conversion Factors'!$G$20/0.8/1000)","v":0},{"$f":"IF(O179=\"130\",2014.4*AO179*'CO2 Conversion Factors'!$J$20/0.8/1000,2096.16*AO179*'CO2 Conversion Factors'!$J$20/0.8/1000)","v":0},0,0,null,null,null,0,0,0,0,"",false,false,false,false]
[null,null,null,null,null,null,null,null,null,null,null,null,null,null,null,null,null,null,null,null,null,null,null,null,null,null,null,null,null,null,null,null,null,null,null,null,null,{"$f":"IF(O180=\"130\",2014.4*AO180*'CO2 Conversion Factors'!$D$20/0.8/1000,2096.16*AO180*'CO2 Conversion Factors'!$D$20/0.8/1000)","v":0},{"$f":"IF(O180=\"130\",2014.4*AO180*'CO2 Conversion Factors'!$G$20/0.8/1000,2096.16*AO180*'CO2 Conversion Factors'!$G$20/0.8/1000)","v":0},{"$f":"IF(O180=\"130\",2014.4*AO180*'CO2 Conversion Factors'!$J$20/0.8/1000,2096.16*AO180*'CO2 Conversion Factors'!$J$20/0.8/1000)","v":0},0,0,null,null,null,0,0,0,0,"",false,false,false,false]
[null,null,null,null,null,null,null,null,null,null,null,null,null,null,null,null,null,null,null,null,null,null,null,null,null,null,null,null,null,null,null,null,null,null,null,null,null,{"$f":"IF(O181=\"130\",2014.4*AO181*'CO2 Conversion Factors'!$D$20/0.8/1000,2096.16*AO181*'CO2 Conversion Factors'!$D$20/0.8/1000)","v":0},{"$f":"IF(O181=\"130\",2014.4*AO181*'CO2 Conversion Factors'!$G$20/0.8/1000,2096.16*AO181*'CO2 Conversion Factors'!$G$20/0.8/1000)","v":0},{"$f":"IF(O181=\"130\",2014.4*AO181*'CO2 Conversion Factors'!$J$20/0.8/1000,2096.16*AO181*'CO2 Conversion Factors'!$J$20/0.8/1000)","v":0},0,0,null,null,null,0,0,0,0,"",false,false,false,false]
[null,null,null,null,null,null,null,null,null,null,null,null,null,null,null,null,null,null,null,null,null,null,null,null,null,null,null,null,null,null,null,null,null,null,null,null,null,{"$f":"IF(O182=\"130\",2014.4*AO182*'CO2 Conversion Factors'!$D$20/0.8/1000,2096.16*AO182*'CO2 Conversion Factors'!$D$20/0.8/1000)","v":0},{"$f":"IF(O182=\"130\",2014.4*AO182*'CO2 Conversion Factors'!$G$20/0.8/1000,2096.16*AO182*'CO2 Conversion Factors'!$G$20/0.8/1000)","v":0},{"$f":"IF(O182=\"130\",2014.4*AO182*'CO2 Conversion Factors'!$J$20/0.8/1000,2096.16*AO182*'CO2 Conversion Factors'!$J$20/0.8/1000)","v":0},0,0,null,null,null,0,0,0,0,"",false,false,false,false]
[null,null,null,null,null,null,null,null,null,null,null,null,null,null,null,null,null,null,null,null,null,null,null,null,null,null,null,null,null,null,null,null,null,null,null,null,null,{"$f":"IF(O183=\"130\",2014.4*AO183*'CO2 Conversion Factors'!$D$20/0.8/1000,2096.16*AO183*'CO2 Conversion Factors'!$D$20/0.8/1000)","v":0},{"$f":"IF(O183=\"130\",2014.4*AO183*'CO2 Conversion Factors'!$G$20/0.8/1000,2096.16*AO183*'CO2 Conversion Factors'!$G$20/0.8/1000)","v":0},{"$f":"IF(O183=\"130\",2014.4*AO183*'CO2 Conversion Factors'!$J$20/0.8/1000,2096.16*AO183*'CO2 Conversion Factors'!$J$20/0.8/1000)","v":0},0,0,null,null,null,0,0,0,0,"",false,false,false,false]
[null,null,null,null,null,null,null,null,null,null,null,null,null,null,null,null,null,null,null,null,null,null,null,null,null,null,null,null,null,null,null,null,null,null,null,null,null,{"$f":"IF(O184=\"130\",2014.4*AO184*'CO2 Conversion Factors'!$D$20/0.8/1000,2096.16*AO184*'CO2 Conversion Factors'!$D$20/0.8/1000)","v":0},{"$f":"IF(O184=\"130\",2014.4*AO184*'CO2 Conversion Factors'!$G$20/0.8/1000,2096.16*AO184*'CO2 Conversion Factors'!$G$20/0.8/1000)","v":0},{"$f":"IF(O184=\"130\",2014.4*AO184*'CO2 Conversion Factors'!$J$20/0.8/1000,2096.16*AO184*'CO2 Conversion Factors'!$J$20/0.8/1000)","v":0},0,0,null,null,null,0,0,0,0,"",false,false,false,false]
[null,null,null,null,null,null,null,null,null,null,null,null,null,null,null,null,null,null,null,null,null,null,null,null,null,null,null,null,null,null,null,null,null,null,null,null,null,{"$f":"IF(O185=\"130\",2014.4*AO185*'CO2 Conversion Factors'!$D$20/0.8/1000,2096.16*AO185*'CO2 Conversion Factors'!$D$20/0.8/1000)","v":0},{"$f":"IF(O185=\"130\",2014.4*AO185*'CO2 Conversion Factors'!$G$20/0.8/1000,2096.16*AO185*'CO2 Conversion Factors'!$G$20/0.8/1000)","v":0},{"$f":"IF(O185=\"130\",2014.4*AO185*'CO2 Conversion Factors'!$J$20/0.8/1000,2096.16*AO185*'CO2 Conversion Factors'!$J$20/0.8/1000)","v":0},0,0,null,null,null,0,0,0,0,"",false,false,false,false]
[null,null,null,null,null,null,null,null,null,null,null,null,null,null,null,null,null,null,null,null,null,null,null,null,null,null,null,null,null,null,null,null,null,null,null,null,null,{"$f":"IF(O186=\"130\",2014.4*AO186*'CO2 Conversion Factors'!$D$20/0.8/1000,2096.16*AO186*'CO2 Conversion Factors'!$D$20/0.8/1000)","v":0},{"$f":"IF(O186=\"130\",2014.4*AO186*'CO2 Conversion Factors'!$G$20/0.8/1000,2096.16*AO186*'CO2 Conversion Factors'!$G$20/0.8/1000)","v":0},{"$f":"IF(O186=\"130\",2014.4*AO186*'CO2 Conversion Factors'!$J$20/0.8/1000,2096.16*AO186*'CO2 Conversion Factors'!$J$20/0.8/1000)","v":0},0,0,null,null,null,0,0,0,0,"",false,false,false,false]
[null,null,null,null,null,null,null,null,null,null,null,null,null,null,null,null,null,null,null,null,null,null,null,null,null,null,null,null,null,null,null,null,null,null,null,null,null,{"$f":"IF(O187=\"130\",2014.4*AO187*'CO2 Conversion Factors'!$D$20/0.8/1000,2096.16*AO187*'CO2 Conversion Factors'!$D$20/0.8/1000)","v":0},{"$f":"IF(O187=\"130\",2014.4*AO187*'CO2 Conversion Factors'!$G$20/0.8/1000,2096.16*AO187*'CO2 Conversion Factors'!$G$20/0.8/1000)","v":0},{"$f":"IF(O187=\"130\",2014.4*AO187*'CO2 Conversion Factors'!$J$20/0.8/1000,2096.16*AO187*'CO2 Conversion Factors'!$J$20/0.8/1000)","v":0},0,0,null,null,null,0,0,0,0,"",false,false,false,false]
[null,null,null,null,null,null,null,null,null,null,null,null,null,null,null,null,null,null,null,null,null,null,null,null,null,null,null,null,null,null,null,null,null,null,null,null,null,{"$f":"IF(O188=\"130\",2014.4*AO188*'CO2 Conversion Factors'!$D$20/0.8/1000,2096.16*AO188*'CO2 Conversion Factors'!$D$20/0.8/1000)","v":0},{"$f":"IF(O188=\"130\",2014.4*AO188*'CO2 Conversion Factors'!$G$20/0.8/1000,2096.16*AO188*'CO2 Conversion Factors'!$G$20/0.8/1000)","v":0},{"$f":"IF(O188=\"130\",2014.4*AO188*'CO2 Conversion Factors'!$J$20/0.8/1000,2096.16*AO188*'CO2 Conversion Factors'!$J$20/0.8/1000)","v":0},0,0,null,null,null,0,0,0,0,"",false,false,false,false]
[null,null,null,null,null,null,null,null,null,null,null,null,null,null,null,null,null,null,null,null,null,null,null,null,null,null,null,null,null,null,null,null,null,null,null,null,null,{"$f":"IF(O189=\"130\",2014.4*AO189*'CO2 Conversion Factors'!$D$20/0.8/1000,2096.16*AO189*'CO2 Conversion Factors'!$D$20/0.8/1000)","v":0},{"$f":"IF(O189=\"130\",2014.4*AO189*'CO2 Conversion Factors'!$G$20/0.8/1000,2096.16*AO189*'CO2 Conversion Factors'!$G$20/0.8/1000)","v":0},{"$f":"IF(O189=\"130\",2014.4*AO189*'CO2 Conversion Factors'!$J$20/0.8/1000,2096.16*AO189*'CO2 Conversion Factors'!$J$20/0.8/1000)","v":0},0,0,null,null,null,0,0,0,0,"",false,false,false,false]
[null,null,null,null,null,null,null,null,null,null,null,null,null,null,null,null,null,null,null,null,null,null,null,null,null,null,null,null,null,null,null,null,null,null,null,null,null,{"$f":"IF(O190=\"130\",2014.4*AO190*'CO2 Conversion Factors'!$D$20/0.8/1000,2096.16*AO190*'CO2 Conversion Factors'!$D$20/0.8/1000)","v":0},{"$f":"IF(O190=\"130\",2014.4*AO190*'CO2 Conversion Factors'!$G$20/0.8/1000,2096.16*AO190*'CO2 Conversion Factors'!$G$20/0.8/1000)","v":0},{"$f":"IF(O190=\"130\",2014.4*AO190*'CO2 Conversion Factors'!$J$20/0.8/1000,2096.16*AO190*'CO2 Conversion Factors'!$J$20/0.8/1000)","v":0},0,0,null,null,null,0,0,0,0,"",false,false,false,false]
[null,null,null,null,null,null,null,null,null,null,null,null,null,null,null,null,null,null,null,null,null,null,null,null,null,null,null,null,null,null,null,null,null,null,null,null,null,{"$f":"IF(O191=\"130\",2014.4*AO191*'CO2 Conversion Factors'!$D$20/0.8/1000,2096.16*AO191*'CO2 Conversion Factors'!$D$20/0.8/1000)","v":0},{"$f":"IF(O191=\"130\",2014.4*AO191*'CO2 Conversion Factors'!$G$20/0.8/1000,2096.16*AO191*'CO2 Conversion Factors'!$G$20/0.8/1000)","v":0},{"$f":"IF(O191=\"130\",2014.4*AO191*'CO2 Conversion Factors'!$J$20/0.8/1000,2096.16*AO191*'CO2 Conversion Factors'!$J$20/0.8/1000)","v":0},0,0,null,null,null,0,0,0,0,"",false,false,false,false]
[null,null,null,null,null,null,null,null,null,null,null,null,null,null,null,null,null,null,null,null,null,null,null,null,null,null,null,null,null,null,null,null,null,null,null,null,null,{"$f":"IF(O192=\"130\",2014.4*AO192*'CO2 Conversion Factors'!$D$20/0.8/1000,2096.16*AO192*'CO2 Conversion Factors'!$D$20/0.8/1000)","v":0},{"$f":"IF(O192=\"130\",2014.4*AO192*'CO2 Conversion Factors'!$G$20/0.8/1000,2096.16*AO192*'CO2 Conversion Factors'!$G$20/0.8/1000)","v":0},{"$f":"IF(O192=\"130\",2014.4*AO192*'CO2 Conversion Factors'!$J$20/0.8/1000,2096.16*AO192*'CO2 Conversion Factors'!$J$20/0.8/1000)","v":0},0,0,null,null,null,0,0,0,0,"",false,false,false,false]
[null,null,null,null,null,null,null,null,null,null,null,null,null,null,null,null,null,null,null,null,null,null,null,null,null,null,null,null,null,null,null,null,null,null,null,null,null,{"$f":"IF(O193=\"130\",2014.4*AO193*'CO2 Conversion Factors'!$D$20/0.8/1000,2096.16*AO193*'CO2 Conversion Factors'!$D$20/0.8/1000)","v":0},{"$f":"IF(O193=\"130\",2014.4*AO193*'CO2 Conversion Factors'!$G$20/0.8/1000,2096.16*AO193*'CO2 Conversion Factors'!$G$20/0.8/1000)","v":0},{"$f":"IF(O193=\"130\",2014.4*AO193*'CO2 Conversion Factors'!$J$20/0.8/1000,2096.16*AO193*'CO2 Conversion Factors'!$J$20/0.8/1000)","v":0},0,0,null,null,null,0,0,0,0,"",false,false,false,false]
[null,null,null,null,null,null,null,null,null,null,null,null,null,null,null,null,null,null,null,null,null,null,null,null,null,null,null,null,null,null,null,null,null,null,null,null,null,{"$f":"IF(O194=\"130\",2014.4*AO194*'CO2 Conversion Factors'!$D$20/0.8/1000,2096.16*AO194*'CO2 Conversion Factors'!$D$20/0.8/1000)","v":0},{"$f":"IF(O194=\"130\",2014.4*AO194*'CO2 Conversion Factors'!$G$20/0.8/1000,2096.16*AO194*'CO2 Conversion Factors'!$G$20/0.8/1000)","v":0},{"$f":"IF(O194=\"130\",2014.4*AO194*'CO2 Conversion Factors'!$J$20/0.8/1000,2096.16*AO194*'CO2 Conversion Factors'!$J$20/0.8/1000)","v":0},0,0,null,null,null,0,0,0,0,"",false,false,false,false]
[null,null,null,null,null,null,null,null,null,null,null,null,null,null,null,null,null,null,null,null,null,null,null,null,null,null,null,null,null,null,null,null,null,null,null,null,null,{"$f":"IF(O195=\"130\",2014.4*AO195*'CO2 Conversion Factors'!$D$20/0.8/1000,2096.16*AO195*'CO2 Conversion Factors'!$D$20/0.8/1000)","v":0},{"$f":"IF(O195=\"130\",2014.4*AO195*'CO2 Conversion Factors'!$G$20/0.8/1000,2096.16*AO195*'CO2 Conversion Factors'!$G$20/0.8/1000)","v":0},{"$f":"IF(O195=\"130\",2014.4*AO195*'CO2 Conversion Factors'!$J$20/0.8/1000,2096.16*AO195*'CO2 Conversion Factors'!$J$20/0.8/1000)","v":0},{"$f":"IFERROR(IF(OR(L195=\"BLW\",L195=\"PRI\",L195=\"LNK\"),IF(Cover_Select_SteamCostUnits=\"£/1000kg\",11.6*(VLOOKUP($I195,Abb_Lookup_OrifaceDia,2,FALSE)^2)*SQRT(($O195-$P195)*($O195+$P195)),25.57363*(VLOOKUP($I195,Abb_Lookup_OrifaceDia,2,FALSE)^2)*SQRT(($O195-$P195)*($O195+$P195)))*(VLOOKUP(AE195,Cover_Lookup_OpTime,4,FALSE)/1000),IF(L195=\"LL\",IF(Cover_Select_SteamCostUnits=\"£/1000kg\",11.6*(VLOOKUP($I195,Abb_Lookup_OrifaceDia,2,FALSE)^2)*SQRT(($O195-$P195)*($O195+$P195)),25.57363*(VLOOKUP($I195,Abb_Lookup_OrifaceDia,2,FALSE)^2)*SQRT(($O195-$P195)*($O195+$P195)))*(VLOOKUP(AE195,Cover_Lookup_OpTime,4,FALSE)/2000),IF(L195=\"SL\",IF(Cover_Select_SteamCostUnits=\"£/1000kg\",11.6*(VLOOKUP($I195,Abb_Lookup_OrifaceDia,2,FALSE)^2)*SQRT(($O195-$P195)*($O195+$P195)),25.57363*(VLOOKUP($I195,Abb_Lookup_OrifaceDia,2,FALSE)^2)*SQRT(($O195-$P195)*($O195+$P195)))*(VLOOKUP(AE195,Cover_Lookup_OpTime,4,FALSE)/4000),0))),0)","v":0},0,null,null,null,0,0,0,0,"",false,false,false,false]
[null,null,null,null,null,null,null,null,null,null,null,null,null,null,null,null,null,null,null,null,null,null,null,null,null,null,null,null,null,null,null,null,null,null,null,null,null,{"$f":"IF(O196=\"130\",2014.4*AO196*'CO2 Conversion Factors'!$D$20/0.8/1000,2096.16*AO196*'CO2 Conversion Factors'!$D$20/0.8/1000)","v":0},{"$f":"IF(O196=\"130\",2014.4*AO196*'CO2 Conversion Factors'!$G$20/0.8/1000,2096.16*AO196*'CO2 Conversion Factors'!$G$20/0.8/1000)","v":0},{"$f":"IF(O196=\"130\",2014.4*AO196*'CO2 Conversion Factors'!$J$20/0.8/1000,2096.16*AO196*'CO2 Conversion Factors'!$J$20/0.8/1000)","v":0},0,{"$f":"IFERROR(AO196*Cover_Select_SteamCost,0)","v":0},null,null,null,{"$f":"IF(NOT(OR(L196=\"NIS\",L196=\"OFF\")),F196)","v":0},{"$f":"IF(NOT(OR(L196=\"NIS\",L196=\"OFF\",L196=\"PO\")),F196)","v":0},{"$f":"IF(NOT(OR(L196=\"NIS\",L196=\"OFF\")),H196)","v":0},{"$f":"IF(NOT(OR(L196=\"NIS\",L196=\"OFF\",L196=\"PO\")),H196)","v":0},"",false,false,false,false]
[null,null,null,null,null,null,null,null,null,null,null,null,null,null,null,null,null,null,null,null,null,null,null,null,null,null,null,null,null,null,null,null,null,null,null,null,null,{"$f":"IF(O197=\"130\",2014.4*AO197*'CO2 Conversion Factors'!$D$20/0.8/1000,2096.16*AO197*'CO2 Conversion Factors'!$D$20/0.8/1000)","v":0},{"$f":"IF(O197=\"130\",2014.4*AO197*'CO2 Conversion Factors'!$G$20/0.8/1000,2096.16*AO197*'CO2 Conversion Factors'!$G$20/0.8/1000)","v":0},{"$f":"IF(O197=\"130\",2014.4*AO197*'CO2 Conversion Factors'!$J$20/0.8/1000,2096.16*AO197*'CO2 Conversion Factors'!$J$20/0.8/1000)","v":0},0,0,null,null,null,0,0,0,0,{"$f":"F197&H197","v":""},{"$f":"IF(L197=\"CLD\", H197)","v":false},{"$f":"IF(L197=\"SL\", H197)","v":false},{"$f":"IF(L197=\"LL\", H197)","v":false},{"$f":"IF(L197=\"BLW\", H197)","v":false}]
[null,null,null,null,null,null,null,null,null,null,null,null,null,null,null,null,null,null,null,null,null,null,null,null,null,null,null,null,null,null,null,null,null,null,null,null,null,{"$f":"IF(O198=\"130\",2014.4*AO198*'CO2 Conversion Factors'!$D$20/0.8/1000,2096.16*AO198*'CO2 Conversion Factors'!$D$20/0.8/1000)","v":0},{"$f":"IF(O198=\"130\",2014.4*AO198*'CO2 Conversion Factors'!$G$20/0.8/1000,2096.16*AO198*'CO2 Conversion Factors'!$G$20/0.8/1000)","v":0},{"$f":"IF(O198=\"130\",2014.4*AO198*'CO2 Conversion Factors'!$J$20/0.8/1000,2096.16*AO198*'CO2 Conversion Factors'!$J$20/0.8/1000)","v":0},0,0,null,null,null,0,0,0,0,"",false,false,false,false]
[null,null,null,null,null,null,null,null,null,null,null,null,null,null,null,null,null,null,null,null,null,null,null,null,null,null,null,null,null,null,null,null,null,null,null,null,null,{"$f":"IF(O199=\"130\",2014.4*AO199*'CO2 Conversion Factors'!$D$20/0.8/1000,2096.16*AO199*'CO2 Conversion Factors'!$D$20/0.8/1000)","v":0},{"$f":"IF(O199=\"130\",2014.4*AO199*'CO2 Conversion Factors'!$G$20/0.8/1000,2096.16*AO199*'CO2 Conversion Factors'!$G$20/0.8/1000)","v":0},{"$f":"IF(O199=\"130\",2014.4*AO199*'CO2 Conversion Factors'!$J$20/0.8/1000,2096.16*AO199*'CO2 Conversion Factors'!$J$20/0.8/1000)","v":0},0,0,null,null,null,0,0,0,0,"",false,false,false,false]
[null,null,null,null,null,null,null,null,null,null,null,null,null,null,null,null,null,null,null,null,null,null,null,null,null,null,null,null,null,null,null,null,null,null,null,null,null,{"$f":"IF(O200=\"130\",2014.4*AO200*'CO2 Conversion Factors'!$D$20/0.8/1000,2096.16*AO200*'CO2 Conversion Factors'!$D$20/0.8/1000)","v":0},{"$f":"IF(O200=\"130\",2014.4*AO200*'CO2 Conversion Factors'!$G$20/0.8/1000,2096.16*AO200*'CO2 Conversion Factors'!$G$20/0.8/1000)","v":0},{"$f":"IF(O200=\"130\",2014.4*AO200*'CO2 Conversion Factors'!$J$20/0.8/1000,2096.16*AO200*'CO2 Conversion Factors'!$J$20/0.8/1000)","v":0},0,0,null,null,null,0,0,0,0,"",false,false,false,false]
[null,null,null,null,null,null,null,null,null,null,null,null,null,null,null,null,null,null,null,null,null,null,null,null,null,null,null,null,null,null,null,null,null,null,null,null,null,{"$f":"IF(O201=\"130\",2014.4*AO201*'CO2 Conversion Factors'!$D$20/0.8/1000,2096.16*AO201*'CO2 Conversion Factors'!$D$20/0.8/1000)","v":0},{"$f":"IF(O201=\"130\",2014.4*AO201*'CO2 Conversion Factors'!$G$20/0.8/1000,2096.16*AO201*'CO2 Conversion Factors'!$G$20/0.8/1000)","v":0},{"$f":"IF(O201=\"130\",2014.4*AO201*'CO2 Conversion Factors'!$J$20/0.8/1000,2096.16*AO201*'CO2 Conversion Factors'!$J$20/0.8/1000)","v":0},0,0,null,null,null,0,0,0,0,"",false,false,false,false]
[null,null,null,null,null,null,null,null,null,null,null,null,null,null,null,null,null,null,null,null,null,null,null,null,null,null,null,null,null,null,null,null,null,null,null,null,null,{"$f":"IF(O202=\"130\",2014.4*AO202*'CO2 Conversion Factors'!$D$20/0.8/1000,2096.16*AO202*'CO2 Conversion Factors'!$D$20/0.8/1000)","v":0},{"$f":"IF(O202=\"130\",2014.4*AO202*'CO2 Conversion Factors'!$G$20/0.8/1000,2096.16*AO202*'CO2 Conversion Factors'!$G$20/0.8/1000)","v":0},{"$f":"IF(O202=\"130\",2014.4*AO202*'CO2 Conversion Factors'!$J$20/0.8/1000,2096.16*AO202*'CO2 Conversion Factors'!$J$20/0.8/1000)","v":0},0,0,null,null,null,0,0,0,0,"",false,false,false,false]
[null,null,null,null,null,null,null,null,null,null,null,null,null,null,null,null,null,null,null,null,null,null,null,null,null,null,null,null,null,null,null,null,null,null,null,null,null,{"$f":"IF(O203=\"130\",2014.4*AO203*'CO2 Conversion Factors'!$D$20/0.8/1000,2096.16*AO203*'CO2 Conversion Factors'!$D$20/0.8/1000)","v":0},{"$f":"IF(O203=\"130\",2014.4*AO203*'CO2 Conversion Factors'!$G$20/0.8/1000,2096.16*AO203*'CO2 Conversion Factors'!$G$20/0.8/1000)","v":0},{"$f":"IF(O203=\"130\",2014.4*AO203*'CO2 Conversion Factors'!$J$20/0.8/1000,2096.16*AO203*'CO2 Conversion Factors'!$J$20/0.8/1000)","v":0},0,0,null,null,null,0,0,0,0,"",false,false,false,false]
[null,null,null,null,null,null,null,null,null,null,null,null,null,null,null,null,null,null,null,null,null,null,null,null,null,null,null,null,null,null,null,null,null,null,null,null,null,{"$f":"IF(O204=\"130\",2014.4*AO204*'CO2 Conversion Factors'!$D$20/0.8/1000,2096.16*AO204*'CO2 Conversion Factors'!$D$20/0.8/1000)","v":0},{"$f":"IF(O204=\"130\",2014.4*AO204*'CO2 Conversion Factors'!$G$20/0.8/1000,2096.16*AO204*'CO2 Conversion Factors'!$G$20/0.8/1000)","v":0},{"$f":"IF(O204=\"130\",2014.4*AO204*'CO2 Conversion Factors'!$J$20/0.8/1000,2096.16*AO204*'CO2 Conversion Factors'!$J$20/0.8/1000)","v":0},0,0,null,null,null,0,0,0,0,"",false,false,false,false]
[null,null,null,null,null,null,null,null,null,null,null,null,null,null,null,null,null,null,null,null,null,null,null,null,null,null,null,null,null,null,null,null,null,null,null,null,null,{"$f":"IF(O205=\"130\",2014.4*AO205*'CO2 Conversion Factors'!$D$20/0.8/1000,2096.16*AO205*'CO2 Conversion Factors'!$D$20/0.8/1000)","v":0},{"$f":"IF(O205=\"130\",2014.4*AO205*'CO2 Conversion Factors'!$G$20/0.8/1000,2096.16*AO205*'CO2 Conversion Factors'!$G$20/0.8/1000)","v":0},{"$f":"IF(O205=\"130\",2014.4*AO205*'CO2 Conversion Factors'!$J$20/0.8/1000,2096.16*AO205*'CO2 Conversion Factors'!$J$20/0.8/1000)","v":0},0,0,null,null,null,0,0,0,0,"",false,false,false,false]
[null,null,null,null,null,null,null,null,null,null,null,null,null,null,null,null,null,null,null,null,null,null,null,null,null,null,null,null,null,null,null,null,null,null,null,null,null,{"$f":"IF(O206=\"130\",2014.4*AO206*'CO2 Conversion Factors'!$D$20/0.8/1000,2096.16*AO206*'CO2 Conversion Factors'!$D$20/0.8/1000)","v":0},{"$f":"IF(O206=\"130\",2014.4*AO206*'CO2 Conversion Factors'!$G$20/0.8/1000,2096.16*AO206*'CO2 Conversion Factors'!$G$20/0.8/1000)","v":0},{"$f":"IF(O206=\"130\",2014.4*AO206*'CO2 Conversion Factors'!$J$20/0.8/1000,2096.16*AO206*'CO2 Conversion Factors'!$J$20/0.8/1000)","v":0},0,0,null,null,null,0,0,0,0,"",false,false,false,false]
[null,null,null,null,null,null,null,null,null,null,null,null,null,null,null,null,null,null,null,null,null,null,null,null,null,null,null,null,null,null,null,null,null,null,null,null,null,{"$f":"IF(O207=\"130\",2014.4*AO207*'CO2 Conversion Factors'!$D$20/0.8/1000,2096.16*AO207*'CO2 Conversion Factors'!$D$20/0.8/1000)","v":0},{"$f":"IF(O207=\"130\",2014.4*AO207*'CO2 Conversion Factors'!$G$20/0.8/1000,2096.16*AO207*'CO2 Conversion Factors'!$G$20/0.8/1000)","v":0},{"$f":"IF(O207=\"130\",2014.4*AO207*'CO2 Conversion Factors'!$J$20/0.8/1000,2096.16*AO207*'CO2 Conversion Factors'!$J$20/0.8/1000)","v":0},0,0,null,null,null,0,0,0,0,"",false,false,false,false]
[null,null,null,null,null,null,null,null,null,null,null,null,null,null,null,null,null,null,null,null,null,null,null,null,null,null,null,null,null,null,null,null,null,null,null,null,null,{"$f":"IF(O208=\"130\",2014.4*AO208*'CO2 Conversion Factors'!$D$20/0.8/1000,2096.16*AO208*'CO2 Conversion Factors'!$D$20/0.8/1000)","v":0},{"$f":"IF(O208=\"130\",2014.4*AO208*'CO2 Conversion Factors'!$G$20/0.8/1000,2096.16*AO208*'CO2 Conversion Factors'!$G$20/0.8/1000)","v":0},{"$f":"IF(O208=\"130\",2014.4*AO208*'CO2 Conversion Factors'!$J$20/0.8/1000,2096.16*AO208*'CO2 Conversion Factors'!$J$20/0.8/1000)","v":0},0,0,null,null,null,0,0,0,0,"",false,false,false,false]
[null,null,null,null,null,null,null,null,null,null,null,null,null,null,null,null,null,null,null,null,null,null,null,null,null,null,null,null,null,null,null,null,null,null,null,null,null,{"$f":"IF(O209=\"130\",2014.4*AO209*'CO2 Conversion Factors'!$D$20/0.8/1000,2096.16*AO209*'CO2 Conversion Factors'!$D$20/0.8/1000)","v":0},{"$f":"IF(O209=\"130\",2014.4*AO209*'CO2 Conversion Factors'!$G$20/0.8/1000,2096.16*AO209*'CO2 Conversion Factors'!$G$20/0.8/1000)","v":0},{"$f":"IF(O209=\"130\",2014.4*AO209*'CO2 Conversion Factors'!$J$20/0.8/1000,2096.16*AO209*'CO2 Conversion Factors'!$J$20/0.8/1000)","v":0},0,0,null,null,null,0,0,0,0,"",false,false,false,false]
[null,null,null,null,null,null,null,null,null,null,null,null,null,null,null,null,null,null,null,null,null,null,null,null,null,null,null,null,null,null,null,null,null,null,null,null,null,{"$f":"IF(O210=\"130\",2014.4*AO210*'CO2 Conversion Factors'!$D$20/0.8/1000,2096.16*AO210*'CO2 Conversion Factors'!$D$20/0.8/1000)","v":0},{"$f":"IF(O210=\"130\",2014.4*AO210*'CO2 Conversion Factors'!$G$20/0.8/1000,2096.16*AO210*'CO2 Conversion Factors'!$G$20/0.8/1000)","v":0},{"$f":"IF(O210=\"130\",2014.4*AO210*'CO2 Conversion Factors'!$J$20/0.8/1000,2096.16*AO210*'CO2 Conversion Factors'!$J$20/0.8/1000)","v":0},0,0,null,null,null,0,0,0,0,"",false,false,false,false]
[null,null,null,null,null,null,null,null,null,null,null,null,null,null,null,null,null,null,null,null,null,null,null,null,null,null,null,null,null,null,null,null,null,null,null,null,null,{"$f":"IF(O211=\"130\",2014.4*AO211*'CO2 Conversion Factors'!$D$20/0.8/1000,2096.16*AO211*'CO2 Conversion Factors'!$D$20/0.8/1000)","v":0},{"$f":"IF(O211=\"130\",2014.4*AO211*'CO2 Conversion Factors'!$G$20/0.8/1000,2096.16*AO211*'CO2 Conversion Factors'!$G$20/0.8/1000)","v":0},{"$f":"IF(O211=\"130\",2014.4*AO211*'CO2 Conversion Factors'!$J$20/0.8/1000,2096.16*AO211*'CO2 Conversion Factors'!$J$20/0.8/1000)","v":0},0,0,null,null,null,0,0,0,0,"",false,false,false,false]
[null,null,null,null,null,null,null,null,null,null,null,null,null,null,null,null,null,null,null,null,null,null,null,null,null,null,null,null,null,null,null,null,null,null,null,null,null,{"$f":"IF(O212=\"130\",2014.4*AO212*'CO2 Conversion Factors'!$D$20/0.8/1000,2096.16*AO212*'CO2 Conversion Factors'!$D$20/0.8/1000)","v":0},{"$f":"IF(O212=\"130\",2014.4*AO212*'CO2 Conversion Factors'!$G$20/0.8/1000,2096.16*AO212*'CO2 Conversion Factors'!$G$20/0.8/1000)","v":0},{"$f":"IF(O212=\"130\",2014.4*AO212*'CO2 Conversion Factors'!$J$20/0.8/1000,2096.16*AO212*'CO2 Conversion Factors'!$J$20/0.8/1000)","v":0},0,0,null,null,null,0,0,0,0,"",false,false,false,false]
[null,null,null,null,null,null,null,null,null,null,null,null,null,null,null,null,null,null,null,null,null,null,null,null,null,null,null,null,null,null,null,null,null,null,null,null,null,{"$f":"IF(O213=\"130\",2014.4*AO213*'CO2 Conversion Factors'!$D$20/0.8/1000,2096.16*AO213*'CO2 Conversion Factors'!$D$20/0.8/1000)","v":0},{"$f":"IF(O213=\"130\",2014.4*AO213*'CO2 Conversion Factors'!$G$20/0.8/1000,2096.16*AO213*'CO2 Conversion Factors'!$G$20/0.8/1000)","v":0},{"$f":"IF(O213=\"130\",2014.4*AO213*'CO2 Conversion Factors'!$J$20/0.8/1000,2096.16*AO213*'CO2 Conversion Factors'!$J$20/0.8/1000)","v":0},0,0,null,null,null,0,0,0,0,"",false,false,false,false]
[null,null,null,null,null,null,null,null,null,null,null,null,null,null,null,null,null,null,null,null,null,null,null,null,null,null,null,null,null,null,null,null,null,null,null,null,null,{"$f":"IF(O214=\"130\",2014.4*AO214*'CO2 Conversion Factors'!$D$20/0.8/1000,2096.16*AO214*'CO2 Conversion Factors'!$D$20/0.8/1000)","v":0},{"$f":"IF(O214=\"130\",2014.4*AO214*'CO2 Conversion Factors'!$G$20/0.8/1000,2096.16*AO214*'CO2 Conversion Factors'!$G$20/0.8/1000)","v":0},{"$f":"IF(O214=\"130\",2014.4*AO214*'CO2 Conversion Factors'!$J$20/0.8/1000,2096.16*AO214*'CO2 Conversion Factors'!$J$20/0.8/1000)","v":0},0,0,null,null,null,0,0,0,0,"",false,false,false,false]
[null,null,null,null,null,null,null,null,null,null,null,null,null,null,null,null,null,null,null,null,null,null,null,null,null,null,null,null,null,null,null,null,null,null,null,null,null,{"$f":"IF(O215=\"130\",2014.4*AO215*'CO2 Conversion Factors'!$D$20/0.8/1000,2096.16*AO215*'CO2 Conversion Factors'!$D$20/0.8/1000)","v":0},{"$f":"IF(O215=\"130\",2014.4*AO215*'CO2 Conversion Factors'!$G$20/0.8/1000,2096.16*AO215*'CO2 Conversion Factors'!$G$20/0.8/1000)","v":0},{"$f":"IF(O215=\"130\",2014.4*AO215*'CO2 Conversion Factors'!$J$20/0.8/1000,2096.16*AO215*'CO2 Conversion Factors'!$J$20/0.8/1000)","v":0},0,0,null,null,null,0,0,0,0,"",false,false,false,false]
[null,null,null,null,null,null,null,null,null,null,null,null,null,null,null,null,null,null,null,null,null,null,null,null,null,null,null,null,null,null,null,null,null,null,null,null,null,{"$f":"IF(O216=\"130\",2014.4*AO216*'CO2 Conversion Factors'!$D$20/0.8/1000,2096.16*AO216*'CO2 Conversion Factors'!$D$20/0.8/1000)","v":0},{"$f":"IF(O216=\"130\",2014.4*AO216*'CO2 Conversion Factors'!$G$20/0.8/1000,2096.16*AO216*'CO2 Conversion Factors'!$G$20/0.8/1000)","v":0},{"$f":"IF(O216=\"130\",2014.4*AO216*'CO2 Conversion Factors'!$J$20/0.8/1000,2096.16*AO216*'CO2 Conversion Factors'!$J$20/0.8/1000)","v":0},0,0,null,null,null,0,0,0,0,"",false,false,false,false]
[null,null,null,null,null,null,null,null,null,null,null,null,null,null,null,null,null,null,null,null,null,null,null,null,null,null,null,null,null,null,null,null,null,null,null,null,null,{"$f":"IF(O217=\"130\",2014.4*AO217*'CO2 Conversion Factors'!$D$20/0.8/1000,2096.16*AO217*'CO2 Conversion Factors'!$D$20/0.8/1000)","v":0},{"$f":"IF(O217=\"130\",2014.4*AO217*'CO2 Conversion Factors'!$G$20/0.8/1000,2096.16*AO217*'CO2 Conversion Factors'!$G$20/0.8/1000)","v":0},{"$f":"IF(O217=\"130\",2014.4*AO217*'CO2 Conversion Factors'!$J$20/0.8/1000,2096.16*AO217*'CO2 Conversion Factors'!$J$20/0.8/1000)","v":0},0,0,null,null,null,0,0,0,0,"",false,false,false,false]
[null,null,null,null,null,null,null,null,null,null,null,null,null,null,null,null,null,null,null,null,null,null,null,null,null,null,null,null,null,null,null,null,null,null,null,null,null,{"$f":"IF(O218=\"130\",2014.4*AO218*'CO2 Conversion Factors'!$D$20/0.8/1000,2096.16*AO218*'CO2 Conversion Factors'!$D$20/0.8/1000)","v":0},{"$f":"IF(O218=\"130\",2014.4*AO218*'CO2 Conversion Factors'!$G$20/0.8/1000,2096.16*AO218*'CO2 Conversion Factors'!$G$20/0.8/1000)","v":0},{"$f":"IF(O218=\"130\",2014.4*AO218*'CO2 Conversion Factors'!$J$20/0.8/1000,2096.16*AO218*'CO2 Conversion Factors'!$J$20/0.8/1000)","v":0},0,0,null,null,null,0,0,0,0,"",false,false,false,false]
[null,null,null,null,null,null,null,null,null,null,null,null,null,null,null,null,null,null,null,null,null,null,null,null,null,null,null,null,null,null,null,null,null,null,null,null,null,{"$f":"IF(O219=\"130\",2014.4*AO219*'CO2 Conversion Factors'!$D$20/0.8/1000,2096.16*AO219*'CO2 Conversion Factors'!$D$20/0.8/1000)","v":0},{"$f":"IF(O219=\"130\",2014.4*AO219*'CO2 Conversion Factors'!$G$20/0.8/1000,2096.16*AO219*'CO2 Conversion Factors'!$G$20/0.8/1000)","v":0},{"$f":"IF(O219=\"130\",2014.4*AO219*'CO2 Conversion Factors'!$J$20/0.8/1000,2096.16*AO219*'CO2 Conversion Factors'!$J$20/0.8/1000)","v":0},0,0,null,null,null,0,0,0,0,"",false,false,false,false]
[null,null,null,null,null,null,null,null,null,null,null,null,null,null,null,null,null,null,null,null,null,null,null,null,null,null,null,null,null,null,null,null,null,null,null,null,null,{"$f":"IF(O220=\"130\",2014.4*AO220*'CO2 Conversion Factors'!$D$20/0.8/1000,2096.16*AO220*'CO2 Conversion Factors'!$D$20/0.8/1000)","v":0},{"$f":"IF(O220=\"130\",2014.4*AO220*'CO2 Conversion Factors'!$G$20/0.8/1000,2096.16*AO220*'CO2 Conversion Factors'!$G$20/0.8/1000)","v":0},{"$f":"IF(O220=\"130\",2014.4*AO220*'CO2 Conversion Factors'!$J$20/0.8/1000,2096.16*AO220*'CO2 Conversion Factors'!$J$20/0.8/1000)","v":0},0,0,null,null,null,0,0,0,0,"",false,false,false,false]
[null,null,null,null,null,null,null,null,null,null,null,null,null,null,null,null,null,null,null,null,null,null,null,null,null,null,null,null,null,null,null,null,null,null,null,null,null,{"$f":"IF(O221=\"130\",2014.4*AO221*'CO2 Conversion Factors'!$D$20/0.8/1000,2096.16*AO221*'CO2 Conversion Factors'!$D$20/0.8/1000)","v":0},{"$f":"IF(O221=\"130\",2014.4*AO221*'CO2 Conversion Factors'!$G$20/0.8/1000,2096.16*AO221*'CO2 Conversion Factors'!$G$20/0.8/1000)","v":0},{"$f":"IF(O221=\"130\",2014.4*AO221*'CO2 Conversion Factors'!$J$20/0.8/1000,2096.16*AO221*'CO2 Conversion Factors'!$J$20/0.8/1000)","v":0},0,0,null,null,null,0,0,0,0,"",false,false,false,false]
[null,null,null,null,null,null,null,null,null,null,null,null,null,null,null,null,null,null,null,null,null,null,null,null,null,null,null,null,null,null,null,null,null,null,null,null,null,{"$f":"IF(O222=\"130\",2014.4*AO222*'CO2 Conversion Factors'!$D$20/0.8/1000,2096.16*AO222*'CO2 Conversion Factors'!$D$20/0.8/1000)","v":0},{"$f":"IF(O222=\"130\",2014.4*AO222*'CO2 Conversion Factors'!$G$20/0.8/1000,2096.16*AO222*'CO2 Conversion Factors'!$G$20/0.8/1000)","v":0},{"$f":"IF(O222=\"130\",2014.4*AO222*'CO2 Conversion Factors'!$J$20/0.8/1000,2096.16*AO222*'CO2 Conversion Factors'!$J$20/0.8/1000)","v":0},0,0,null,null,null,0,0,0,0,"",false,false,false,false]
[null,null,null,null,null,null,null,null,null,null,null,null,null,null,null,null,null,null,null,null,null,null,null,null,null,null,null,null,null,null,null,null,null,null,null,null,null,{"$f":"IF(O223=\"130\",2014.4*AO223*'CO2 Conversion Factors'!$D$20/0.8/1000,2096.16*AO223*'CO2 Conversion Factors'!$D$20/0.8/1000)","v":0},{"$f":"IF(O223=\"130\",2014.4*AO223*'CO2 Conversion Factors'!$G$20/0.8/1000,2096.16*AO223*'CO2 Conversion Factors'!$G$20/0.8/1000)","v":0},{"$f":"IF(O223=\"130\",2014.4*AO223*'CO2 Conversion Factors'!$J$20/0.8/1000,2096.16*AO223*'CO2 Conversion Factors'!$J$20/0.8/1000)","v":0},0,0,null,null,null,0,0,0,0,"",false,false,false,false]
[null,null,null,null,null,null,null,null,null,null,null,null,null,null,null,null,null,null,null,null,null,null,null,null,null,null,null,null,null,null,null,null,null,null,null,null,null,{"$f":"IF(O224=\"130\",2014.4*AO224*'CO2 Conversion Factors'!$D$20/0.8/1000,2096.16*AO224*'CO2 Conversion Factors'!$D$20/0.8/1000)","v":0},{"$f":"IF(O224=\"130\",2014.4*AO224*'CO2 Conversion Factors'!$G$20/0.8/1000,2096.16*AO224*'CO2 Conversion Factors'!$G$20/0.8/1000)","v":0},{"$f":"IF(O224=\"130\",2014.4*AO224*'CO2 Conversion Factors'!$J$20/0.8/1000,2096.16*AO224*'CO2 Conversion Factors'!$J$20/0.8/1000)","v":0},0,0,null,null,null,0,0,0,0,"",false,false,false,false]
[null,null,null,null,null,null,null,null,null,null,null,null,null,null,null,null,null,null,null,null,null,null,null,null,null,null,null,null,null,null,null,null,null,null,null,null,null,{"$f":"IF(O225=\"130\",2014.4*AO225*'CO2 Conversion Factors'!$D$20/0.8/1000,2096.16*AO225*'CO2 Conversion Factors'!$D$20/0.8/1000)","v":0},{"$f":"IF(O225=\"130\",2014.4*AO225*'CO2 Conversion Factors'!$G$20/0.8/1000,2096.16*AO225*'CO2 Conversion Factors'!$G$20/0.8/1000)","v":0},{"$f":"IF(O225=\"130\",2014.4*AO225*'CO2 Conversion Factors'!$J$20/0.8/1000,2096.16*AO225*'CO2 Conversion Factors'!$J$20/0.8/1000)","v":0},0,0,null,null,null,0,0,0,0,"",false,false,false,false]
[null,null,null,null,null,null,null,null,null,null,null,null,null,null,null,null,null,null,null,null,null,null,null,null,null,null,null,null,null,null,null,null,null,null,null,null,null,{"$f":"IF(O226=\"130\",2014.4*AO226*'CO2 Conversion Factors'!$D$20/0.8/1000,2096.16*AO226*'CO2 Conversion Factors'!$D$20/0.8/1000)","v":0},{"$f":"IF(O226=\"130\",2014.4*AO226*'CO2 Conversion Factors'!$G$20/0.8/1000,2096.16*AO226*'CO2 Conversion Factors'!$G$20/0.8/1000)","v":0},{"$f":"IF(O226=\"130\",2014.4*AO226*'CO2 Conversion Factors'!$J$20/0.8/1000,2096.16*AO226*'CO2 Conversion Factors'!$J$20/0.8/1000)","v":0},0,0,null,null,null,0,0,0,0,"",false,false,false,false]
[null,null,null,null,null,null,null,null,null,null,null,null,null,null,null,null,null,null,null,null,null,null,null,null,null,null,null,null,null,null,null,null,null,null,null,null,null,{"$f":"IF(O227=\"130\",2014.4*AO227*'CO2 Conversion Factors'!$D$20/0.8/1000,2096.16*AO227*'CO2 Conversion Factors'!$D$20/0.8/1000)","v":0},{"$f":"IF(O227=\"130\",2014.4*AO227*'CO2 Conversion Factors'!$G$20/0.8/1000,2096.16*AO227*'CO2 Conversion Factors'!$G$20/0.8/1000)","v":0},{"$f":"IF(O227=\"130\",2014.4*AO227*'CO2 Conversion Factors'!$J$20/0.8/1000,2096.16*AO227*'CO2 Conversion Factors'!$J$20/0.8/1000)","v":0},0,0,null,null,null,0,0,0,0,"",false,false,false,false]
[null,null,null,null,null,null,null,null,null,null,null,null,null,null,null,null,null,null,null,null,null,null,null,null,null,null,null,null,null,null,null,null,null,null,null,null,null,{"$f":"IF(O228=\"130\",2014.4*AO228*'CO2 Conversion Factors'!$D$20/0.8/1000,2096.16*AO228*'CO2 Conversion Factors'!$D$20/0.8/1000)","v":0},{"$f":"IF(O228=\"130\",2014.4*AO228*'CO2 Conversion Factors'!$G$20/0.8/1000,2096.16*AO228*'CO2 Conversion Factors'!$G$20/0.8/1000)","v":0},{"$f":"IF(O228=\"130\",2014.4*AO228*'CO2 Conversion Factors'!$J$20/0.8/1000,2096.16*AO228*'CO2 Conversion Factors'!$J$20/0.8/1000)","v":0},0,0,null,null,null,0,0,0,0,"",false,false,false,false]
[null,null,null,null,null,null,null,null,null,null,null,null,null,null,null,null,null,null,null,null,null,null,null,null,null,null,null,null,null,null,null,null,null,null,null,null,null,{"$f":"IF(O229=\"130\",2014.4*AO229*'CO2 Conversion Factors'!$D$20/0.8/1000,2096.16*AO229*'CO2 Conversion Factors'!$D$20/0.8/1000)","v":0},{"$f":"IF(O229=\"130\",2014.4*AO229*'CO2 Conversion Factors'!$G$20/0.8/1000,2096.16*AO229*'CO2 Conversion Factors'!$G$20/0.8/1000)","v":0},{"$f":"IF(O229=\"130\",2014.4*AO229*'CO2 Conversion Factors'!$J$20/0.8/1000,2096.16*AO229*'CO2 Conversion Factors'!$J$20/0.8/1000)","v":0},0,0,null,null,null,0,0,0,0,"",false,false,false,false]
[null,null,null,null,null,null,null,null,null,null,null,null,null,null,null,null,null,null,null,null,null,null,null,null,null,null,null,null,null,null,null,null,null,null,null,null,null,{"$f":"IF(O230=\"130\",2014.4*AO230*'CO2 Conversion Factors'!$D$20/0.8/1000,2096.16*AO230*'CO2 Conversion Factors'!$D$20/0.8/1000)","v":0},{"$f":"IF(O230=\"130\",2014.4*AO230*'CO2 Conversion Factors'!$G$20/0.8/1000,2096.16*AO230*'CO2 Conversion Factors'!$G$20/0.8/1000)","v":0},{"$f":"IF(O230=\"130\",2014.4*AO230*'CO2 Conversion Factors'!$J$20/0.8/1000,2096.16*AO230*'CO2 Conversion Factors'!$J$20/0.8/1000)","v":0},0,0,null,null,null,0,0,0,0,"",false,false,false,false]
[null,null,null,null,null,null,null,null,null,null,null,null,null,null,null,null,null,null,null,null,null,null,null,null,null,null,null,null,null,null,null,null,null,null,null,null,null,{"$f":"IF(O231=\"130\",2014.4*AO231*'CO2 Conversion Factors'!$D$20/0.8/1000,2096.16*AO231*'CO2 Conversion Factors'!$D$20/0.8/1000)","v":0},{"$f":"IF(O231=\"130\",2014.4*AO231*'CO2 Conversion Factors'!$G$20/0.8/1000,2096.16*AO231*'CO2 Conversion Factors'!$G$20/0.8/1000)","v":0},{"$f":"IF(O231=\"130\",2014.4*AO231*'CO2 Conversion Factors'!$J$20/0.8/1000,2096.16*AO231*'CO2 Conversion Factors'!$J$20/0.8/1000)","v":0},0,0,null,null,null,0,0,0,0,"",false,false,false,false]
[null,null,null,null,null,null,null,null,null,null,null,null,null,null,null,null,null,null,null,null,null,null,null,null,null,null,null,null,null,null,null,null,null,null,null,null,null,{"$f":"IF(O232=\"130\",2014.4*AO232*'CO2 Conversion Factors'!$D$20/0.8/1000,2096.16*AO232*'CO2 Conversion Factors'!$D$20/0.8/1000)","v":0},{"$f":"IF(O232=\"130\",2014.4*AO232*'CO2 Conversion Factors'!$G$20/0.8/1000,2096.16*AO232*'CO2 Conversion Factors'!$G$20/0.8/1000)","v":0},{"$f":"IF(O232=\"130\",2014.4*AO232*'CO2 Conversion Factors'!$J$20/0.8/1000,2096.16*AO232*'CO2 Conversion Factors'!$J$20/0.8/1000)","v":0},0,0,null,null,null,0,0,0,0,"",false,false,false,false]
[null,null,null,null,null,null,null,null,null,null,null,null,null,null,null,null,null,null,null,null,null,null,null,null,null,null,null,null,null,null,null,null,null,null,null,null,null,{"$f":"IF(O233=\"130\",2014.4*AO233*'CO2 Conversion Factors'!$D$20/0.8/1000,2096.16*AO233*'CO2 Conversion Factors'!$D$20/0.8/1000)","v":0},{"$f":"IF(O233=\"130\",2014.4*AO233*'CO2 Conversion Factors'!$G$20/0.8/1000,2096.16*AO233*'CO2 Conversion Factors'!$G$20/0.8/1000)","v":0},{"$f":"IF(O233=\"130\",2014.4*AO233*'CO2 Conversion Factors'!$J$20/0.8/1000,2096.16*AO233*'CO2 Conversion Factors'!$J$20/0.8/1000)","v":0},0,0,null,null,null,0,0,0,0,"",false,false,false,false]
[null,null,null,null,null,null,null,null,null,null,null,null,null,null,null,null,null,null,null,null,null,null,null,null,null,null,null,null,null,null,null,null,null,null,null,null,null,{"$f":"IF(O234=\"130\",2014.4*AO234*'CO2 Conversion Factors'!$D$20/0.8/1000,2096.16*AO234*'CO2 Conversion Factors'!$D$20/0.8/1000)","v":0},{"$f":"IF(O234=\"130\",2014.4*AO234*'CO2 Conversion Factors'!$G$20/0.8/1000,2096.16*AO234*'CO2 Conversion Factors'!$G$20/0.8/1000)","v":0},{"$f":"IF(O234=\"130\",2014.4*AO234*'CO2 Conversion Factors'!$J$20/0.8/1000,2096.16*AO234*'CO2 Conversion Factors'!$J$20/0.8/1000)","v":0},0,0,null,null,null,0,0,0,0,"",false,false,false,false]
[null,null,null,null,null,null,null,null,null,null,null,null,null,null,null,null,null,null,null,null,null,null,null,null,null,null,null,null,null,null,null,null,null,null,null,null,null,{"$f":"IF(O235=\"130\",2014.4*AO235*'CO2 Conversion Factors'!$D$20/0.8/1000,2096.16*AO235*'CO2 Conversion Factors'!$D$20/0.8/1000)","v":0},{"$f":"IF(O235=\"130\",2014.4*AO235*'CO2 Conversion Factors'!$G$20/0.8/1000,2096.16*AO235*'CO2 Conversion Factors'!$G$20/0.8/1000)","v":0},{"$f":"IF(O235=\"130\",2014.4*AO235*'CO2 Conversion Factors'!$J$20/0.8/1000,2096.16*AO235*'CO2 Conversion Factors'!$J$20/0.8/1000)","v":0},0,0,null,null,null,0,0,0,0,"",false,false,false,false]
[null,null,null,null,null,null,null,null,null,null,null,null,null,null,null,null,null,null,null,null,null,null,null,null,null,null,null,null,null,null,null,null,null,null,null,null,null,{"$f":"IF(O236=\"130\",2014.4*AO236*'CO2 Conversion Factors'!$D$20/0.8/1000,2096.16*AO236*'CO2 Conversion Factors'!$D$20/0.8/1000)","v":0},{"$f":"IF(O236=\"130\",2014.4*AO236*'CO2 Conversion Factors'!$G$20/0.8/1000,2096.16*AO236*'CO2 Conversion Factors'!$G$20/0.8/1000)","v":0},{"$f":"IF(O236=\"130\",2014.4*AO236*'CO2 Conversion Factors'!$J$20/0.8/1000,2096.16*AO236*'CO2 Conversion Factors'!$J$20/0.8/1000)","v":0},0,0,null,null,null,0,0,0,0,"",false,false,false,false]
[null,null,null,null,null,null,null,null,null,null,null,null,null,null,null,null,null,null,null,null,null,null,null,null,null,null,null,null,null,null,null,null,null,null,null,null,null,{"$f":"IF(O237=\"130\",2014.4*AO237*'CO2 Conversion Factors'!$D$20/0.8/1000,2096.16*AO237*'CO2 Conversion Factors'!$D$20/0.8/1000)","v":0},{"$f":"IF(O237=\"130\",2014.4*AO237*'CO2 Conversion Factors'!$G$20/0.8/1000,2096.16*AO237*'CO2 Conversion Factors'!$G$20/0.8/1000)","v":0},{"$f":"IF(O237=\"130\",2014.4*AO237*'CO2 Conversion Factors'!$J$20/0.8/1000,2096.16*AO237*'CO2 Conversion Factors'!$J$20/0.8/1000)","v":0},0,0,null,null,null,0,0,0,0,"",false,false,false,false]
[null,null,null,null,null,null,null,null,null,null,null,null,null,null,null,null,null,null,null,null,null,null,null,null,null,null,null,null,null,null,null,null,null,null,null,null,null,{"$f":"IF(O238=\"130\",2014.4*AO238*'CO2 Conversion Factors'!$D$20/0.8/1000,2096.16*AO238*'CO2 Conversion Factors'!$D$20/0.8/1000)","v":0},{"$f":"IF(O238=\"130\",2014.4*AO238*'CO2 Conversion Factors'!$G$20/0.8/1000,2096.16*AO238*'CO2 Conversion Factors'!$G$20/0.8/1000)","v":0},{"$f":"IF(O238=\"130\",2014.4*AO238*'CO2 Conversion Factors'!$J$20/0.8/1000,2096.16*AO238*'CO2 Conversion Factors'!$J$20/0.8/1000)","v":0},0,0,null,null,null,0,0,0,0,"",false,false,false,false]
[null,null,null,null,null,null,null,null,null,null,null,null,null,null,null,null,null,null,null,null,null,null,null,null,null,null,null,null,null,null,null,null,null,null,null,null,null,{"$f":"IF(O239=\"130\",2014.4*AO239*'CO2 Conversion Factors'!$D$20/0.8/1000,2096.16*AO239*'CO2 Conversion Factors'!$D$20/0.8/1000)","v":0},{"$f":"IF(O239=\"130\",2014.4*AO239*'CO2 Conversion Factors'!$G$20/0.8/1000,2096.16*AO239*'CO2 Conversion Factors'!$G$20/0.8/1000)","v":0},{"$f":"IF(O239=\"130\",2014.4*AO239*'CO2 Conversion Factors'!$J$20/0.8/1000,2096.16*AO239*'CO2 Conversion Factors'!$J$20/0.8/1000)","v":0},0,0,null,null,null,0,0,0,0,"",false,false,false,false]
[null,null,null,null,null,null,null,null,null,null,null,null,null,null,null,null,null,null,null,null,null,null,null,null,null,null,null,null,null,null,null,null,null,null,null,null,null,{"$f":"IF(O240=\"130\",2014.4*AO240*'CO2 Conversion Factors'!$D$20/0.8/1000,2096.16*AO240*'CO2 Conversion Factors'!$D$20/0.8/1000)","v":0},{"$f":"IF(O240=\"130\",2014.4*AO240*'CO2 Conversion Factors'!$G$20/0.8/1000,2096.16*AO240*'CO2 Conversion Factors'!$G$20/0.8/1000)","v":0},{"$f":"IF(O240=\"130\",2014.4*AO240*'CO2 Conversion Factors'!$J$20/0.8/1000,2096.16*AO240*'CO2 Conversion Factors'!$J$20/0.8/1000)","v":0},0,0,null,null,null,0,0,0,0,"",false,false,false,false]
[null,null,null,null,null,null,null,null,null,null,null,null,null,null,null,null,null,null,null,null,null,null,null,null,null,null,null,null,null,null,null,null,null,null,null,null,null,{"$f":"IF(O241=\"130\",2014.4*AO241*'CO2 Conversion Factors'!$D$20/0.8/1000,2096.16*AO241*'CO2 Conversion Factors'!$D$20/0.8/1000)","v":0},{"$f":"IF(O241=\"130\",2014.4*AO241*'CO2 Conversion Factors'!$G$20/0.8/1000,2096.16*AO241*'CO2 Conversion Factors'!$G$20/0.8/1000)","v":0},{"$f":"IF(O241=\"130\",2014.4*AO241*'CO2 Conversion Factors'!$J$20/0.8/1000,2096.16*AO241*'CO2 Conversion Factors'!$J$20/0.8/1000)","v":0},0,0,null,null,null,0,0,0,0,"",false,false,false,false]
[null,null,null,null,null,null,null,null,null,null,null,null,null,null,null,null,null,null,null,null,null,null,null,null,null,null,null,null,null,null,null,null,null,null,null,null,null,{"$f":"IF(O242=\"130\",2014.4*AO242*'CO2 Conversion Factors'!$D$20/0.8/1000,2096.16*AO242*'CO2 Conversion Factors'!$D$20/0.8/1000)","v":0},{"$f":"IF(O242=\"130\",2014.4*AO242*'CO2 Conversion Factors'!$G$20/0.8/1000,2096.16*AO242*'CO2 Conversion Factors'!$G$20/0.8/1000)","v":0},{"$f":"IF(O242=\"130\",2014.4*AO242*'CO2 Conversion Factors'!$J$20/0.8/1000,2096.16*AO242*'CO2 Conversion Factors'!$J$20/0.8/1000)","v":0},0,0,null,null,null,0,0,0,0,"",false,false,false,false]
[null,null,null,null,null,null,null,null,null,null,null,null,null,null,null,null,null,null,null,null,null,null,null,null,null,null,null,null,null,null,null,null,null,null,null,null,null,{"$f":"IF(O243=\"130\",2014.4*AO243*'CO2 Conversion Factors'!$D$20/0.8/1000,2096.16*AO243*'CO2 Conversion Factors'!$D$20/0.8/1000)","v":0},{"$f":"IF(O243=\"130\",2014.4*AO243*'CO2 Conversion Factors'!$G$20/0.8/1000,2096.16*AO243*'CO2 Conversion Factors'!$G$20/0.8/1000)","v":0},{"$f":"IF(O243=\"130\",2014.4*AO243*'CO2 Conversion Factors'!$J$20/0.8/1000,2096.16*AO243*'CO2 Conversion Factors'!$J$20/0.8/1000)","v":0},0,0,null,null,null,0,0,0,0,"",false,false,false,false]
[null,null,null,null,null,null,null,null,null,null,null,null,null,null,null,null,null,null,null,null,null,null,null,null,null,null,null,null,null,null,null,null,null,null,null,null,null,{"$f":"IF(O244=\"130\",2014.4*AO244*'CO2 Conversion Factors'!$D$20/0.8/1000,2096.16*AO244*'CO2 Conversion Factors'!$D$20/0.8/1000)","v":0},{"$f":"IF(O244=\"130\",2014.4*AO244*'CO2 Conversion Factors'!$G$20/0.8/1000,2096.16*AO244*'CO2 Conversion Factors'!$G$20/0.8/1000)","v":0},{"$f":"IF(O244=\"130\",2014.4*AO244*'CO2 Conversion Factors'!$J$20/0.8/1000,2096.16*AO244*'CO2 Conversion Factors'!$J$20/0.8/1000)","v":0},0,0,null,null,null,0,0,0,0,"",false,false,false,false]
[null,null,null,null,null,null,null,null,null,null,null,null,null,null,null,null,null,null,null,null,null,null,null,null,null,null,null,null,null,null,null,null,null,null,null,null,null,{"$f":"IF(O245=\"130\",2014.4*AO245*'CO2 Conversion Factors'!$D$20/0.8/1000,2096.16*AO245*'CO2 Conversion Factors'!$D$20/0.8/1000)","v":0},{"$f":"IF(O245=\"130\",2014.4*AO245*'CO2 Conversion Factors'!$G$20/0.8/1000,2096.16*AO245*'CO2 Conversion Factors'!$G$20/0.8/1000)","v":0},{"$f":"IF(O245=\"130\",2014.4*AO245*'CO2 Conversion Factors'!$J$20/0.8/1000,2096.16*AO245*'CO2 Conversion Factors'!$J$20/0.8/1000)","v":0},0,0,null,null,null,0,0,0,0,"",false,false,false,false]
[null,null,null,null,null,null,null,null,null,null,null,null,null,null,null,null,null,null,null,null,null,null,null,null,null,null,null,null,null,null,null,null,null,null,null,null,null,{"$f":"IF(O246=\"130\",2014.4*AO246*'CO2 Conversion Factors'!$D$20/0.8/1000,2096.16*AO246*'CO2 Conversion Factors'!$D$20/0.8/1000)","v":0},{"$f":"IF(O246=\"130\",2014.4*AO246*'CO2 Conversion Factors'!$G$20/0.8/1000,2096.16*AO246*'CO2 Conversion Factors'!$G$20/0.8/1000)","v":0},{"$f":"IF(O246=\"130\",2014.4*AO246*'CO2 Conversion Factors'!$J$20/0.8/1000,2096.16*AO246*'CO2 Conversion Factors'!$J$20/0.8/1000)","v":0},0,0,null,null,null,0,0,0,0,"",false,false,false,false]
[null,null,null,null,null,null,null,null,null,null,null,null,null,null,null,null,null,null,null,null,null,null,null,null,null,null,null,null,null,null,null,null,null,null,null,null,null,{"$f":"IF(O247=\"130\",2014.4*AO247*'CO2 Conversion Factors'!$D$20/0.8/1000,2096.16*AO247*'CO2 Conversion Factors'!$D$20/0.8/1000)","v":0},{"$f":"IF(O247=\"130\",2014.4*AO247*'CO2 Conversion Factors'!$G$20/0.8/1000,2096.16*AO247*'CO2 Conversion Factors'!$G$20/0.8/1000)","v":0},{"$f":"IF(O247=\"130\",2014.4*AO247*'CO2 Conversion Factors'!$J$20/0.8/1000,2096.16*AO247*'CO2 Conversion Factors'!$J$20/0.8/1000)","v":0},0,0,null,null,null,0,0,0,0,"",false,false,false,false]
[null,null,null,null,null,null,null,null,null,null,null,null,null,null,null,null,null,null,null,null,null,null,null,null,null,null,null,null,null,null,null,null,null,null,null,null,null,{"$f":"IF(O248=\"130\",2014.4*AO248*'CO2 Conversion Factors'!$D$20/0.8/1000,2096.16*AO248*'CO2 Conversion Factors'!$D$20/0.8/1000)","v":0},{"$f":"IF(O248=\"130\",2014.4*AO248*'CO2 Conversion Factors'!$G$20/0.8/1000,2096.16*AO248*'CO2 Conversion Factors'!$G$20/0.8/1000)","v":0},{"$f":"IF(O248=\"130\",2014.4*AO248*'CO2 Conversion Factors'!$J$20/0.8/1000,2096.16*AO248*'CO2 Conversion Factors'!$J$20/0.8/1000)","v":0},0,0,null,null,null,0,0,0,0,"",false,false,false,false]
[null,null,null,null,null,null,null,null,null,null,null,null,null,null,null,null,null,null,null,null,null,null,null,null,null,null,null,null,null,null,null,null,null,null,null,null,null,{"$f":"IF(O249=\"130\",2014.4*AO249*'CO2 Conversion Factors'!$D$20/0.8/1000,2096.16*AO249*'CO2 Conversion Factors'!$D$20/0.8/1000)","v":0},{"$f":"IF(O249=\"130\",2014.4*AO249*'CO2 Conversion Factors'!$G$20/0.8/1000,2096.16*AO249*'CO2 Conversion Factors'!$G$20/0.8/1000)","v":0},{"$f":"IF(O249=\"130\",2014.4*AO249*'CO2 Conversion Factors'!$J$20/0.8/1000,2096.16*AO249*'CO2 Conversion Factors'!$J$20/0.8/1000)","v":0},0,0,null,null,null,0,0,0,0,"",false,false,false,false]
[null,null,null,null,null,null,null,null,null,null,null,null,null,null,null,null,null,null,null,null,null,null,null,null,null,null,null,null,null,null,null,null,null,null,null,null,null,{"$f":"IF(O250=\"130\",2014.4*AO250*'CO2 Conversion Factors'!$D$20/0.8/1000,2096.16*AO250*'CO2 Conversion Factors'!$D$20/0.8/1000)","v":0},{"$f":"IF(O250=\"130\",2014.4*AO250*'CO2 Conversion Factors'!$G$20/0.8/1000,2096.16*AO250*'CO2 Conversion Factors'!$G$20/0.8/1000)","v":0},{"$f":"IF(O250=\"130\",2014.4*AO250*'CO2 Conversion Factors'!$J$20/0.8/1000,2096.16*AO250*'CO2 Conversion Factors'!$J$20/0.8/1000)","v":0},0,0,null,null,null,0,0,0,0,"",false,false,false,false]
[null,null,null,null,null,null,null,null,null,null,null,null,null,null,null,null,null,null,null,null,null,null,null,null,null,null,null,null,null,null,null,null,null,null,null,null,null,{"$f":"IF(O251=\"130\",2014.4*AO251*'CO2 Conversion Factors'!$D$20/0.8/1000,2096.16*AO251*'CO2 Conversion Factors'!$D$20/0.8/1000)","v":0},{"$f":"IF(O251=\"130\",2014.4*AO251*'CO2 Conversion Factors'!$G$20/0.8/1000,2096.16*AO251*'CO2 Conversion Factors'!$G$20/0.8/1000)","v":0},{"$f":"IF(O251=\"130\",2014.4*AO251*'CO2 Conversion Factors'!$J$20/0.8/1000,2096.16*AO251*'CO2 Conversion Factors'!$J$20/0.8/1000)","v":0},0,0,null,null,null,0,0,0,0,"",false,false,false,false]
[null,null,null,null,null,null,null,null,null,null,null,null,null,null,null,null,null,null,null,null,null,null,null,null,null,null,null,null,null,null,null,null,null,null,null,null,null,{"$f":"IF(O252=\"130\",2014.4*AO252*'CO2 Conversion Factors'!$D$20/0.8/1000,2096.16*AO252*'CO2 Conversion Factors'!$D$20/0.8/1000)","v":0},{"$f":"IF(O252=\"130\",2014.4*AO252*'CO2 Conversion Factors'!$G$20/0.8/1000,2096.16*AO252*'CO2 Conversion Factors'!$G$20/0.8/1000)","v":0},{"$f":"IF(O252=\"130\",2014.4*AO252*'CO2 Conversion Factors'!$J$20/0.8/1000,2096.16*AO252*'CO2 Conversion Factors'!$J$20/0.8/1000)","v":0},0,0,null,null,null,0,0,0,0,"",false,false,false,false]
[null,null,null,null,null,null,null,null,null,null,null,null,null,null,null,null,null,null,null,null,null,null,null,null,null,null,null,null,null,null,null,null,null,null,null,null,null,{"$f":"IF(O253=\"130\",2014.4*AO253*'CO2 Conversion Factors'!$D$20/0.8/1000,2096.16*AO253*'CO2 Conversion Factors'!$D$20/0.8/1000)","v":0},{"$f":"IF(O253=\"130\",2014.4*AO253*'CO2 Conversion Factors'!$G$20/0.8/1000,2096.16*AO253*'CO2 Conversion Factors'!$G$20/0.8/1000)","v":0},{"$f":"IF(O253=\"130\",2014.4*AO253*'CO2 Conversion Factors'!$J$20/0.8/1000,2096.16*AO253*'CO2 Conversion Factors'!$J$20/0.8/1000)","v":0},0,0,null,null,null,0,0,0,0,"",false,false,false,false]
[null,null,null,null,null,null,null,null,null,null,null,null,null,null,null,null,null,null,null,null,null,null,null,null,null,null,null,null,null,null,null,null,null,null,null,null,null,{"$f":"IF(O254=\"130\",2014.4*AO254*'CO2 Conversion Factors'!$D$20/0.8/1000,2096.16*AO254*'CO2 Conversion Factors'!$D$20/0.8/1000)","v":0},{"$f":"IF(O254=\"130\",2014.4*AO254*'CO2 Conversion Factors'!$G$20/0.8/1000,2096.16*AO254*'CO2 Conversion Factors'!$G$20/0.8/1000)","v":0},{"$f":"IF(O254=\"130\",2014.4*AO254*'CO2 Conversion Factors'!$J$20/0.8/1000,2096.16*AO254*'CO2 Conversion Factors'!$J$20/0.8/1000)","v":0},0,0,null,null,null,0,0,0,0,"",false,false,false,false]
[null,null,null,null,null,null,null,null,null,null,null,null,null,null,null,null,null,null,null,null,null,null,null,null,null,null,null,null,null,null,null,null,null,null,null,null,null,{"$f":"IF(O255=\"130\",2014.4*AO255*'CO2 Conversion Factors'!$D$20/0.8/1000,2096.16*AO255*'CO2 Conversion Factors'!$D$20/0.8/1000)","v":0},{"$f":"IF(O255=\"130\",2014.4*AO255*'CO2 Conversion Factors'!$G$20/0.8/1000,2096.16*AO255*'CO2 Conversion Factors'!$G$20/0.8/1000)","v":0},{"$f":"IF(O255=\"130\",2014.4*AO255*'CO2 Conversion Factors'!$J$20/0.8/1000,2096.16*AO255*'CO2 Conversion Factors'!$J$20/0.8/1000)","v":0},0,0,null,null,null,0,0,0,0,"",false,false,false,false]
[null,null,null,null,null,null,null,null,null,null,null,null,null,null,null,null,null,null,null,null,null,null,null,null,null,null,null,null,null,null,null,null,null,null,null,null,null,{"$f":"IF(O256=\"130\",2014.4*AO256*'CO2 Conversion Factors'!$D$20/0.8/1000,2096.16*AO256*'CO2 Conversion Factors'!$D$20/0.8/1000)","v":0},{"$f":"IF(O256=\"130\",2014.4*AO256*'CO2 Conversion Factors'!$G$20/0.8/1000,2096.16*AO256*'CO2 Conversion Factors'!$G$20/0.8/1000)","v":0},{"$f":"IF(O256=\"130\",2014.4*AO256*'CO2 Conversion Factors'!$J$20/0.8/1000,2096.16*AO256*'CO2 Conversion Factors'!$J$20/0.8/1000)","v":0},0,0,null,null,null,0,0,0,0,"",false,false,false,false]
[null,null,null,null,null,null,null,null,null,null,null,null,null,null,null,null,null,null,null,null,null,null,null,null,null,null,null,null,null,null,null,null,null,null,null,null,null,{"$f":"IF(O257=\"130\",2014.4*AO257*'CO2 Conversion Factors'!$D$20/0.8/1000,2096.16*AO257*'CO2 Conversion Factors'!$D$20/0.8/1000)","v":0},{"$f":"IF(O257=\"130\",2014.4*AO257*'CO2 Conversion Factors'!$G$20/0.8/1000,2096.16*AO257*'CO2 Conversion Factors'!$G$20/0.8/1000)","v":0},{"$f":"IF(O257=\"130\",2014.4*AO257*'CO2 Conversion Factors'!$J$20/0.8/1000,2096.16*AO257*'CO2 Conversion Factors'!$J$20/0.8/1000)","v":0},0,0,null,null,null,0,0,0,0,"",false,false,false,false]
[null,null,null,null,null,null,null,null,null,null,null,null,null,null,null,null,null,null,null,null,null,null,null,null,null,null,null,null,null,null,null,null,null,null,null,null,null,{"$f":"IF(O258=\"130\",2014.4*AO258*'CO2 Conversion Factors'!$D$20/0.8/1000,2096.16*AO258*'CO2 Conversion Factors'!$D$20/0.8/1000)","v":0},{"$f":"IF(O258=\"130\",2014.4*AO258*'CO2 Conversion Factors'!$G$20/0.8/1000,2096.16*AO258*'CO2 Conversion Factors'!$G$20/0.8/1000)","v":0},{"$f":"IF(O258=\"130\",2014.4*AO258*'CO2 Conversion Factors'!$J$20/0.8/1000,2096.16*AO258*'CO2 Conversion Factors'!$J$20/0.8/1000)","v":0},0,0,null,null,null,0,0,0,0,"",false,false,false,false]
[null,null,null,null,null,null,null,null,null,null,null,null,null,null,null,null,null,null,null,null,null,null,null,null,null,null,null,null,null,null,null,null,null,null,null,null,null,{"$f":"IF(O259=\"130\",2014.4*AO259*'CO2 Conversion Factors'!$D$20/0.8/1000,2096.16*AO259*'CO2 Conversion Factors'!$D$20/0.8/1000)","v":0},{"$f":"IF(O259=\"130\",2014.4*AO259*'CO2 Conversion Factors'!$G$20/0.8/1000,2096.16*AO259*'CO2 Conversion Factors'!$G$20/0.8/1000)","v":0},{"$f":"IF(O259=\"130\",2014.4*AO259*'CO2 Conversion Factors'!$J$20/0.8/1000,2096.16*AO259*'CO2 Conversion Factors'!$J$20/0.8/1000)","v":0},{"$f":"IFERROR(IF(OR(L259=\"BLW\",L259=\"PRI\",L259=\"LNK\"),IF(Cover_Select_SteamCostUnits=\"£/1000kg\",11.6*(VLOOKUP($I259,Abb_Lookup_OrifaceDia,2,FALSE)^2)*SQRT(($O259-$P259)*($O259+$P259)),25.57363*(VLOOKUP($I259,Abb_Lookup_OrifaceDia,2,FALSE)^2)*SQRT(($O259-$P259)*($O259+$P259)))*(VLOOKUP(AE259,Cover_Lookup_OpTime,4,FALSE)/1000),IF(L259=\"LL\",IF(Cover_Select_SteamCostUnits=\"£/1000kg\",11.6*(VLOOKUP($I259,Abb_Lookup_OrifaceDia,2,FALSE)^2)*SQRT(($O259-$P259)*($O259+$P259)),25.57363*(VLOOKUP($I259,Abb_Lookup_OrifaceDia,2,FALSE)^2)*SQRT(($O259-$P259)*($O259+$P259)))*(VLOOKUP(AE259,Cover_Lookup_OpTime,4,FALSE)/2000),IF(L259=\"SL\",IF(Cover_Select_SteamCostUnits=\"£/1000kg\",11.6*(VLOOKUP($I259,Abb_Lookup_OrifaceDia,2,FALSE)^2)*SQRT(($O259-$P259)*($O259+$P259)),25.57363*(VLOOKUP($I259,Abb_Lookup_OrifaceDia,2,FALSE)^2)*SQRT(($O259-$P259)*($O259+$P259)))*(VLOOKUP(AE259,Cover_Lookup_OpTime,4,FALSE)/4000),0))),0)","v":0},0,null,null,null,0,0,0,0,"",false,false,false,false]
[null,null,null,null,null,null,null,null,null,null,null,null,null,null,null,null,null,null,null,null,null,null,null,null,null,null,null,null,null,null,null,null,null,null,null,null,null,{"$f":"IF(O260=\"130\",2014.4*AO260*'CO2 Conversion Factors'!$D$20/0.8/1000,2096.16*AO260*'CO2 Conversion Factors'!$D$20/0.8/1000)","v":0},{"$f":"IF(O260=\"130\",2014.4*AO260*'CO2 Conversion Factors'!$G$20/0.8/1000,2096.16*AO260*'CO2 Conversion Factors'!$G$20/0.8/1000)","v":0},{"$f":"IF(O260=\"130\",2014.4*AO260*'CO2 Conversion Factors'!$J$20/0.8/1000,2096.16*AO260*'CO2 Conversion Factors'!$J$20/0.8/1000)","v":0},0,{"$f":"IFERROR(AO260*Cover_Select_SteamCost,0)","v":0},null,null,null,{"$f":"IF(NOT(OR(L260=\"NIS\",L260=\"OFF\")),F260)","v":0},{"$f":"IF(NOT(OR(L260=\"NIS\",L260=\"OFF\",L260=\"PO\")),F260)","v":0},{"$f":"IF(NOT(OR(L260=\"NIS\",L260=\"OFF\")),H260)","v":0},{"$f":"IF(NOT(OR(L260=\"NIS\",L260=\"OFF\",L260=\"PO\")),H260)","v":0},"",false,false,false,false]
[null,null,null,null,null,null,null,null,null,null,null,null,null,null,null,null,null,null,null,null,null,null,null,null,null,null,null,null,null,null,null,null,null,null,null,null,null,{"$f":"IF(O261=\"130\",2014.4*AO261*'CO2 Conversion Factors'!$D$20/0.8/1000,2096.16*AO261*'CO2 Conversion Factors'!$D$20/0.8/1000)","v":0},{"$f":"IF(O261=\"130\",2014.4*AO261*'CO2 Conversion Factors'!$G$20/0.8/1000,2096.16*AO261*'CO2 Conversion Factors'!$G$20/0.8/1000)","v":0},{"$f":"IF(O261=\"130\",2014.4*AO261*'CO2 Conversion Factors'!$J$20/0.8/1000,2096.16*AO261*'CO2 Conversion Factors'!$J$20/0.8/1000)","v":0},0,0,null,null,null,0,0,0,0,{"$f":"F261&H261","v":""},{"$f":"IF(L261=\"CLD\", H261)","v":false},{"$f":"IF(L261=\"SL\", H261)","v":false},{"$f":"IF(L261=\"LL\", H261)","v":false},{"$f":"IF(L261=\"BLW\", H261)","v":false}]
[null,null,null,null,null,null,null,null,null,null,null,null,null,null,null,null,null,null,null,null,null,null,null,null,null,null,null,null,null,null,null,null,null,null,null,null,null,{"$f":"IF(O262=\"130\",2014.4*AO262*'CO2 Conversion Factors'!$D$20/0.8/1000,2096.16*AO262*'CO2 Conversion Factors'!$D$20/0.8/1000)","v":0},{"$f":"IF(O262=\"130\",2014.4*AO262*'CO2 Conversion Factors'!$G$20/0.8/1000,2096.16*AO262*'CO2 Conversion Factors'!$G$20/0.8/1000)","v":0},{"$f":"IF(O262=\"130\",2014.4*AO262*'CO2 Conversion Factors'!$J$20/0.8/1000,2096.16*AO262*'CO2 Conversion Factors'!$J$20/0.8/1000)","v":0},0,0,null,null,null,0,0,0,0,"",false,false,false,false]
[null,null,null,null,null,null,null,null,null,null,null,null,null,null,null,null,null,null,null,null,null,null,null,null,null,null,null,null,null,null,null,null,null,null,null,null,null,{"$f":"IF(O263=\"130\",2014.4*AO263*'CO2 Conversion Factors'!$D$20/0.8/1000,2096.16*AO263*'CO2 Conversion Factors'!$D$20/0.8/1000)","v":0},{"$f":"IF(O263=\"130\",2014.4*AO263*'CO2 Conversion Factors'!$G$20/0.8/1000,2096.16*AO263*'CO2 Conversion Factors'!$G$20/0.8/1000)","v":0},{"$f":"IF(O263=\"130\",2014.4*AO263*'CO2 Conversion Factors'!$J$20/0.8/1000,2096.16*AO263*'CO2 Conversion Factors'!$J$20/0.8/1000)","v":0},0,0,null,null,null,0,0,0,0,"",false,false,false,false]
[null,null,null,null,null,null,null,null,null,null,null,null,null,null,null,null,null,null,null,null,null,null,null,null,null,null,null,null,null,null,null,null,null,null,null,null,null,{"$f":"IF(O264=\"130\",2014.4*AO264*'CO2 Conversion Factors'!$D$20/0.8/1000,2096.16*AO264*'CO2 Conversion Factors'!$D$20/0.8/1000)","v":0},{"$f":"IF(O264=\"130\",2014.4*AO264*'CO2 Conversion Factors'!$G$20/0.8/1000,2096.16*AO264*'CO2 Conversion Factors'!$G$20/0.8/1000)","v":0},{"$f":"IF(O264=\"130\",2014.4*AO264*'CO2 Conversion Factors'!$J$20/0.8/1000,2096.16*AO264*'CO2 Conversion Factors'!$J$20/0.8/1000)","v":0},0,0,null,null,null,0,0,0,0,"",false,false,false,false]
[null,null,null,null,null,null,null,null,null,null,null,null,null,null,null,null,null,null,null,null,null,null,null,null,null,null,null,null,null,null,null,null,null,null,null,null,null,{"$f":"IF(O265=\"130\",2014.4*AO265*'CO2 Conversion Factors'!$D$20/0.8/1000,2096.16*AO265*'CO2 Conversion Factors'!$D$20/0.8/1000)","v":0},{"$f":"IF(O265=\"130\",2014.4*AO265*'CO2 Conversion Factors'!$G$20/0.8/1000,2096.16*AO265*'CO2 Conversion Factors'!$G$20/0.8/1000)","v":0},{"$f":"IF(O265=\"130\",2014.4*AO265*'CO2 Conversion Factors'!$J$20/0.8/1000,2096.16*AO265*'CO2 Conversion Factors'!$J$20/0.8/1000)","v":0},0,0,null,null,null,0,0,0,0,"",false,false,false,false]
[null,null,null,null,null,null,null,null,null,null,null,null,null,null,null,null,null,null,null,null,null,null,null,null,null,null,null,null,null,null,null,null,null,null,null,null,null,{"$f":"IF(O266=\"130\",2014.4*AO266*'CO2 Conversion Factors'!$D$20/0.8/1000,2096.16*AO266*'CO2 Conversion Factors'!$D$20/0.8/1000)","v":0},{"$f":"IF(O266=\"130\",2014.4*AO266*'CO2 Conversion Factors'!$G$20/0.8/1000,2096.16*AO266*'CO2 Conversion Factors'!$G$20/0.8/1000)","v":0},{"$f":"IF(O266=\"130\",2014.4*AO266*'CO2 Conversion Factors'!$J$20/0.8/1000,2096.16*AO266*'CO2 Conversion Factors'!$J$20/0.8/1000)","v":0},0,0,null,null,null,0,0,0,0,"",false,false,false,false]
[null,null,null,null,null,null,null,null,null,null,null,null,null,null,null,null,null,null,null,null,null,null,null,null,null,null,null,null,null,null,null,null,null,null,null,null,null,{"$f":"IF(O267=\"130\",2014.4*AO267*'CO2 Conversion Factors'!$D$20/0.8/1000,2096.16*AO267*'CO2 Conversion Factors'!$D$20/0.8/1000)","v":0},{"$f":"IF(O267=\"130\",2014.4*AO267*'CO2 Conversion Factors'!$G$20/0.8/1000,2096.16*AO267*'CO2 Conversion Factors'!$G$20/0.8/1000)","v":0},{"$f":"IF(O267=\"130\",2014.4*AO267*'CO2 Conversion Factors'!$J$20/0.8/1000,2096.16*AO267*'CO2 Conversion Factors'!$J$20/0.8/1000)","v":0},0,0,null,null,null,0,0,0,0,"",false,false,false,false]
[null,null,null,null,null,null,null,null,null,null,null,null,null,null,null,null,null,null,null,null,null,null,null,null,null,null,null,null,null,null,null,null,null,null,null,null,null,{"$f":"IF(O268=\"130\",2014.4*AO268*'CO2 Conversion Factors'!$D$20/0.8/1000,2096.16*AO268*'CO2 Conversion Factors'!$D$20/0.8/1000)","v":0},{"$f":"IF(O268=\"130\",2014.4*AO268*'CO2 Conversion Factors'!$G$20/0.8/1000,2096.16*AO268*'CO2 Conversion Factors'!$G$20/0.8/1000)","v":0},{"$f":"IF(O268=\"130\",2014.4*AO268*'CO2 Conversion Factors'!$J$20/0.8/1000,2096.16*AO268*'CO2 Conversion Factors'!$J$20/0.8/1000)","v":0},0,0,null,null,null,0,0,0,0,"",false,false,false,false]
[null,null,null,null,null,null,null,null,null,null,null,null,null,null,null,null,null,null,null,null,null,null,null,null,null,null,null,null,null,null,null,null,null,null,null,null,null,{"$f":"IF(O269=\"130\",2014.4*AO269*'CO2 Conversion Factors'!$D$20/0.8/1000,2096.16*AO269*'CO2 Conversion Factors'!$D$20/0.8/1000)","v":0},{"$f":"IF(O269=\"130\",2014.4*AO269*'CO2 Conversion Factors'!$G$20/0.8/1000,2096.16*AO269*'CO2 Conversion Factors'!$G$20/0.8/1000)","v":0},{"$f":"IF(O269=\"130\",2014.4*AO269*'CO2 Conversion Factors'!$J$20/0.8/1000,2096.16*AO269*'CO2 Conversion Factors'!$J$20/0.8/1000)","v":0},0,0,null,null,null,0,0,0,0,"",false,false,false,false]
[null,null,null,null,null,null,null,null,null,null,null,null,null,null,null,null,null,null,null,null,null,null,null,null,null,null,null,null,null,null,null,null,null,null,null,null,null,{"$f":"IF(O270=\"130\",2014.4*AO270*'CO2 Conversion Factors'!$D$20/0.8/1000,2096.16*AO270*'CO2 Conversion Factors'!$D$20/0.8/1000)","v":0},{"$f":"IF(O270=\"130\",2014.4*AO270*'CO2 Conversion Factors'!$G$20/0.8/1000,2096.16*AO270*'CO2 Conversion Factors'!$G$20/0.8/1000)","v":0},{"$f":"IF(O270=\"130\",2014.4*AO270*'CO2 Conversion Factors'!$J$20/0.8/1000,2096.16*AO270*'CO2 Conversion Factors'!$J$20/0.8/1000)","v":0},0,0,null,null,null,0,0,0,0,"",false,false,false,false]
[null,null,null,null,null,null,null,null,null,null,null,null,null,null,null,null,null,null,null,null,null,null,null,null,null,null,null,null,null,null,null,null,null,null,null,null,null,{"$f":"IF(O271=\"130\",2014.4*AO271*'CO2 Conversion Factors'!$D$20/0.8/1000,2096.16*AO271*'CO2 Conversion Factors'!$D$20/0.8/1000)","v":0},{"$f":"IF(O271=\"130\",2014.4*AO271*'CO2 Conversion Factors'!$G$20/0.8/1000,2096.16*AO271*'CO2 Conversion Factors'!$G$20/0.8/1000)","v":0},{"$f":"IF(O271=\"130\",2014.4*AO271*'CO2 Conversion Factors'!$J$20/0.8/1000,2096.16*AO271*'CO2 Conversion Factors'!$J$20/0.8/1000)","v":0},0,0,null,null,null,0,0,0,0,"",false,false,false,false]
[null,null,null,null,null,null,null,null,null,null,null,null,null,null,null,null,null,null,null,null,null,null,null,null,null,null,null,null,null,null,null,null,null,null,null,null,null,{"$f":"IF(O272=\"130\",2014.4*AO272*'CO2 Conversion Factors'!$D$20/0.8/1000,2096.16*AO272*'CO2 Conversion Factors'!$D$20/0.8/1000)","v":0},{"$f":"IF(O272=\"130\",2014.4*AO272*'CO2 Conversion Factors'!$G$20/0.8/1000,2096.16*AO272*'CO2 Conversion Factors'!$G$20/0.8/1000)","v":0},{"$f":"IF(O272=\"130\",2014.4*AO272*'CO2 Conversion Factors'!$J$20/0.8/1000,2096.16*AO272*'CO2 Conversion Factors'!$J$20/0.8/1000)","v":0},0,0,null,null,null,0,0,0,0,"",false,false,false,false]
[null,null,null,null,null,null,null,null,null,null,null,null,null,null,null,null,null,null,null,null,null,null,null,null,null,null,null,null,null,null,null,null,null,null,null,null,null,{"$f":"IF(O273=\"130\",2014.4*AO273*'CO2 Conversion Factors'!$D$20/0.8/1000,2096.16*AO273*'CO2 Conversion Factors'!$D$20/0.8/1000)","v":0},{"$f":"IF(O273=\"130\",2014.4*AO273*'CO2 Conversion Factors'!$G$20/0.8/1000,2096.16*AO273*'CO2 Conversion Factors'!$G$20/0.8/1000)","v":0},{"$f":"IF(O273=\"130\",2014.4*AO273*'CO2 Conversion Factors'!$J$20/0.8/1000,2096.16*AO273*'CO2 Conversion Factors'!$J$20/0.8/1000)","v":0},0,0,null,null,null,0,0,0,0,"",false,false,false,false]
[null,null,null,null,null,null,null,null,null,null,null,null,null,null,null,null,null,null,null,null,null,null,null,null,null,null,null,null,null,null,null,null,null,null,null,null,null,{"$f":"IF(O274=\"130\",2014.4*AO274*'CO2 Conversion Factors'!$D$20/0.8/1000,2096.16*AO274*'CO2 Conversion Factors'!$D$20/0.8/1000)","v":0},{"$f":"IF(O274=\"130\",2014.4*AO274*'CO2 Conversion Factors'!$G$20/0.8/1000,2096.16*AO274*'CO2 Conversion Factors'!$G$20/0.8/1000)","v":0},{"$f":"IF(O274=\"130\",2014.4*AO274*'CO2 Conversion Factors'!$J$20/0.8/1000,2096.16*AO274*'CO2 Conversion Factors'!$J$20/0.8/1000)","v":0},0,0,null,null,null,0,0,0,0,"",false,false,false,false]
[null,null,null,null,null,null,null,null,null,null,null,null,null,null,null,null,null,null,null,null,null,null,null,null,null,null,null,null,null,null,null,null,null,null,null,null,null,{"$f":"IF(O275=\"130\",2014.4*AO275*'CO2 Conversion Factors'!$D$20/0.8/1000,2096.16*AO275*'CO2 Conversion Factors'!$D$20/0.8/1000)","v":0},{"$f":"IF(O275=\"130\",2014.4*AO275*'CO2 Conversion Factors'!$G$20/0.8/1000,2096.16*AO275*'CO2 Conversion Factors'!$G$20/0.8/1000)","v":0},{"$f":"IF(O275=\"130\",2014.4*AO275*'CO2 Conversion Factors'!$J$20/0.8/1000,2096.16*AO275*'CO2 Conversion Factors'!$J$20/0.8/1000)","v":0},0,0,null,null,null,0,0,0,0,"",false,false,false,false]
[null,null,null,null,null,null,null,null,null,null,null,null,null,null,null,null,null,null,null,null,null,null,null,null,null,null,null,null,null,null,null,null,null,null,null,null,null,{"$f":"IF(O276=\"130\",2014.4*AO276*'CO2 Conversion Factors'!$D$20/0.8/1000,2096.16*AO276*'CO2 Conversion Factors'!$D$20/0.8/1000)","v":0},{"$f":"IF(O276=\"130\",2014.4*AO276*'CO2 Conversion Factors'!$G$20/0.8/1000,2096.16*AO276*'CO2 Conversion Factors'!$G$20/0.8/1000)","v":0},{"$f":"IF(O276=\"130\",2014.4*AO276*'CO2 Conversion Factors'!$J$20/0.8/1000,2096.16*AO276*'CO2 Conversion Factors'!$J$20/0.8/1000)","v":0},0,0,null,null,null,0,0,0,0,"",false,false,false,false]
[null,null,null,null,null,null,null,null,null,null,null,null,null,null,null,null,null,null,null,null,null,null,null,null,null,null,null,null,null,null,null,null,null,null,null,null,null,{"$f":"IF(O277=\"130\",2014.4*AO277*'CO2 Conversion Factors'!$D$20/0.8/1000,2096.16*AO277*'CO2 Conversion Factors'!$D$20/0.8/1000)","v":0},{"$f":"IF(O277=\"130\",2014.4*AO277*'CO2 Conversion Factors'!$G$20/0.8/1000,2096.16*AO277*'CO2 Conversion Factors'!$G$20/0.8/1000)","v":0},{"$f":"IF(O277=\"130\",2014.4*AO277*'CO2 Conversion Factors'!$J$20/0.8/1000,2096.16*AO277*'CO2 Conversion Factors'!$J$20/0.8/1000)","v":0},0,0,null,null,null,0,0,0,0,"",false,false,false,false]
[null,null,null,null,null,null,null,null,null,null,null,null,null,null,null,null,null,null,null,null,null,null,null,null,null,null,null,null,null,null,null,null,null,null,null,null,null,{"$f":"IF(O278=\"130\",2014.4*AO278*'CO2 Conversion Factors'!$D$20/0.8/1000,2096.16*AO278*'CO2 Conversion Factors'!$D$20/0.8/1000)","v":0},{"$f":"IF(O278=\"130\",2014.4*AO278*'CO2 Conversion Factors'!$G$20/0.8/1000,2096.16*AO278*'CO2 Conversion Factors'!$G$20/0.8/1000)","v":0},{"$f":"IF(O278=\"130\",2014.4*AO278*'CO2 Conversion Factors'!$J$20/0.8/1000,2096.16*AO278*'CO2 Conversion Factors'!$J$20/0.8/1000)","v":0},0,0,null,null,null,0,0,0,0,"",false,false,false,false]
[null,null,null,null,null,null,null,null,null,null,null,null,null,null,null,null,null,null,null,null,null,null,null,null,null,null,null,null,null,null,null,null,null,null,null,null,null,{"$f":"IF(O279=\"130\",2014.4*AO279*'CO2 Conversion Factors'!$D$20/0.8/1000,2096.16*AO279*'CO2 Conversion Factors'!$D$20/0.8/1000)","v":0},{"$f":"IF(O279=\"130\",2014.4*AO279*'CO2 Conversion Factors'!$G$20/0.8/1000,2096.16*AO279*'CO2 Conversion Factors'!$G$20/0.8/1000)","v":0},{"$f":"IF(O279=\"130\",2014.4*AO279*'CO2 Conversion Factors'!$J$20/0.8/1000,2096.16*AO279*'CO2 Conversion Factors'!$J$20/0.8/1000)","v":0},0,0,null,null,null,0,0,0,0,"",false,false,false,false]
[null,null,null,null,null,null,null,null,null,null,null,null,null,null,null,null,null,null,null,null,null,null,null,null,null,null,null,null,null,null,null,null,null,null,null,null,null,{"$f":"IF(O280=\"130\",2014.4*AO280*'CO2 Conversion Factors'!$D$20/0.8/1000,2096.16*AO280*'CO2 Conversion Factors'!$D$20/0.8/1000)","v":0},{"$f":"IF(O280=\"130\",2014.4*AO280*'CO2 Conversion Factors'!$G$20/0.8/1000,2096.16*AO280*'CO2 Conversion Factors'!$G$20/0.8/1000)","v":0},{"$f":"IF(O280=\"130\",2014.4*AO280*'CO2 Conversion Factors'!$J$20/0.8/1000,2096.16*AO280*'CO2 Conversion Factors'!$J$20/0.8/1000)","v":0},0,0,null,null,null,0,0,0,0,"",false,false,false,false]
[null,null,null,null,null,null,null,null,null,null,null,null,null,null,null,null,null,null,null,null,null,null,null,null,null,null,null,null,null,null,null,null,null,null,null,null,null,{"$f":"IF(O281=\"130\",2014.4*AO281*'CO2 Conversion Factors'!$D$20/0.8/1000,2096.16*AO281*'CO2 Conversion Factors'!$D$20/0.8/1000)","v":0},{"$f":"IF(O281=\"130\",2014.4*AO281*'CO2 Conversion Factors'!$G$20/0.8/1000,2096.16*AO281*'CO2 Conversion Factors'!$G$20/0.8/1000)","v":0},{"$f":"IF(O281=\"130\",2014.4*AO281*'CO2 Conversion Factors'!$J$20/0.8/1000,2096.16*AO281*'CO2 Conversion Factors'!$J$20/0.8/1000)","v":0},0,0,null,null,null,0,0,0,0,"",false,false,false,false]
[null,null,null,null,null,null,null,null,null,null,null,null,null,null,null,null,null,null,null,null,null,null,null,null,null,null,null,null,null,null,null,null,null,null,null,null,null,{"$f":"IF(O282=\"130\",2014.4*AO282*'CO2 Conversion Factors'!$D$20/0.8/1000,2096.16*AO282*'CO2 Conversion Factors'!$D$20/0.8/1000)","v":0},{"$f":"IF(O282=\"130\",2014.4*AO282*'CO2 Conversion Factors'!$G$20/0.8/1000,2096.16*AO282*'CO2 Conversion Factors'!$G$20/0.8/1000)","v":0},{"$f":"IF(O282=\"130\",2014.4*AO282*'CO2 Conversion Factors'!$J$20/0.8/1000,2096.16*AO282*'CO2 Conversion Factors'!$J$20/0.8/1000)","v":0},0,0,null,null,null,0,0,0,0,"",false,false,false,false]
[null,null,null,null,null,null,null,null,null,null,null,null,null,null,null,null,null,null,null,null,null,null,null,null,null,null,null,null,null,null,null,null,null,null,null,null,null,{"$f":"IF(O283=\"130\",2014.4*AO283*'CO2 Conversion Factors'!$D$20/0.8/1000,2096.16*AO283*'CO2 Conversion Factors'!$D$20/0.8/1000)","v":0},{"$f":"IF(O283=\"130\",2014.4*AO283*'CO2 Conversion Factors'!$G$20/0.8/1000,2096.16*AO283*'CO2 Conversion Factors'!$G$20/0.8/1000)","v":0},{"$f":"IF(O283=\"130\",2014.4*AO283*'CO2 Conversion Factors'!$J$20/0.8/1000,2096.16*AO283*'CO2 Conversion Factors'!$J$20/0.8/1000)","v":0},0,0,null,null,null,0,0,0,0,"",false,false,false,false]
[null,null,null,null,null,null,null,null,null,null,null,null,null,null,null,null,null,null,null,null,null,null,null,null,null,null,null,null,null,null,null,null,null,null,null,null,null,{"$f":"IF(O284=\"130\",2014.4*AO284*'CO2 Conversion Factors'!$D$20/0.8/1000,2096.16*AO284*'CO2 Conversion Factors'!$D$20/0.8/1000)","v":0},{"$f":"IF(O284=\"130\",2014.4*AO284*'CO2 Conversion Factors'!$G$20/0.8/1000,2096.16*AO284*'CO2 Conversion Factors'!$G$20/0.8/1000)","v":0},{"$f":"IF(O284=\"130\",2014.4*AO284*'CO2 Conversion Factors'!$J$20/0.8/1000,2096.16*AO284*'CO2 Conversion Factors'!$J$20/0.8/1000)","v":0},0,0,null,null,null,0,0,0,0,"",false,false,false,false]
[null,null,null,null,null,null,null,null,null,null,null,null,null,null,null,null,null,null,null,null,null,null,null,null,null,null,null,null,null,null,null,null,null,null,null,null,null,{"$f":"IF(O285=\"130\",2014.4*AO285*'CO2 Conversion Factors'!$D$20/0.8/1000,2096.16*AO285*'CO2 Conversion Factors'!$D$20/0.8/1000)","v":0},{"$f":"IF(O285=\"130\",2014.4*AO285*'CO2 Conversion Factors'!$G$20/0.8/1000,2096.16*AO285*'CO2 Conversion Factors'!$G$20/0.8/1000)","v":0},{"$f":"IF(O285=\"130\",2014.4*AO285*'CO2 Conversion Factors'!$J$20/0.8/1000,2096.16*AO285*'CO2 Conversion Factors'!$J$20/0.8/1000)","v":0},0,0,null,null,null,0,0,0,0,"",false,false,false,false]
[null,null,null,null,null,null,null,null,null,null,null,null,null,null,null,null,null,null,null,null,null,null,null,null,null,null,null,null,null,null,null,null,null,null,null,null,null,{"$f":"IF(O286=\"130\",2014.4*AO286*'CO2 Conversion Factors'!$D$20/0.8/1000,2096.16*AO286*'CO2 Conversion Factors'!$D$20/0.8/1000)","v":0},{"$f":"IF(O286=\"130\",2014.4*AO286*'CO2 Conversion Factors'!$G$20/0.8/1000,2096.16*AO286*'CO2 Conversion Factors'!$G$20/0.8/1000)","v":0},{"$f":"IF(O286=\"130\",2014.4*AO286*'CO2 Conversion Factors'!$J$20/0.8/1000,2096.16*AO286*'CO2 Conversion Factors'!$J$20/0.8/1000)","v":0},0,0,null,null,null,0,0,0,0,"",false,false,false,false]
[null,null,null,null,null,null,null,null,null,null,null,null,null,null,null,null,null,null,null,null,null,null,null,null,null,null,null,null,null,null,null,null,null,null,null,null,null,{"$f":"IF(O287=\"130\",2014.4*AO287*'CO2 Conversion Factors'!$D$20/0.8/1000,2096.16*AO287*'CO2 Conversion Factors'!$D$20/0.8/1000)","v":0},{"$f":"IF(O287=\"130\",2014.4*AO287*'CO2 Conversion Factors'!$G$20/0.8/1000,2096.16*AO287*'CO2 Conversion Factors'!$G$20/0.8/1000)","v":0},{"$f":"IF(O287=\"130\",2014.4*AO287*'CO2 Conversion Factors'!$J$20/0.8/1000,2096.16*AO287*'CO2 Conversion Factors'!$J$20/0.8/1000)","v":0},0,0,null,null,null,0,0,0,0,"",false,false,false,false]
[null,null,null,null,null,null,null,null,null,null,null,null,null,null,null,null,null,null,null,null,null,null,null,null,null,null,null,null,null,null,null,null,null,null,null,null,null,{"$f":"IF(O288=\"130\",2014.4*AO288*'CO2 Conversion Factors'!$D$20/0.8/1000,2096.16*AO288*'CO2 Conversion Factors'!$D$20/0.8/1000)","v":0},{"$f":"IF(O288=\"130\",2014.4*AO288*'CO2 Conversion Factors'!$G$20/0.8/1000,2096.16*AO288*'CO2 Conversion Factors'!$G$20/0.8/1000)","v":0},{"$f":"IF(O288=\"130\",2014.4*AO288*'CO2 Conversion Factors'!$J$20/0.8/1000,2096.16*AO288*'CO2 Conversion Factors'!$J$20/0.8/1000)","v":0},0,0,null,null,null,0,0,0,0,"",false,false,false,false]
[null,null,null,null,null,null,null,null,null,null,null,null,null,null,null,null,null,null,null,null,null,null,null,null,null,null,null,null,null,null,null,null,null,null,null,null,null,{"$f":"IF(O289=\"130\",2014.4*AO289*'CO2 Conversion Factors'!$D$20/0.8/1000,2096.16*AO289*'CO2 Conversion Factors'!$D$20/0.8/1000)","v":0},{"$f":"IF(O289=\"130\",2014.4*AO289*'CO2 Conversion Factors'!$G$20/0.8/1000,2096.16*AO289*'CO2 Conversion Factors'!$G$20/0.8/1000)","v":0},{"$f":"IF(O289=\"130\",2014.4*AO289*'CO2 Conversion Factors'!$J$20/0.8/1000,2096.16*AO289*'CO2 Conversion Factors'!$J$20/0.8/1000)","v":0},0,0,null,null,null,0,0,0,0,"",false,false,false,false]
[null,null,null,null,null,null,null,null,null,null,null,null,null,null,null,null,null,null,null,null,null,null,null,null,null,null,null,null,null,null,null,null,null,null,null,null,null,{"$f":"IF(O290=\"130\",2014.4*AO290*'CO2 Conversion Factors'!$D$20/0.8/1000,2096.16*AO290*'CO2 Conversion Factors'!$D$20/0.8/1000)","v":0},{"$f":"IF(O290=\"130\",2014.4*AO290*'CO2 Conversion Factors'!$G$20/0.8/1000,2096.16*AO290*'CO2 Conversion Factors'!$G$20/0.8/1000)","v":0},{"$f":"IF(O290=\"130\",2014.4*AO290*'CO2 Conversion Factors'!$J$20/0.8/1000,2096.16*AO290*'CO2 Conversion Factors'!$J$20/0.8/1000)","v":0},0,0,null,null,null,0,0,0,0,"",false,false,false,false]
[null,null,null,null,null,null,null,null,null,null,null,null,null,null,null,null,null,null,null,null,null,null,null,null,null,null,null,null,null,null,null,null,null,null,null,null,null,{"$f":"IF(O291=\"130\",2014.4*AO291*'CO2 Conversion Factors'!$D$20/0.8/1000,2096.16*AO291*'CO2 Conversion Factors'!$D$20/0.8/1000)","v":0},{"$f":"IF(O291=\"130\",2014.4*AO291*'CO2 Conversion Factors'!$G$20/0.8/1000,2096.16*AO291*'CO2 Conversion Factors'!$G$20/0.8/1000)","v":0},{"$f":"IF(O291=\"130\",2014.4*AO291*'CO2 Conversion Factors'!$J$20/0.8/1000,2096.16*AO291*'CO2 Conversion Factors'!$J$20/0.8/1000)","v":0},0,0,null,null,null,0,0,0,0,"",false,false,false,false]
[null,null,null,null,null,null,null,null,null,null,null,null,null,null,null,null,null,null,null,null,null,null,null,null,null,null,null,null,null,null,null,null,null,null,null,null,null,{"$f":"IF(O292=\"130\",2014.4*AO292*'CO2 Conversion Factors'!$D$20/0.8/1000,2096.16*AO292*'CO2 Conversion Factors'!$D$20/0.8/1000)","v":0},{"$f":"IF(O292=\"130\",2014.4*AO292*'CO2 Conversion Factors'!$G$20/0.8/1000,2096.16*AO292*'CO2 Conversion Factors'!$G$20/0.8/1000)","v":0},{"$f":"IF(O292=\"130\",2014.4*AO292*'CO2 Conversion Factors'!$J$20/0.8/1000,2096.16*AO292*'CO2 Conversion Factors'!$J$20/0.8/1000)","v":0},0,0,null,null,null,0,0,0,0,"",false,false,false,false]
[null,null,null,null,null,null,null,null,null,null,null,null,null,null,null,null,null,null,null,null,null,null,null,null,null,null,null,null,null,null,null,null,null,null,null,null,null,{"$f":"IF(O293=\"130\",2014.4*AO293*'CO2 Conversion Factors'!$D$20/0.8/1000,2096.16*AO293*'CO2 Conversion Factors'!$D$20/0.8/1000)","v":0},{"$f":"IF(O293=\"130\",2014.4*AO293*'CO2 Conversion Factors'!$G$20/0.8/1000,2096.16*AO293*'CO2 Conversion Factors'!$G$20/0.8/1000)","v":0},{"$f":"IF(O293=\"130\",2014.4*AO293*'CO2 Conversion Factors'!$J$20/0.8/1000,2096.16*AO293*'CO2 Conversion Factors'!$J$20/0.8/1000)","v":0},0,0,null,null,null,0,0,0,0,"",false,false,false,false]
[null,null,null,null,null,null,null,null,null,null,null,null,null,null,null,null,null,null,null,null,null,null,null,null,null,null,null,null,null,null,null,null,null,null,null,null,null,{"$f":"IF(O294=\"130\",2014.4*AO294*'CO2 Conversion Factors'!$D$20/0.8/1000,2096.16*AO294*'CO2 Conversion Factors'!$D$20/0.8/1000)","v":0},{"$f":"IF(O294=\"130\",2014.4*AO294*'CO2 Conversion Factors'!$G$20/0.8/1000,2096.16*AO294*'CO2 Conversion Factors'!$G$20/0.8/1000)","v":0},{"$f":"IF(O294=\"130\",2014.4*AO294*'CO2 Conversion Factors'!$J$20/0.8/1000,2096.16*AO294*'CO2 Conversion Factors'!$J$20/0.8/1000)","v":0},0,0,null,null,null,0,0,0,0,"",false,false,false,false]
[null,null,null,null,null,null,null,null,null,null,null,null,null,null,null,null,null,null,null,null,null,null,null,null,null,null,null,null,null,null,null,null,null,null,null,null,null,{"$f":"IF(O295=\"130\",2014.4*AO295*'CO2 Conversion Factors'!$D$20/0.8/1000,2096.16*AO295*'CO2 Conversion Factors'!$D$20/0.8/1000)","v":0},{"$f":"IF(O295=\"130\",2014.4*AO295*'CO2 Conversion Factors'!$G$20/0.8/1000,2096.16*AO295*'CO2 Conversion Factors'!$G$20/0.8/1000)","v":0},{"$f":"IF(O295=\"130\",2014.4*AO295*'CO2 Conversion Factors'!$J$20/0.8/1000,2096.16*AO295*'CO2 Conversion Factors'!$J$20/0.8/1000)","v":0},0,0,null,null,null,0,0,0,0,"",false,false,false,false]
[null,null,null,null,null,null,null,null,null,null,null,null,null,null,null,null,null,null,null,null,null,null,null,null,null,null,null,null,null,null,null,null,null,null,null,null,null,{"$f":"IF(O296=\"130\",2014.4*AO296*'CO2 Conversion Factors'!$D$20/0.8/1000,2096.16*AO296*'CO2 Conversion Factors'!$D$20/0.8/1000)","v":0},{"$f":"IF(O296=\"130\",2014.4*AO296*'CO2 Conversion Factors'!$G$20/0.8/1000,2096.16*AO296*'CO2 Conversion Factors'!$G$20/0.8/1000)","v":0},{"$f":"IF(O296=\"130\",2014.4*AO296*'CO2 Conversion Factors'!$J$20/0.8/1000,2096.16*AO296*'CO2 Conversion Factors'!$J$20/0.8/1000)","v":0},0,0,null,null,null,0,0,0,0,"",false,false,false,false]
[null,null,null,null,null,null,null,null,null,null,null,null,null,null,null,null,null,null,null,null,null,null,null,null,null,null,null,null,null,null,null,null,null,null,null,null,null,{"$f":"IF(O297=\"130\",2014.4*AO297*'CO2 Conversion Factors'!$D$20/0.8/1000,2096.16*AO297*'CO2 Conversion Factors'!$D$20/0.8/1000)","v":0},{"$f":"IF(O297=\"130\",2014.4*AO297*'CO2 Conversion Factors'!$G$20/0.8/1000,2096.16*AO297*'CO2 Conversion Factors'!$G$20/0.8/1000)","v":0},{"$f":"IF(O297=\"130\",2014.4*AO297*'CO2 Conversion Factors'!$J$20/0.8/1000,2096.16*AO297*'CO2 Conversion Factors'!$J$20/0.8/1000)","v":0},0,0,null,null,null,0,0,0,0,"",false,false,false,false]
[null,null,null,null,null,null,null,null,null,null,null,null,null,null,null,null,null,null,null,null,null,null,null,null,null,null,null,null,null,null,null,null,null,null,null,null,null,{"$f":"IF(O298=\"130\",2014.4*AO298*'CO2 Conversion Factors'!$D$20/0.8/1000,2096.16*AO298*'CO2 Conversion Factors'!$D$20/0.8/1000)","v":0},{"$f":"IF(O298=\"130\",2014.4*AO298*'CO2 Conversion Factors'!$G$20/0.8/1000,2096.16*AO298*'CO2 Conversion Factors'!$G$20/0.8/1000)","v":0},{"$f":"IF(O298=\"130\",2014.4*AO298*'CO2 Conversion Factors'!$J$20/0.8/1000,2096.16*AO298*'CO2 Conversion Factors'!$J$20/0.8/1000)","v":0},0,0,null,null,null,0,0,0,0,"",false,false,false,false]
[null,null,null,null,null,null,null,null,null,null,null,null,null,null,null,null,null,null,null,null,null,null,null,null,null,null,null,null,null,null,null,null,null,null,null,null,null,{"$f":"IF(O299=\"130\",2014.4*AO299*'CO2 Conversion Factors'!$D$20/0.8/1000,2096.16*AO299*'CO2 Conversion Factors'!$D$20/0.8/1000)","v":0},{"$f":"IF(O299=\"130\",2014.4*AO299*'CO2 Conversion Factors'!$G$20/0.8/1000,2096.16*AO299*'CO2 Conversion Factors'!$G$20/0.8/1000)","v":0},{"$f":"IF(O299=\"130\",2014.4*AO299*'CO2 Conversion Factors'!$J$20/0.8/1000,2096.16*AO299*'CO2 Conversion Factors'!$J$20/0.8/1000)","v":0},0,0,null,null,null,0,0,0,0,"",false,false,false,false]
[null,null,null,null,null,null,null,null,null,null,null,null,null,null,null,null,null,null,null,null,null,null,null,null,null,null,null,null,null,null,null,null,null,null,null,null,null,{"$f":"IF(O300=\"130\",2014.4*AO300*'CO2 Conversion Factors'!$D$20/0.8/1000,2096.16*AO300*'CO2 Conversion Factors'!$D$20/0.8/1000)","v":0},{"$f":"IF(O300=\"130\",2014.4*AO300*'CO2 Conversion Factors'!$G$20/0.8/1000,2096.16*AO300*'CO2 Conversion Factors'!$G$20/0.8/1000)","v":0},{"$f":"IF(O300=\"130\",2014.4*AO300*'CO2 Conversion Factors'!$J$20/0.8/1000,2096.16*AO300*'CO2 Conversion Factors'!$J$20/0.8/1000)","v":0},0,0,null,null,null,0,0,0,0,"",false,false,false,false]
[null,null,null,null,null,null,null,null,null,null,null,null,null,null,null,null,null,null,null,null,null,null,null,null,null,null,null,null,null,null,null,null,null,null,null,null,null,{"$f":"IF(O301=\"130\",2014.4*AO301*'CO2 Conversion Factors'!$D$20/0.8/1000,2096.16*AO301*'CO2 Conversion Factors'!$D$20/0.8/1000)","v":0},{"$f":"IF(O301=\"130\",2014.4*AO301*'CO2 Conversion Factors'!$G$20/0.8/1000,2096.16*AO301*'CO2 Conversion Factors'!$G$20/0.8/1000)","v":0},{"$f":"IF(O301=\"130\",2014.4*AO301*'CO2 Conversion Factors'!$J$20/0.8/1000,2096.16*AO301*'CO2 Conversion Factors'!$J$20/0.8/1000)","v":0},0,0,null,null,null,0,0,0,0,"",false,false,false,false]
[null,null,null,null,null,null,null,null,null,null,null,null,null,null,null,null,null,null,null,null,null,null,null,null,null,null,null,null,null,null,null,null,null,null,null,null,null,{"$f":"IF(O302=\"130\",2014.4*AO302*'CO2 Conversion Factors'!$D$20/0.8/1000,2096.16*AO302*'CO2 Conversion Factors'!$D$20/0.8/1000)","v":0},{"$f":"IF(O302=\"130\",2014.4*AO302*'CO2 Conversion Factors'!$G$20/0.8/1000,2096.16*AO302*'CO2 Conversion Factors'!$G$20/0.8/1000)","v":0},{"$f":"IF(O302=\"130\",2014.4*AO302*'CO2 Conversion Factors'!$J$20/0.8/1000,2096.16*AO302*'CO2 Conversion Factors'!$J$20/0.8/1000)","v":0},0,0,null,null,null,0,0,0,0,"",false,false,false,false]
[null,null,null,null,null,null,null,null,null,null,null,null,null,null,null,null,null,null,null,null,null,null,null,null,null,null,null,null,null,null,null,null,null,null,null,null,null,{"$f":"IF(O303=\"130\",2014.4*AO303*'CO2 Conversion Factors'!$D$20/0.8/1000,2096.16*AO303*'CO2 Conversion Factors'!$D$20/0.8/1000)","v":0},{"$f":"IF(O303=\"130\",2014.4*AO303*'CO2 Conversion Factors'!$G$20/0.8/1000,2096.16*AO303*'CO2 Conversion Factors'!$G$20/0.8/1000)","v":0},{"$f":"IF(O303=\"130\",2014.4*AO303*'CO2 Conversion Factors'!$J$20/0.8/1000,2096.16*AO303*'CO2 Conversion Factors'!$J$20/0.8/1000)","v":0},0,0,null,null,null,0,0,0,0,"",false,false,false,false]
[null,null,null,null,null,null,null,null,null,null,null,null,null,null,null,null,null,null,null,null,null,null,null,null,null,null,null,null,null,null,null,null,null,null,null,null,null,{"$f":"IF(O304=\"130\",2014.4*AO304*'CO2 Conversion Factors'!$D$20/0.8/1000,2096.16*AO304*'CO2 Conversion Factors'!$D$20/0.8/1000)","v":0},{"$f":"IF(O304=\"130\",2014.4*AO304*'CO2 Conversion Factors'!$G$20/0.8/1000,2096.16*AO304*'CO2 Conversion Factors'!$G$20/0.8/1000)","v":0},{"$f":"IF(O304=\"130\",2014.4*AO304*'CO2 Conversion Factors'!$J$20/0.8/1000,2096.16*AO304*'CO2 Conversion Factors'!$J$20/0.8/1000)","v":0},0,0,null,null,null,0,0,0,0,"",false,false,false,false]
[null,null,null,null,null,null,null,null,null,null,null,null,null,null,null,null,null,null,null,null,null,null,null,null,null,null,null,null,null,null,null,null,null,null,null,null,null,{"$f":"IF(O305=\"130\",2014.4*AO305*'CO2 Conversion Factors'!$D$20/0.8/1000,2096.16*AO305*'CO2 Conversion Factors'!$D$20/0.8/1000)","v":0},{"$f":"IF(O305=\"130\",2014.4*AO305*'CO2 Conversion Factors'!$G$20/0.8/1000,2096.16*AO305*'CO2 Conversion Factors'!$G$20/0.8/1000)","v":0},{"$f":"IF(O305=\"130\",2014.4*AO305*'CO2 Conversion Factors'!$J$20/0.8/1000,2096.16*AO305*'CO2 Conversion Factors'!$J$20/0.8/1000)","v":0},0,0,null,null,null,0,0,0,0,"",false,false,false,false]
[null,null,null,null,null,null,null,null,null,null,null,null,null,null,null,null,null,null,null,null,null,null,null,null,null,null,null,null,null,null,null,null,null,null,null,null,null,{"$f":"IF(O306=\"130\",2014.4*AO306*'CO2 Conversion Factors'!$D$20/0.8/1000,2096.16*AO306*'CO2 Conversion Factors'!$D$20/0.8/1000)","v":0},{"$f":"IF(O306=\"130\",2014.4*AO306*'CO2 Conversion Factors'!$G$20/0.8/1000,2096.16*AO306*'CO2 Conversion Factors'!$G$20/0.8/1000)","v":0},{"$f":"IF(O306=\"130\",2014.4*AO306*'CO2 Conversion Factors'!$J$20/0.8/1000,2096.16*AO306*'CO2 Conversion Factors'!$J$20/0.8/1000)","v":0},0,0,null,null,null,0,0,0,0,"",false,false,false,false]
[null,null,null,null,null,null,null,null,null,null,null,null,null,null,null,null,null,null,null,null,null,null,null,null,null,null,null,null,null,null,null,null,null,null,null,null,null,{"$f":"IF(O307=\"130\",2014.4*AO307*'CO2 Conversion Factors'!$D$20/0.8/1000,2096.16*AO307*'CO2 Conversion Factors'!$D$20/0.8/1000)","v":0},{"$f":"IF(O307=\"130\",2014.4*AO307*'CO2 Conversion Factors'!$G$20/0.8/1000,2096.16*AO307*'CO2 Conversion Factors'!$G$20/0.8/1000)","v":0},{"$f":"IF(O307=\"130\",2014.4*AO307*'CO2 Conversion Factors'!$J$20/0.8/1000,2096.16*AO307*'CO2 Conversion Factors'!$J$20/0.8/1000)","v":0},0,0,null,null,null,0,0,0,0,"",false,false,false,false]
[null,null,null,null,null,null,null,null,null,null,null,null,null,null,null,null,null,null,null,null,null,null,null,null,null,null,null,null,null,null,null,null,null,null,null,null,null,{"$f":"IF(O308=\"130\",2014.4*AO308*'CO2 Conversion Factors'!$D$20/0.8/1000,2096.16*AO308*'CO2 Conversion Factors'!$D$20/0.8/1000)","v":0},{"$f":"IF(O308=\"130\",2014.4*AO308*'CO2 Conversion Factors'!$G$20/0.8/1000,2096.16*AO308*'CO2 Conversion Factors'!$G$20/0.8/1000)","v":0},{"$f":"IF(O308=\"130\",2014.4*AO308*'CO2 Conversion Factors'!$J$20/0.8/1000,2096.16*AO308*'CO2 Conversion Factors'!$J$20/0.8/1000)","v":0},0,0,null,null,null,0,0,0,0,"",false,false,false,false]
[null,null,null,null,null,null,null,null,null,null,null,null,null,null,null,null,null,null,null,null,null,null,null,null,null,null,null,null,null,null,null,null,null,null,null,null,null,{"$f":"IF(O309=\"130\",2014.4*AO309*'CO2 Conversion Factors'!$D$20/0.8/1000,2096.16*AO309*'CO2 Conversion Factors'!$D$20/0.8/1000)","v":0},{"$f":"IF(O309=\"130\",2014.4*AO309*'CO2 Conversion Factors'!$G$20/0.8/1000,2096.16*AO309*'CO2 Conversion Factors'!$G$20/0.8/1000)","v":0},{"$f":"IF(O309=\"130\",2014.4*AO309*'CO2 Conversion Factors'!$J$20/0.8/1000,2096.16*AO309*'CO2 Conversion Factors'!$J$20/0.8/1000)","v":0},0,0,null,null,null,0,0,0,0,"",false,false,false,false]
[null,null,null,null,null,null,null,null,null,null,null,null,null,null,null,null,null,null,null,null,null,null,null,null,null,null,null,null,null,null,null,null,null,null,null,null,null,{"$f":"IF(O310=\"130\",2014.4*AO310*'CO2 Conversion Factors'!$D$20/0.8/1000,2096.16*AO310*'CO2 Conversion Factors'!$D$20/0.8/1000)","v":0},{"$f":"IF(O310=\"130\",2014.4*AO310*'CO2 Conversion Factors'!$G$20/0.8/1000,2096.16*AO310*'CO2 Conversion Factors'!$G$20/0.8/1000)","v":0},{"$f":"IF(O310=\"130\",2014.4*AO310*'CO2 Conversion Factors'!$J$20/0.8/1000,2096.16*AO310*'CO2 Conversion Factors'!$J$20/0.8/1000)","v":0},0,0,null,null,null,0,0,0,0,"",false,false,false,false]
[null,null,null,null,null,null,null,null,null,null,null,null,null,null,null,null,null,null,null,null,null,null,null,null,null,null,null,null,null,null,null,null,null,null,null,null,null,{"$f":"IF(O311=\"130\",2014.4*AO311*'CO2 Conversion Factors'!$D$20/0.8/1000,2096.16*AO311*'CO2 Conversion Factors'!$D$20/0.8/1000)","v":0},{"$f":"IF(O311=\"130\",2014.4*AO311*'CO2 Conversion Factors'!$G$20/0.8/1000,2096.16*AO311*'CO2 Conversion Factors'!$G$20/0.8/1000)","v":0},{"$f":"IF(O311=\"130\",2014.4*AO311*'CO2 Conversion Factors'!$J$20/0.8/1000,2096.16*AO311*'CO2 Conversion Factors'!$J$20/0.8/1000)","v":0},0,0,null,null,null,0,0,0,0,"",false,false,false,false]
[null,null,null,null,null,null,null,null,null,null,null,null,null,null,null,null,null,null,null,null,null,null,null,null,null,null,null,null,null,null,null,null,null,null,null,null,null,{"$f":"IF(O312=\"130\",2014.4*AO312*'CO2 Conversion Factors'!$D$20/0.8/1000,2096.16*AO312*'CO2 Conversion Factors'!$D$20/0.8/1000)","v":0},{"$f":"IF(O312=\"130\",2014.4*AO312*'CO2 Conversion Factors'!$G$20/0.8/1000,2096.16*AO312*'CO2 Conversion Factors'!$G$20/0.8/1000)","v":0},{"$f":"IF(O312=\"130\",2014.4*AO312*'CO2 Conversion Factors'!$J$20/0.8/1000,2096.16*AO312*'CO2 Conversion Factors'!$J$20/0.8/1000)","v":0},0,0,null,null,null,0,0,0,0,"",false,false,false,false]
[null,null,null,null,null,null,null,null,null,null,null,null,null,null,null,null,null,null,null,null,null,null,null,null,null,null,null,null,null,null,null,null,null,null,null,null,null,{"$f":"IF(O313=\"130\",2014.4*AO313*'CO2 Conversion Factors'!$D$20/0.8/1000,2096.16*AO313*'CO2 Conversion Factors'!$D$20/0.8/1000)","v":0},{"$f":"IF(O313=\"130\",2014.4*AO313*'CO2 Conversion Factors'!$G$20/0.8/1000,2096.16*AO313*'CO2 Conversion Factors'!$G$20/0.8/1000)","v":0},{"$f":"IF(O313=\"130\",2014.4*AO313*'CO2 Conversion Factors'!$J$20/0.8/1000,2096.16*AO313*'CO2 Conversion Factors'!$J$20/0.8/1000)","v":0},0,0,null,null,null,0,0,0,0,"",false,false,false,false]
[null,null,null,null,null,null,null,null,null,null,null,null,null,null,null,null,null,null,null,null,null,null,null,null,null,null,null,null,null,null,null,null,null,null,null,null,null,{"$f":"IF(O314=\"130\",2014.4*AO314*'CO2 Conversion Factors'!$D$20/0.8/1000,2096.16*AO314*'CO2 Conversion Factors'!$D$20/0.8/1000)","v":0},{"$f":"IF(O314=\"130\",2014.4*AO314*'CO2 Conversion Factors'!$G$20/0.8/1000,2096.16*AO314*'CO2 Conversion Factors'!$G$20/0.8/1000)","v":0},{"$f":"IF(O314=\"130\",2014.4*AO314*'CO2 Conversion Factors'!$J$20/0.8/1000,2096.16*AO314*'CO2 Conversion Factors'!$J$20/0.8/1000)","v":0},0,0,null,null,null,0,0,0,0,"",false,false,false,false]
[null,null,null,null,null,null,null,null,null,null,null,null,null,null,null,null,null,null,null,null,null,null,null,null,null,null,null,null,null,null,null,null,null,null,null,null,null,{"$f":"IF(O315=\"130\",2014.4*AO315*'CO2 Conversion Factors'!$D$20/0.8/1000,2096.16*AO315*'CO2 Conversion Factors'!$D$20/0.8/1000)","v":0},{"$f":"IF(O315=\"130\",2014.4*AO315*'CO2 Conversion Factors'!$G$20/0.8/1000,2096.16*AO315*'CO2 Conversion Factors'!$G$20/0.8/1000)","v":0},{"$f":"IF(O315=\"130\",2014.4*AO315*'CO2 Conversion Factors'!$J$20/0.8/1000,2096.16*AO315*'CO2 Conversion Factors'!$J$20/0.8/1000)","v":0},0,0,null,null,null,0,0,0,0,"",false,false,false,false]
[null,null,null,null,null,null,null,null,null,null,null,null,null,null,null,null,null,null,null,null,null,null,null,null,null,null,null,null,null,null,null,null,null,null,null,null,null,{"$f":"IF(O316=\"130\",2014.4*AO316*'CO2 Conversion Factors'!$D$20/0.8/1000,2096.16*AO316*'CO2 Conversion Factors'!$D$20/0.8/1000)","v":0},{"$f":"IF(O316=\"130\",2014.4*AO316*'CO2 Conversion Factors'!$G$20/0.8/1000,2096.16*AO316*'CO2 Conversion Factors'!$G$20/0.8/1000)","v":0},{"$f":"IF(O316=\"130\",2014.4*AO316*'CO2 Conversion Factors'!$J$20/0.8/1000,2096.16*AO316*'CO2 Conversion Factors'!$J$20/0.8/1000)","v":0},0,0,null,null,null,0,0,0,0,"",false,false,false,false]
[null,null,null,null,null,null,null,null,null,null,null,null,null,null,null,null,null,null,null,null,null,null,null,null,null,null,null,null,null,null,null,null,null,null,null,null,null,{"$f":"IF(O317=\"130\",2014.4*AO317*'CO2 Conversion Factors'!$D$20/0.8/1000,2096.16*AO317*'CO2 Conversion Factors'!$D$20/0.8/1000)","v":0},{"$f":"IF(O317=\"130\",2014.4*AO317*'CO2 Conversion Factors'!$G$20/0.8/1000,2096.16*AO317*'CO2 Conversion Factors'!$G$20/0.8/1000)","v":0},{"$f":"IF(O317=\"130\",2014.4*AO317*'CO2 Conversion Factors'!$J$20/0.8/1000,2096.16*AO317*'CO2 Conversion Factors'!$J$20/0.8/1000)","v":0},0,0,null,null,null,0,0,0,0,"",false,false,false,false]
[null,null,null,null,null,null,null,null,null,null,null,null,null,null,null,null,null,null,null,null,null,null,null,null,null,null,null,null,null,null,null,null,null,null,null,null,null,{"$f":"IF(O318=\"130\",2014.4*AO318*'CO2 Conversion Factors'!$D$20/0.8/1000,2096.16*AO318*'CO2 Conversion Factors'!$D$20/0.8/1000)","v":0},{"$f":"IF(O318=\"130\",2014.4*AO318*'CO2 Conversion Factors'!$G$20/0.8/1000,2096.16*AO318*'CO2 Conversion Factors'!$G$20/0.8/1000)","v":0},{"$f":"IF(O318=\"130\",2014.4*AO318*'CO2 Conversion Factors'!$J$20/0.8/1000,2096.16*AO318*'CO2 Conversion Factors'!$J$20/0.8/1000)","v":0},0,0,null,null,null,0,0,0,0,"",false,false,false,false]
[null,null,null,null,null,null,null,null,null,null,null,null,null,null,null,null,null,null,null,null,null,null,null,null,null,null,null,null,null,null,null,null,null,null,null,null,null,{"$f":"IF(O319=\"130\",2014.4*AO319*'CO2 Conversion Factors'!$D$20/0.8/1000,2096.16*AO319*'CO2 Conversion Factors'!$D$20/0.8/1000)","v":0},{"$f":"IF(O319=\"130\",2014.4*AO319*'CO2 Conversion Factors'!$G$20/0.8/1000,2096.16*AO319*'CO2 Conversion Factors'!$G$20/0.8/1000)","v":0},{"$f":"IF(O319=\"130\",2014.4*AO319*'CO2 Conversion Factors'!$J$20/0.8/1000,2096.16*AO319*'CO2 Conversion Factors'!$J$20/0.8/1000)","v":0},0,0,null,null,null,0,0,0,0,"",false,false,false,false]
[null,null,null,null,null,null,null,null,null,null,null,null,null,null,null,null,null,null,null,null,null,null,null,null,null,null,null,null,null,null,null,null,null,null,null,null,null,{"$f":"IF(O320=\"130\",2014.4*AO320*'CO2 Conversion Factors'!$D$20/0.8/1000,2096.16*AO320*'CO2 Conversion Factors'!$D$20/0.8/1000)","v":0},{"$f":"IF(O320=\"130\",2014.4*AO320*'CO2 Conversion Factors'!$G$20/0.8/1000,2096.16*AO320*'CO2 Conversion Factors'!$G$20/0.8/1000)","v":0},{"$f":"IF(O320=\"130\",2014.4*AO320*'CO2 Conversion Factors'!$J$20/0.8/1000,2096.16*AO320*'CO2 Conversion Factors'!$J$20/0.8/1000)","v":0},0,0,null,null,null,0,0,0,0,"",false,false,false,false]
[null,null,null,null,null,null,null,null,null,null,null,null,null,null,null,null,null,null,null,null,null,null,null,null,null,null,null,null,null,null,null,null,null,null,null,null,null,{"$f":"IF(O321=\"130\",2014.4*AO321*'CO2 Conversion Factors'!$D$20/0.8/1000,2096.16*AO321*'CO2 Conversion Factors'!$D$20/0.8/1000)","v":0},{"$f":"IF(O321=\"130\",2014.4*AO321*'CO2 Conversion Factors'!$G$20/0.8/1000,2096.16*AO321*'CO2 Conversion Factors'!$G$20/0.8/1000)","v":0},{"$f":"IF(O321=\"130\",2014.4*AO321*'CO2 Conversion Factors'!$J$20/0.8/1000,2096.16*AO321*'CO2 Conversion Factors'!$J$20/0.8/1000)","v":0},0,0,null,null,null,0,0,0,0,"",false,false,false,false]
[null,null,null,null,null,null,null,null,null,null,null,null,null,null,null,null,null,null,null,null,null,null,null,null,null,null,null,null,null,null,null,null,null,null,null,null,null,{"$f":"IF(O322=\"130\",2014.4*AO322*'CO2 Conversion Factors'!$D$20/0.8/1000,2096.16*AO322*'CO2 Conversion Factors'!$D$20/0.8/1000)","v":0},{"$f":"IF(O322=\"130\",2014.4*AO322*'CO2 Conversion Factors'!$G$20/0.8/1000,2096.16*AO322*'CO2 Conversion Factors'!$G$20/0.8/1000)","v":0},{"$f":"IF(O322=\"130\",2014.4*AO322*'CO2 Conversion Factors'!$J$20/0.8/1000,2096.16*AO322*'CO2 Conversion Factors'!$J$20/0.8/1000)","v":0},0,0,null,null,null,0,0,0,0,"",false,false,false,false]
[null,null,null,null,null,null,null,null,null,null,null,null,null,null,null,null,null,null,null,null,null,null,null,null,null,null,null,null,null,null,null,null,null,null,null,null,null,{"$f":"IF(O323=\"130\",2014.4*AO323*'CO2 Conversion Factors'!$D$20/0.8/1000,2096.16*AO323*'CO2 Conversion Factors'!$D$20/0.8/1000)","v":0},{"$f":"IF(O323=\"130\",2014.4*AO323*'CO2 Conversion Factors'!$G$20/0.8/1000,2096.16*AO323*'CO2 Conversion Factors'!$G$20/0.8/1000)","v":0},{"$f":"IF(O323=\"130\",2014.4*AO323*'CO2 Conversion Factors'!$J$20/0.8/1000,2096.16*AO323*'CO2 Conversion Factors'!$J$20/0.8/1000)","v":0},{"$f":"IFERROR(IF(OR(L323=\"BLW\",L323=\"PRI\",L323=\"LNK\"),IF(Cover_Select_SteamCostUnits=\"£/1000kg\",11.6*(VLOOKUP($I323,Abb_Lookup_OrifaceDia,2,FALSE)^2)*SQRT(($O323-$P323)*($O323+$P323)),25.57363*(VLOOKUP($I323,Abb_Lookup_OrifaceDia,2,FALSE)^2)*SQRT(($O323-$P323)*($O323+$P323)))*(VLOOKUP(AE323,Cover_Lookup_OpTime,4,FALSE)/1000),IF(L323=\"LL\",IF(Cover_Select_SteamCostUnits=\"£/1000kg\",11.6*(VLOOKUP($I323,Abb_Lookup_OrifaceDia,2,FALSE)^2)*SQRT(($O323-$P323)*($O323+$P323)),25.57363*(VLOOKUP($I323,Abb_Lookup_OrifaceDia,2,FALSE)^2)*SQRT(($O323-$P323)*($O323+$P323)))*(VLOOKUP(AE323,Cover_Lookup_OpTime,4,FALSE)/2000),IF(L323=\"SL\",IF(Cover_Select_SteamCostUnits=\"£/1000kg\",11.6*(VLOOKUP($I323,Abb_Lookup_OrifaceDia,2,FALSE)^2)*SQRT(($O323-$P323)*($O323+$P323)),25.57363*(VLOOKUP($I323,Abb_Lookup_OrifaceDia,2,FALSE)^2)*SQRT(($O323-$P323)*($O323+$P323)))*(VLOOKUP(AE323,Cover_Lookup_OpTime,4,FALSE)/4000),0))),0)","v":0},0,null,null,null,0,0,0,0,"",false,false,false,false]
[null,null,null,null,null,null,null,null,null,null,null,null,null,null,null,null,null,null,null,null,null,null,null,null,null,null,null,null,null,null,null,null,null,null,null,null,null,{"$f":"IF(O324=\"130\",2014.4*AO324*'CO2 Conversion Factors'!$D$20/0.8/1000,2096.16*AO324*'CO2 Conversion Factors'!$D$20/0.8/1000)","v":0},{"$f":"IF(O324=\"130\",2014.4*AO324*'CO2 Conversion Factors'!$G$20/0.8/1000,2096.16*AO324*'CO2 Conversion Factors'!$G$20/0.8/1000)","v":0},{"$f":"IF(O324=\"130\",2014.4*AO324*'CO2 Conversion Factors'!$J$20/0.8/1000,2096.16*AO324*'CO2 Conversion Factors'!$J$20/0.8/1000)","v":0},0,{"$f":"IFERROR(AO324*Cover_Select_SteamCost,0)","v":0},null,null,null,{"$f":"IF(NOT(OR(L324=\"NIS\",L324=\"OFF\")),F324)","v":0},{"$f":"IF(NOT(OR(L324=\"NIS\",L324=\"OFF\",L324=\"PO\")),F324)","v":0},{"$f":"IF(NOT(OR(L324=\"NIS\",L324=\"OFF\")),H324)","v":0},{"$f":"IF(NOT(OR(L324=\"NIS\",L324=\"OFF\",L324=\"PO\")),H324)","v":0},"",false,false,false,false]
[null,null,null,null,null,null,null,null,null,null,null,null,null,null,null,null,null,null,null,null,null,null,null,null,null,null,null,null,null,null,null,null,null,null,null,null,null,{"$f":"IF(O325=\"130\",2014.4*AO325*'CO2 Conversion Factors'!$D$20/0.8/1000,2096.16*AO325*'CO2 Conversion Factors'!$D$20/0.8/1000)","v":0},{"$f":"IF(O325=\"130\",2014.4*AO325*'CO2 Conversion Factors'!$G$20/0.8/1000,2096.16*AO325*'CO2 Conversion Factors'!$G$20/0.8/1000)","v":0},{"$f":"IF(O325=\"130\",2014.4*AO325*'CO2 Conversion Factors'!$J$20/0.8/1000,2096.16*AO325*'CO2 Conversion Factors'!$J$20/0.8/1000)","v":0},0,0,null,null,null,0,0,0,0,{"$f":"F325&H325","v":""},{"$f":"IF(L325=\"CLD\", H325)","v":false},{"$f":"IF(L325=\"SL\", H325)","v":false},{"$f":"IF(L325=\"LL\", H325)","v":false},{"$f":"IF(L325=\"BLW\", H325)","v":false},null,"","",""]
[null,null,null,null,null,null,null,null,null,null,null,null,null,null,null,null,null,null,null,null,null,null,null,null,null,null,null,null,null,null,null,null,null,null,null,null,null,{"$f":"IF(O326=\"130\",2014.4*AO326*'CO2 Conversion Factors'!$D$20/0.8/1000,2096.16*AO326*'CO2 Conversion Factors'!$D$20/0.8/1000)","v":0},{"$f":"IF(O326=\"130\",2014.4*AO326*'CO2 Conversion Factors'!$G$20/0.8/1000,2096.16*AO326*'CO2 Conversion Factors'!$G$20/0.8/1000)","v":0},{"$f":"IF(O326=\"130\",2014.4*AO326*'CO2 Conversion Factors'!$J$20/0.8/1000,2096.16*AO326*'CO2 Conversion Factors'!$J$20/0.8/1000)","v":0},0,0,null,null,null,0,0,0,0,"",false,false,false,false,null,"","",""]
[null,null,null,null,null,null,null,null,null,null,null,null,null,null,null,null,null,null,null,null,null,null,null,null,null,null,null,null,null,null,null,null,null,null,null,null,null,{"$f":"IF(O327=\"130\",2014.4*AO327*'CO2 Conversion Factors'!$D$20/0.8/1000,2096.16*AO327*'CO2 Conversion Factors'!$D$20/0.8/1000)","v":0},{"$f":"IF(O327=\"130\",2014.4*AO327*'CO2 Conversion Factors'!$G$20/0.8/1000,2096.16*AO327*'CO2 Conversion Factors'!$G$20/0.8/1000)","v":0},{"$f":"IF(O327=\"130\",2014.4*AO327*'CO2 Conversion Factors'!$J$20/0.8/1000,2096.16*AO327*'CO2 Conversion Factors'!$J$20/0.8/1000)","v":0},0,0,null,null,null,0,0,0,0,"",false,false,false,false,null,"","",""]
[null,null,null,null,null,null,null,null,null,null,null,null,null,null,null,null,null,null,null,null,null,null,null,null,null,null,null,null,null,null,null,null,null,null,null,null,null,{"$f":"IF(O328=\"130\",2014.4*AO328*'CO2 Conversion Factors'!$D$20/0.8/1000,2096.16*AO328*'CO2 Conversion Factors'!$D$20/0.8/1000)","v":0},{"$f":"IF(O328=\"130\",2014.4*AO328*'CO2 Conversion Factors'!$G$20/0.8/1000,2096.16*AO328*'CO2 Conversion Factors'!$G$20/0.8/1000)","v":0},{"$f":"IF(O328=\"130\",2014.4*AO328*'CO2 Conversion Factors'!$J$20/0.8/1000,2096.16*AO328*'CO2 Conversion Factors'!$J$20/0.8/1000)","v":0},0,0,null,null,null,0,0,0,0,"",false,false,false,false,null,"","",""]
[null,null,null,null,null,null,null,null,null,null,null,null,null,null,null,null,null,null,null,null,null,null,null,null,null,null,null,null,null,null,null,null,null,null,null,null,null,{"$f":"IF(O329=\"130\",2014.4*AO329*'CO2 Conversion Factors'!$D$20/0.8/1000,2096.16*AO329*'CO2 Conversion Factors'!$D$20/0.8/1000)","v":0},{"$f":"IF(O329=\"130\",2014.4*AO329*'CO2 Conversion Factors'!$G$20/0.8/1000,2096.16*AO329*'CO2 Conversion Factors'!$G$20/0.8/1000)","v":0},{"$f":"IF(O329=\"130\",2014.4*AO329*'CO2 Conversion Factors'!$J$20/0.8/1000,2096.16*AO329*'CO2 Conversion Factors'!$J$20/0.8/1000)","v":0},0,0,null,null,null,0,0,0,0,"",false,false,false,false,null,""]
[null,null,null,null,null,null,null,null,null,null,null,null,null,null,null,null,null,null,null,null,null,null,null,null,null,null,null,null,null,null,null,null,null,null,null,null,null,{"$f":"IF(O330=\"130\",2014.4*AO330*'CO2 Conversion Factors'!$D$20/0.8/1000,2096.16*AO330*'CO2 Conversion Factors'!$D$20/0.8/1000)","v":0},{"$f":"IF(O330=\"130\",2014.4*AO330*'CO2 Conversion Factors'!$G$20/0.8/1000,2096.16*AO330*'CO2 Conversion Factors'!$G$20/0.8/1000)","v":0},{"$f":"IF(O330=\"130\",2014.4*AO330*'CO2 Conversion Factors'!$J$20/0.8/1000,2096.16*AO330*'CO2 Conversion Factors'!$J$20/0.8/1000)","v":0},0,0,null,null,null,0,0,0,0,"",false,false,false,false,null,""]
[null,null,null,null,null,null,null,null,null,null,null,null,null,null,null,null,null,null,null,null,null,null,null,null,null,null,null,null,null,null,null,null,null,null,null,null,null,{"$f":"IF(O331=\"130\",2014.4*AO331*'CO2 Conversion Factors'!$D$20/0.8/1000,2096.16*AO331*'CO2 Conversion Factors'!$D$20/0.8/1000)","v":0},{"$f":"IF(O331=\"130\",2014.4*AO331*'CO2 Conversion Factors'!$G$20/0.8/1000,2096.16*AO331*'CO2 Conversion Factors'!$G$20/0.8/1000)","v":0},{"$f":"IF(O331=\"130\",2014.4*AO331*'CO2 Conversion Factors'!$J$20/0.8/1000,2096.16*AO331*'CO2 Conversion Factors'!$J$20/0.8/1000)","v":0},0,0,null,null,null,0,0,0,0,"",false,false,false,false,null,""]
[null,null,null,null,null,null,null,null,null,null,null,null,null,null,null,null,null,null,null,null,null,null,null,null,null,null,null,null,null,null,null,null,null,null,null,null,null,{"$f":"IF(O332=\"130\",2014.4*AO332*'CO2 Conversion Factors'!$D$20/0.8/1000,2096.16*AO332*'CO2 Conversion Factors'!$D$20/0.8/1000)","v":0},{"$f":"IF(O332=\"130\",2014.4*AO332*'CO2 Conversion Factors'!$G$20/0.8/1000,2096.16*AO332*'CO2 Conversion Factors'!$G$20/0.8/1000)","v":0},{"$f":"IF(O332=\"130\",2014.4*AO332*'CO2 Conversion Factors'!$J$20/0.8/1000,2096.16*AO332*'CO2 Conversion Factors'!$J$20/0.8/1000)","v":0},0,0,null,null,null,0,0,0,0,"",false,false,false,false,null,""]
[null,null,null,null,null,null,null,null,null,null,null,null,null,null,null,null,null,null,null,null,null,null,null,null,null,null,null,null,null,null,null,null,null,null,null,null,null,{"$f":"IF(O333=\"130\",2014.4*AO333*'CO2 Conversion Factors'!$D$20/0.8/1000,2096.16*AO333*'CO2 Conversion Factors'!$D$20/0.8/1000)","v":0},{"$f":"IF(O333=\"130\",2014.4*AO333*'CO2 Conversion Factors'!$G$20/0.8/1000,2096.16*AO333*'CO2 Conversion Factors'!$G$20/0.8/1000)","v":0},{"$f":"IF(O333=\"130\",2014.4*AO333*'CO2 Conversion Factors'!$J$20/0.8/1000,2096.16*AO333*'CO2 Conversion Factors'!$J$20/0.8/1000)","v":0},0,0,null,null,null,0,0,0,0,"",false,false,false,false,null,""]
[null,null,null,null,null,null,null,null,null,null,null,null,null,null,null,null,null,null,null,null,null,null,null,null,null,null,null,null,null,null,null,null,null,null,null,null,null,{"$f":"IF(O334=\"130\",2014.4*AO334*'CO2 Conversion Factors'!$D$20/0.8/1000,2096.16*AO334*'CO2 Conversion Factors'!$D$20/0.8/1000)","v":0},{"$f":"IF(O334=\"130\",2014.4*AO334*'CO2 Conversion Factors'!$G$20/0.8/1000,2096.16*AO334*'CO2 Conversion Factors'!$G$20/0.8/1000)","v":0},{"$f":"IF(O334=\"130\",2014.4*AO334*'CO2 Conversion Factors'!$J$20/0.8/1000,2096.16*AO334*'CO2 Conversion Factors'!$J$20/0.8/1000)","v":0},0,0,null,null,null,0,0,0,0,"",false,false,false,false,null,""]
[null,null,null,null,null,null,null,null,null,null,null,null,null,null,null,null,null,null,null,null,null,null,null,null,null,null,null,null,null,null,null,null,null,null,null,null,null,{"$f":"IF(O335=\"130\",2014.4*AO335*'CO2 Conversion Factors'!$D$20/0.8/1000,2096.16*AO335*'CO2 Conversion Factors'!$D$20/0.8/1000)","v":0},{"$f":"IF(O335=\"130\",2014.4*AO335*'CO2 Conversion Factors'!$G$20/0.8/1000,2096.16*AO335*'CO2 Conversion Factors'!$G$20/0.8/1000)","v":0},{"$f":"IF(O335=\"130\",2014.4*AO335*'CO2 Conversion Factors'!$J$20/0.8/1000,2096.16*AO335*'CO2 Conversion Factors'!$J$20/0.8/1000)","v":0},0,0,null,null,null,0,0,0,0,"",false,false,false,false,null,""]
[null,null,null,null,null,null,null,null,null,null,null,null,null,null,null,null,null,null,null,null,null,null,null,null,null,null,null,null,null,null,null,null,null,null,null,null,null,{"$f":"IF(O336=\"130\",2014.4*AO336*'CO2 Conversion Factors'!$D$20/0.8/1000,2096.16*AO336*'CO2 Conversion Factors'!$D$20/0.8/1000)","v":0},{"$f":"IF(O336=\"130\",2014.4*AO336*'CO2 Conversion Factors'!$G$20/0.8/1000,2096.16*AO336*'CO2 Conversion Factors'!$G$20/0.8/1000)","v":0},{"$f":"IF(O336=\"130\",2014.4*AO336*'CO2 Conversion Factors'!$J$20/0.8/1000,2096.16*AO336*'CO2 Conversion Factors'!$J$20/0.8/1000)","v":0},0,0,null,null,null,0,0,0,0,"",false,false,false,false,null,""]
[null,null,null,null,null,null,null,null,null,null,null,null,null,null,null,null,null,null,null,null,null,null,null,null,null,null,null,null,null,null,null,null,null,null,null,null,null,{"$f":"IF(O337=\"130\",2014.4*AO337*'CO2 Conversion Factors'!$D$20/0.8/1000,2096.16*AO337*'CO2 Conversion Factors'!$D$20/0.8/1000)","v":0},{"$f":"IF(O337=\"130\",2014.4*AO337*'CO2 Conversion Factors'!$G$20/0.8/1000,2096.16*AO337*'CO2 Conversion Factors'!$G$20/0.8/1000)","v":0},{"$f":"IF(O337=\"130\",2014.4*AO337*'CO2 Conversion Factors'!$J$20/0.8/1000,2096.16*AO337*'CO2 Conversion Factors'!$J$20/0.8/1000)","v":0},0,0,null,null,null,0,0,0,0,"",false,false,false,false,null,""]
[null,null,null,null,null,null,null,null,null,null,null,null,null,null,null,null,null,null,null,null,null,null,null,null,null,null,null,null,null,null,null,null,null,null,null,null,null,{"$f":"IF(O338=\"130\",2014.4*AO338*'CO2 Conversion Factors'!$D$20/0.8/1000,2096.16*AO338*'CO2 Conversion Factors'!$D$20/0.8/1000)","v":0},{"$f":"IF(O338=\"130\",2014.4*AO338*'CO2 Conversion Factors'!$G$20/0.8/1000,2096.16*AO338*'CO2 Conversion Factors'!$G$20/0.8/1000)","v":0},{"$f":"IF(O338=\"130\",2014.4*AO338*'CO2 Conversion Factors'!$J$20/0.8/1000,2096.16*AO338*'CO2 Conversion Factors'!$J$20/0.8/1000)","v":0},0,0,null,null,null,0,0,0,0,"",false,false,false,false,null,""]
[null,null,null,null,null,null,null,null,null,null,null,null,null,null,null,null,null,null,null,null,null,null,null,null,null,null,null,null,null,null,null,null,null,null,null,null,null,{"$f":"IF(O339=\"130\",2014.4*AO339*'CO2 Conversion Factors'!$D$20/0.8/1000,2096.16*AO339*'CO2 Conversion Factors'!$D$20/0.8/1000)","v":0},{"$f":"IF(O339=\"130\",2014.4*AO339*'CO2 Conversion Factors'!$G$20/0.8/1000,2096.16*AO339*'CO2 Conversion Factors'!$G$20/0.8/1000)","v":0},{"$f":"IF(O339=\"130\",2014.4*AO339*'CO2 Conversion Factors'!$J$20/0.8/1000,2096.16*AO339*'CO2 Conversion Factors'!$J$20/0.8/1000)","v":0},0,0,null,null,null,0,0,0,0,"",false,false,false,false,null,""]
[null,null,null,null,null,null,null,null,null,null,null,null,null,null,null,null,null,null,null,null,null,null,null,null,null,null,null,null,null,null,null,null,null,null,null,null,null,{"$f":"IF(O340=\"130\",2014.4*AO340*'CO2 Conversion Factors'!$D$20/0.8/1000,2096.16*AO340*'CO2 Conversion Factors'!$D$20/0.8/1000)","v":0},{"$f":"IF(O340=\"130\",2014.4*AO340*'CO2 Conversion Factors'!$G$20/0.8/1000,2096.16*AO340*'CO2 Conversion Factors'!$G$20/0.8/1000)","v":0},{"$f":"IF(O340=\"130\",2014.4*AO340*'CO2 Conversion Factors'!$J$20/0.8/1000,2096.16*AO340*'CO2 Conversion Factors'!$J$20/0.8/1000)","v":0},0,0,null,null,null,0,0,0,0,"",false,false,false,false,null,""]
[null,null,null,null,null,null,null,null,null,null,null,null,null,null,null,null,null,null,null,null,null,null,null,null,null,null,null,null,null,null,null,null,null,null,null,null,null,{"$f":"IF(O341=\"130\",2014.4*AO341*'CO2 Conversion Factors'!$D$20/0.8/1000,2096.16*AO341*'CO2 Conversion Factors'!$D$20/0.8/1000)","v":0},{"$f":"IF(O341=\"130\",2014.4*AO341*'CO2 Conversion Factors'!$G$20/0.8/1000,2096.16*AO341*'CO2 Conversion Factors'!$G$20/0.8/1000)","v":0},{"$f":"IF(O341=\"130\",2014.4*AO341*'CO2 Conversion Factors'!$J$20/0.8/1000,2096.16*AO341*'CO2 Conversion Factors'!$J$20/0.8/1000)","v":0},0,{"$f":"IFERROR(AO341*Cover_Select_SteamCost,0)","v":0},null,null,null,{"$f":"IF(NOT(OR(L341=\"NIS\",L341=\"OFF\")),F341)","v":0},{"$f":"IF(NOT(OR(L341=\"NIS\",L341=\"OFF\",L341=\"PO\")),F341)","v":0},{"$f":"IF(NOT(OR(L341=\"NIS\",L341=\"OFF\")),H341)","v":0},{"$f":"IF(NOT(OR(L341=\"NIS\",L341=\"OFF\",L341=\"PO\")),H341)","v":0},{"$f":"F341&H341","v":""},false,false,false,false,null,"","",""]
[null,null,null,null,null,null,null,null,null,null,null,null,null,null,null,null,null,null,null,null,null,null,null,null,null,null,null,null,null,null,null,null,null,null,null,null,null,{"$f":"IF(O342=\"130\",2014.4*AO342*'CO2 Conversion Factors'!$D$20/0.8/1000,2096.16*AO342*'CO2 Conversion Factors'!$D$20/0.8/1000)","v":0},{"$f":"IF(O342=\"130\",2014.4*AO342*'CO2 Conversion Factors'!$G$20/0.8/1000,2096.16*AO342*'CO2 Conversion Factors'!$G$20/0.8/1000)","v":0},{"$f":"IF(O342=\"130\",2014.4*AO342*'CO2 Conversion Factors'!$J$20/0.8/1000,2096.16*AO342*'CO2 Conversion Factors'!$J$20/0.8/1000)","v":0},0,{"$f":"IFERROR(AO342*Cover_Select_SteamCost,0)","v":0},null,null,null,{"$f":"IF(NOT(OR(L342=\"NIS\",L342=\"OFF\")),F342)","v":0},{"$f":"IF(NOT(OR(L342=\"NIS\",L342=\"OFF\",L342=\"PO\")),F342)","v":0},{"$f":"IF(NOT(OR(L342=\"NIS\",L342=\"OFF\")),H342)","v":0},{"$f":"IF(NOT(OR(L342=\"NIS\",L342=\"OFF\",L342=\"PO\")),H342)","v":0},{"$f":"F342&H342","v":""},false,false,false,false,null,"","",""]
[null,null,null,null,null,null,null,null,null,null,null,null,null,null,null,null,null,null,null,null,null,null,null,null,null,null,null,null,null,null,null,null,null,null,null,null,null,{"$f":"IF(O343=\"130\",2014.4*AO343*'CO2 Conversion Factors'!$D$20/0.8/1000,2096.16*AO343*'CO2 Conversion Factors'!$D$20/0.8/1000)","v":0},{"$f":"IF(O343=\"130\",2014.4*AO343*'CO2 Conversion Factors'!$G$20/0.8/1000,2096.16*AO343*'CO2 Conversion Factors'!$G$20/0.8/1000)","v":0},{"$f":"IF(O343=\"130\",2014.4*AO343*'CO2 Conversion Factors'!$J$20/0.8/1000,2096.16*AO343*'CO2 Conversion Factors'!$J$20/0.8/1000)","v":0},0,0,null,null,null,0,0,0,0,"",false,false,false,false,null,"","",""]
[null,null,null,null,null,null,null,null,null,null,null,null,null,null,null,null,null,null,null,null,null,null,null,null,null,null,null,null,null,null,null,null,null,null,null,null,null,{"$f":"IF(O344=\"130\",2014.4*AO344*'CO2 Conversion Factors'!$D$20/0.8/1000,2096.16*AO344*'CO2 Conversion Factors'!$D$20/0.8/1000)","v":0},{"$f":"IF(O344=\"130\",2014.4*AO344*'CO2 Conversion Factors'!$G$20/0.8/1000,2096.16*AO344*'CO2 Conversion Factors'!$G$20/0.8/1000)","v":0},{"$f":"IF(O344=\"130\",2014.4*AO344*'CO2 Conversion Factors'!$J$20/0.8/1000,2096.16*AO344*'CO2 Conversion Factors'!$J$20/0.8/1000)","v":0},0,0,null,null,null,0,0,0,0,"",false,false,false,false,null,"","",""]
[null,null,null,null,null,null,null,null,null,null,null,null,null,null,null,null,null,null,null,null,null,null,null,null,null,null,null,null,null,null,null,null,null,null,null,null,null,{"$f":"IF(O345=\"130\",2014.4*AO345*'CO2 Conversion Factors'!$D$20/0.8/1000,2096.16*AO345*'CO2 Conversion Factors'!$D$20/0.8/1000)","v":0},{"$f":"IF(O345=\"130\",2014.4*AO345*'CO2 Conversion Factors'!$G$20/0.8/1000,2096.16*AO345*'CO2 Conversion Factors'!$G$20/0.8/1000)","v":0},{"$f":"IF(O345=\"130\",2014.4*AO345*'CO2 Conversion Factors'!$J$20/0.8/1000,2096.16*AO345*'CO2 Conversion Factors'!$J$20/0.8/1000)","v":0},0,0,null,null,null,0,0,0,0,"",false,false,false,false,null,"","",""]
[null,null,null,null,null,null,null,null,null,null,null,null,null,null,null,null,null,null,null,null,null,null,null,null,null,null,null,null,null,null,null,null,null,null,null,null,null,{"$f":"IF(O346=\"130\",2014.4*AO346*'CO2 Conversion Factors'!$D$20/0.8/1000,2096.16*AO346*'CO2 Conversion Factors'!$D$20/0.8/1000)","v":0},{"$f":"IF(O346=\"130\",2014.4*AO346*'CO2 Conversion Factors'!$G$20/0.8/1000,2096.16*AO346*'CO2 Conversion Factors'!$G$20/0.8/1000)","v":0},{"$f":"IF(O346=\"130\",2014.4*AO346*'CO2 Conversion Factors'!$J$20/0.8/1000,2096.16*AO346*'CO2 Conversion Factors'!$J$20/0.8/1000)","v":0},0,0,null,null,null,0,0,0,0,"",false,false,false,false,null,"","",""]
[null,null,null,null,null,null,null,null,null,null,null,null,null,null,null,null,null,null,null,null,null,null,null,null,null,null,null,null,null,null,null,null,null,null,null,null,null,{"$f":"IF(O347=\"130\",2014.4*AO347*'CO2 Conversion Factors'!$D$20/0.8/1000,2096.16*AO347*'CO2 Conversion Factors'!$D$20/0.8/1000)","v":0},{"$f":"IF(O347=\"130\",2014.4*AO347*'CO2 Conversion Factors'!$G$20/0.8/1000,2096.16*AO347*'CO2 Conversion Factors'!$G$20/0.8/1000)","v":0},{"$f":"IF(O347=\"130\",2014.4*AO347*'CO2 Conversion Factors'!$J$20/0.8/1000,2096.16*AO347*'CO2 Conversion Factors'!$J$20/0.8/1000)","v":0},0,0,null,null,null,0,0,0,0,"",false,false,false,false,null,"","",""]
[null,null,null,null,null,null,null,null,null,null,null,null,null,null,null,null,null,null,null,null,null,null,null,null,null,null,null,null,null,null,null,null,null,null,null,null,null,{"$f":"IF(O348=\"130\",2014.4*AO348*'CO2 Conversion Factors'!$D$20/0.8/1000,2096.16*AO348*'CO2 Conversion Factors'!$D$20/0.8/1000)","v":0},{"$f":"IF(O348=\"130\",2014.4*AO348*'CO2 Conversion Factors'!$G$20/0.8/1000,2096.16*AO348*'CO2 Conversion Factors'!$G$20/0.8/1000)","v":0},{"$f":"IF(O348=\"130\",2014.4*AO348*'CO2 Conversion Factors'!$J$20/0.8/1000,2096.16*AO348*'CO2 Conversion Factors'!$J$20/0.8/1000)","v":0},0,0,null,null,null,0,0,0,0,"",false,false,false,false,null,"","",""]
[null,null,null,null,null,null,null,null,null,null,null,null,null,null,null,null,null,null,null,null,null,null,null,null,null,null,null,null,null,null,null,null,null,null,null,null,null,{"$f":"IF(O349=\"130\",2014.4*AO349*'CO2 Conversion Factors'!$D$20/0.8/1000,2096.16*AO349*'CO2 Conversion Factors'!$D$20/0.8/1000)","v":0},{"$f":"IF(O349=\"130\",2014.4*AO349*'CO2 Conversion Factors'!$G$20/0.8/1000,2096.16*AO349*'CO2 Conversion Factors'!$G$20/0.8/1000)","v":0},{"$f":"IF(O349=\"130\",2014.4*AO349*'CO2 Conversion Factors'!$J$20/0.8/1000,2096.16*AO349*'CO2 Conversion Factors'!$J$20/0.8/1000)","v":0},0,0,null,null,null,0,0,0,0,"",false,false,false,false,null,"","",""]
[null,null,null,null,null,null,null,null,null,null,null,null,null,null,null,null,null,null,null,null,null,null,null,null,null,null,null,null,null,null,null,null,null,null,null,null,null,{"$f":"IF(O350=\"130\",2014.4*AO350*'CO2 Conversion Factors'!$D$20/0.8/1000,2096.16*AO350*'CO2 Conversion Factors'!$D$20/0.8/1000)","v":0},{"$f":"IF(O350=\"130\",2014.4*AO350*'CO2 Conversion Factors'!$G$20/0.8/1000,2096.16*AO350*'CO2 Conversion Factors'!$G$20/0.8/1000)","v":0},{"$f":"IF(O350=\"130\",2014.4*AO350*'CO2 Conversion Factors'!$J$20/0.8/1000,2096.16*AO350*'CO2 Conversion Factors'!$J$20/0.8/1000)","v":0},0,0,null,null,null,0,0,0,0,"",false,false,false,false,null,"","",""]
[null,null,null,null,null,null,null,null,null,null,null,null,null,null,null,null,null,null,null,null,null,null,null,null,null,null,null,null,null,null,null,null,null,null,null,null,null,{"$f":"IF(O351=\"130\",2014.4*AO351*'CO2 Conversion Factors'!$D$20/0.8/1000,2096.16*AO351*'CO2 Conversion Factors'!$D$20/0.8/1000)","v":0},{"$f":"IF(O351=\"130\",2014.4*AO351*'CO2 Conversion Factors'!$G$20/0.8/1000,2096.16*AO351*'CO2 Conversion Factors'!$G$20/0.8/1000)","v":0},{"$f":"IF(O351=\"130\",2014.4*AO351*'CO2 Conversion Factors'!$J$20/0.8/1000,2096.16*AO351*'CO2 Conversion Factors'!$J$20/0.8/1000)","v":0},0,0,null,null,null,0,0,0,0,"",false,false,false,false,null,"","",""]
[null,null,null,null,null,null,null,null,null,null,null,null,null,null,null,null,null,null,null,null,null,null,null,null,null,null,null,null,null,null,null,null,null,null,null,null,null,{"$f":"IF(O352=\"130\",2014.4*AO352*'CO2 Conversion Factors'!$D$20/0.8/1000,2096.16*AO352*'CO2 Conversion Factors'!$D$20/0.8/1000)","v":0},{"$f":"IF(O352=\"130\",2014.4*AO352*'CO2 Conversion Factors'!$G$20/0.8/1000,2096.16*AO352*'CO2 Conversion Factors'!$G$20/0.8/1000)","v":0},{"$f":"IF(O352=\"130\",2014.4*AO352*'CO2 Conversion Factors'!$J$20/0.8/1000,2096.16*AO352*'CO2 Conversion Factors'!$J$20/0.8/1000)","v":0},0,0,null,null,null,0,0,0,0,"",false,false,false,false,null,"","",""]
[null,null,null,null,null,null,null,null,null,null,null,null,null,null,null,null,null,null,null,null,null,null,null,null,null,null,null,null,null,null,null,null,null,null,null,null,null,{"$f":"IF(O353=\"130\",2014.4*AO353*'CO2 Conversion Factors'!$D$20/0.8/1000,2096.16*AO353*'CO2 Conversion Factors'!$D$20/0.8/1000)","v":0},{"$f":"IF(O353=\"130\",2014.4*AO353*'CO2 Conversion Factors'!$G$20/0.8/1000,2096.16*AO353*'CO2 Conversion Factors'!$G$20/0.8/1000)","v":0},{"$f":"IF(O353=\"130\",2014.4*AO353*'CO2 Conversion Factors'!$J$20/0.8/1000,2096.16*AO353*'CO2 Conversion Factors'!$J$20/0.8/1000)","v":0},0,0,null,null,null,0,0,0,0,"",false,false,false,false,null,"","",""]
[null,null,null,null,null,null,null,null,null,null,null,null,null,null,null,null,null,null,null,null,null,null,null,null,null,null,null,null,null,null,null,null,null,null,null,null,null,{"$f":"IF(O354=\"130\",2014.4*AO354*'CO2 Conversion Factors'!$D$20/0.8/1000,2096.16*AO354*'CO2 Conversion Factors'!$D$20/0.8/1000)","v":0},{"$f":"IF(O354=\"130\",2014.4*AO354*'CO2 Conversion Factors'!$G$20/0.8/1000,2096.16*AO354*'CO2 Conversion Factors'!$G$20/0.8/1000)","v":0},{"$f":"IF(O354=\"130\",2014.4*AO354*'CO2 Conversion Factors'!$J$20/0.8/1000,2096.16*AO354*'CO2 Conversion Factors'!$J$20/0.8/1000)","v":0},0,0,null,null,null,0,0,0,0,"",false,false,false,false,null,"","",""]
[null,null,null,null,null,null,null,null,null,null,null,null,null,null,null,null,null,null,null,null,null,null,null,null,null,null,null,null,null,null,null,null,null,null,null,null,null,{"$f":"IF(O355=\"130\",2014.4*AO355*'CO2 Conversion Factors'!$D$20/0.8/1000,2096.16*AO355*'CO2 Conversion Factors'!$D$20/0.8/1000)","v":0},{"$f":"IF(O355=\"130\",2014.4*AO355*'CO2 Conversion Factors'!$G$20/0.8/1000,2096.16*AO355*'CO2 Conversion Factors'!$G$20/0.8/1000)","v":0},{"$f":"IF(O355=\"130\",2014.4*AO355*'CO2 Conversion Factors'!$J$20/0.8/1000,2096.16*AO355*'CO2 Conversion Factors'!$J$20/0.8/1000)","v":0},0,0,null,null,null,0,0,0,0,"",false,false,false,false,null,"","",""]
[null,null,null,null,null,null,null,null,null,null,null,null,null,null,null,null,null,null,null,null,null,null,null,null,null,null,null,null,null,null,null,null,null,null,null,null,null,{"$f":"IF(O356=\"130\",2014.4*AO356*'CO2 Conversion Factors'!$D$20/0.8/1000,2096.16*AO356*'CO2 Conversion Factors'!$D$20/0.8/1000)","v":0},{"$f":"IF(O356=\"130\",2014.4*AO356*'CO2 Conversion Factors'!$G$20/0.8/1000,2096.16*AO356*'CO2 Conversion Factors'!$G$20/0.8/1000)","v":0},{"$f":"IF(O356=\"130\",2014.4*AO356*'CO2 Conversion Factors'!$J$20/0.8/1000,2096.16*AO356*'CO2 Conversion Factors'!$J$20/0.8/1000)","v":0},0,0,null,null,null,0,0,0,0,"",false,false,false,false,null,"","",""]
[null,null,null,null,null,null,null,null,null,null,null,null,null,null,null,null,null,null,null,null,null,null,null,null,null,null,null,null,null,null,null,null,null,null,null,null,null,{"$f":"IF(O357=\"130\",2014.4*AO357*'CO2 Conversion Factors'!$D$20/0.8/1000,2096.16*AO357*'CO2 Conversion Factors'!$D$20/0.8/1000)","v":0},{"$f":"IF(O357=\"130\",2014.4*AO357*'CO2 Conversion Factors'!$G$20/0.8/1000,2096.16*AO357*'CO2 Conversion Factors'!$G$20/0.8/1000)","v":0},{"$f":"IF(O357=\"130\",2014.4*AO357*'CO2 Conversion Factors'!$J$20/0.8/1000,2096.16*AO357*'CO2 Conversion Factors'!$J$20/0.8/1000)","v":0},0,0,null,null,null,0,0,0,0,"",false,false,false,false,null,"","",""]
[null,null,null,null,null,null,null,null,null,null,null,null,null,null,null,null,null,null,null,null,null,null,null,null,null,null,null,null,null,null,null,null,null,null,null,null,null,{"$f":"IF(O358=\"130\",2014.4*AO358*'CO2 Conversion Factors'!$D$20/0.8/1000,2096.16*AO358*'CO2 Conversion Factors'!$D$20/0.8/1000)","v":0},{"$f":"IF(O358=\"130\",2014.4*AO358*'CO2 Conversion Factors'!$G$20/0.8/1000,2096.16*AO358*'CO2 Conversion Factors'!$G$20/0.8/1000)","v":0},{"$f":"IF(O358=\"130\",2014.4*AO358*'CO2 Conversion Factors'!$J$20/0.8/1000,2096.16*AO358*'CO2 Conversion Factors'!$J$20/0.8/1000)","v":0},0,0,null,null,null,0,0,0,0,"",false,false,false,false,null,"","",""]
[null,null,null,null,null,null,null,null,null,null,null,null,null,null,null,null,null,null,null,null,null,null,null,null,null,null,null,null,null,null,null,null,null,null,null,null,null,{"$f":"IF(O359=\"130\",2014.4*AO359*'CO2 Conversion Factors'!$D$20/0.8/1000,2096.16*AO359*'CO2 Conversion Factors'!$D$20/0.8/1000)","v":0},{"$f":"IF(O359=\"130\",2014.4*AO359*'CO2 Conversion Factors'!$G$20/0.8/1000,2096.16*AO359*'CO2 Conversion Factors'!$G$20/0.8/1000)","v":0},{"$f":"IF(O359=\"130\",2014.4*AO359*'CO2 Conversion Factors'!$J$20/0.8/1000,2096.16*AO359*'CO2 Conversion Factors'!$J$20/0.8/1000)","v":0},0,0,null,null,null,0,0,0,0,"",false,false,false,false,null,"","",""]
[null,null,null,null,null,null,null,null,null,null,null,null,null,null,null,null,null,null,null,null,null,null,null,null,null,null,null,null,null,null,null,null,null,null,null,null,null,{"$f":"IF(O360=\"130\",2014.4*AO360*'CO2 Conversion Factors'!$D$20/0.8/1000,2096.16*AO360*'CO2 Conversion Factors'!$D$20/0.8/1000)","v":0},{"$f":"IF(O360=\"130\",2014.4*AO360*'CO2 Conversion Factors'!$G$20/0.8/1000,2096.16*AO360*'CO2 Conversion Factors'!$G$20/0.8/1000)","v":0},{"$f":"IF(O360=\"130\",2014.4*AO360*'CO2 Conversion Factors'!$J$20/0.8/1000,2096.16*AO360*'CO2 Conversion Factors'!$J$20/0.8/1000)","v":0},0,0,null,null,null,0,0,0,0,"",false,false,false,false,null,"","",""]
[null,null,null,null,null,null,null,null,null,null,null,null,null,null,null,null,null,null,null,null,null,null,null,null,null,null,null,null,null,null,null,null,null,null,null,null,null,{"$f":"IF(O361=\"130\",2014.4*AO361*'CO2 Conversion Factors'!$D$20/0.8/1000,2096.16*AO361*'CO2 Conversion Factors'!$D$20/0.8/1000)","v":0},{"$f":"IF(O361=\"130\",2014.4*AO361*'CO2 Conversion Factors'!$G$20/0.8/1000,2096.16*AO361*'CO2 Conversion Factors'!$G$20/0.8/1000)","v":0},{"$f":"IF(O361=\"130\",2014.4*AO361*'CO2 Conversion Factors'!$J$20/0.8/1000,2096.16*AO361*'CO2 Conversion Factors'!$J$20/0.8/1000)","v":0},0,0,null,null,null,0,0,0,0,"",false,false,false,false,null,"","",""]
[null,null,null,null,null,null,null,null,null,null,null,null,null,null,null,null,null,null,null,null,null,null,null,null,null,null,null,null,null,null,null,null,null,null,null,null,null,{"$f":"IF(O362=\"130\",2014.4*AO362*'CO2 Conversion Factors'!$D$20/0.8/1000,2096.16*AO362*'CO2 Conversion Factors'!$D$20/0.8/1000)","v":0},{"$f":"IF(O362=\"130\",2014.4*AO362*'CO2 Conversion Factors'!$G$20/0.8/1000,2096.16*AO362*'CO2 Conversion Factors'!$G$20/0.8/1000)","v":0},{"$f":"IF(O362=\"130\",2014.4*AO362*'CO2 Conversion Factors'!$J$20/0.8/1000,2096.16*AO362*'CO2 Conversion Factors'!$J$20/0.8/1000)","v":0},0,0,null,null,null,0,0,0,0,"",false,false,false,false,null,"","",""]
[null,null,null,null,null,null,null,null,null,null,null,null,null,null,null,null,null,null,null,null,null,null,null,null,null,null,null,null,null,null,null,null,null,null,null,null,null,{"$f":"IF(O363=\"130\",2014.4*AO363*'CO2 Conversion Factors'!$D$20/0.8/1000,2096.16*AO363*'CO2 Conversion Factors'!$D$20/0.8/1000)","v":0},{"$f":"IF(O363=\"130\",2014.4*AO363*'CO2 Conversion Factors'!$G$20/0.8/1000,2096.16*AO363*'CO2 Conversion Factors'!$G$20/0.8/1000)","v":0},{"$f":"IF(O363=\"130\",2014.4*AO363*'CO2 Conversion Factors'!$J$20/0.8/1000,2096.16*AO363*'CO2 Conversion Factors'!$J$20/0.8/1000)","v":0},0,0,null,null,null,0,0,0,0,"",false,false,false,false,null,"","",""]
[null,null,null,null,null,null,null,null,null,null,null,null,null,null,null,null,null,null,null,null,null,null,null,null,null,null,null,null,null,null,null,null,null,null,null,null,null,{"$f":"IF(O364=\"130\",2014.4*AO364*'CO2 Conversion Factors'!$D$20/0.8/1000,2096.16*AO364*'CO2 Conversion Factors'!$D$20/0.8/1000)","v":0},{"$f":"IF(O364=\"130\",2014.4*AO364*'CO2 Conversion Factors'!$G$20/0.8/1000,2096.16*AO364*'CO2 Conversion Factors'!$G$20/0.8/1000)","v":0},{"$f":"IF(O364=\"130\",2014.4*AO364*'CO2 Conversion Factors'!$J$20/0.8/1000,2096.16*AO364*'CO2 Conversion Factors'!$J$20/0.8/1000)","v":0},0,0,null,null,null,0,0,0,0,"",false,false,false,false,null,"","",""]
[null,null,null,null,null,null,null,null,null,null,null,null,null,null,null,null,null,null,null,null,null,null,null,null,null,null,null,null,null,null,null,null,null,null,null,null,null,{"$f":"IF(O365=\"130\",2014.4*AO365*'CO2 Conversion Factors'!$D$20/0.8/1000,2096.16*AO365*'CO2 Conversion Factors'!$D$20/0.8/1000)","v":0},{"$f":"IF(O365=\"130\",2014.4*AO365*'CO2 Conversion Factors'!$G$20/0.8/1000,2096.16*AO365*'CO2 Conversion Factors'!$G$20/0.8/1000)","v":0},{"$f":"IF(O365=\"130\",2014.4*AO365*'CO2 Conversion Factors'!$J$20/0.8/1000,2096.16*AO365*'CO2 Conversion Factors'!$J$20/0.8/1000)","v":0},0,0,null,null,null,0,0,0,0,"",false,false,false,false,null,"","",""]
[null,null,null,null,null,null,null,null,null,null,null,null,null,null,null,null,null,null,null,null,null,null,null,null,null,null,null,null,null,null,null,null,null,null,null,null,null,{"$f":"IF(O366=\"130\",2014.4*AO366*'CO2 Conversion Factors'!$D$20/0.8/1000,2096.16*AO366*'CO2 Conversion Factors'!$D$20/0.8/1000)","v":0},{"$f":"IF(O366=\"130\",2014.4*AO366*'CO2 Conversion Factors'!$G$20/0.8/1000,2096.16*AO366*'CO2 Conversion Factors'!$G$20/0.8/1000)","v":0},{"$f":"IF(O366=\"130\",2014.4*AO366*'CO2 Conversion Factors'!$J$20/0.8/1000,2096.16*AO366*'CO2 Conversion Factors'!$J$20/0.8/1000)","v":0},0,0,null,null,null,0,0,0,0,"",false,false,false,false,null,"","",""]
[null,null,null,null,null,null,null,null,null,null,null,null,null,null,null,null,null,null,null,null,null,null,null,null,null,null,null,null,null,null,null,null,null,null,null,null,null,{"$f":"IF(O367=\"130\",2014.4*AO367*'CO2 Conversion Factors'!$D$20/0.8/1000,2096.16*AO367*'CO2 Conversion Factors'!$D$20/0.8/1000)","v":0},{"$f":"IF(O367=\"130\",2014.4*AO367*'CO2 Conversion Factors'!$G$20/0.8/1000,2096.16*AO367*'CO2 Conversion Factors'!$G$20/0.8/1000)","v":0},{"$f":"IF(O367=\"130\",2014.4*AO367*'CO2 Conversion Factors'!$J$20/0.8/1000,2096.16*AO367*'CO2 Conversion Factors'!$J$20/0.8/1000)","v":0},0,0,null,null,null,0,0,0,0,"",false,false,false,false,null,"","",""]
[null,null,null,null,null,null,null,null,null,null,null,null,null,null,null,null,null,null,null,null,null,null,null,null,null,null,null,null,null,null,null,null,null,null,null,null,null,{"$f":"IF(O368=\"130\",2014.4*AO368*'CO2 Conversion Factors'!$D$20/0.8/1000,2096.16*AO368*'CO2 Conversion Factors'!$D$20/0.8/1000)","v":0},{"$f":"IF(O368=\"130\",2014.4*AO368*'CO2 Conversion Factors'!$G$20/0.8/1000,2096.16*AO368*'CO2 Conversion Factors'!$G$20/0.8/1000)","v":0},{"$f":"IF(O368=\"130\",2014.4*AO368*'CO2 Conversion Factors'!$J$20/0.8/1000,2096.16*AO368*'CO2 Conversion Factors'!$J$20/0.8/1000)","v":0},0,0,null,null,null,0,0,0,0,"",false,false,false,false,null,"","",""]
[null,null,null,null,null,null,null,null,null,null,null,null,null,null,null,null,null,null,null,null,null,null,null,null,null,null,null,null,null,null,null,null,null,null,null,null,null,{"$f":"IF(O369=\"130\",2014.4*AO369*'CO2 Conversion Factors'!$D$20/0.8/1000,2096.16*AO369*'CO2 Conversion Factors'!$D$20/0.8/1000)","v":0},{"$f":"IF(O369=\"130\",2014.4*AO369*'CO2 Conversion Factors'!$G$20/0.8/1000,2096.16*AO369*'CO2 Conversion Factors'!$G$20/0.8/1000)","v":0},{"$f":"IF(O369=\"130\",2014.4*AO369*'CO2 Conversion Factors'!$J$20/0.8/1000,2096.16*AO369*'CO2 Conversion Factors'!$J$20/0.8/1000)","v":0},0,0,null,null,null,0,0,0,0,"",false,false,false,false,null,"","",""]
[null,null,null,null,null,null,null,null,null,null,null,null,null,null,null,null,null,null,null,null,null,null,null,null,null,null,null,null,null,null,null,null,null,null,null,null,null,{"$f":"IF(O370=\"130\",2014.4*AO370*'CO2 Conversion Factors'!$D$20/0.8/1000,2096.16*AO370*'CO2 Conversion Factors'!$D$20/0.8/1000)","v":0},{"$f":"IF(O370=\"130\",2014.4*AO370*'CO2 Conversion Factors'!$G$20/0.8/1000,2096.16*AO370*'CO2 Conversion Factors'!$G$20/0.8/1000)","v":0},{"$f":"IF(O370=\"130\",2014.4*AO370*'CO2 Conversion Factors'!$J$20/0.8/1000,2096.16*AO370*'CO2 Conversion Factors'!$J$20/0.8/1000)","v":0},0,0,null,null,null,0,0,0,0,"",false,false,false,false,null,"","",""]
[null,null,null,null,null,null,null,null,null,null,null,null,null,null,null,null,null,null,null,null,null,null,null,null,null,null,null,null,null,null,null,null,null,null,null,null,null,{"$f":"IF(O371=\"130\",2014.4*AO371*'CO2 Conversion Factors'!$D$20/0.8/1000,2096.16*AO371*'CO2 Conversion Factors'!$D$20/0.8/1000)","v":0},{"$f":"IF(O371=\"130\",2014.4*AO371*'CO2 Conversion Factors'!$G$20/0.8/1000,2096.16*AO371*'CO2 Conversion Factors'!$G$20/0.8/1000)","v":0},{"$f":"IF(O371=\"130\",2014.4*AO371*'CO2 Conversion Factors'!$J$20/0.8/1000,2096.16*AO371*'CO2 Conversion Factors'!$J$20/0.8/1000)","v":0},0,0,null,null,null,0,0,0,0,"",false,false,false,false,null,"","",""]
[null,null,null,null,null,null,null,null,null,null,null,null,null,null,null,null,null,null,null,null,null,null,null,null,null,null,null,null,null,null,null,null,null,null,null,null,null,{"$f":"IF(O372=\"130\",2014.4*AO372*'CO2 Conversion Factors'!$D$20/0.8/1000,2096.16*AO372*'CO2 Conversion Factors'!$D$20/0.8/1000)","v":0},{"$f":"IF(O372=\"130\",2014.4*AO372*'CO2 Conversion Factors'!$G$20/0.8/1000,2096.16*AO372*'CO2 Conversion Factors'!$G$20/0.8/1000)","v":0},{"$f":"IF(O372=\"130\",2014.4*AO372*'CO2 Conversion Factors'!$J$20/0.8/1000,2096.16*AO372*'CO2 Conversion Factors'!$J$20/0.8/1000)","v":0},0,0,null,null,null,0,0,0,0,"",false,false,false,false,null,"","",""]
[null,null,null,null,null,null,null,null,null,null,null,null,null,null,null,null,null,null,null,null,null,null,null,null,null,null,null,null,null,null,null,null,null,null,null,null,null,{"$f":"IF(O373=\"130\",2014.4*AO373*'CO2 Conversion Factors'!$D$20/0.8/1000,2096.16*AO373*'CO2 Conversion Factors'!$D$20/0.8/1000)","v":0},{"$f":"IF(O373=\"130\",2014.4*AO373*'CO2 Conversion Factors'!$G$20/0.8/1000,2096.16*AO373*'CO2 Conversion Factors'!$G$20/0.8/1000)","v":0},{"$f":"IF(O373=\"130\",2014.4*AO373*'CO2 Conversion Factors'!$J$20/0.8/1000,2096.16*AO373*'CO2 Conversion Factors'!$J$20/0.8/1000)","v":0},0,0,null,null,null,0,0,0,0,"",false,false,false,false,null,"","",""]
[null,null,null,null,null,null,null,null,null,null,null,null,null,null,null,null,null,null,null,null,null,null,null,null,null,null,null,null,null,null,null,null,null,null,null,null,null,{"$f":"IF(O374=\"130\",2014.4*AO374*'CO2 Conversion Factors'!$D$20/0.8/1000,2096.16*AO374*'CO2 Conversion Factors'!$D$20/0.8/1000)","v":0},{"$f":"IF(O374=\"130\",2014.4*AO374*'CO2 Conversion Factors'!$G$20/0.8/1000,2096.16*AO374*'CO2 Conversion Factors'!$G$20/0.8/1000)","v":0},{"$f":"IF(O374=\"130\",2014.4*AO374*'CO2 Conversion Factors'!$J$20/0.8/1000,2096.16*AO374*'CO2 Conversion Factors'!$J$20/0.8/1000)","v":0},0,0,null,null,null,0,0,0,0,"",false,false,false,false,null,"","",""]
[null,null,null,null,null,null,null,null,null,null,null,null,null,null,null,null,null,null,null,null,null,null,null,null,null,null,null,null,null,null,null,null,null,null,null,null,null,{"$f":"IF(O375=\"130\",2014.4*AO375*'CO2 Conversion Factors'!$D$20/0.8/1000,2096.16*AO375*'CO2 Conversion Factors'!$D$20/0.8/1000)","v":0},{"$f":"IF(O375=\"130\",2014.4*AO375*'CO2 Conversion Factors'!$G$20/0.8/1000,2096.16*AO375*'CO2 Conversion Factors'!$G$20/0.8/1000)","v":0},{"$f":"IF(O375=\"130\",2014.4*AO375*'CO2 Conversion Factors'!$J$20/0.8/1000,2096.16*AO375*'CO2 Conversion Factors'!$J$20/0.8/1000)","v":0},0,0,null,null,null,0,0,0,0,"",false,false,false,false,null,"","",""]
[null,null,null,null,null,null,null,null,null,null,null,null,null,null,null,null,null,null,null,null,null,null,null,null,null,null,null,null,null,null,null,null,null,null,null,null,null,{"$f":"IF(O376=\"130\",2014.4*AO376*'CO2 Conversion Factors'!$D$20/0.8/1000,2096.16*AO376*'CO2 Conversion Factors'!$D$20/0.8/1000)","v":0},{"$f":"IF(O376=\"130\",2014.4*AO376*'CO2 Conversion Factors'!$G$20/0.8/1000,2096.16*AO376*'CO2 Conversion Factors'!$G$20/0.8/1000)","v":0},{"$f":"IF(O376=\"130\",2014.4*AO376*'CO2 Conversion Factors'!$J$20/0.8/1000,2096.16*AO376*'CO2 Conversion Factors'!$J$20/0.8/1000)","v":0},0,0,null,null,null,0,0,0,0,"",false,false,false,false,null,"","",""]
[null,null,null,null,null,null,null,null,null,null,null,null,null,null,null,null,null,null,null,null,null,null,null,null,null,null,null,null,null,null,null,null,null,null,null,null,null,{"$f":"IF(O377=\"130\",2014.4*AO377*'CO2 Conversion Factors'!$D$20/0.8/1000,2096.16*AO377*'CO2 Conversion Factors'!$D$20/0.8/1000)","v":0},{"$f":"IF(O377=\"130\",2014.4*AO377*'CO2 Conversion Factors'!$G$20/0.8/1000,2096.16*AO377*'CO2 Conversion Factors'!$G$20/0.8/1000)","v":0},{"$f":"IF(O377=\"130\",2014.4*AO377*'CO2 Conversion Factors'!$J$20/0.8/1000,2096.16*AO377*'CO2 Conversion Factors'!$J$20/0.8/1000)","v":0},0,0,null,null,null,0,0,0,0,"",false,false,false,false,null,"","",""]
[null,null,null,null,null,null,null,null,null,null,null,null,null,null,null,null,null,null,null,null,null,null,null,null,null,null,null,null,null,null,null,null,null,null,null,null,null,{"$f":"IF(O378=\"130\",2014.4*AO378*'CO2 Conversion Factors'!$D$20/0.8/1000,2096.16*AO378*'CO2 Conversion Factors'!$D$20/0.8/1000)","v":0},{"$f":"IF(O378=\"130\",2014.4*AO378*'CO2 Conversion Factors'!$G$20/0.8/1000,2096.16*AO378*'CO2 Conversion Factors'!$G$20/0.8/1000)","v":0},{"$f":"IF(O378=\"130\",2014.4*AO378*'CO2 Conversion Factors'!$J$20/0.8/1000,2096.16*AO378*'CO2 Conversion Factors'!$J$20/0.8/1000)","v":0},0,0,null,null,null,0,0,0,0,"",false,false,false,false,null,"","",""]
[null,null,null,null,null,null,null,null,null,null,null,null,null,null,null,null,null,null,null,null,null,null,null,null,null,null,null,null,null,null,null,null,null,null,null,null,null,{"$f":"IF(O379=\"130\",2014.4*AO379*'CO2 Conversion Factors'!$D$20/0.8/1000,2096.16*AO379*'CO2 Conversion Factors'!$D$20/0.8/1000)","v":0},{"$f":"IF(O379=\"130\",2014.4*AO379*'CO2 Conversion Factors'!$G$20/0.8/1000,2096.16*AO379*'CO2 Conversion Factors'!$G$20/0.8/1000)","v":0},{"$f":"IF(O379=\"130\",2014.4*AO379*'CO2 Conversion Factors'!$J$20/0.8/1000,2096.16*AO379*'CO2 Conversion Factors'!$J$20/0.8/1000)","v":0},0,0,null,null,null,0,0,0,0,"",false,false,false,false,null,"","",""]
[null,null,null,null,null,null,null,null,null,null,null,null,null,null,null,null,null,null,null,null,null,null,null,null,null,null,null,null,null,null,null,null,null,null,null,null,null,{"$f":"IF(O380=\"130\",2014.4*AO380*'CO2 Conversion Factors'!$D$20/0.8/1000,2096.16*AO380*'CO2 Conversion Factors'!$D$20/0.8/1000)","v":0},{"$f":"IF(O380=\"130\",2014.4*AO380*'CO2 Conversion Factors'!$G$20/0.8/1000,2096.16*AO380*'CO2 Conversion Factors'!$G$20/0.8/1000)","v":0},{"$f":"IF(O380=\"130\",2014.4*AO380*'CO2 Conversion Factors'!$J$20/0.8/1000,2096.16*AO380*'CO2 Conversion Factors'!$J$20/0.8/1000)","v":0},0,0,null,null,null,0,0,0,0,"",false,false,false,false,null,"","",""]
[null,null,null,null,null,null,null,null,null,null,null,null,null,null,null,null,null,null,null,null,null,null,null,null,null,null,null,null,null,null,null,null,null,null,null,null,null,{"$f":"IF(O381=\"130\",2014.4*AO381*'CO2 Conversion Factors'!$D$20/0.8/1000,2096.16*AO381*'CO2 Conversion Factors'!$D$20/0.8/1000)","v":0},{"$f":"IF(O381=\"130\",2014.4*AO381*'CO2 Conversion Factors'!$G$20/0.8/1000,2096.16*AO381*'CO2 Conversion Factors'!$G$20/0.8/1000)","v":0},{"$f":"IF(O381=\"130\",2014.4*AO381*'CO2 Conversion Factors'!$J$20/0.8/1000,2096.16*AO381*'CO2 Conversion Factors'!$J$20/0.8/1000)","v":0},0,0,null,null,null,0,0,0,0,"",false,false,false,false,null,"","",""]
[null,null,null,null,null,null,null,null,null,null,null,null,null,null,null,null,null,null,null,null,null,null,null,null,null,null,null,null,null,null,null,null,null,null,null,null,null,{"$f":"IF(O382=\"130\",2014.4*AO382*'CO2 Conversion Factors'!$D$20/0.8/1000,2096.16*AO382*'CO2 Conversion Factors'!$D$20/0.8/1000)","v":0},{"$f":"IF(O382=\"130\",2014.4*AO382*'CO2 Conversion Factors'!$G$20/0.8/1000,2096.16*AO382*'CO2 Conversion Factors'!$G$20/0.8/1000)","v":0},{"$f":"IF(O382=\"130\",2014.4*AO382*'CO2 Conversion Factors'!$J$20/0.8/1000,2096.16*AO382*'CO2 Conversion Factors'!$J$20/0.8/1000)","v":0},0,{"$f":"IFERROR(AO382*Cover_Select_SteamCost,0)","v":0},null,null,null,{"$f":"IF(NOT(OR(L382=\"NIS\",L382=\"OFF\")),F382)","v":0},{"$f":"IF(NOT(OR(L382=\"NIS\",L382=\"OFF\",L382=\"PO\")),F382)","v":0},{"$f":"IF(NOT(OR(L382=\"NIS\",L382=\"OFF\")),H382)","v":0},{"$f":"IF(NOT(OR(L382=\"NIS\",L382=\"OFF\",L382=\"PO\")),H382)","v":0},"",false,false,false,false,null,"","",""]
[null,null,null,null,null,null,null,null,null,null,null,null,null,null,null,null,null,null,null,null,null,null,null,null,null,null,null,null,null,null,null,null,null,null,null,null,null,{"$f":"IF(O383=\"130\",2014.4*AO383*'CO2 Conversion Factors'!$D$20/0.8/1000,2096.16*AO383*'CO2 Conversion Factors'!$D$20/0.8/1000)","v":0},{"$f":"IF(O383=\"130\",2014.4*AO383*'CO2 Conversion Factors'!$G$20/0.8/1000,2096.16*AO383*'CO2 Conversion Factors'!$G$20/0.8/1000)","v":0},{"$f":"IF(O383=\"130\",2014.4*AO383*'CO2 Conversion Factors'!$J$20/0.8/1000,2096.16*AO383*'CO2 Conversion Factors'!$J$20/0.8/1000)","v":0},0,0,null,null,null,0,0,0,0,{"$f":"F383&H383","v":""},false,false,false,false,null,"","",""]
[null,null,null,null,null,null,null,null,null,null,null,null,null,null,null,null,null,null,null,null,null,null,null,null,null,null,null,null,null,null,null,null,null,null,null,null,null,{"$f":"IF(O384=\"130\",2014.4*AO384*'CO2 Conversion Factors'!$D$20/0.8/1000,2096.16*AO384*'CO2 Conversion Factors'!$D$20/0.8/1000)","v":0},{"$f":"IF(O384=\"130\",2014.4*AO384*'CO2 Conversion Factors'!$G$20/0.8/1000,2096.16*AO384*'CO2 Conversion Factors'!$G$20/0.8/1000)","v":0},{"$f":"IF(O384=\"130\",2014.4*AO384*'CO2 Conversion Factors'!$J$20/0.8/1000,2096.16*AO384*'CO2 Conversion Factors'!$J$20/0.8/1000)","v":0},0,0,null,null,null,0,0,0,0,"",false,false,false,false,null,"","",""]
[null,null,null,null,null,null,null,null,null,null,null,null,null,null,null,null,null,null,null,null,null,null,null,null,null,null,null,null,null,null,null,null,null,null,null,null,null,{"$f":"IF(O385=\"130\",2014.4*AO385*'CO2 Conversion Factors'!$D$20/0.8/1000,2096.16*AO385*'CO2 Conversion Factors'!$D$20/0.8/1000)","v":0},{"$f":"IF(O385=\"130\",2014.4*AO385*'CO2 Conversion Factors'!$G$20/0.8/1000,2096.16*AO385*'CO2 Conversion Factors'!$G$20/0.8/1000)","v":0},{"$f":"IF(O385=\"130\",2014.4*AO385*'CO2 Conversion Factors'!$J$20/0.8/1000,2096.16*AO385*'CO2 Conversion Factors'!$J$20/0.8/1000)","v":0},0,0,null,null,null,0,0,0,0,"",false,false,false,false,null,"","",""]
[null,null,null,null,null,null,null,null,null,null,null,null,null,null,null,null,null,null,null,null,null,null,null,null,null,null,null,null,null,null,null,null,null,null,null,null,null,{"$f":"IF(O386=\"130\",2014.4*AO386*'CO2 Conversion Factors'!$D$20/0.8/1000,2096.16*AO386*'CO2 Conversion Factors'!$D$20/0.8/1000)","v":0},{"$f":"IF(O386=\"130\",2014.4*AO386*'CO2 Conversion Factors'!$G$20/0.8/1000,2096.16*AO386*'CO2 Conversion Factors'!$G$20/0.8/1000)","v":0},{"$f":"IF(O386=\"130\",2014.4*AO386*'CO2 Conversion Factors'!$J$20/0.8/1000,2096.16*AO386*'CO2 Conversion Factors'!$J$20/0.8/1000)","v":0},0,0,null,null,null,0,0,0,0,"",false,false,false,false,null,"","",""]
[null,null,null,null,null,null,null,null,null,null,null,null,null,null,null,null,null,null,null,null,null,null,null,null,null,null,null,null,null,null,null,null,null,null,null,null,null,{"$f":"IF(O387=\"130\",2014.4*AO387*'CO2 Conversion Factors'!$D$20/0.8/1000,2096.16*AO387*'CO2 Conversion Factors'!$D$20/0.8/1000)","v":0},{"$f":"IF(O387=\"130\",2014.4*AO387*'CO2 Conversion Factors'!$G$20/0.8/1000,2096.16*AO387*'CO2 Conversion Factors'!$G$20/0.8/1000)","v":0},{"$f":"IF(O387=\"130\",2014.4*AO387*'CO2 Conversion Factors'!$J$20/0.8/1000,2096.16*AO387*'CO2 Conversion Factors'!$J$20/0.8/1000)","v":0},{"$f":"IFERROR(IF(OR(L387=\"BLW\",L387=\"PRI\",L387=\"LNK\"),IF(Cover_Select_SteamCostUnits=\"£/1000kg\",11.6*(VLOOKUP($I387,Abb_Lookup_OrifaceDia,2,FALSE)^2)*SQRT(($O387-$P387)*($O387+$P387)),25.57363*(VLOOKUP($I387,Abb_Lookup_OrifaceDia,2,FALSE)^2)*SQRT(($O387-$P387)*($O387+$P387)))*(VLOOKUP(AE387,Cover_Lookup_OpTime,4,FALSE)/1000),IF(L387=\"LL\",IF(Cover_Select_SteamCostUnits=\"£/1000kg\",11.6*(VLOOKUP($I387,Abb_Lookup_OrifaceDia,2,FALSE)^2)*SQRT(($O387-$P387)*($O387+$P387)),25.57363*(VLOOKUP($I387,Abb_Lookup_OrifaceDia,2,FALSE)^2)*SQRT(($O387-$P387)*($O387+$P387)))*(VLOOKUP(AE387,Cover_Lookup_OpTime,4,FALSE)/2000),IF(L387=\"SL\",IF(Cover_Select_SteamCostUnits=\"£/1000kg\",11.6*(VLOOKUP($I387,Abb_Lookup_OrifaceDia,2,FALSE)^2)*SQRT(($O387-$P387)*($O387+$P387)),25.57363*(VLOOKUP($I387,Abb_Lookup_OrifaceDia,2,FALSE)^2)*SQRT(($O387-$P387)*($O387+$P387)))*(VLOOKUP(AE387,Cover_Lookup_OpTime,4,FALSE)/4000),0))),0)","v":0},0,null,null,null,0,0,0,0,"",false,false,false,false,null,"","",""]
[null,null,null,null,null,null,null,null,null,null,null,null,null,null,null,null,null,null,null,null,null,null,null,null,null,null,null,null,null,null,null,null,null,null,null,null,null,{"$f":"IF(O388=\"130\",2014.4*AO388*'CO2 Conversion Factors'!$D$20/0.8/1000,2096.16*AO388*'CO2 Conversion Factors'!$D$20/0.8/1000)","v":0},{"$f":"IF(O388=\"130\",2014.4*AO388*'CO2 Conversion Factors'!$G$20/0.8/1000,2096.16*AO388*'CO2 Conversion Factors'!$G$20/0.8/1000)","v":0},{"$f":"IF(O388=\"130\",2014.4*AO388*'CO2 Conversion Factors'!$J$20/0.8/1000,2096.16*AO388*'CO2 Conversion Factors'!$J$20/0.8/1000)","v":0},0,0,null,null,null,0,0,0,0,"",false,false,false,false,null,"","",""]
[null,null,null,null,null,null,null,null,null,null,null,null,null,null,null,null,null,null,null,null,null,null,null,null,null,null,null,null,null,null,null,null,null,null,null,null,null,{"$f":"IF(O389=\"130\",2014.4*AO389*'CO2 Conversion Factors'!$D$20/0.8/1000,2096.16*AO389*'CO2 Conversion Factors'!$D$20/0.8/1000)","v":0},{"$f":"IF(O389=\"130\",2014.4*AO389*'CO2 Conversion Factors'!$G$20/0.8/1000,2096.16*AO389*'CO2 Conversion Factors'!$G$20/0.8/1000)","v":0},{"$f":"IF(O389=\"130\",2014.4*AO389*'CO2 Conversion Factors'!$J$20/0.8/1000,2096.16*AO389*'CO2 Conversion Factors'!$J$20/0.8/1000)","v":0},0,0,null,null,null,0,0,0,0,"",{"$f":"IF(L389=\"CLD\", H389)","v":false},{"$f":"IF(L389=\"SL\", H389)","v":false},{"$f":"IF(L389=\"LL\", H389)","v":false},{"$f":"IF(L389=\"BLW\", H389)","v":false},null,"","",""]
[null,null,null,null,null,null,null,null,null,null,null,null,null,null,null,null,null,null,null,null,null,null,null,null,null,null,null,null,null,null,null,null,null,null,null,null,null,{"$f":"IF(O390=\"130\",2014.4*AO390*'CO2 Conversion Factors'!$D$20/0.8/1000,2096.16*AO390*'CO2 Conversion Factors'!$D$20/0.8/1000)","v":0},{"$f":"IF(O390=\"130\",2014.4*AO390*'CO2 Conversion Factors'!$G$20/0.8/1000,2096.16*AO390*'CO2 Conversion Factors'!$G$20/0.8/1000)","v":0},{"$f":"IF(O390=\"130\",2014.4*AO390*'CO2 Conversion Factors'!$J$20/0.8/1000,2096.16*AO390*'CO2 Conversion Factors'!$J$20/0.8/1000)","v":0},0,0,null,null,null,0,0,0,0,"",false,false,false,false,null,"","",""]
[null,null,null,null,null,null,null,null,null,null,null,null,null,null,null,null,null,null,null,null,null,null,null,null,null,null,null,null,null,null,null,null,null,null,null,null,null,{"$f":"IF(O391=\"130\",2014.4*AO391*'CO2 Conversion Factors'!$D$20/0.8/1000,2096.16*AO391*'CO2 Conversion Factors'!$D$20/0.8/1000)","v":0},{"$f":"IF(O391=\"130\",2014.4*AO391*'CO2 Conversion Factors'!$G$20/0.8/1000,2096.16*AO391*'CO2 Conversion Factors'!$G$20/0.8/1000)","v":0},{"$f":"IF(O391=\"130\",2014.4*AO391*'CO2 Conversion Factors'!$J$20/0.8/1000,2096.16*AO391*'CO2 Conversion Factors'!$J$20/0.8/1000)","v":0},0,0,null,null,null,0,0,0,0,"",false,false,false,false,null,"","",""]
[null,null,null,null,null,null,null,null,null,null,null,null,null,null,null,null,null,null,null,null,null,null,null,null,null,null,null,null,null,null,null,null,null,null,null,null,null,{"$f":"IF(O392=\"130\",2014.4*AO392*'CO2 Conversion Factors'!$D$20/0.8/1000,2096.16*AO392*'CO2 Conversion Factors'!$D$20/0.8/1000)","v":0},{"$f":"IF(O392=\"130\",2014.4*AO392*'CO2 Conversion Factors'!$G$20/0.8/1000,2096.16*AO392*'CO2 Conversion Factors'!$G$20/0.8/1000)","v":0},{"$f":"IF(O392=\"130\",2014.4*AO392*'CO2 Conversion Factors'!$J$20/0.8/1000,2096.16*AO392*'CO2 Conversion Factors'!$J$20/0.8/1000)","v":0},0,0,null,null,null,0,0,0,0,"",false,false,false,false,null,"","",""]
[null,null,null,null,null,null,null,null,null,null,null,null,null,null,null,null,null,null,null,null,null,null,null,null,null,null,null,null,null,null,null,null,null,null,null,null,null,{"$f":"IF(O393=\"130\",2014.4*AO393*'CO2 Conversion Factors'!$D$20/0.8/1000,2096.16*AO393*'CO2 Conversion Factors'!$D$20/0.8/1000)","v":0},{"$f":"IF(O393=\"130\",2014.4*AO393*'CO2 Conversion Factors'!$G$20/0.8/1000,2096.16*AO393*'CO2 Conversion Factors'!$G$20/0.8/1000)","v":0},{"$f":"IF(O393=\"130\",2014.4*AO393*'CO2 Conversion Factors'!$J$20/0.8/1000,2096.16*AO393*'CO2 Conversion Factors'!$J$20/0.8/1000)","v":0},0,0,null,null,null,0,0,0,0,"",false,false,false,false,null,"","",""]
[null,null,null,null,null,null,null,null,null,null,null,null,null,null,null,null,null,null,null,null,null,null,null,null,null,null,null,null,null,null,null,null,null,null,null,null,null,{"$f":"IF(O394=\"130\",2014.4*AO394*'CO2 Conversion Factors'!$D$20/0.8/1000,2096.16*AO394*'CO2 Conversion Factors'!$D$20/0.8/1000)","v":0},{"$f":"IF(O394=\"130\",2014.4*AO394*'CO2 Conversion Factors'!$G$20/0.8/1000,2096.16*AO394*'CO2 Conversion Factors'!$G$20/0.8/1000)","v":0},{"$f":"IF(O394=\"130\",2014.4*AO394*'CO2 Conversion Factors'!$J$20/0.8/1000,2096.16*AO394*'CO2 Conversion Factors'!$J$20/0.8/1000)","v":0},0,0,null,null,null,0,0,0,0,"",false,false,false,false,null,"","",""]
[null,null,null,null,null,null,null,null,null,null,null,null,null,null,null,null,null,null,null,null,null,null,null,null,null,null,null,null,null,null,null,null,null,null,null,null,null,{"$f":"IF(O395=\"130\",2014.4*AO395*'CO2 Conversion Factors'!$D$20/0.8/1000,2096.16*AO395*'CO2 Conversion Factors'!$D$20/0.8/1000)","v":0},{"$f":"IF(O395=\"130\",2014.4*AO395*'CO2 Conversion Factors'!$G$20/0.8/1000,2096.16*AO395*'CO2 Conversion Factors'!$G$20/0.8/1000)","v":0},{"$f":"IF(O395=\"130\",2014.4*AO395*'CO2 Conversion Factors'!$J$20/0.8/1000,2096.16*AO395*'CO2 Conversion Factors'!$J$20/0.8/1000)","v":0},0,0,null,null,null,0,0,0,0,"",false,false,false,false,null,"","",""]
[null,null,null,null,null,null,null,null,null,null,null,null,null,null,null,null,null,null,null,null,null,null,null,null,null,null,null,null,null,null,null,null,null,null,null,null,null,{"$f":"IF(O396=\"130\",2014.4*AO396*'CO2 Conversion Factors'!$D$20/0.8/1000,2096.16*AO396*'CO2 Conversion Factors'!$D$20/0.8/1000)","v":0},{"$f":"IF(O396=\"130\",2014.4*AO396*'CO2 Conversion Factors'!$G$20/0.8/1000,2096.16*AO396*'CO2 Conversion Factors'!$G$20/0.8/1000)","v":0},{"$f":"IF(O396=\"130\",2014.4*AO396*'CO2 Conversion Factors'!$J$20/0.8/1000,2096.16*AO396*'CO2 Conversion Factors'!$J$20/0.8/1000)","v":0},0,0,null,null,null,0,0,0,0,"",false,false,false,false,null,"","",""]
[null,null,null,null,null,null,null,null,null,null,null,null,null,null,null,null,null,null,null,null,null,null,null,null,null,null,null,null,null,null,null,null,null,null,null,null,null,{"$f":"IF(O397=\"130\",2014.4*AO397*'CO2 Conversion Factors'!$D$20/0.8/1000,2096.16*AO397*'CO2 Conversion Factors'!$D$20/0.8/1000)","v":0},{"$f":"IF(O397=\"130\",2014.4*AO397*'CO2 Conversion Factors'!$G$20/0.8/1000,2096.16*AO397*'CO2 Conversion Factors'!$G$20/0.8/1000)","v":0},{"$f":"IF(O397=\"130\",2014.4*AO397*'CO2 Conversion Factors'!$J$20/0.8/1000,2096.16*AO397*'CO2 Conversion Factors'!$J$20/0.8/1000)","v":0},0,0,null,null,null,0,0,0,0,"",false,false,false,false,null,"","",""]
[null,null,null,null,null,null,null,null,null,null,null,null,null,null,null,null,null,null,null,null,null,null,null,null,null,null,null,null,null,null,null,null,null,null,null,null,null,{"$f":"IF(O398=\"130\",2014.4*AO398*'CO2 Conversion Factors'!$D$20/0.8/1000,2096.16*AO398*'CO2 Conversion Factors'!$D$20/0.8/1000)","v":0},{"$f":"IF(O398=\"130\",2014.4*AO398*'CO2 Conversion Factors'!$G$20/0.8/1000,2096.16*AO398*'CO2 Conversion Factors'!$G$20/0.8/1000)","v":0},{"$f":"IF(O398=\"130\",2014.4*AO398*'CO2 Conversion Factors'!$J$20/0.8/1000,2096.16*AO398*'CO2 Conversion Factors'!$J$20/0.8/1000)","v":0},0,0,null,null,null,0,0,0,0,"",false,false,false,false,null,"","",""]
[null,null,null,null,null,null,null,null,null,null,null,null,null,null,null,null,null,null,null,null,null,null,null,null,null,null,null,null,null,null,null,null,null,null,null,null,null,{"$f":"IF(O399=\"130\",2014.4*AO399*'CO2 Conversion Factors'!$D$20/0.8/1000,2096.16*AO399*'CO2 Conversion Factors'!$D$20/0.8/1000)","v":0},{"$f":"IF(O399=\"130\",2014.4*AO399*'CO2 Conversion Factors'!$G$20/0.8/1000,2096.16*AO399*'CO2 Conversion Factors'!$G$20/0.8/1000)","v":0},{"$f":"IF(O399=\"130\",2014.4*AO399*'CO2 Conversion Factors'!$J$20/0.8/1000,2096.16*AO399*'CO2 Conversion Factors'!$J$20/0.8/1000)","v":0},0,0,null,null,null,0,0,0,0,"",false,false,false,false,null,"","",""]
[null,null,null,null,null,null,null,null,null,null,null,null,null,null,null,null,null,null,null,null,null,null,null,null,null,null,null,null,null,null,null,null,null,null,null,null,null,{"$f":"IF(O400=\"130\",2014.4*AO400*'CO2 Conversion Factors'!$D$20/0.8/1000,2096.16*AO400*'CO2 Conversion Factors'!$D$20/0.8/1000)","v":0},{"$f":"IF(O400=\"130\",2014.4*AO400*'CO2 Conversion Factors'!$G$20/0.8/1000,2096.16*AO400*'CO2 Conversion Factors'!$G$20/0.8/1000)","v":0},{"$f":"IF(O400=\"130\",2014.4*AO400*'CO2 Conversion Factors'!$J$20/0.8/1000,2096.16*AO400*'CO2 Conversion Factors'!$J$20/0.8/1000)","v":0},0,0,null,null,null,0,0,0,0,"",false,false,false,false,null,"","",""]
[null,null,null,null,null,null,null,null,null,null,null,null,null,null,null,null,null,null,null,null,null,null,null,null,null,null,null,null,null,null,null,null,null,null,null,null,null,{"$f":"IF(O401=\"130\",2014.4*AO401*'CO2 Conversion Factors'!$D$20/0.8/1000,2096.16*AO401*'CO2 Conversion Factors'!$D$20/0.8/1000)","v":0},{"$f":"IF(O401=\"130\",2014.4*AO401*'CO2 Conversion Factors'!$G$20/0.8/1000,2096.16*AO401*'CO2 Conversion Factors'!$G$20/0.8/1000)","v":0},{"$f":"IF(O401=\"130\",2014.4*AO401*'CO2 Conversion Factors'!$J$20/0.8/1000,2096.16*AO401*'CO2 Conversion Factors'!$J$20/0.8/1000)","v":0},0,0,null,null,null,0,0,0,0,"",false,false,false,false,null,"","",""]
[null,null,null,null,null,null,null,null,null,null,null,null,null,null,null,null,null,null,null,null,null,null,null,null,null,null,null,null,null,null,null,null,null,null,null,null,null,{"$f":"IF(O402=\"130\",2014.4*AO402*'CO2 Conversion Factors'!$D$20/0.8/1000,2096.16*AO402*'CO2 Conversion Factors'!$D$20/0.8/1000)","v":0},{"$f":"IF(O402=\"130\",2014.4*AO402*'CO2 Conversion Factors'!$G$20/0.8/1000,2096.16*AO402*'CO2 Conversion Factors'!$G$20/0.8/1000)","v":0},{"$f":"IF(O402=\"130\",2014.4*AO402*'CO2 Conversion Factors'!$J$20/0.8/1000,2096.16*AO402*'CO2 Conversion Factors'!$J$20/0.8/1000)","v":0},0,0,null,null,null,0,0,0,0,"",false,false,false,false,null,"","",""]
[null,null,null,null,null,null,null,null,null,null,null,null,null,null,null,null,null,null,null,null,null,null,null,null,null,null,null,null,null,null,null,null,null,null,null,null,null,{"$f":"IF(O403=\"130\",2014.4*AO403*'CO2 Conversion Factors'!$D$20/0.8/1000,2096.16*AO403*'CO2 Conversion Factors'!$D$20/0.8/1000)","v":0},{"$f":"IF(O403=\"130\",2014.4*AO403*'CO2 Conversion Factors'!$G$20/0.8/1000,2096.16*AO403*'CO2 Conversion Factors'!$G$20/0.8/1000)","v":0},{"$f":"IF(O403=\"130\",2014.4*AO403*'CO2 Conversion Factors'!$J$20/0.8/1000,2096.16*AO403*'CO2 Conversion Factors'!$J$20/0.8/1000)","v":0},0,0,null,null,null,0,0,0,0,"",false,false,false,false,null,"","",""]
[null,null,null,null,null,null,null,null,null,null,null,null,null,null,null,null,null,null,null,null,null,null,null,null,null,null,null,null,null,null,null,null,null,null,null,null,null,{"$f":"IF(O404=\"130\",2014.4*AO404*'CO2 Conversion Factors'!$D$20/0.8/1000,2096.16*AO404*'CO2 Conversion Factors'!$D$20/0.8/1000)","v":0},{"$f":"IF(O404=\"130\",2014.4*AO404*'CO2 Conversion Factors'!$G$20/0.8/1000,2096.16*AO404*'CO2 Conversion Factors'!$G$20/0.8/1000)","v":0},{"$f":"IF(O404=\"130\",2014.4*AO404*'CO2 Conversion Factors'!$J$20/0.8/1000,2096.16*AO404*'CO2 Conversion Factors'!$J$20/0.8/1000)","v":0},0,0,null,null,null,0,0,0,0,"",false,false,false,false,null,"","",""]
[null,null,null,null,null,null,null,null,null,null,null,null,null,null,null,null,null,null,null,null,null,null,null,null,null,null,null,null,null,null,null,null,null,null,null,null,null,{"$f":"IF(O405=\"130\",2014.4*AO405*'CO2 Conversion Factors'!$D$20/0.8/1000,2096.16*AO405*'CO2 Conversion Factors'!$D$20/0.8/1000)","v":0},{"$f":"IF(O405=\"130\",2014.4*AO405*'CO2 Conversion Factors'!$G$20/0.8/1000,2096.16*AO405*'CO2 Conversion Factors'!$G$20/0.8/1000)","v":0},{"$f":"IF(O405=\"130\",2014.4*AO405*'CO2 Conversion Factors'!$J$20/0.8/1000,2096.16*AO405*'CO2 Conversion Factors'!$J$20/0.8/1000)","v":0},0,0,null,null,null,0,0,0,0,"",false,false,false,false,null,"","",""]
[null,null,null,null,null,null,null,null,null,null,null,null,null,null,null,null,null,null,null,null,null,null,null,null,null,null,null,null,null,null,null,null,null,null,null,null,null,{"$f":"IF(O406=\"130\",2014.4*AO406*'CO2 Conversion Factors'!$D$20/0.8/1000,2096.16*AO406*'CO2 Conversion Factors'!$D$20/0.8/1000)","v":0},{"$f":"IF(O406=\"130\",2014.4*AO406*'CO2 Conversion Factors'!$G$20/0.8/1000,2096.16*AO406*'CO2 Conversion Factors'!$G$20/0.8/1000)","v":0},{"$f":"IF(O406=\"130\",2014.4*AO406*'CO2 Conversion Factors'!$J$20/0.8/1000,2096.16*AO406*'CO2 Conversion Factors'!$J$20/0.8/1000)","v":0},0,0,null,null,null,0,0,0,0,"",false,false,false,false,null,"","",""]
[null,null,null,null,null,null,null,null,null,null,null,null,null,null,null,null,null,null,null,null,null,null,null,null,null,null,null,null,null,null,null,null,null,null,null,null,null,{"$f":"IF(O407=\"130\",2014.4*AO407*'CO2 Conversion Factors'!$D$20/0.8/1000,2096.16*AO407*'CO2 Conversion Factors'!$D$20/0.8/1000)","v":0},{"$f":"IF(O407=\"130\",2014.4*AO407*'CO2 Conversion Factors'!$G$20/0.8/1000,2096.16*AO407*'CO2 Conversion Factors'!$G$20/0.8/1000)","v":0},{"$f":"IF(O407=\"130\",2014.4*AO407*'CO2 Conversion Factors'!$J$20/0.8/1000,2096.16*AO407*'CO2 Conversion Factors'!$J$20/0.8/1000)","v":0},0,0,null,null,null,0,0,0,0,"",false,false,false,false,null,"","",""]
[null,null,null,null,null,null,null,null,null,null,null,null,null,null,null,null,null,null,null,null,null,null,null,null,null,null,null,null,null,null,null,null,null,null,null,null,null,{"$f":"IF(O408=\"130\",2014.4*AO408*'CO2 Conversion Factors'!$D$20/0.8/1000,2096.16*AO408*'CO2 Conversion Factors'!$D$20/0.8/1000)","v":0},{"$f":"IF(O408=\"130\",2014.4*AO408*'CO2 Conversion Factors'!$G$20/0.8/1000,2096.16*AO408*'CO2 Conversion Factors'!$G$20/0.8/1000)","v":0},{"$f":"IF(O408=\"130\",2014.4*AO408*'CO2 Conversion Factors'!$J$20/0.8/1000,2096.16*AO408*'CO2 Conversion Factors'!$J$20/0.8/1000)","v":0},0,0,null,null,null,0,0,0,0,"",false,false,false,false,null,"","",""]
[null,null,null,null,null,null,null,null,null,null,null,null,null,null,null,null,null,null,null,null,null,null,null,null,null,null,null,null,null,null,null,null,null,null,null,null,null,{"$f":"IF(O409=\"130\",2014.4*AO409*'CO2 Conversion Factors'!$D$20/0.8/1000,2096.16*AO409*'CO2 Conversion Factors'!$D$20/0.8/1000)","v":0},{"$f":"IF(O409=\"130\",2014.4*AO409*'CO2 Conversion Factors'!$G$20/0.8/1000,2096.16*AO409*'CO2 Conversion Factors'!$G$20/0.8/1000)","v":0},{"$f":"IF(O409=\"130\",2014.4*AO409*'CO2 Conversion Factors'!$J$20/0.8/1000,2096.16*AO409*'CO2 Conversion Factors'!$J$20/0.8/1000)","v":0},0,0,null,null,null,0,0,0,0,"",false,false,false,false,null,"","",""]
[null,null,null,null,null,null,null,null,null,null,null,null,null,null,null,null,null,null,null,null,null,null,null,null,null,null,null,null,null,null,null,null,null,null,null,null,null,{"$f":"IF(O410=\"130\",2014.4*AO410*'CO2 Conversion Factors'!$D$20/0.8/1000,2096.16*AO410*'CO2 Conversion Factors'!$D$20/0.8/1000)","v":0},{"$f":"IF(O410=\"130\",2014.4*AO410*'CO2 Conversion Factors'!$G$20/0.8/1000,2096.16*AO410*'CO2 Conversion Factors'!$G$20/0.8/1000)","v":0},{"$f":"IF(O410=\"130\",2014.4*AO410*'CO2 Conversion Factors'!$J$20/0.8/1000,2096.16*AO410*'CO2 Conversion Factors'!$J$20/0.8/1000)","v":0},0,0,null,null,null,0,0,0,0,"",false,false,false,false,null,"","",""]
[null,null,null,null,null,null,null,null,null,null,null,null,null,null,null,null,null,null,null,null,null,null,null,null,null,null,null,null,null,null,null,null,null,null,null,null,null,{"$f":"IF(O411=\"130\",2014.4*AO411*'CO2 Conversion Factors'!$D$20/0.8/1000,2096.16*AO411*'CO2 Conversion Factors'!$D$20/0.8/1000)","v":0},{"$f":"IF(O411=\"130\",2014.4*AO411*'CO2 Conversion Factors'!$G$20/0.8/1000,2096.16*AO411*'CO2 Conversion Factors'!$G$20/0.8/1000)","v":0},{"$f":"IF(O411=\"130\",2014.4*AO411*'CO2 Conversion Factors'!$J$20/0.8/1000,2096.16*AO411*'CO2 Conversion Factors'!$J$20/0.8/1000)","v":0},0,0,null,null,null,0,0,0,0,"",false,false,false,false,null,"","",""]
[null,null,null,null,null,null,null,null,null,null,null,null,null,null,null,null,null,null,null,null,null,null,null,null,null,null,null,null,null,null,null,null,null,null,null,null,null,{"$f":"IF(O412=\"130\",2014.4*AO412*'CO2 Conversion Factors'!$D$20/0.8/1000,2096.16*AO412*'CO2 Conversion Factors'!$D$20/0.8/1000)","v":0},{"$f":"IF(O412=\"130\",2014.4*AO412*'CO2 Conversion Factors'!$G$20/0.8/1000,2096.16*AO412*'CO2 Conversion Factors'!$G$20/0.8/1000)","v":0},{"$f":"IF(O412=\"130\",2014.4*AO412*'CO2 Conversion Factors'!$J$20/0.8/1000,2096.16*AO412*'CO2 Conversion Factors'!$J$20/0.8/1000)","v":0},0,0,null,null,null,0,0,0,0,"",false,false,false,false,null,"","",""]
[null,null,null,null,null,null,null,null,null,null,null,null,null,null,null,null,null,null,null,null,null,null,null,null,null,null,null,null,null,null,null,null,null,null,null,null,null,{"$f":"IF(O413=\"130\",2014.4*AO413*'CO2 Conversion Factors'!$D$20/0.8/1000,2096.16*AO413*'CO2 Conversion Factors'!$D$20/0.8/1000)","v":0},{"$f":"IF(O413=\"130\",2014.4*AO413*'CO2 Conversion Factors'!$G$20/0.8/1000,2096.16*AO413*'CO2 Conversion Factors'!$G$20/0.8/1000)","v":0},{"$f":"IF(O413=\"130\",2014.4*AO413*'CO2 Conversion Factors'!$J$20/0.8/1000,2096.16*AO413*'CO2 Conversion Factors'!$J$20/0.8/1000)","v":0},0,0,null,null,null,0,0,0,0,"",false,false,false,false,null,"","",""]
[null,null,null,null,null,null,null,null,null,null,null,null,null,null,null,null,null,null,null,null,null,null,null,null,null,null,null,null,null,null,null,null,null,null,null,null,null,{"$f":"IF(O414=\"130\",2014.4*AO414*'CO2 Conversion Factors'!$D$20/0.8/1000,2096.16*AO414*'CO2 Conversion Factors'!$D$20/0.8/1000)","v":0},{"$f":"IF(O414=\"130\",2014.4*AO414*'CO2 Conversion Factors'!$G$20/0.8/1000,2096.16*AO414*'CO2 Conversion Factors'!$G$20/0.8/1000)","v":0},{"$f":"IF(O414=\"130\",2014.4*AO414*'CO2 Conversion Factors'!$J$20/0.8/1000,2096.16*AO414*'CO2 Conversion Factors'!$J$20/0.8/1000)","v":0},0,0,null,null,null,0,0,0,0,"",false,false,false,false,null,"","",""]
[null,null,null,null,null,null,null,null,null,null,null,null,null,null,null,null,null,null,null,null,null,null,null,null,null,null,null,null,null,null,null,null,null,null,null,null,null,{"$f":"IF(O415=\"130\",2014.4*AO415*'CO2 Conversion Factors'!$D$20/0.8/1000,2096.16*AO415*'CO2 Conversion Factors'!$D$20/0.8/1000)","v":0},{"$f":"IF(O415=\"130\",2014.4*AO415*'CO2 Conversion Factors'!$G$20/0.8/1000,2096.16*AO415*'CO2 Conversion Factors'!$G$20/0.8/1000)","v":0},{"$f":"IF(O415=\"130\",2014.4*AO415*'CO2 Conversion Factors'!$J$20/0.8/1000,2096.16*AO415*'CO2 Conversion Factors'!$J$20/0.8/1000)","v":0},0,0,null,null,null,0,0,0,0,"",false,false,false,false,null,"","",""]
[null,null,null,null,null,null,null,null,null,null,null,null,null,null,null,null,null,null,null,null,null,null,null,null,null,null,null,null,null,null,null,null,null,null,null,null,null,{"$f":"IF(O416=\"130\",2014.4*AO416*'CO2 Conversion Factors'!$D$20/0.8/1000,2096.16*AO416*'CO2 Conversion Factors'!$D$20/0.8/1000)","v":0},{"$f":"IF(O416=\"130\",2014.4*AO416*'CO2 Conversion Factors'!$G$20/0.8/1000,2096.16*AO416*'CO2 Conversion Factors'!$G$20/0.8/1000)","v":0},{"$f":"IF(O416=\"130\",2014.4*AO416*'CO2 Conversion Factors'!$J$20/0.8/1000,2096.16*AO416*'CO2 Conversion Factors'!$J$20/0.8/1000)","v":0},0,0,null,null,null,0,0,0,0,"",false,false,false,false,null,"","",""]
[null,null,null,null,null,null,null,null,null,null,null,null,null,null,null,null,null,null,null,null,null,null,null,null,null,null,null,null,null,null,null,null,null,null,null,null,null,{"$f":"IF(O417=\"130\",2014.4*AO417*'CO2 Conversion Factors'!$D$20/0.8/1000,2096.16*AO417*'CO2 Conversion Factors'!$D$20/0.8/1000)","v":0},{"$f":"IF(O417=\"130\",2014.4*AO417*'CO2 Conversion Factors'!$G$20/0.8/1000,2096.16*AO417*'CO2 Conversion Factors'!$G$20/0.8/1000)","v":0},{"$f":"IF(O417=\"130\",2014.4*AO417*'CO2 Conversion Factors'!$J$20/0.8/1000,2096.16*AO417*'CO2 Conversion Factors'!$J$20/0.8/1000)","v":0},0,0,null,null,null,0,0,0,0,"",false,false,false,false,null,"","",""]
[null,null,null,null,null,null,null,null,null,null,null,null,null,null,null,null,null,null,null,null,null,null,null,null,null,null,null,null,null,null,null,null,null,null,null,null,null,{"$f":"IF(O418=\"130\",2014.4*AO418*'CO2 Conversion Factors'!$D$20/0.8/1000,2096.16*AO418*'CO2 Conversion Factors'!$D$20/0.8/1000)","v":0},{"$f":"IF(O418=\"130\",2014.4*AO418*'CO2 Conversion Factors'!$G$20/0.8/1000,2096.16*AO418*'CO2 Conversion Factors'!$G$20/0.8/1000)","v":0},{"$f":"IF(O418=\"130\",2014.4*AO418*'CO2 Conversion Factors'!$J$20/0.8/1000,2096.16*AO418*'CO2 Conversion Factors'!$J$20/0.8/1000)","v":0},0,0,null,null,null,0,0,0,0,"",false,false,false,false,null,"","",""]
[null,null,null,null,null,null,null,null,null,null,null,null,null,null,null,null,null,null,null,null,null,null,null,null,null,null,null,null,null,null,null,null,null,null,null,null,null,{"$f":"IF(O419=\"130\",2014.4*AO419*'CO2 Conversion Factors'!$D$20/0.8/1000,2096.16*AO419*'CO2 Conversion Factors'!$D$20/0.8/1000)","v":0},{"$f":"IF(O419=\"130\",2014.4*AO419*'CO2 Conversion Factors'!$G$20/0.8/1000,2096.16*AO419*'CO2 Conversion Factors'!$G$20/0.8/1000)","v":0},{"$f":"IF(O419=\"130\",2014.4*AO419*'CO2 Conversion Factors'!$J$20/0.8/1000,2096.16*AO419*'CO2 Conversion Factors'!$J$20/0.8/1000)","v":0},0,0,null,null,null,0,0,0,0,"",false,false,false,false,null,"","",""]
[null,null,null,null,null,null,null,null,null,null,null,null,null,null,null,null,null,null,null,null,null,null,null,null,null,null,null,null,null,null,null,null,null,null,null,null,null,{"$f":"IF(O420=\"130\",2014.4*AO420*'CO2 Conversion Factors'!$D$20/0.8/1000,2096.16*AO420*'CO2 Conversion Factors'!$D$20/0.8/1000)","v":0},{"$f":"IF(O420=\"130\",2014.4*AO420*'CO2 Conversion Factors'!$G$20/0.8/1000,2096.16*AO420*'CO2 Conversion Factors'!$G$20/0.8/1000)","v":0},{"$f":"IF(O420=\"130\",2014.4*AO420*'CO2 Conversion Factors'!$J$20/0.8/1000,2096.16*AO420*'CO2 Conversion Factors'!$J$20/0.8/1000)","v":0},0,0,null,null,null,0,0,0,0,"",false,false,false,false,null,"","",""]
[null,null,null,null,null,null,null,null,null,null,null,null,null,null,null,null,null,null,null,null,null,null,null,null,null,null,null,null,null,null,null,null,null,null,null,null,null,{"$f":"IF(O421=\"130\",2014.4*AO421*'CO2 Conversion Factors'!$D$20/0.8/1000,2096.16*AO421*'CO2 Conversion Factors'!$D$20/0.8/1000)","v":0},{"$f":"IF(O421=\"130\",2014.4*AO421*'CO2 Conversion Factors'!$G$20/0.8/1000,2096.16*AO421*'CO2 Conversion Factors'!$G$20/0.8/1000)","v":0},{"$f":"IF(O421=\"130\",2014.4*AO421*'CO2 Conversion Factors'!$J$20/0.8/1000,2096.16*AO421*'CO2 Conversion Factors'!$J$20/0.8/1000)","v":0},0,0,null,null,null,0,0,0,0,"",false,false,false,false,null,"","",""]
[null,null,null,null,null,null,null,null,null,null,null,null,null,null,null,null,null,null,null,null,null,null,null,null,null,null,null,null,null,null,null,null,null,null,null,null,null,{"$f":"IF(O422=\"130\",2014.4*AO422*'CO2 Conversion Factors'!$D$20/0.8/1000,2096.16*AO422*'CO2 Conversion Factors'!$D$20/0.8/1000)","v":0},{"$f":"IF(O422=\"130\",2014.4*AO422*'CO2 Conversion Factors'!$G$20/0.8/1000,2096.16*AO422*'CO2 Conversion Factors'!$G$20/0.8/1000)","v":0},{"$f":"IF(O422=\"130\",2014.4*AO422*'CO2 Conversion Factors'!$J$20/0.8/1000,2096.16*AO422*'CO2 Conversion Factors'!$J$20/0.8/1000)","v":0},0,0,null,null,null,0,0,0,0,"",false,false,false,false,null,"","",""]
[null,null,null,null,null,null,null,null,null,null,null,null,null,null,null,null,null,null,null,null,null,null,null,null,null,null,null,null,null,null,null,null,null,null,null,null,null,{"$f":"IF(O423=\"130\",2014.4*AO423*'CO2 Conversion Factors'!$D$20/0.8/1000,2096.16*AO423*'CO2 Conversion Factors'!$D$20/0.8/1000)","v":0},{"$f":"IF(O423=\"130\",2014.4*AO423*'CO2 Conversion Factors'!$G$20/0.8/1000,2096.16*AO423*'CO2 Conversion Factors'!$G$20/0.8/1000)","v":0},{"$f":"IF(O423=\"130\",2014.4*AO423*'CO2 Conversion Factors'!$J$20/0.8/1000,2096.16*AO423*'CO2 Conversion Factors'!$J$20/0.8/1000)","v":0},0,0,null,null,null,0,0,0,0,"",false,false,false,false,null,"","",""]
[null,null,null,null,null,null,null,null,null,null,null,null,null,null,null,null,null,null,null,null,null,null,null,null,null,null,null,null,null,null,null,null,null,null,null,null,null,{"$f":"IF(O424=\"130\",2014.4*AO424*'CO2 Conversion Factors'!$D$20/0.8/1000,2096.16*AO424*'CO2 Conversion Factors'!$D$20/0.8/1000)","v":0},{"$f":"IF(O424=\"130\",2014.4*AO424*'CO2 Conversion Factors'!$G$20/0.8/1000,2096.16*AO424*'CO2 Conversion Factors'!$G$20/0.8/1000)","v":0},{"$f":"IF(O424=\"130\",2014.4*AO424*'CO2 Conversion Factors'!$J$20/0.8/1000,2096.16*AO424*'CO2 Conversion Factors'!$J$20/0.8/1000)","v":0},0,0,null,null,null,0,0,0,0,"",false,false,false,false,null,"","",""]
[null,null,null,null,null,null,null,null,null,null,null,null,null,null,null,null,null,null,null,null,null,null,null,null,null,null,null,null,null,null,null,null,null,null,null,null,null,{"$f":"IF(O425=\"130\",2014.4*AO425*'CO2 Conversion Factors'!$D$20/0.8/1000,2096.16*AO425*'CO2 Conversion Factors'!$D$20/0.8/1000)","v":0},{"$f":"IF(O425=\"130\",2014.4*AO425*'CO2 Conversion Factors'!$G$20/0.8/1000,2096.16*AO425*'CO2 Conversion Factors'!$G$20/0.8/1000)","v":0},{"$f":"IF(O425=\"130\",2014.4*AO425*'CO2 Conversion Factors'!$J$20/0.8/1000,2096.16*AO425*'CO2 Conversion Factors'!$J$20/0.8/1000)","v":0},0,0,null,null,null,0,0,0,0,"",false,false,false,false,null,"","",""]
[null,null,null,null,null,null,null,null,null,null,null,null,null,null,null,null,null,null,null,null,null,null,null,null,null,null,null,null,null,null,null,null,null,null,null,null,null,{"$f":"IF(O426=\"130\",2014.4*AO426*'CO2 Conversion Factors'!$D$20/0.8/1000,2096.16*AO426*'CO2 Conversion Factors'!$D$20/0.8/1000)","v":0},{"$f":"IF(O426=\"130\",2014.4*AO426*'CO2 Conversion Factors'!$G$20/0.8/1000,2096.16*AO426*'CO2 Conversion Factors'!$G$20/0.8/1000)","v":0},{"$f":"IF(O426=\"130\",2014.4*AO426*'CO2 Conversion Factors'!$J$20/0.8/1000,2096.16*AO426*'CO2 Conversion Factors'!$J$20/0.8/1000)","v":0},0,0,null,null,null,0,0,0,0,"",false,false,false,false,null,"","",""]
[null,null,null,null,null,null,null,null,null,null,null,null,null,null,null,null,null,null,null,null,null,null,null,null,null,null,null,null,null,null,null,null,null,null,null,null,null,{"$f":"IF(O427=\"130\",2014.4*AO427*'CO2 Conversion Factors'!$D$20/0.8/1000,2096.16*AO427*'CO2 Conversion Factors'!$D$20/0.8/1000)","v":0},{"$f":"IF(O427=\"130\",2014.4*AO427*'CO2 Conversion Factors'!$G$20/0.8/1000,2096.16*AO427*'CO2 Conversion Factors'!$G$20/0.8/1000)","v":0},{"$f":"IF(O427=\"130\",2014.4*AO427*'CO2 Conversion Factors'!$J$20/0.8/1000,2096.16*AO427*'CO2 Conversion Factors'!$J$20/0.8/1000)","v":0},0,0,null,null,null,0,0,0,0,"",false,false,false,false,null,"","",""]
[null,null,null,null,null,null,null,null,null,null,null,null,null,null,null,null,null,null,null,null,null,null,null,null,null,null,null,null,null,null,null,null,null,null,null,null,null,{"$f":"IF(O428=\"130\",2014.4*AO428*'CO2 Conversion Factors'!$D$20/0.8/1000,2096.16*AO428*'CO2 Conversion Factors'!$D$20/0.8/1000)","v":0},{"$f":"IF(O428=\"130\",2014.4*AO428*'CO2 Conversion Factors'!$G$20/0.8/1000,2096.16*AO428*'CO2 Conversion Factors'!$G$20/0.8/1000)","v":0},{"$f":"IF(O428=\"130\",2014.4*AO428*'CO2 Conversion Factors'!$J$20/0.8/1000,2096.16*AO428*'CO2 Conversion Factors'!$J$20/0.8/1000)","v":0},0,0,null,null,null,0,0,0,0,"",false,false,false,false,null,"","",""]
[null,null,null,null,null,null,null,null,null,null,null,null,null,null,null,null,null,null,null,null,null,null,null,null,null,null,null,null,null,null,null,null,null,null,null,null,null,{"$f":"IF(O429=\"130\",2014.4*AO429*'CO2 Conversion Factors'!$D$20/0.8/1000,2096.16*AO429*'CO2 Conversion Factors'!$D$20/0.8/1000)","v":0},{"$f":"IF(O429=\"130\",2014.4*AO429*'CO2 Conversion Factors'!$G$20/0.8/1000,2096.16*AO429*'CO2 Conversion Factors'!$G$20/0.8/1000)","v":0},{"$f":"IF(O429=\"130\",2014.4*AO429*'CO2 Conversion Factors'!$J$20/0.8/1000,2096.16*AO429*'CO2 Conversion Factors'!$J$20/0.8/1000)","v":0},0,0,null,null,null,0,0,0,0,"",false,false,false,false,null,"","",""]
[null,null,null,null,null,null,null,null,null,null,null,null,null,null,null,null,null,null,null,null,null,null,null,null,null,null,null,null,null,null,null,null,null,null,null,null,null,{"$f":"IF(O430=\"130\",2014.4*AO430*'CO2 Conversion Factors'!$D$20/0.8/1000,2096.16*AO430*'CO2 Conversion Factors'!$D$20/0.8/1000)","v":0},{"$f":"IF(O430=\"130\",2014.4*AO430*'CO2 Conversion Factors'!$G$20/0.8/1000,2096.16*AO430*'CO2 Conversion Factors'!$G$20/0.8/1000)","v":0},{"$f":"IF(O430=\"130\",2014.4*AO430*'CO2 Conversion Factors'!$J$20/0.8/1000,2096.16*AO430*'CO2 Conversion Factors'!$J$20/0.8/1000)","v":0},0,0,null,null,null,0,0,0,0,"",false,false,false,false,null,"","",""]
[null,null,null,null,null,null,null,null,null,null,null,null,null,null,null,null,null,null,null,null,null,null,null,null,null,null,null,null,null,null,null,null,null,null,null,null,null,{"$f":"IF(O431=\"130\",2014.4*AO431*'CO2 Conversion Factors'!$D$20/0.8/1000,2096.16*AO431*'CO2 Conversion Factors'!$D$20/0.8/1000)","v":0},{"$f":"IF(O431=\"130\",2014.4*AO431*'CO2 Conversion Factors'!$G$20/0.8/1000,2096.16*AO431*'CO2 Conversion Factors'!$G$20/0.8/1000)","v":0},{"$f":"IF(O431=\"130\",2014.4*AO431*'CO2 Conversion Factors'!$J$20/0.8/1000,2096.16*AO431*'CO2 Conversion Factors'!$J$20/0.8/1000)","v":0},0,0,null,null,null,0,0,0,0,"",false,false,false,false,null,"","",""]
[null,null,null,null,null,null,null,null,null,null,null,null,null,null,null,null,null,null,null,null,null,null,null,null,null,null,null,null,null,null,null,null,null,null,null,null,null,{"$f":"IF(O432=\"130\",2014.4*AO432*'CO2 Conversion Factors'!$D$20/0.8/1000,2096.16*AO432*'CO2 Conversion Factors'!$D$20/0.8/1000)","v":0},{"$f":"IF(O432=\"130\",2014.4*AO432*'CO2 Conversion Factors'!$G$20/0.8/1000,2096.16*AO432*'CO2 Conversion Factors'!$G$20/0.8/1000)","v":0},{"$f":"IF(O432=\"130\",2014.4*AO432*'CO2 Conversion Factors'!$J$20/0.8/1000,2096.16*AO432*'CO2 Conversion Factors'!$J$20/0.8/1000)","v":0},0,0,null,null,null,0,0,0,0,"",false,false,false,false,null,"","",""]
[null,null,null,null,null,null,null,null,null,null,null,null,null,null,null,null,null,null,null,null,null,null,null,null,null,null,null,null,null,null,null,null,null,null,null,null,null,{"$f":"IF(O433=\"130\",2014.4*AO433*'CO2 Conversion Factors'!$D$20/0.8/1000,2096.16*AO433*'CO2 Conversion Factors'!$D$20/0.8/1000)","v":0},{"$f":"IF(O433=\"130\",2014.4*AO433*'CO2 Conversion Factors'!$G$20/0.8/1000,2096.16*AO433*'CO2 Conversion Factors'!$G$20/0.8/1000)","v":0},{"$f":"IF(O433=\"130\",2014.4*AO433*'CO2 Conversion Factors'!$J$20/0.8/1000,2096.16*AO433*'CO2 Conversion Factors'!$J$20/0.8/1000)","v":0},0,0,null,null,null,0,0,0,0,"",false,false,false,false,null,"","",""]
[null,null,null,null,null,null,null,null,null,null,null,null,null,null,null,null,null,null,null,null,null,null,null,null,null,null,null,null,null,null,null,null,null,null,null,null,null,{"$f":"IF(O434=\"130\",2014.4*AO434*'CO2 Conversion Factors'!$D$20/0.8/1000,2096.16*AO434*'CO2 Conversion Factors'!$D$20/0.8/1000)","v":0},{"$f":"IF(O434=\"130\",2014.4*AO434*'CO2 Conversion Factors'!$G$20/0.8/1000,2096.16*AO434*'CO2 Conversion Factors'!$G$20/0.8/1000)","v":0},{"$f":"IF(O434=\"130\",2014.4*AO434*'CO2 Conversion Factors'!$J$20/0.8/1000,2096.16*AO434*'CO2 Conversion Factors'!$J$20/0.8/1000)","v":0},0,0,null,null,null,0,0,0,0,"",false,false,false,false,null,"","",""]
[null,null,null,null,null,null,null,null,null,null,null,null,null,null,null,null,null,null,null,null,null,null,null,null,null,null,null,null,null,null,null,null,null,null,null,null,null,{"$f":"IF(O435=\"130\",2014.4*AO435*'CO2 Conversion Factors'!$D$20/0.8/1000,2096.16*AO435*'CO2 Conversion Factors'!$D$20/0.8/1000)","v":0},{"$f":"IF(O435=\"130\",2014.4*AO435*'CO2 Conversion Factors'!$G$20/0.8/1000,2096.16*AO435*'CO2 Conversion Factors'!$G$20/0.8/1000)","v":0},{"$f":"IF(O435=\"130\",2014.4*AO435*'CO2 Conversion Factors'!$J$20/0.8/1000,2096.16*AO435*'CO2 Conversion Factors'!$J$20/0.8/1000)","v":0},0,0,null,null,null,0,0,0,0,"",false,false,false,false,null,"","",""]
[null,null,null,null,null,null,null,null,null,null,null,null,null,null,null,null,null,null,null,null,null,null,null,null,null,null,null,null,null,null,null,null,null,null,null,null,null,{"$f":"IF(O436=\"130\",2014.4*AO436*'CO2 Conversion Factors'!$D$20/0.8/1000,2096.16*AO436*'CO2 Conversion Factors'!$D$20/0.8/1000)","v":0},{"$f":"IF(O436=\"130\",2014.4*AO436*'CO2 Conversion Factors'!$G$20/0.8/1000,2096.16*AO436*'CO2 Conversion Factors'!$G$20/0.8/1000)","v":0},{"$f":"IF(O436=\"130\",2014.4*AO436*'CO2 Conversion Factors'!$J$20/0.8/1000,2096.16*AO436*'CO2 Conversion Factors'!$J$20/0.8/1000)","v":0},0,0,null,null,null,0,0,0,0,"",false,false,false,false,null,"","",""]
[null,null,null,null,null,null,null,null,null,null,null,null,null,null,null,null,null,null,null,null,null,null,null,null,null,null,null,null,null,null,null,null,null,null,null,null,null,{"$f":"IF(O437=\"130\",2014.4*AO437*'CO2 Conversion Factors'!$D$20/0.8/1000,2096.16*AO437*'CO2 Conversion Factors'!$D$20/0.8/1000)","v":0},{"$f":"IF(O437=\"130\",2014.4*AO437*'CO2 Conversion Factors'!$G$20/0.8/1000,2096.16*AO437*'CO2 Conversion Factors'!$G$20/0.8/1000)","v":0},{"$f":"IF(O437=\"130\",2014.4*AO437*'CO2 Conversion Factors'!$J$20/0.8/1000,2096.16*AO437*'CO2 Conversion Factors'!$J$20/0.8/1000)","v":0},0,0,null,null,null,0,0,0,0,"",false,false,false,false,null,"","",""]
[null,null,null,null,null,null,null,null,null,null,null,null,null,null,null,null,null,null,null,null,null,null,null,null,null,null,null,null,null,null,null,null,null,null,null,null,null,{"$f":"IF(O438=\"130\",2014.4*AO438*'CO2 Conversion Factors'!$D$20/0.8/1000,2096.16*AO438*'CO2 Conversion Factors'!$D$20/0.8/1000)","v":0},{"$f":"IF(O438=\"130\",2014.4*AO438*'CO2 Conversion Factors'!$G$20/0.8/1000,2096.16*AO438*'CO2 Conversion Factors'!$G$20/0.8/1000)","v":0},{"$f":"IF(O438=\"130\",2014.4*AO438*'CO2 Conversion Factors'!$J$20/0.8/1000,2096.16*AO438*'CO2 Conversion Factors'!$J$20/0.8/1000)","v":0},0,0,null,null,null,0,0,0,0,"",false,false,false,false,null,"","",""]
[null,null,null,null,null,null,null,null,null,null,null,null,null,null,null,null,null,null,null,null,null,null,null,null,null,null,null,null,null,null,null,null,null,null,null,null,null,{"$f":"IF(O439=\"130\",2014.4*AO439*'CO2 Conversion Factors'!$D$20/0.8/1000,2096.16*AO439*'CO2 Conversion Factors'!$D$20/0.8/1000)","v":0},{"$f":"IF(O439=\"130\",2014.4*AO439*'CO2 Conversion Factors'!$G$20/0.8/1000,2096.16*AO439*'CO2 Conversion Factors'!$G$20/0.8/1000)","v":0},{"$f":"IF(O439=\"130\",2014.4*AO439*'CO2 Conversion Factors'!$J$20/0.8/1000,2096.16*AO439*'CO2 Conversion Factors'!$J$20/0.8/1000)","v":0},0,0,null,null,null,0,0,0,0,"",false,false,false,false,null,"","",""]
[null,null,null,null,null,null,null,null,null,null,null,null,null,null,null,null,null,null,null,null,null,null,null,null,null,null,null,null,null,null,null,null,null,null,null,null,null,{"$f":"IF(O440=\"130\",2014.4*AO440*'CO2 Conversion Factors'!$D$20/0.8/1000,2096.16*AO440*'CO2 Conversion Factors'!$D$20/0.8/1000)","v":0},{"$f":"IF(O440=\"130\",2014.4*AO440*'CO2 Conversion Factors'!$G$20/0.8/1000,2096.16*AO440*'CO2 Conversion Factors'!$G$20/0.8/1000)","v":0},{"$f":"IF(O440=\"130\",2014.4*AO440*'CO2 Conversion Factors'!$J$20/0.8/1000,2096.16*AO440*'CO2 Conversion Factors'!$J$20/0.8/1000)","v":0},0,0,null,null,null,0,0,0,0,"",false,false,false,false,null,"","",""]
[null,null,null,null,null,null,null,null,null,null,null,null,null,null,null,null,null,null,null,null,null,null,null,null,null,null,null,null,null,null,null,null,null,null,null,null,null,{"$f":"IF(O441=\"130\",2014.4*AO441*'CO2 Conversion Factors'!$D$20/0.8/1000,2096.16*AO441*'CO2 Conversion Factors'!$D$20/0.8/1000)","v":0},{"$f":"IF(O441=\"130\",2014.4*AO441*'CO2 Conversion Factors'!$G$20/0.8/1000,2096.16*AO441*'CO2 Conversion Factors'!$G$20/0.8/1000)","v":0},{"$f":"IF(O441=\"130\",2014.4*AO441*'CO2 Conversion Factors'!$J$20/0.8/1000,2096.16*AO441*'CO2 Conversion Factors'!$J$20/0.8/1000)","v":0},0,0,null,null,null,0,0,0,0,"",false,false,false,false,null,"","",""]
[null,null,null,null,null,null,null,null,null,null,null,null,null,null,null,null,null,null,null,null,null,null,null,null,null,null,null,null,null,null,null,null,null,null,null,null,null,{"$f":"IF(O442=\"130\",2014.4*AO442*'CO2 Conversion Factors'!$D$20/0.8/1000,2096.16*AO442*'CO2 Conversion Factors'!$D$20/0.8/1000)","v":0},{"$f":"IF(O442=\"130\",2014.4*AO442*'CO2 Conversion Factors'!$G$20/0.8/1000,2096.16*AO442*'CO2 Conversion Factors'!$G$20/0.8/1000)","v":0},{"$f":"IF(O442=\"130\",2014.4*AO442*'CO2 Conversion Factors'!$J$20/0.8/1000,2096.16*AO442*'CO2 Conversion Factors'!$J$20/0.8/1000)","v":0},0,0,null,null,null,0,0,0,0,"",false,false,false,false,null,"","",""]
[null,null,null,null,null,null,null,null,null,null,null,null,null,null,null,null,null,null,null,null,null,null,null,null,null,null,null,null,null,null,null,null,null,null,null,null,null,{"$f":"IF(O443=\"130\",2014.4*AO443*'CO2 Conversion Factors'!$D$20/0.8/1000,2096.16*AO443*'CO2 Conversion Factors'!$D$20/0.8/1000)","v":0},{"$f":"IF(O443=\"130\",2014.4*AO443*'CO2 Conversion Factors'!$G$20/0.8/1000,2096.16*AO443*'CO2 Conversion Factors'!$G$20/0.8/1000)","v":0},{"$f":"IF(O443=\"130\",2014.4*AO443*'CO2 Conversion Factors'!$J$20/0.8/1000,2096.16*AO443*'CO2 Conversion Factors'!$J$20/0.8/1000)","v":0},0,0,null,null,null,0,0,0,0,"",false,false,false,false,null,"","",""]
[null,null,null,null,null,null,null,null,null,null,null,null,null,null,null,null,null,null,null,null,null,null,null,null,null,null,null,null,null,null,null,null,null,null,null,null,null,{"$f":"IF(O444=\"130\",2014.4*AO444*'CO2 Conversion Factors'!$D$20/0.8/1000,2096.16*AO444*'CO2 Conversion Factors'!$D$20/0.8/1000)","v":0},{"$f":"IF(O444=\"130\",2014.4*AO444*'CO2 Conversion Factors'!$G$20/0.8/1000,2096.16*AO444*'CO2 Conversion Factors'!$G$20/0.8/1000)","v":0},{"$f":"IF(O444=\"130\",2014.4*AO444*'CO2 Conversion Factors'!$J$20/0.8/1000,2096.16*AO444*'CO2 Conversion Factors'!$J$20/0.8/1000)","v":0},0,0,null,null,null,0,0,0,0,"",false,false,false,false,null,"","",""]
[null,null,null,null,null,null,null,null,null,null,null,null,null,null,null,null,null,null,null,null,null,null,null,null,null,null,null,null,null,null,null,null,null,null,null,null,null,{"$f":"IF(O445=\"130\",2014.4*AO445*'CO2 Conversion Factors'!$D$20/0.8/1000,2096.16*AO445*'CO2 Conversion Factors'!$D$20/0.8/1000)","v":0},{"$f":"IF(O445=\"130\",2014.4*AO445*'CO2 Conversion Factors'!$G$20/0.8/1000,2096.16*AO445*'CO2 Conversion Factors'!$G$20/0.8/1000)","v":0},{"$f":"IF(O445=\"130\",2014.4*AO445*'CO2 Conversion Factors'!$J$20/0.8/1000,2096.16*AO445*'CO2 Conversion Factors'!$J$20/0.8/1000)","v":0},0,0,null,null,null,0,0,0,0,"",false,false,false,false,null,"","",""]
[null,null,null,null,null,null,null,null,null,null,null,null,null,null,null,null,null,null,null,null,null,null,null,null,null,null,null,null,null,null,null,null,null,null,null,null,null,{"$f":"IF(O446=\"130\",2014.4*AO446*'CO2 Conversion Factors'!$D$20/0.8/1000,2096.16*AO446*'CO2 Conversion Factors'!$D$20/0.8/1000)","v":0},{"$f":"IF(O446=\"130\",2014.4*AO446*'CO2 Conversion Factors'!$G$20/0.8/1000,2096.16*AO446*'CO2 Conversion Factors'!$G$20/0.8/1000)","v":0},{"$f":"IF(O446=\"130\",2014.4*AO446*'CO2 Conversion Factors'!$J$20/0.8/1000,2096.16*AO446*'CO2 Conversion Factors'!$J$20/0.8/1000)","v":0},0,{"$f":"IFERROR(AO446*Cover_Select_SteamCost,0)","v":0},null,null,null,{"$f":"IF(NOT(OR(L446=\"NIS\",L446=\"OFF\")),F446)","v":0},{"$f":"IF(NOT(OR(L446=\"NIS\",L446=\"OFF\",L446=\"PO\")),F446)","v":0},{"$f":"IF(NOT(OR(L446=\"NIS\",L446=\"OFF\")),H446)","v":0},{"$f":"IF(NOT(OR(L446=\"NIS\",L446=\"OFF\",L446=\"PO\")),H446)","v":0},"",false,false,false,false,null,"","",""]
[null,null,null,null,null,null,null,null,null,null,null,null,null,null,null,null,null,null,null,null,null,null,null,null,null,null,null,null,null,null,null,null,null,null,null,null,null,{"$f":"IF(O447=\"130\",2014.4*AO447*'CO2 Conversion Factors'!$D$20/0.8/1000,2096.16*AO447*'CO2 Conversion Factors'!$D$20/0.8/1000)","v":0},{"$f":"IF(O447=\"130\",2014.4*AO447*'CO2 Conversion Factors'!$G$20/0.8/1000,2096.16*AO447*'CO2 Conversion Factors'!$G$20/0.8/1000)","v":0},{"$f":"IF(O447=\"130\",2014.4*AO447*'CO2 Conversion Factors'!$J$20/0.8/1000,2096.16*AO447*'CO2 Conversion Factors'!$J$20/0.8/1000)","v":0},0,0,null,null,null,0,0,0,0,{"$f":"F447&H447","v":""},false,false,false,false,null,"","",""]
[null,null,null,null,null,null,null,null,null,null,null,null,null,null,null,null,null,null,null,null,null,null,null,null,null,null,null,null,null,null,null,null,null,null,null,null,null,{"$f":"IF(O448=\"130\",2014.4*AO448*'CO2 Conversion Factors'!$D$20/0.8/1000,2096.16*AO448*'CO2 Conversion Factors'!$D$20/0.8/1000)","v":0},{"$f":"IF(O448=\"130\",2014.4*AO448*'CO2 Conversion Factors'!$G$20/0.8/1000,2096.16*AO448*'CO2 Conversion Factors'!$G$20/0.8/1000)","v":0},{"$f":"IF(O448=\"130\",2014.4*AO448*'CO2 Conversion Factors'!$J$20/0.8/1000,2096.16*AO448*'CO2 Conversion Factors'!$J$20/0.8/1000)","v":0},0,0,null,null,null,0,0,0,0,"",false,false,false,false,null,"","",""]
[null,null,null,null,null,null,null,null,null,null,null,null,null,null,null,null,null,null,null,null,null,null,null,null,null,null,null,null,null,null,null,null,null,null,null,null,null,{"$f":"IF(O449=\"130\",2014.4*AO449*'CO2 Conversion Factors'!$D$20/0.8/1000,2096.16*AO449*'CO2 Conversion Factors'!$D$20/0.8/1000)","v":0},{"$f":"IF(O449=\"130\",2014.4*AO449*'CO2 Conversion Factors'!$G$20/0.8/1000,2096.16*AO449*'CO2 Conversion Factors'!$G$20/0.8/1000)","v":0},{"$f":"IF(O449=\"130\",2014.4*AO449*'CO2 Conversion Factors'!$J$20/0.8/1000,2096.16*AO449*'CO2 Conversion Factors'!$J$20/0.8/1000)","v":0},0,0,null,null,null,0,0,0,0,"",false,false,false,false,null,"","",""]
[null,null,null,null,null,null,null,null,null,null,null,null,null,null,null,null,null,null,null,null,null,null,null,null,null,null,null,null,null,null,null,null,null,null,null,null,null,{"$f":"IF(O450=\"130\",2014.4*AO450*'CO2 Conversion Factors'!$D$20/0.8/1000,2096.16*AO450*'CO2 Conversion Factors'!$D$20/0.8/1000)","v":0},{"$f":"IF(O450=\"130\",2014.4*AO450*'CO2 Conversion Factors'!$G$20/0.8/1000,2096.16*AO450*'CO2 Conversion Factors'!$G$20/0.8/1000)","v":0},{"$f":"IF(O450=\"130\",2014.4*AO450*'CO2 Conversion Factors'!$J$20/0.8/1000,2096.16*AO450*'CO2 Conversion Factors'!$J$20/0.8/1000)","v":0},0,0,null,null,null,0,0,0,0,"",false,false,false,false,null,"","",""]
[null,null,null,null,null,null,null,null,null,null,null,null,null,null,null,null,null,null,null,null,null,null,null,null,null,null,null,null,null,null,null,null,null,null,null,null,null,{"$f":"IF(O451=\"130\",2014.4*AO451*'CO2 Conversion Factors'!$D$20/0.8/1000,2096.16*AO451*'CO2 Conversion Factors'!$D$20/0.8/1000)","v":0},{"$f":"IF(O451=\"130\",2014.4*AO451*'CO2 Conversion Factors'!$G$20/0.8/1000,2096.16*AO451*'CO2 Conversion Factors'!$G$20/0.8/1000)","v":0},{"$f":"IF(O451=\"130\",2014.4*AO451*'CO2 Conversion Factors'!$J$20/0.8/1000,2096.16*AO451*'CO2 Conversion Factors'!$J$20/0.8/1000)","v":0},{"$f":"IFERROR(IF(OR(L451=\"BLW\",L451=\"PRI\",L451=\"LNK\"),IF(Cover_Select_SteamCostUnits=\"£/1000kg\",11.6*(VLOOKUP($I451,Abb_Lookup_OrifaceDia,2,FALSE)^2)*SQRT(($O451-$P451)*($O451+$P451)),25.57363*(VLOOKUP($I451,Abb_Lookup_OrifaceDia,2,FALSE)^2)*SQRT(($O451-$P451)*($O451+$P451)))*(VLOOKUP(AE451,Cover_Lookup_OpTime,4,FALSE)/1000),IF(L451=\"LL\",IF(Cover_Select_SteamCostUnits=\"£/1000kg\",11.6*(VLOOKUP($I451,Abb_Lookup_OrifaceDia,2,FALSE)^2)*SQRT(($O451-$P451)*($O451+$P451)),25.57363*(VLOOKUP($I451,Abb_Lookup_OrifaceDia,2,FALSE)^2)*SQRT(($O451-$P451)*($O451+$P451)))*(VLOOKUP(AE451,Cover_Lookup_OpTime,4,FALSE)/2000),IF(L451=\"SL\",IF(Cover_Select_SteamCostUnits=\"£/1000kg\",11.6*(VLOOKUP($I451,Abb_Lookup_OrifaceDia,2,FALSE)^2)*SQRT(($O451-$P451)*($O451+$P451)),25.57363*(VLOOKUP($I451,Abb_Lookup_OrifaceDia,2,FALSE)^2)*SQRT(($O451-$P451)*($O451+$P451)))*(VLOOKUP(AE451,Cover_Lookup_OpTime,4,FALSE)/4000),0))),0)","v":0},0,null,null,null,0,0,0,0,"",false,false,false,false,null,"","",""]
[null,null,null,null,null,null,null,null,null,null,null,null,null,null,null,null,null,null,null,null,null,null,null,null,null,null,null,null,null,null,null,null,null,null,null,null,null,{"$f":"IF(O452=\"130\",2014.4*AO452*'CO2 Conversion Factors'!$D$20/0.8/1000,2096.16*AO452*'CO2 Conversion Factors'!$D$20/0.8/1000)","v":0},{"$f":"IF(O452=\"130\",2014.4*AO452*'CO2 Conversion Factors'!$G$20/0.8/1000,2096.16*AO452*'CO2 Conversion Factors'!$G$20/0.8/1000)","v":0},{"$f":"IF(O452=\"130\",2014.4*AO452*'CO2 Conversion Factors'!$J$20/0.8/1000,2096.16*AO452*'CO2 Conversion Factors'!$J$20/0.8/1000)","v":0},0,0,null,null,null,0,0,0,0,"",false,false,false,false,null,"","",""]
[null,null,null,null,null,null,null,null,null,null,null,null,null,null,null,null,null,null,null,null,null,null,null,null,null,null,null,null,null,null,null,null,null,null,null,null,null,{"$f":"IF(O453=\"130\",2014.4*AO453*'CO2 Conversion Factors'!$D$20/0.8/1000,2096.16*AO453*'CO2 Conversion Factors'!$D$20/0.8/1000)","v":0},{"$f":"IF(O453=\"130\",2014.4*AO453*'CO2 Conversion Factors'!$G$20/0.8/1000,2096.16*AO453*'CO2 Conversion Factors'!$G$20/0.8/1000)","v":0},{"$f":"IF(O453=\"130\",2014.4*AO453*'CO2 Conversion Factors'!$J$20/0.8/1000,2096.16*AO453*'CO2 Conversion Factors'!$J$20/0.8/1000)","v":0},0,0,null,null,null,0,0,0,0,"",{"$f":"IF(L453=\"CLD\", H453)","v":false},{"$f":"IF(L453=\"SL\", H453)","v":false},{"$f":"IF(L453=\"LL\", H453)","v":false},{"$f":"IF(L453=\"BLW\", H453)","v":false},null,"","",""]
[null,null,null,null,null,null,null,null,null,null,null,null,null,null,null,null,null,null,null,null,null,null,null,null,null,null,null,null,null,null,null,null,null,null,null,null,null,{"$f":"IF(O454=\"130\",2014.4*AO454*'CO2 Conversion Factors'!$D$20/0.8/1000,2096.16*AO454*'CO2 Conversion Factors'!$D$20/0.8/1000)","v":0},{"$f":"IF(O454=\"130\",2014.4*AO454*'CO2 Conversion Factors'!$G$20/0.8/1000,2096.16*AO454*'CO2 Conversion Factors'!$G$20/0.8/1000)","v":0},{"$f":"IF(O454=\"130\",2014.4*AO454*'CO2 Conversion Factors'!$J$20/0.8/1000,2096.16*AO454*'CO2 Conversion Factors'!$J$20/0.8/1000)","v":0},0,0,null,null,null,0,0,0,0,"",false,false,false,false,null,"","",""]
[null,null,null,null,null,null,null,null,null,null,null,null,null,null,null,null,null,null,null,null,null,null,null,null,null,null,null,null,null,null,null,null,null,null,null,null,null,{"$f":"IF(O455=\"130\",2014.4*AO455*'CO2 Conversion Factors'!$D$20/0.8/1000,2096.16*AO455*'CO2 Conversion Factors'!$D$20/0.8/1000)","v":0},{"$f":"IF(O455=\"130\",2014.4*AO455*'CO2 Conversion Factors'!$G$20/0.8/1000,2096.16*AO455*'CO2 Conversion Factors'!$G$20/0.8/1000)","v":0},{"$f":"IF(O455=\"130\",2014.4*AO455*'CO2 Conversion Factors'!$J$20/0.8/1000,2096.16*AO455*'CO2 Conversion Factors'!$J$20/0.8/1000)","v":0},0,0,null,null,null,0,0,0,0,"",false,false,false,false,null,"","",""]
[null,null,null,null,null,null,null,null,null,null,null,null,null,null,null,null,null,null,null,null,null,null,null,null,null,null,null,null,null,null,null,null,null,null,null,null,null,{"$f":"IF(O456=\"130\",2014.4*AO456*'CO2 Conversion Factors'!$D$20/0.8/1000,2096.16*AO456*'CO2 Conversion Factors'!$D$20/0.8/1000)","v":0},{"$f":"IF(O456=\"130\",2014.4*AO456*'CO2 Conversion Factors'!$G$20/0.8/1000,2096.16*AO456*'CO2 Conversion Factors'!$G$20/0.8/1000)","v":0},{"$f":"IF(O456=\"130\",2014.4*AO456*'CO2 Conversion Factors'!$J$20/0.8/1000,2096.16*AO456*'CO2 Conversion Factors'!$J$20/0.8/1000)","v":0},0,0,null,null,null,0,0,0,0,"",false,false,false,false,null,"","",""]
[null,null,null,null,null,null,null,null,null,null,null,null,null,null,null,null,null,null,null,null,null,null,null,null,null,null,null,null,null,null,null,null,null,null,null,null,null,{"$f":"IF(O457=\"130\",2014.4*AO457*'CO2 Conversion Factors'!$D$20/0.8/1000,2096.16*AO457*'CO2 Conversion Factors'!$D$20/0.8/1000)","v":0},{"$f":"IF(O457=\"130\",2014.4*AO457*'CO2 Conversion Factors'!$G$20/0.8/1000,2096.16*AO457*'CO2 Conversion Factors'!$G$20/0.8/1000)","v":0},{"$f":"IF(O457=\"130\",2014.4*AO457*'CO2 Conversion Factors'!$J$20/0.8/1000,2096.16*AO457*'CO2 Conversion Factors'!$J$20/0.8/1000)","v":0},0,{"$f":"IFERROR(AO457*Cover_Select_SteamCost,0)","v":0},null,null,null,{"$f":"IF(NOT(OR(L457=\"NIS\",L457=\"OFF\")),F457)","v":0},{"$f":"IF(NOT(OR(L457=\"NIS\",L457=\"OFF\",L457=\"PO\")),F457)","v":0},{"$f":"IF(NOT(OR(L457=\"NIS\",L457=\"OFF\")),H457)","v":0},{"$f":"IF(NOT(OR(L457=\"NIS\",L457=\"OFF\",L457=\"PO\")),H457)","v":0},{"$f":"F457&H457","v":""},false,false,false,false,null,"","",""]
[null,null,null,null,null,null,null,null,null,null,null,null,null,null,null,null,null,null,null,null,null,null,null,null,null,null,null,null,null,null,null,null,null,null,null,null,null,{"$f":"IF(O458=\"130\",2014.4*AO458*'CO2 Conversion Factors'!$D$20/0.8/1000,2096.16*AO458*'CO2 Conversion Factors'!$D$20/0.8/1000)","v":0},{"$f":"IF(O458=\"130\",2014.4*AO458*'CO2 Conversion Factors'!$G$20/0.8/1000,2096.16*AO458*'CO2 Conversion Factors'!$G$20/0.8/1000)","v":0},{"$f":"IF(O458=\"130\",2014.4*AO458*'CO2 Conversion Factors'!$J$20/0.8/1000,2096.16*AO458*'CO2 Conversion Factors'!$J$20/0.8/1000)","v":0},0,0,null,null,null,0,0,0,0,"",false,false,false,false,null,"","",""]
[null,null,null,null,null,null,null,null,null,null,null,null,null,null,null,null,null,null,null,null,null,null,null,null,null,null,null,null,null,null,null,null,null,null,null,null,null,{"$f":"IF(O459=\"130\",2014.4*AO459*'CO2 Conversion Factors'!$D$20/0.8/1000,2096.16*AO459*'CO2 Conversion Factors'!$D$20/0.8/1000)","v":0},{"$f":"IF(O459=\"130\",2014.4*AO459*'CO2 Conversion Factors'!$G$20/0.8/1000,2096.16*AO459*'CO2 Conversion Factors'!$G$20/0.8/1000)","v":0},{"$f":"IF(O459=\"130\",2014.4*AO459*'CO2 Conversion Factors'!$J$20/0.8/1000,2096.16*AO459*'CO2 Conversion Factors'!$J$20/0.8/1000)","v":0},0,0,null,null,null,0,0,0,0,"",false,false,false,false,null,"","",""]
[null,null,null,null,null,null,null,null,null,null,null,null,null,null,null,null,null,null,null,null,null,null,null,null,null,null,null,null,null,null,null,null,null,null,null,null,null,{"$f":"IF(O460=\"130\",2014.4*AO460*'CO2 Conversion Factors'!$D$20/0.8/1000,2096.16*AO460*'CO2 Conversion Factors'!$D$20/0.8/1000)","v":0},{"$f":"IF(O460=\"130\",2014.4*AO460*'CO2 Conversion Factors'!$G$20/0.8/1000,2096.16*AO460*'CO2 Conversion Factors'!$G$20/0.8/1000)","v":0},{"$f":"IF(O460=\"130\",2014.4*AO460*'CO2 Conversion Factors'!$J$20/0.8/1000,2096.16*AO460*'CO2 Conversion Factors'!$J$20/0.8/1000)","v":0},0,0,null,null,null,0,0,0,0,"",false,false,false,false,null,"","",""]
[null,null,null,null,null,null,null,null,null,null,null,null,null,null,null,null,null,null,null,null,null,null,null,null,null,null,null,null,null,null,null,null,null,null,null,null,null,{"$f":"IF(O461=\"130\",2014.4*AO461*'CO2 Conversion Factors'!$D$20/0.8/1000,2096.16*AO461*'CO2 Conversion Factors'!$D$20/0.8/1000)","v":0},{"$f":"IF(O461=\"130\",2014.4*AO461*'CO2 Conversion Factors'!$G$20/0.8/1000,2096.16*AO461*'CO2 Conversion Factors'!$G$20/0.8/1000)","v":0},{"$f":"IF(O461=\"130\",2014.4*AO461*'CO2 Conversion Factors'!$J$20/0.8/1000,2096.16*AO461*'CO2 Conversion Factors'!$J$20/0.8/1000)","v":0},0,0,null,null,null,0,0,0,0,"",false,false,false,false,null,"","",""]
[null,null,null,null,null,null,null,null,null,null,null,null,null,null,null,null,null,null,null,null,null,null,null,null,null,null,null,null,null,null,null,null,null,null,null,null,null,{"$f":"IF(O462=\"130\",2014.4*AO462*'CO2 Conversion Factors'!$D$20/0.8/1000,2096.16*AO462*'CO2 Conversion Factors'!$D$20/0.8/1000)","v":0},{"$f":"IF(O462=\"130\",2014.4*AO462*'CO2 Conversion Factors'!$G$20/0.8/1000,2096.16*AO462*'CO2 Conversion Factors'!$G$20/0.8/1000)","v":0},{"$f":"IF(O462=\"130\",2014.4*AO462*'CO2 Conversion Factors'!$J$20/0.8/1000,2096.16*AO462*'CO2 Conversion Factors'!$J$20/0.8/1000)","v":0},0,0,null,null,null,0,0,0,0,"",false,false,false,false,null,"","",""]
[null,null,null,null,null,null,null,null,null,null,null,null,null,null,null,null,null,null,null,null,null,null,null,null,null,null,null,null,null,null,null,null,null,null,null,null,null,{"$f":"IF(O463=\"130\",2014.4*AO463*'CO2 Conversion Factors'!$D$20/0.8/1000,2096.16*AO463*'CO2 Conversion Factors'!$D$20/0.8/1000)","v":0},{"$f":"IF(O463=\"130\",2014.4*AO463*'CO2 Conversion Factors'!$G$20/0.8/1000,2096.16*AO463*'CO2 Conversion Factors'!$G$20/0.8/1000)","v":0},{"$f":"IF(O463=\"130\",2014.4*AO463*'CO2 Conversion Factors'!$J$20/0.8/1000,2096.16*AO463*'CO2 Conversion Factors'!$J$20/0.8/1000)","v":0},0,0,null,null,null,0,0,0,0,"",false,false,false,false,null,"","",""]
[null,null,null,null,null,null,null,null,null,null,null,null,null,null,null,null,null,null,null,null,null,null,null,null,null,null,null,null,null,null,null,null,null,null,null,null,null,{"$f":"IF(O464=\"130\",2014.4*AO464*'CO2 Conversion Factors'!$D$20/0.8/1000,2096.16*AO464*'CO2 Conversion Factors'!$D$20/0.8/1000)","v":0},{"$f":"IF(O464=\"130\",2014.4*AO464*'CO2 Conversion Factors'!$G$20/0.8/1000,2096.16*AO464*'CO2 Conversion Factors'!$G$20/0.8/1000)","v":0},{"$f":"IF(O464=\"130\",2014.4*AO464*'CO2 Conversion Factors'!$J$20/0.8/1000,2096.16*AO464*'CO2 Conversion Factors'!$J$20/0.8/1000)","v":0},0,0,null,null,null,0,0,0,0,"",false,false,false,false,null,"","",""]
[null,null,null,null,null,null,null,null,null,null,null,null,null,null,null,null,null,null,null,null,null,null,null,null,null,null,null,null,null,null,null,null,null,null,null,null,null,{"$f":"IF(O465=\"130\",2014.4*AO465*'CO2 Conversion Factors'!$D$20/0.8/1000,2096.16*AO465*'CO2 Conversion Factors'!$D$20/0.8/1000)","v":0},{"$f":"IF(O465=\"130\",2014.4*AO465*'CO2 Conversion Factors'!$G$20/0.8/1000,2096.16*AO465*'CO2 Conversion Factors'!$G$20/0.8/1000)","v":0},{"$f":"IF(O465=\"130\",2014.4*AO465*'CO2 Conversion Factors'!$J$20/0.8/1000,2096.16*AO465*'CO2 Conversion Factors'!$J$20/0.8/1000)","v":0},0,0,null,null,null,0,0,0,0,"",false,false,false,false,null,"","",""]
[null,null,null,null,null,null,null,null,null,null,null,null,null,null,null,null,null,null,null,null,null,null,null,null,null,null,null,null,null,null,null,null,null,null,null,null,null,{"$f":"IF(O466=\"130\",2014.4*AO466*'CO2 Conversion Factors'!$D$20/0.8/1000,2096.16*AO466*'CO2 Conversion Factors'!$D$20/0.8/1000)","v":0},{"$f":"IF(O466=\"130\",2014.4*AO466*'CO2 Conversion Factors'!$G$20/0.8/1000,2096.16*AO466*'CO2 Conversion Factors'!$G$20/0.8/1000)","v":0},{"$f":"IF(O466=\"130\",2014.4*AO466*'CO2 Conversion Factors'!$J$20/0.8/1000,2096.16*AO466*'CO2 Conversion Factors'!$J$20/0.8/1000)","v":0},0,0,null,null,null,0,0,0,0,"",false,false,false,false,null,"","",""]
[null,null,null,null,null,null,null,null,null,null,null,null,null,null,null,null,null,null,null,null,null,null,null,null,null,null,null,null,null,null,null,null,null,null,null,null,null,{"$f":"IF(O467=\"130\",2014.4*AO467*'CO2 Conversion Factors'!$D$20/0.8/1000,2096.16*AO467*'CO2 Conversion Factors'!$D$20/0.8/1000)","v":0},{"$f":"IF(O467=\"130\",2014.4*AO467*'CO2 Conversion Factors'!$G$20/0.8/1000,2096.16*AO467*'CO2 Conversion Factors'!$G$20/0.8/1000)","v":0},{"$f":"IF(O467=\"130\",2014.4*AO467*'CO2 Conversion Factors'!$J$20/0.8/1000,2096.16*AO467*'CO2 Conversion Factors'!$J$20/0.8/1000)","v":0},0,0,null,null,null,0,0,0,0,"",false,false,false,false,null,"","",""]
[null,null,null,null,null,null,null,null,null,null,null,null,null,null,null,null,null,null,null,null,null,null,null,null,null,null,null,null,null,null,null,null,null,null,null,null,null,{"$f":"IF(O468=\"130\",2014.4*AO468*'CO2 Conversion Factors'!$D$20/0.8/1000,2096.16*AO468*'CO2 Conversion Factors'!$D$20/0.8/1000)","v":0},{"$f":"IF(O468=\"130\",2014.4*AO468*'CO2 Conversion Factors'!$G$20/0.8/1000,2096.16*AO468*'CO2 Conversion Factors'!$G$20/0.8/1000)","v":0},{"$f":"IF(O468=\"130\",2014.4*AO468*'CO2 Conversion Factors'!$J$20/0.8/1000,2096.16*AO468*'CO2 Conversion Factors'!$J$20/0.8/1000)","v":0},0,0,null,null,null,0,0,0,0,"",false,false,false,false,null,"","",""]
[null,null,null,null,null,null,null,null,null,null,null,null,null,null,null,null,null,null,null,null,null,null,null,null,null,null,null,null,null,null,null,null,null,null,null,null,null,{"$f":"IF(O469=\"130\",2014.4*AO469*'CO2 Conversion Factors'!$D$20/0.8/1000,2096.16*AO469*'CO2 Conversion Factors'!$D$20/0.8/1000)","v":0},{"$f":"IF(O469=\"130\",2014.4*AO469*'CO2 Conversion Factors'!$G$20/0.8/1000,2096.16*AO469*'CO2 Conversion Factors'!$G$20/0.8/1000)","v":0},{"$f":"IF(O469=\"130\",2014.4*AO469*'CO2 Conversion Factors'!$J$20/0.8/1000,2096.16*AO469*'CO2 Conversion Factors'!$J$20/0.8/1000)","v":0},0,0,null,null,null,0,0,0,0,"",false,false,false,false,null,"","",""]
[null,null,null,null,null,null,null,null,null,null,null,null,null,null,null,null,null,null,null,null,null,null,null,null,null,null,null,null,null,null,null,null,null,null,null,null,null,{"$f":"IF(O470=\"130\",2014.4*AO470*'CO2 Conversion Factors'!$D$20/0.8/1000,2096.16*AO470*'CO2 Conversion Factors'!$D$20/0.8/1000)","v":0},{"$f":"IF(O470=\"130\",2014.4*AO470*'CO2 Conversion Factors'!$G$20/0.8/1000,2096.16*AO470*'CO2 Conversion Factors'!$G$20/0.8/1000)","v":0},{"$f":"IF(O470=\"130\",2014.4*AO470*'CO2 Conversion Factors'!$J$20/0.8/1000,2096.16*AO470*'CO2 Conversion Factors'!$J$20/0.8/1000)","v":0},0,0,null,null,null,0,0,0,0,"",false,false,false,false,null,"","",""]
[null,null,null,null,null,null,null,null,null,null,null,null,null,null,null,null,null,null,null,null,null,null,null,null,null,null,null,null,null,null,null,null,null,null,null,null,null,{"$f":"IF(O471=\"130\",2014.4*AO471*'CO2 Conversion Factors'!$D$20/0.8/1000,2096.16*AO471*'CO2 Conversion Factors'!$D$20/0.8/1000)","v":0},{"$f":"IF(O471=\"130\",2014.4*AO471*'CO2 Conversion Factors'!$G$20/0.8/1000,2096.16*AO471*'CO2 Conversion Factors'!$G$20/0.8/1000)","v":0},{"$f":"IF(O471=\"130\",2014.4*AO471*'CO2 Conversion Factors'!$J$20/0.8/1000,2096.16*AO471*'CO2 Conversion Factors'!$J$20/0.8/1000)","v":0},0,0,null,null,null,0,0,0,0,"",false,false,false,false,null,"","",""]
[null,null,null,null,null,null,null,null,null,null,null,null,null,null,null,null,null,null,null,null,null,null,null,null,null,null,null,null,null,null,null,null,null,null,null,null,null,{"$f":"IF(O472=\"130\",2014.4*AO472*'CO2 Conversion Factors'!$D$20/0.8/1000,2096.16*AO472*'CO2 Conversion Factors'!$D$20/0.8/1000)","v":0},{"$f":"IF(O472=\"130\",2014.4*AO472*'CO2 Conversion Factors'!$G$20/0.8/1000,2096.16*AO472*'CO2 Conversion Factors'!$G$20/0.8/1000)","v":0},{"$f":"IF(O472=\"130\",2014.4*AO472*'CO2 Conversion Factors'!$J$20/0.8/1000,2096.16*AO472*'CO2 Conversion Factors'!$J$20/0.8/1000)","v":0},0,{"$f":"IFERROR(AO472*Cover_Select_SteamCost,0)","v":0},null,null,null,{"$f":"IF(NOT(OR(L472=\"NIS\",L472=\"OFF\")),F472)","v":0},{"$f":"IF(NOT(OR(L472=\"NIS\",L472=\"OFF\",L472=\"PO\")),F472)","v":0},{"$f":"IF(NOT(OR(L472=\"NIS\",L472=\"OFF\")),H472)","v":0},{"$f":"IF(NOT(OR(L472=\"NIS\",L472=\"OFF\",L472=\"PO\")),H472)","v":0},{"$f":"F472&H472","v":""},false,false,false,false,null,"","",""]
[null,null,null,null,null,null,null,null,null,null,null,null,null,null,null,null,null,null,null,null,null,null,null,null,null,null,null,null,null,null,null,null,null,null,null,null,null,{"$f":"IF(O473=\"130\",2014.4*AO473*'CO2 Conversion Factors'!$D$20/0.8/1000,2096.16*AO473*'CO2 Conversion Factors'!$D$20/0.8/1000)","v":0},{"$f":"IF(O473=\"130\",2014.4*AO473*'CO2 Conversion Factors'!$G$20/0.8/1000,2096.16*AO473*'CO2 Conversion Factors'!$G$20/0.8/1000)","v":0},{"$f":"IF(O473=\"130\",2014.4*AO473*'CO2 Conversion Factors'!$J$20/0.8/1000,2096.16*AO473*'CO2 Conversion Factors'!$J$20/0.8/1000)","v":0},0,0,null,null,null,0,0,0,0,"",false,false,false,false,null,"","",""]
[null,null,null,null,null,null,null,null,null,null,null,null,null,null,null,null,null,null,null,null,null,null,null,null,null,null,null,null,null,null,null,null,null,null,null,null,null,{"$f":"IF(O474=\"130\",2014.4*AO474*'CO2 Conversion Factors'!$D$20/0.8/1000,2096.16*AO474*'CO2 Conversion Factors'!$D$20/0.8/1000)","v":0},{"$f":"IF(O474=\"130\",2014.4*AO474*'CO2 Conversion Factors'!$G$20/0.8/1000,2096.16*AO474*'CO2 Conversion Factors'!$G$20/0.8/1000)","v":0},{"$f":"IF(O474=\"130\",2014.4*AO474*'CO2 Conversion Factors'!$J$20/0.8/1000,2096.16*AO474*'CO2 Conversion Factors'!$J$20/0.8/1000)","v":0},0,0,null,null,null,0,0,0,0,"",false,false,false,false,null,"","",""]
[null,null,null,null,null,null,null,null,null,null,null,null,null,null,null,null,null,null,null,null,null,null,null,null,null,null,null,null,null,null,null,null,null,null,null,null,null,{"$f":"IF(O475=\"130\",2014.4*AO475*'CO2 Conversion Factors'!$D$20/0.8/1000,2096.16*AO475*'CO2 Conversion Factors'!$D$20/0.8/1000)","v":0},{"$f":"IF(O475=\"130\",2014.4*AO475*'CO2 Conversion Factors'!$G$20/0.8/1000,2096.16*AO475*'CO2 Conversion Factors'!$G$20/0.8/1000)","v":0},{"$f":"IF(O475=\"130\",2014.4*AO475*'CO2 Conversion Factors'!$J$20/0.8/1000,2096.16*AO475*'CO2 Conversion Factors'!$J$20/0.8/1000)","v":0},0,0,null,null,null,0,0,0,0,"",false,false,false,false,null,"","",""]
[null,null,null,null,null,null,null,null,null,null,null,null,null,null,null,null,null,null,null,null,null,null,null,null,null,null,null,null,null,null,null,null,null,null,null,null,null,{"$f":"IF(O476=\"130\",2014.4*AO476*'CO2 Conversion Factors'!$D$20/0.8/1000,2096.16*AO476*'CO2 Conversion Factors'!$D$20/0.8/1000)","v":0},{"$f":"IF(O476=\"130\",2014.4*AO476*'CO2 Conversion Factors'!$G$20/0.8/1000,2096.16*AO476*'CO2 Conversion Factors'!$G$20/0.8/1000)","v":0},{"$f":"IF(O476=\"130\",2014.4*AO476*'CO2 Conversion Factors'!$J$20/0.8/1000,2096.16*AO476*'CO2 Conversion Factors'!$J$20/0.8/1000)","v":0},0,0,null,null,null,0,0,0,0,"",false,false,false,false,null,"","",""]
[null,null,null,null,null,null,null,null,null,null,null,null,null,null,null,null,null,null,null,null,null,null,null,null,null,null,null,null,null,null,null,null,null,null,null,null,null,{"$f":"IF(O477=\"130\",2014.4*AO477*'CO2 Conversion Factors'!$D$20/0.8/1000,2096.16*AO477*'CO2 Conversion Factors'!$D$20/0.8/1000)","v":0},{"$f":"IF(O477=\"130\",2014.4*AO477*'CO2 Conversion Factors'!$G$20/0.8/1000,2096.16*AO477*'CO2 Conversion Factors'!$G$20/0.8/1000)","v":0},{"$f":"IF(O477=\"130\",2014.4*AO477*'CO2 Conversion Factors'!$J$20/0.8/1000,2096.16*AO477*'CO2 Conversion Factors'!$J$20/0.8/1000)","v":0},0,0,null,null,null,0,0,0,0,"",false,false,false,false,null,"","",""]
[null,null,null,null,null,null,null,null,null,null,null,null,null,null,null,null,null,null,null,null,null,null,null,null,null,null,null,null,null,null,null,null,null,null,null,null,null,{"$f":"IF(O478=\"130\",2014.4*AO478*'CO2 Conversion Factors'!$D$20/0.8/1000,2096.16*AO478*'CO2 Conversion Factors'!$D$20/0.8/1000)","v":0},{"$f":"IF(O478=\"130\",2014.4*AO478*'CO2 Conversion Factors'!$G$20/0.8/1000,2096.16*AO478*'CO2 Conversion Factors'!$G$20/0.8/1000)","v":0},{"$f":"IF(O478=\"130\",2014.4*AO478*'CO2 Conversion Factors'!$J$20/0.8/1000,2096.16*AO478*'CO2 Conversion Factors'!$J$20/0.8/1000)","v":0},0,0,null,null,null,0,0,0,0,"",false,false,false,false,null,"","",""]
[null,null,null,null,null,null,null,null,null,null,null,null,null,null,null,null,null,null,null,null,null,null,null,null,null,null,null,null,null,null,null,null,null,null,null,null,null,{"$f":"IF(O479=\"130\",2014.4*AO479*'CO2 Conversion Factors'!$D$20/0.8/1000,2096.16*AO479*'CO2 Conversion Factors'!$D$20/0.8/1000)","v":0},{"$f":"IF(O479=\"130\",2014.4*AO479*'CO2 Conversion Factors'!$G$20/0.8/1000,2096.16*AO479*'CO2 Conversion Factors'!$G$20/0.8/1000)","v":0},{"$f":"IF(O479=\"130\",2014.4*AO479*'CO2 Conversion Factors'!$J$20/0.8/1000,2096.16*AO479*'CO2 Conversion Factors'!$J$20/0.8/1000)","v":0},0,0,null,null,null,0,0,0,0,"",false,false,false,false,null,"","",""]
[null,null,null,null,null,null,null,null,null,null,null,null,null,null,null,null,null,null,null,null,null,null,null,null,null,null,null,null,null,null,null,null,null,null,null,null,null,{"$f":"IF(O480=\"130\",2014.4*AO480*'CO2 Conversion Factors'!$D$20/0.8/1000,2096.16*AO480*'CO2 Conversion Factors'!$D$20/0.8/1000)","v":0},{"$f":"IF(O480=\"130\",2014.4*AO480*'CO2 Conversion Factors'!$G$20/0.8/1000,2096.16*AO480*'CO2 Conversion Factors'!$G$20/0.8/1000)","v":0},{"$f":"IF(O480=\"130\",2014.4*AO480*'CO2 Conversion Factors'!$J$20/0.8/1000,2096.16*AO480*'CO2 Conversion Factors'!$J$20/0.8/1000)","v":0},0,0,null,null,null,0,0,0,0,"",false,false,false,false,null,"","",""]
[null,null,null,null,null,null,null,null,null,null,null,null,null,null,null,null,null,null,null,null,null,null,null,null,null,null,null,null,null,null,null,null,null,null,null,null,null,{"$f":"IF(O481=\"130\",2014.4*AO481*'CO2 Conversion Factors'!$D$20/0.8/1000,2096.16*AO481*'CO2 Conversion Factors'!$D$20/0.8/1000)","v":0},{"$f":"IF(O481=\"130\",2014.4*AO481*'CO2 Conversion Factors'!$G$20/0.8/1000,2096.16*AO481*'CO2 Conversion Factors'!$G$20/0.8/1000)","v":0},{"$f":"IF(O481=\"130\",2014.4*AO481*'CO2 Conversion Factors'!$J$20/0.8/1000,2096.16*AO481*'CO2 Conversion Factors'!$J$20/0.8/1000)","v":0},0,0,null,null,null,0,0,0,0,"",false,false,false,false,null,"","",""]
[null,null,null,null,null,null,null,null,null,null,null,null,null,null,null,null,null,null,null,null,null,null,null,null,null,null,null,null,null,null,null,null,null,null,null,null,null,{"$f":"IF(O482=\"130\",2014.4*AO482*'CO2 Conversion Factors'!$D$20/0.8/1000,2096.16*AO482*'CO2 Conversion Factors'!$D$20/0.8/1000)","v":0},{"$f":"IF(O482=\"130\",2014.4*AO482*'CO2 Conversion Factors'!$G$20/0.8/1000,2096.16*AO482*'CO2 Conversion Factors'!$G$20/0.8/1000)","v":0},{"$f":"IF(O482=\"130\",2014.4*AO482*'CO2 Conversion Factors'!$J$20/0.8/1000,2096.16*AO482*'CO2 Conversion Factors'!$J$20/0.8/1000)","v":0},0,0,null,null,null,0,0,0,0,"",false,false,false,false,null,"","",""]
[null,null,null,null,null,null,null,null,null,null,null,null,null,null,null,null,null,null,null,null,null,null,null,null,null,null,null,null,null,null,null,null,null,null,null,null,null,{"$f":"IF(O483=\"130\",2014.4*AO483*'CO2 Conversion Factors'!$D$20/0.8/1000,2096.16*AO483*'CO2 Conversion Factors'!$D$20/0.8/1000)","v":0},{"$f":"IF(O483=\"130\",2014.4*AO483*'CO2 Conversion Factors'!$G$20/0.8/1000,2096.16*AO483*'CO2 Conversion Factors'!$G$20/0.8/1000)","v":0},{"$f":"IF(O483=\"130\",2014.4*AO483*'CO2 Conversion Factors'!$J$20/0.8/1000,2096.16*AO483*'CO2 Conversion Factors'!$J$20/0.8/1000)","v":0},0,0,null,null,null,0,0,0,0,"",false,false,false,false,null,"","",""]
[null,null,null,null,null,null,null,null,null,null,null,null,null,null,null,null,null,null,null,null,null,null,null,null,null,null,null,null,null,null,null,null,null,null,null,null,null,{"$f":"IF(O484=\"130\",2014.4*AO484*'CO2 Conversion Factors'!$D$20/0.8/1000,2096.16*AO484*'CO2 Conversion Factors'!$D$20/0.8/1000)","v":0},{"$f":"IF(O484=\"130\",2014.4*AO484*'CO2 Conversion Factors'!$G$20/0.8/1000,2096.16*AO484*'CO2 Conversion Factors'!$G$20/0.8/1000)","v":0},{"$f":"IF(O484=\"130\",2014.4*AO484*'CO2 Conversion Factors'!$J$20/0.8/1000,2096.16*AO484*'CO2 Conversion Factors'!$J$20/0.8/1000)","v":0},0,0,null,null,null,0,0,0,0,"",false,false,false,false,null,"","",""]
[null,null,null,null,null,null,null,null,null,null,null,null,null,null,null,null,null,null,null,null,null,null,null,null,null,null,null,null,null,null,null,null,null,null,null,null,null,{"$f":"IF(O485=\"130\",2014.4*AO485*'CO2 Conversion Factors'!$D$20/0.8/1000,2096.16*AO485*'CO2 Conversion Factors'!$D$20/0.8/1000)","v":0},{"$f":"IF(O485=\"130\",2014.4*AO485*'CO2 Conversion Factors'!$G$20/0.8/1000,2096.16*AO485*'CO2 Conversion Factors'!$G$20/0.8/1000)","v":0},{"$f":"IF(O485=\"130\",2014.4*AO485*'CO2 Conversion Factors'!$J$20/0.8/1000,2096.16*AO485*'CO2 Conversion Factors'!$J$20/0.8/1000)","v":0},0,0,null,null,null,0,0,0,0,"",false,false,false,false,null,"","",""]
[null,null,null,null,null,null,null,null,null,null,null,null,null,null,null,null,null,null,null,null,null,null,null,null,null,null,null,null,null,null,null,null,null,null,null,null,null,{"$f":"IF(O486=\"130\",2014.4*AO486*'CO2 Conversion Factors'!$D$20/0.8/1000,2096.16*AO486*'CO2 Conversion Factors'!$D$20/0.8/1000)","v":0},{"$f":"IF(O486=\"130\",2014.4*AO486*'CO2 Conversion Factors'!$G$20/0.8/1000,2096.16*AO486*'CO2 Conversion Factors'!$G$20/0.8/1000)","v":0},{"$f":"IF(O486=\"130\",2014.4*AO486*'CO2 Conversion Factors'!$J$20/0.8/1000,2096.16*AO486*'CO2 Conversion Factors'!$J$20/0.8/1000)","v":0},0,0,null,null,null,0,0,0,0,"",false,false,false,false,null,"","",""]
[null,null,null,null,null,null,null,null,null,null,null,null,null,null,null,null,null,null,null,null,null,null,null,null,null,null,null,null,null,null,null,null,null,null,null,null,null,{"$f":"IF(O487=\"130\",2014.4*AO487*'CO2 Conversion Factors'!$D$20/0.8/1000,2096.16*AO487*'CO2 Conversion Factors'!$D$20/0.8/1000)","v":0},{"$f":"IF(O487=\"130\",2014.4*AO487*'CO2 Conversion Factors'!$G$20/0.8/1000,2096.16*AO487*'CO2 Conversion Factors'!$G$20/0.8/1000)","v":0},{"$f":"IF(O487=\"130\",2014.4*AO487*'CO2 Conversion Factors'!$J$20/0.8/1000,2096.16*AO487*'CO2 Conversion Factors'!$J$20/0.8/1000)","v":0},0,0,null,null,null,0,0,0,0,"",false,false,false,false,null,"","",""]
[null,null,null,null,null,null,null,null,null,null,null,null,null,null,null,null,null,null,null,null,null,null,null,null,null,null,null,null,null,null,null,null,null,null,null,null,null,{"$f":"IF(O488=\"130\",2014.4*AO488*'CO2 Conversion Factors'!$D$20/0.8/1000,2096.16*AO488*'CO2 Conversion Factors'!$D$20/0.8/1000)","v":0},{"$f":"IF(O488=\"130\",2014.4*AO488*'CO2 Conversion Factors'!$G$20/0.8/1000,2096.16*AO488*'CO2 Conversion Factors'!$G$20/0.8/1000)","v":0},{"$f":"IF(O488=\"130\",2014.4*AO488*'CO2 Conversion Factors'!$J$20/0.8/1000,2096.16*AO488*'CO2 Conversion Factors'!$J$20/0.8/1000)","v":0},0,0,null,null,null,0,0,0,0,"",false,false,false,false,null,"","",""]
[null,null,null,null,null,null,null,null,null,null,null,null,null,null,null,null,null,null,null,null,null,null,null,null,null,null,null,null,null,null,null,null,null,null,null,null,null,{"$f":"IF(O489=\"130\",2014.4*AO489*'CO2 Conversion Factors'!$D$20/0.8/1000,2096.16*AO489*'CO2 Conversion Factors'!$D$20/0.8/1000)","v":0},{"$f":"IF(O489=\"130\",2014.4*AO489*'CO2 Conversion Factors'!$G$20/0.8/1000,2096.16*AO489*'CO2 Conversion Factors'!$G$20/0.8/1000)","v":0},{"$f":"IF(O489=\"130\",2014.4*AO489*'CO2 Conversion Factors'!$J$20/0.8/1000,2096.16*AO489*'CO2 Conversion Factors'!$J$20/0.8/1000)","v":0},0,0,null,null,null,0,0,0,0,"",false,false,false,false,null,"","",""]
[null,null,null,null,null,null,null,null,null,null,null,null,null,null,null,null,null,null,null,null,null,null,null,null,null,null,null,null,null,null,null,null,null,null,null,null,null,{"$f":"IF(O490=\"130\",2014.4*AO490*'CO2 Conversion Factors'!$D$20/0.8/1000,2096.16*AO490*'CO2 Conversion Factors'!$D$20/0.8/1000)","v":0},{"$f":"IF(O490=\"130\",2014.4*AO490*'CO2 Conversion Factors'!$G$20/0.8/1000,2096.16*AO490*'CO2 Conversion Factors'!$G$20/0.8/1000)","v":0},{"$f":"IF(O490=\"130\",2014.4*AO490*'CO2 Conversion Factors'!$J$20/0.8/1000,2096.16*AO490*'CO2 Conversion Factors'!$J$20/0.8/1000)","v":0},0,0,null,null,null,0,0,0,0,"",false,false,false,false,null,"","",""]
[null,null,null,null,null,null,null,null,null,null,null,null,null,null,null,null,null,null,null,null,null,null,null,null,null,null,null,null,null,null,null,null,null,null,null,null,null,{"$f":"IF(O491=\"130\",2014.4*AO491*'CO2 Conversion Factors'!$D$20/0.8/1000,2096.16*AO491*'CO2 Conversion Factors'!$D$20/0.8/1000)","v":0},{"$f":"IF(O491=\"130\",2014.4*AO491*'CO2 Conversion Factors'!$G$20/0.8/1000,2096.16*AO491*'CO2 Conversion Factors'!$G$20/0.8/1000)","v":0},{"$f":"IF(O491=\"130\",2014.4*AO491*'CO2 Conversion Factors'!$J$20/0.8/1000,2096.16*AO491*'CO2 Conversion Factors'!$J$20/0.8/1000)","v":0},0,0,null,null,null,0,0,0,0,"",false,false,false,false,null,"","",""]
[null,null,null,null,null,null,null,null,null,null,null,null,null,null,null,null,null,null,null,null,null,null,null,null,null,null,null,null,null,null,null,null,null,null,null,null,null,{"$f":"IF(O492=\"130\",2014.4*AO492*'CO2 Conversion Factors'!$D$20/0.8/1000,2096.16*AO492*'CO2 Conversion Factors'!$D$20/0.8/1000)","v":0},{"$f":"IF(O492=\"130\",2014.4*AO492*'CO2 Conversion Factors'!$G$20/0.8/1000,2096.16*AO492*'CO2 Conversion Factors'!$G$20/0.8/1000)","v":0},{"$f":"IF(O492=\"130\",2014.4*AO492*'CO2 Conversion Factors'!$J$20/0.8/1000,2096.16*AO492*'CO2 Conversion Factors'!$J$20/0.8/1000)","v":0},0,0,null,null,null,0,0,0,0,"",false,false,false,false,null,"","",""]
[null,null,null,null,null,null,null,null,null,null,null,null,null,null,null,null,null,null,null,null,null,null,null,null,null,null,null,null,null,null,null,null,null,null,null,null,null,{"$f":"IF(O493=\"130\",2014.4*AO493*'CO2 Conversion Factors'!$D$20/0.8/1000,2096.16*AO493*'CO2 Conversion Factors'!$D$20/0.8/1000)","v":0},{"$f":"IF(O493=\"130\",2014.4*AO493*'CO2 Conversion Factors'!$G$20/0.8/1000,2096.16*AO493*'CO2 Conversion Factors'!$G$20/0.8/1000)","v":0},{"$f":"IF(O493=\"130\",2014.4*AO493*'CO2 Conversion Factors'!$J$20/0.8/1000,2096.16*AO493*'CO2 Conversion Factors'!$J$20/0.8/1000)","v":0},0,0,null,null,null,0,0,0,0,"",false,false,false,false,null,"","",""]
[null,null,null,null,null,null,null,null,null,null,null,null,null,null,null,null,null,null,null,null,null,null,null,null,null,null,null,null,null,null,null,null,null,null,null,null,null,{"$f":"IF(O494=\"130\",2014.4*AO494*'CO2 Conversion Factors'!$D$20/0.8/1000,2096.16*AO494*'CO2 Conversion Factors'!$D$20/0.8/1000)","v":0},{"$f":"IF(O494=\"130\",2014.4*AO494*'CO2 Conversion Factors'!$G$20/0.8/1000,2096.16*AO494*'CO2 Conversion Factors'!$G$20/0.8/1000)","v":0},{"$f":"IF(O494=\"130\",2014.4*AO494*'CO2 Conversion Factors'!$J$20/0.8/1000,2096.16*AO494*'CO2 Conversion Factors'!$J$20/0.8/1000)","v":0},0,0,null,null,null,0,0,0,0,"",false,false,false,false,null,"","",""]
[null,null,null,null,null,null,null,null,null,null,null,null,null,null,null,null,null,null,null,null,null,null,null,null,null,null,null,null,null,null,null,null,null,null,null,null,null,{"$f":"IF(O495=\"130\",2014.4*AO495*'CO2 Conversion Factors'!$D$20/0.8/1000,2096.16*AO495*'CO2 Conversion Factors'!$D$20/0.8/1000)","v":0},{"$f":"IF(O495=\"130\",2014.4*AO495*'CO2 Conversion Factors'!$G$20/0.8/1000,2096.16*AO495*'CO2 Conversion Factors'!$G$20/0.8/1000)","v":0},{"$f":"IF(O495=\"130\",2014.4*AO495*'CO2 Conversion Factors'!$J$20/0.8/1000,2096.16*AO495*'CO2 Conversion Factors'!$J$20/0.8/1000)","v":0},0,0,null,null,null,0,0,0,0,"",false,false,false,false,null,"","",""]
[null,null,null,null,null,null,null,null,null,null,null,null,null,null,null,null,null,null,null,null,null,null,null,null,null,null,null,null,null,null,null,null,null,null,null,null,null,{"$f":"IF(O496=\"130\",2014.4*AO496*'CO2 Conversion Factors'!$D$20/0.8/1000,2096.16*AO496*'CO2 Conversion Factors'!$D$20/0.8/1000)","v":0},{"$f":"IF(O496=\"130\",2014.4*AO496*'CO2 Conversion Factors'!$G$20/0.8/1000,2096.16*AO496*'CO2 Conversion Factors'!$G$20/0.8/1000)","v":0},{"$f":"IF(O496=\"130\",2014.4*AO496*'CO2 Conversion Factors'!$J$20/0.8/1000,2096.16*AO496*'CO2 Conversion Factors'!$J$20/0.8/1000)","v":0},0,0,null,null,null,0,0,0,0,"",false,false,false,false,null,"","",""]
[null,null,null,null,null,null,null,null,null,null,null,null,null,null,null,null,null,null,null,null,null,null,null,null,null,null,null,null,null,null,null,null,null,null,null,null,null,{"$f":"IF(O497=\"130\",2014.4*AO497*'CO2 Conversion Factors'!$D$20/0.8/1000,2096.16*AO497*'CO2 Conversion Factors'!$D$20/0.8/1000)","v":0},{"$f":"IF(O497=\"130\",2014.4*AO497*'CO2 Conversion Factors'!$G$20/0.8/1000,2096.16*AO497*'CO2 Conversion Factors'!$G$20/0.8/1000)","v":0},{"$f":"IF(O497=\"130\",2014.4*AO497*'CO2 Conversion Factors'!$J$20/0.8/1000,2096.16*AO497*'CO2 Conversion Factors'!$J$20/0.8/1000)","v":0},0,0,null,null,null,0,0,0,0,"",false,false,false,false,null,"","",""]
[null,null,null,null,null,null,null,null,null,null,null,null,null,null,null,null,null,null,null,null,null,null,null,null,null,null,null,null,null,null,null,null,null,null,null,null,null,{"$f":"IF(O498=\"130\",2014.4*AO498*'CO2 Conversion Factors'!$D$20/0.8/1000,2096.16*AO498*'CO2 Conversion Factors'!$D$20/0.8/1000)","v":0},{"$f":"IF(O498=\"130\",2014.4*AO498*'CO2 Conversion Factors'!$G$20/0.8/1000,2096.16*AO498*'CO2 Conversion Factors'!$G$20/0.8/1000)","v":0},{"$f":"IF(O498=\"130\",2014.4*AO498*'CO2 Conversion Factors'!$J$20/0.8/1000,2096.16*AO498*'CO2 Conversion Factors'!$J$20/0.8/1000)","v":0},0,0,null,null,null,0,0,0,0,"",false,false,false,false,null,"","",""]
[null,null,null,null,null,null,null,null,null,null,null,null,null,null,null,null,null,null,null,null,null,null,null,null,null,null,null,null,null,null,null,null,null,null,null,null,null,{"$f":"IF(O499=\"130\",2014.4*AO499*'CO2 Conversion Factors'!$D$20/0.8/1000,2096.16*AO499*'CO2 Conversion Factors'!$D$20/0.8/1000)","v":0},{"$f":"IF(O499=\"130\",2014.4*AO499*'CO2 Conversion Factors'!$G$20/0.8/1000,2096.16*AO499*'CO2 Conversion Factors'!$G$20/0.8/1000)","v":0},{"$f":"IF(O499=\"130\",2014.4*AO499*'CO2 Conversion Factors'!$J$20/0.8/1000,2096.16*AO499*'CO2 Conversion Factors'!$J$20/0.8/1000)","v":0},0,0,null,null,null,0,0,0,0,"",false,false,false,false,null,"","",""]
[null,null,null,null,null,null,null,null,null,null,null,null,null,null,null,null,null,null,null,null,null,null,null,null,null,null,null,null,null,null,null,null,null,null,null,null,null,{"$f":"IF(O500=\"130\",2014.4*AO500*'CO2 Conversion Factors'!$D$20/0.8/1000,2096.16*AO500*'CO2 Conversion Factors'!$D$20/0.8/1000)","v":0},{"$f":"IF(O500=\"130\",2014.4*AO500*'CO2 Conversion Factors'!$G$20/0.8/1000,2096.16*AO500*'CO2 Conversion Factors'!$G$20/0.8/1000)","v":0},{"$f":"IF(O500=\"130\",2014.4*AO500*'CO2 Conversion Factors'!$J$20/0.8/1000,2096.16*AO500*'CO2 Conversion Factors'!$J$20/0.8/1000)","v":0},0,0,null,null,null,0,0,0,0,"",false,false,false,false,null,"","",""]
[null,null,null,null,null,null,null,null,null,null,null,null,null,null,null,null,null,null,null,null,null,null,null,null,null,null,null,null,null,null,null,null,null,null,null,null,null,{"$f":"IF(O501=\"130\",2014.4*AO501*'CO2 Conversion Factors'!$D$20/0.8/1000,2096.16*AO501*'CO2 Conversion Factors'!$D$20/0.8/1000)","v":0},{"$f":"IF(O501=\"130\",2014.4*AO501*'CO2 Conversion Factors'!$G$20/0.8/1000,2096.16*AO501*'CO2 Conversion Factors'!$G$20/0.8/1000)","v":0},{"$f":"IF(O501=\"130\",2014.4*AO501*'CO2 Conversion Factors'!$J$20/0.8/1000,2096.16*AO501*'CO2 Conversion Factors'!$J$20/0.8/1000)","v":0},0,0,null,null,null,0,0,0,0,"",false,false,false,false,null,"","",""]
[null,null,null,null,null,null,null,null,null,null,null,null,null,null,null,null,null,null,null,null,null,null,null,null,null,null,null,null,null,null,null,null,null,null,null,null,null,{"$f":"IF(O502=\"130\",2014.4*AO502*'CO2 Conversion Factors'!$D$20/0.8/1000,2096.16*AO502*'CO2 Conversion Factors'!$D$20/0.8/1000)","v":0},{"$f":"IF(O502=\"130\",2014.4*AO502*'CO2 Conversion Factors'!$G$20/0.8/1000,2096.16*AO502*'CO2 Conversion Factors'!$G$20/0.8/1000)","v":0},{"$f":"IF(O502=\"130\",2014.4*AO502*'CO2 Conversion Factors'!$J$20/0.8/1000,2096.16*AO502*'CO2 Conversion Factors'!$J$20/0.8/1000)","v":0},0,0,null,null,null,0,0,0,0,"",false,false,false,false,null,"","",""]
[null,null,null,null,null,null,null,null,null,null,null,null,null,null,null,null,null,null,null,null,null,null,null,null,null,null,null,null,null,null,null,null,null,null,null,null,null,{"$f":"IF(O503=\"130\",2014.4*AO503*'CO2 Conversion Factors'!$D$20/0.8/1000,2096.16*AO503*'CO2 Conversion Factors'!$D$20/0.8/1000)","v":0},{"$f":"IF(O503=\"130\",2014.4*AO503*'CO2 Conversion Factors'!$G$20/0.8/1000,2096.16*AO503*'CO2 Conversion Factors'!$G$20/0.8/1000)","v":0},{"$f":"IF(O503=\"130\",2014.4*AO503*'CO2 Conversion Factors'!$J$20/0.8/1000,2096.16*AO503*'CO2 Conversion Factors'!$J$20/0.8/1000)","v":0},0,0,null,null,null,0,0,0,0,"",false,false,false,false,null,"","",""]
[null,null,null,null,null,null,null,null,null,null,null,null,null,null,null,null,null,null,null,null,null,null,null,null,null,null,null,null,null,null,null,null,null,null,null,null,null,{"$f":"IF(O504=\"130\",2014.4*AO504*'CO2 Conversion Factors'!$D$20/0.8/1000,2096.16*AO504*'CO2 Conversion Factors'!$D$20/0.8/1000)","v":0},{"$f":"IF(O504=\"130\",2014.4*AO504*'CO2 Conversion Factors'!$G$20/0.8/1000,2096.16*AO504*'CO2 Conversion Factors'!$G$20/0.8/1000)","v":0},{"$f":"IF(O504=\"130\",2014.4*AO504*'CO2 Conversion Factors'!$J$20/0.8/1000,2096.16*AO504*'CO2 Conversion Factors'!$J$20/0.8/1000)","v":0},0,{"$f":"IFERROR(AO504*Cover_Select_SteamCost,0)","v":0},null,null,null,{"$f":"IF(NOT(OR(L504=\"NIS\",L504=\"OFF\")),F504)","v":0},{"$f":"IF(NOT(OR(L504=\"NIS\",L504=\"OFF\",L504=\"PO\")),F504)","v":0},{"$f":"IF(NOT(OR(L504=\"NIS\",L504=\"OFF\")),H504)","v":0},{"$f":"IF(NOT(OR(L504=\"NIS\",L504=\"OFF\",L504=\"PO\")),H504)","v":0},{"$f":"F504&H504","v":""},false,false,false,false,null,"","",""]
[null,null,null,null,null,null,null,null,null,null,null,null,null,null,null,null,null,null,null,null,null,null,null,null,null,null,null,null,null,null,null,null,null,null,null,null,null,{"$f":"IF(O505=\"130\",2014.4*AO505*'CO2 Conversion Factors'!$D$20/0.8/1000,2096.16*AO505*'CO2 Conversion Factors'!$D$20/0.8/1000)","v":0},{"$f":"IF(O505=\"130\",2014.4*AO505*'CO2 Conversion Factors'!$G$20/0.8/1000,2096.16*AO505*'CO2 Conversion Factors'!$G$20/0.8/1000)","v":0},{"$f":"IF(O505=\"130\",2014.4*AO505*'CO2 Conversion Factors'!$J$20/0.8/1000,2096.16*AO505*'CO2 Conversion Factors'!$J$20/0.8/1000)","v":0},0,0,null,null,null,0,0,0,0,"",false,false,false,false,null,"","",""]
[null,null,null,null,null,null,null,null,null,null,null,null,null,null,null,null,null,null,null,null,null,null,null,null,null,null,null,null,null,null,null,null,null,null,null,null,null,{"$f":"IF(O506=\"130\",2014.4*AO506*'CO2 Conversion Factors'!$D$20/0.8/1000,2096.16*AO506*'CO2 Conversion Factors'!$D$20/0.8/1000)","v":0},{"$f":"IF(O506=\"130\",2014.4*AO506*'CO2 Conversion Factors'!$G$20/0.8/1000,2096.16*AO506*'CO2 Conversion Factors'!$G$20/0.8/1000)","v":0},{"$f":"IF(O506=\"130\",2014.4*AO506*'CO2 Conversion Factors'!$J$20/0.8/1000,2096.16*AO506*'CO2 Conversion Factors'!$J$20/0.8/1000)","v":0},0,0,null,null,null,0,0,0,0,"",false,false,false,false,null,"","",""]
[null,null,null,null,null,null,null,null,null,null,null,null,null,null,null,null,null,null,null,null,null,null,null,null,null,null,null,null,null,null,null,null,null,null,null,null,null,{"$f":"IF(O507=\"130\",2014.4*AO507*'CO2 Conversion Factors'!$D$20/0.8/1000,2096.16*AO507*'CO2 Conversion Factors'!$D$20/0.8/1000)","v":0},{"$f":"IF(O507=\"130\",2014.4*AO507*'CO2 Conversion Factors'!$G$20/0.8/1000,2096.16*AO507*'CO2 Conversion Factors'!$G$20/0.8/1000)","v":0},{"$f":"IF(O507=\"130\",2014.4*AO507*'CO2 Conversion Factors'!$J$20/0.8/1000,2096.16*AO507*'CO2 Conversion Factors'!$J$20/0.8/1000)","v":0},0,0,null,null,null,0,0,0,0,"",false,false,false,false,null,"","",""]
[null,null,null,null,null,null,null,null,null,null,null,null,null,null,null,null,null,null,null,null,null,null,null,null,null,null,null,null,null,null,null,null,null,null,null,null,null,{"$f":"IF(O508=\"130\",2014.4*AO508*'CO2 Conversion Factors'!$D$20/0.8/1000,2096.16*AO508*'CO2 Conversion Factors'!$D$20/0.8/1000)","v":0},{"$f":"IF(O508=\"130\",2014.4*AO508*'CO2 Conversion Factors'!$G$20/0.8/1000,2096.16*AO508*'CO2 Conversion Factors'!$G$20/0.8/1000)","v":0},{"$f":"IF(O508=\"130\",2014.4*AO508*'CO2 Conversion Factors'!$J$20/0.8/1000,2096.16*AO508*'CO2 Conversion Factors'!$J$20/0.8/1000)","v":0},0,0,null,null,null,0,0,0,0,"",false,false,false,false,null,"","",""]
[null,null,null,null,null,null,null,null,null,null,null,null,null,null,null,null,null,null,null,null,null,null,null,null,null,null,null,null,null,null,null,null,null,null,null,null,null,{"$f":"IF(O509=\"130\",2014.4*AO509*'CO2 Conversion Factors'!$D$20/0.8/1000,2096.16*AO509*'CO2 Conversion Factors'!$D$20/0.8/1000)","v":0},{"$f":"IF(O509=\"130\",2014.4*AO509*'CO2 Conversion Factors'!$G$20/0.8/1000,2096.16*AO509*'CO2 Conversion Factors'!$G$20/0.8/1000)","v":0},{"$f":"IF(O509=\"130\",2014.4*AO509*'CO2 Conversion Factors'!$J$20/0.8/1000,2096.16*AO509*'CO2 Conversion Factors'!$J$20/0.8/1000)","v":0},0,0,null,null,null,0,0,0,0,"",false,false,false,false,null,"","",""]
[null,null,null,null,null,null,null,null,null,null,null,null,null,null,null,null,null,null,null,null,null,null,null,null,null,null,null,null,null,null,null,null,null,null,null,null,null,{"$f":"IF(O510=\"130\",2014.4*AO510*'CO2 Conversion Factors'!$D$20/0.8/1000,2096.16*AO510*'CO2 Conversion Factors'!$D$20/0.8/1000)","v":0},{"$f":"IF(O510=\"130\",2014.4*AO510*'CO2 Conversion Factors'!$G$20/0.8/1000,2096.16*AO510*'CO2 Conversion Factors'!$G$20/0.8/1000)","v":0},{"$f":"IF(O510=\"130\",2014.4*AO510*'CO2 Conversion Factors'!$J$20/0.8/1000,2096.16*AO510*'CO2 Conversion Factors'!$J$20/0.8/1000)","v":0},0,0,null,null,null,0,0,0,0,"",false,false,false,false,null,"","",""]
[null,null,null,null,null,null,null,null,null,null,null,null,null,null,null,null,null,null,null,null,null,null,null,null,null,null,null,null,null,null,null,null,null,null,null,null,null,{"$f":"IF(O511=\"130\",2014.4*AO511*'CO2 Conversion Factors'!$D$20/0.8/1000,2096.16*AO511*'CO2 Conversion Factors'!$D$20/0.8/1000)","v":0},{"$f":"IF(O511=\"130\",2014.4*AO511*'CO2 Conversion Factors'!$G$20/0.8/1000,2096.16*AO511*'CO2 Conversion Factors'!$G$20/0.8/1000)","v":0},{"$f":"IF(O511=\"130\",2014.4*AO511*'CO2 Conversion Factors'!$J$20/0.8/1000,2096.16*AO511*'CO2 Conversion Factors'!$J$20/0.8/1000)","v":0},0,0,null,null,null,0,0,0,0,"",false,false,false,false,null,"","",""]
[null,null,null,null,null,null,null,null,null,null,null,null,null,null,null,null,null,null,null,null,null,null,null,null,null,null,null,null,null,null,null,null,null,null,null,null,null,{"$f":"IF(O512=\"130\",2014.4*AO512*'CO2 Conversion Factors'!$D$20/0.8/1000,2096.16*AO512*'CO2 Conversion Factors'!$D$20/0.8/1000)","v":0},{"$f":"IF(O512=\"130\",2014.4*AO512*'CO2 Conversion Factors'!$G$20/0.8/1000,2096.16*AO512*'CO2 Conversion Factors'!$G$20/0.8/1000)","v":0},{"$f":"IF(O512=\"130\",2014.4*AO512*'CO2 Conversion Factors'!$J$20/0.8/1000,2096.16*AO512*'CO2 Conversion Factors'!$J$20/0.8/1000)","v":0},0,0,null,null,null,0,0,0,0,"",false,false,false,false,null,"","",""]
[null,null,null,null,null,null,null,null,null,null,null,null,null,null,null,null,null,null,null,null,null,null,null,null,null,null,null,null,null,null,null,null,null,null,null,null,null,{"$f":"IF(O513=\"130\",2014.4*AO513*'CO2 Conversion Factors'!$D$20/0.8/1000,2096.16*AO513*'CO2 Conversion Factors'!$D$20/0.8/1000)","v":0},{"$f":"IF(O513=\"130\",2014.4*AO513*'CO2 Conversion Factors'!$G$20/0.8/1000,2096.16*AO513*'CO2 Conversion Factors'!$G$20/0.8/1000)","v":0},{"$f":"IF(O513=\"130\",2014.4*AO513*'CO2 Conversion Factors'!$J$20/0.8/1000,2096.16*AO513*'CO2 Conversion Factors'!$J$20/0.8/1000)","v":0},0,0,null,null,null,0,0,0,0,"",false,false,false,false,null,"","",""]
[null,null,null,null,null,null,null,null,null,null,null,null,null,null,null,null,null,null,null,null,null,null,null,null,null,null,null,null,null,null,null,null,null,null,null,null,null,{"$f":"IF(O514=\"130\",2014.4*AO514*'CO2 Conversion Factors'!$D$20/0.8/1000,2096.16*AO514*'CO2 Conversion Factors'!$D$20/0.8/1000)","v":0},{"$f":"IF(O514=\"130\",2014.4*AO514*'CO2 Conversion Factors'!$G$20/0.8/1000,2096.16*AO514*'CO2 Conversion Factors'!$G$20/0.8/1000)","v":0},{"$f":"IF(O514=\"130\",2014.4*AO514*'CO2 Conversion Factors'!$J$20/0.8/1000,2096.16*AO514*'CO2 Conversion Factors'!$J$20/0.8/1000)","v":0},0,0,null,null,null,0,0,0,0,"",false,false,false,false,null,"","",""]
[null,null,null,null,null,null,null,null,null,null,null,null,null,null,null,null,null,null,null,null,null,null,null,null,null,null,null,null,null,null,null,null,null,null,null,null,null,{"$f":"IF(O515=\"130\",2014.4*AO515*'CO2 Conversion Factors'!$D$20/0.8/1000,2096.16*AO515*'CO2 Conversion Factors'!$D$20/0.8/1000)","v":0},{"$f":"IF(O515=\"130\",2014.4*AO515*'CO2 Conversion Factors'!$G$20/0.8/1000,2096.16*AO515*'CO2 Conversion Factors'!$G$20/0.8/1000)","v":0},{"$f":"IF(O515=\"130\",2014.4*AO515*'CO2 Conversion Factors'!$J$20/0.8/1000,2096.16*AO515*'CO2 Conversion Factors'!$J$20/0.8/1000)","v":0},{"$f":"IFERROR(IF(OR(L515=\"BLW\",L515=\"PRI\",L515=\"LNK\"),IF(Cover_Select_SteamCostUnits=\"£/1000kg\",11.6*(VLOOKUP($I515,Abb_Lookup_OrifaceDia,2,FALSE)^2)*SQRT(($O515-$P515)*($O515+$P515)),25.57363*(VLOOKUP($I515,Abb_Lookup_OrifaceDia,2,FALSE)^2)*SQRT(($O515-$P515)*($O515+$P515)))*(VLOOKUP(AE515,Cover_Lookup_OpTime,4,FALSE)/1000),IF(L515=\"LL\",IF(Cover_Select_SteamCostUnits=\"£/1000kg\",11.6*(VLOOKUP($I515,Abb_Lookup_OrifaceDia,2,FALSE)^2)*SQRT(($O515-$P515)*($O515+$P515)),25.57363*(VLOOKUP($I515,Abb_Lookup_OrifaceDia,2,FALSE)^2)*SQRT(($O515-$P515)*($O515+$P515)))*(VLOOKUP(AE515,Cover_Lookup_OpTime,4,FALSE)/2000),IF(L515=\"SL\",IF(Cover_Select_SteamCostUnits=\"£/1000kg\",11.6*(VLOOKUP($I515,Abb_Lookup_OrifaceDia,2,FALSE)^2)*SQRT(($O515-$P515)*($O515+$P515)),25.57363*(VLOOKUP($I515,Abb_Lookup_OrifaceDia,2,FALSE)^2)*SQRT(($O515-$P515)*($O515+$P515)))*(VLOOKUP(AE515,Cover_Lookup_OpTime,4,FALSE)/4000),0))),0)","v":0},0,null,null,null,0,0,0,0,"",false,false,false,false,null,"","",""]
[null,null,null,null,null,null,null,null,null,null,null,null,null,null,null,null,null,null,null,null,null,null,null,null,null,null,null,null,null,null,null,null,null,null,null,null,null,{"$f":"IF(O516=\"130\",2014.4*AO516*'CO2 Conversion Factors'!$D$20/0.8/1000,2096.16*AO516*'CO2 Conversion Factors'!$D$20/0.8/1000)","v":0},{"$f":"IF(O516=\"130\",2014.4*AO516*'CO2 Conversion Factors'!$G$20/0.8/1000,2096.16*AO516*'CO2 Conversion Factors'!$G$20/0.8/1000)","v":0},{"$f":"IF(O516=\"130\",2014.4*AO516*'CO2 Conversion Factors'!$J$20/0.8/1000,2096.16*AO516*'CO2 Conversion Factors'!$J$20/0.8/1000)","v":0},0,0,null,null,null,0,0,0,0,"",false,false,false,false,null,"","",""]
[null,null,null,null,null,null,null,null,null,null,null,null,null,null,null,null,null,null,null,null,null,null,null,null,null,null,null,null,null,null,null,null,null,null,null,null,null,{"$f":"IF(O517=\"130\",2014.4*AO517*'CO2 Conversion Factors'!$D$20/0.8/1000,2096.16*AO517*'CO2 Conversion Factors'!$D$20/0.8/1000)","v":0},{"$f":"IF(O517=\"130\",2014.4*AO517*'CO2 Conversion Factors'!$G$20/0.8/1000,2096.16*AO517*'CO2 Conversion Factors'!$G$20/0.8/1000)","v":0},{"$f":"IF(O517=\"130\",2014.4*AO517*'CO2 Conversion Factors'!$J$20/0.8/1000,2096.16*AO517*'CO2 Conversion Factors'!$J$20/0.8/1000)","v":0},0,0,null,null,null,0,0,0,0,"",{"$f":"IF(L517=\"CLD\", H517)","v":false},{"$f":"IF(L517=\"SL\", H517)","v":false},{"$f":"IF(L517=\"LL\", H517)","v":false},{"$f":"IF(L517=\"BLW\", H517)","v":false},null,"","",""]
[null,null,null,null,null,null,null,null,null,null,null,null,null,null,null,null,null,null,null,null,null,null,null,null,null,null,null,null,null,null,null,null,null,null,null,null,null,{"$f":"IF(O518=\"130\",2014.4*AO518*'CO2 Conversion Factors'!$D$20/0.8/1000,2096.16*AO518*'CO2 Conversion Factors'!$D$20/0.8/1000)","v":0},{"$f":"IF(O518=\"130\",2014.4*AO518*'CO2 Conversion Factors'!$G$20/0.8/1000,2096.16*AO518*'CO2 Conversion Factors'!$G$20/0.8/1000)","v":0},{"$f":"IF(O518=\"130\",2014.4*AO518*'CO2 Conversion Factors'!$J$20/0.8/1000,2096.16*AO518*'CO2 Conversion Factors'!$J$20/0.8/1000)","v":0},0,0,null,null,null,0,0,0,0,"",false,false,false,false,null,"","",""]
[null,null,null,null,null,null,null,null,null,null,null,null,null,null,null,null,null,null,null,null,null,null,null,null,null,null,null,null,null,null,null,null,null,null,null,null,null,{"$f":"IF(O519=\"130\",2014.4*AO519*'CO2 Conversion Factors'!$D$20/0.8/1000,2096.16*AO519*'CO2 Conversion Factors'!$D$20/0.8/1000)","v":0},{"$f":"IF(O519=\"130\",2014.4*AO519*'CO2 Conversion Factors'!$G$20/0.8/1000,2096.16*AO519*'CO2 Conversion Factors'!$G$20/0.8/1000)","v":0},{"$f":"IF(O519=\"130\",2014.4*AO519*'CO2 Conversion Factors'!$J$20/0.8/1000,2096.16*AO519*'CO2 Conversion Factors'!$J$20/0.8/1000)","v":0},0,0,null,null,null,0,0,0,0,"",false,false,false,false,null,"","",""]
[null,null,null,null,null,null,null,null,null,null,null,null,null,null,null,null,null,null,null,null,null,null,null,null,null,null,null,null,null,null,null,null,null,null,null,null,null,{"$f":"IF(O520=\"130\",2014.4*AO520*'CO2 Conversion Factors'!$D$20/0.8/1000,2096.16*AO520*'CO2 Conversion Factors'!$D$20/0.8/1000)","v":0},{"$f":"IF(O520=\"130\",2014.4*AO520*'CO2 Conversion Factors'!$G$20/0.8/1000,2096.16*AO520*'CO2 Conversion Factors'!$G$20/0.8/1000)","v":0},{"$f":"IF(O520=\"130\",2014.4*AO520*'CO2 Conversion Factors'!$J$20/0.8/1000,2096.16*AO520*'CO2 Conversion Factors'!$J$20/0.8/1000)","v":0},0,0,null,null,null,0,0,0,0,"",false,false,false,false,null,"","",""]
[null,null,null,null,null,null,null,null,null,null,null,null,null,null,null,null,null,null,null,null,null,null,null,null,null,null,null,null,null,null,null,null,null,null,null,null,null,{"$f":"IF(O521=\"130\",2014.4*AO521*'CO2 Conversion Factors'!$D$20/0.8/1000,2096.16*AO521*'CO2 Conversion Factors'!$D$20/0.8/1000)","v":0},{"$f":"IF(O521=\"130\",2014.4*AO521*'CO2 Conversion Factors'!$G$20/0.8/1000,2096.16*AO521*'CO2 Conversion Factors'!$G$20/0.8/1000)","v":0},{"$f":"IF(O521=\"130\",2014.4*AO521*'CO2 Conversion Factors'!$J$20/0.8/1000,2096.16*AO521*'CO2 Conversion Factors'!$J$20/0.8/1000)","v":0},0,0,null,null,null,0,0,0,0,"",false,false,false,false,null,"","",""]
[null,null,null,null,null,null,null,null,null,null,null,null,null,null,null,null,null,null,null,null,null,null,null,null,null,null,null,null,null,null,null,null,null,null,null,null,null,{"$f":"IF(O522=\"130\",2014.4*AO522*'CO2 Conversion Factors'!$D$20/0.8/1000,2096.16*AO522*'CO2 Conversion Factors'!$D$20/0.8/1000)","v":0},{"$f":"IF(O522=\"130\",2014.4*AO522*'CO2 Conversion Factors'!$G$20/0.8/1000,2096.16*AO522*'CO2 Conversion Factors'!$G$20/0.8/1000)","v":0},{"$f":"IF(O522=\"130\",2014.4*AO522*'CO2 Conversion Factors'!$J$20/0.8/1000,2096.16*AO522*'CO2 Conversion Factors'!$J$20/0.8/1000)","v":0},0,0,null,null,null,0,0,0,0,"",false,false,false,false,null,"","",""]
[null,null,null,null,null,null,null,null,null,null,null,null,null,null,null,null,null,null,null,null,null,null,null,null,null,null,null,null,null,null,null,null,null,null,null,null,null,{"$f":"IF(O523=\"130\",2014.4*AO523*'CO2 Conversion Factors'!$D$20/0.8/1000,2096.16*AO523*'CO2 Conversion Factors'!$D$20/0.8/1000)","v":0},{"$f":"IF(O523=\"130\",2014.4*AO523*'CO2 Conversion Factors'!$G$20/0.8/1000,2096.16*AO523*'CO2 Conversion Factors'!$G$20/0.8/1000)","v":0},{"$f":"IF(O523=\"130\",2014.4*AO523*'CO2 Conversion Factors'!$J$20/0.8/1000,2096.16*AO523*'CO2 Conversion Factors'!$J$20/0.8/1000)","v":0},0,0,null,null,null,0,0,0,0,"",false,false,false,false,null,"","",""]
[null,null,null,null,null,null,null,null,null,null,null,null,null,null,null,null,null,null,null,null,null,null,null,null,null,null,null,null,null,null,null,null,null,null,null,null,null,{"$f":"IF(O524=\"130\",2014.4*AO524*'CO2 Conversion Factors'!$D$20/0.8/1000,2096.16*AO524*'CO2 Conversion Factors'!$D$20/0.8/1000)","v":0},{"$f":"IF(O524=\"130\",2014.4*AO524*'CO2 Conversion Factors'!$G$20/0.8/1000,2096.16*AO524*'CO2 Conversion Factors'!$G$20/0.8/1000)","v":0},{"$f":"IF(O524=\"130\",2014.4*AO524*'CO2 Conversion Factors'!$J$20/0.8/1000,2096.16*AO524*'CO2 Conversion Factors'!$J$20/0.8/1000)","v":0},0,0,null,null,null,0,0,0,0,"",false,false,false,false,null,"","",""]
[null,null,null,null,null,null,null,null,null,null,null,null,null,null,null,null,null,null,null,null,null,null,null,null,null,null,null,null,null,null,null,null,null,null,null,null,null,{"$f":"IF(O525=\"130\",2014.4*AO525*'CO2 Conversion Factors'!$D$20/0.8/1000,2096.16*AO525*'CO2 Conversion Factors'!$D$20/0.8/1000)","v":0},{"$f":"IF(O525=\"130\",2014.4*AO525*'CO2 Conversion Factors'!$G$20/0.8/1000,2096.16*AO525*'CO2 Conversion Factors'!$G$20/0.8/1000)","v":0},{"$f":"IF(O525=\"130\",2014.4*AO525*'CO2 Conversion Factors'!$J$20/0.8/1000,2096.16*AO525*'CO2 Conversion Factors'!$J$20/0.8/1000)","v":0},0,0,null,null,null,0,0,0,0,"",false,false,false,false,null,"","",""]
[null,null,null,null,null,null,null,null,null,null,null,null,null,null,null,null,null,null,null,null,null,null,null,null,null,null,null,null,null,null,null,null,null,null,null,null,null,{"$f":"IF(O526=\"130\",2014.4*AO526*'CO2 Conversion Factors'!$D$20/0.8/1000,2096.16*AO526*'CO2 Conversion Factors'!$D$20/0.8/1000)","v":0},{"$f":"IF(O526=\"130\",2014.4*AO526*'CO2 Conversion Factors'!$G$20/0.8/1000,2096.16*AO526*'CO2 Conversion Factors'!$G$20/0.8/1000)","v":0},{"$f":"IF(O526=\"130\",2014.4*AO526*'CO2 Conversion Factors'!$J$20/0.8/1000,2096.16*AO526*'CO2 Conversion Factors'!$J$20/0.8/1000)","v":0},0,0,null,null,null,0,0,0,0,"",false,false,false,false,null,"","",""]
[null,null,null,null,null,null,null,null,null,null,null,null,null,null,null,null,null,null,null,null,null,null,null,null,null,null,null,null,null,null,null,null,null,null,null,null,null,{"$f":"IF(O527=\"130\",2014.4*AO527*'CO2 Conversion Factors'!$D$20/0.8/1000,2096.16*AO527*'CO2 Conversion Factors'!$D$20/0.8/1000)","v":0},{"$f":"IF(O527=\"130\",2014.4*AO527*'CO2 Conversion Factors'!$G$20/0.8/1000,2096.16*AO527*'CO2 Conversion Factors'!$G$20/0.8/1000)","v":0},{"$f":"IF(O527=\"130\",2014.4*AO527*'CO2 Conversion Factors'!$J$20/0.8/1000,2096.16*AO527*'CO2 Conversion Factors'!$J$20/0.8/1000)","v":0},0,0,null,null,null,0,0,0,0,"",false,false,false,false,null,"","",""]
[null,null,null,null,null,null,null,null,null,null,null,null,null,null,null,null,null,null,null,null,null,null,null,null,null,null,null,null,null,null,null,null,null,null,null,null,null,{"$f":"IF(O528=\"130\",2014.4*AO528*'CO2 Conversion Factors'!$D$20/0.8/1000,2096.16*AO528*'CO2 Conversion Factors'!$D$20/0.8/1000)","v":0},{"$f":"IF(O528=\"130\",2014.4*AO528*'CO2 Conversion Factors'!$G$20/0.8/1000,2096.16*AO528*'CO2 Conversion Factors'!$G$20/0.8/1000)","v":0},{"$f":"IF(O528=\"130\",2014.4*AO528*'CO2 Conversion Factors'!$J$20/0.8/1000,2096.16*AO528*'CO2 Conversion Factors'!$J$20/0.8/1000)","v":0},0,0,null,null,null,0,0,0,0,"",false,false,false,false,null,"","",""]
[null,null,null,null,null,null,null,null,null,null,null,null,null,null,null,null,null,null,null,null,null,null,null,null,null,null,null,null,null,null,null,null,null,null,null,null,null,{"$f":"IF(O529=\"130\",2014.4*AO529*'CO2 Conversion Factors'!$D$20/0.8/1000,2096.16*AO529*'CO2 Conversion Factors'!$D$20/0.8/1000)","v":0},{"$f":"IF(O529=\"130\",2014.4*AO529*'CO2 Conversion Factors'!$G$20/0.8/1000,2096.16*AO529*'CO2 Conversion Factors'!$G$20/0.8/1000)","v":0},{"$f":"IF(O529=\"130\",2014.4*AO529*'CO2 Conversion Factors'!$J$20/0.8/1000,2096.16*AO529*'CO2 Conversion Factors'!$J$20/0.8/1000)","v":0},0,0,null,null,null,0,0,0,0,"",false,false,false,false,null,"","",""]
[null,null,null,null,null,null,null,null,null,null,null,null,null,null,null,null,null,null,null,null,null,null,null,null,null,null,null,null,null,null,null,null,null,null,null,null,null,{"$f":"IF(O530=\"130\",2014.4*AO530*'CO2 Conversion Factors'!$D$20/0.8/1000,2096.16*AO530*'CO2 Conversion Factors'!$D$20/0.8/1000)","v":0},{"$f":"IF(O530=\"130\",2014.4*AO530*'CO2 Conversion Factors'!$G$20/0.8/1000,2096.16*AO530*'CO2 Conversion Factors'!$G$20/0.8/1000)","v":0},{"$f":"IF(O530=\"130\",2014.4*AO530*'CO2 Conversion Factors'!$J$20/0.8/1000,2096.16*AO530*'CO2 Conversion Factors'!$J$20/0.8/1000)","v":0},0,0,null,null,null,0,0,0,0,"",false,false,false,false,null,"","",""]
[null,null,null,null,null,null,null,null,null,null,null,null,null,null,null,null,null,null,null,null,null,null,null,null,null,null,null,null,null,null,null,null,null,null,null,null,null,{"$f":"IF(O531=\"130\",2014.4*AO531*'CO2 Conversion Factors'!$D$20/0.8/1000,2096.16*AO531*'CO2 Conversion Factors'!$D$20/0.8/1000)","v":0},{"$f":"IF(O531=\"130\",2014.4*AO531*'CO2 Conversion Factors'!$G$20/0.8/1000,2096.16*AO531*'CO2 Conversion Factors'!$G$20/0.8/1000)","v":0},{"$f":"IF(O531=\"130\",2014.4*AO531*'CO2 Conversion Factors'!$J$20/0.8/1000,2096.16*AO531*'CO2 Conversion Factors'!$J$20/0.8/1000)","v":0},0,0,null,null,null,0,0,0,0,"",false,false,false,false,null,"","",""]
[null,null,null,null,null,null,null,null,null,null,null,null,null,null,null,null,null,null,null,null,null,null,null,null,null,null,null,null,null,null,null,null,null,null,null,null,null,{"$f":"IF(O532=\"130\",2014.4*AO532*'CO2 Conversion Factors'!$D$20/0.8/1000,2096.16*AO532*'CO2 Conversion Factors'!$D$20/0.8/1000)","v":0},{"$f":"IF(O532=\"130\",2014.4*AO532*'CO2 Conversion Factors'!$G$20/0.8/1000,2096.16*AO532*'CO2 Conversion Factors'!$G$20/0.8/1000)","v":0},{"$f":"IF(O532=\"130\",2014.4*AO532*'CO2 Conversion Factors'!$J$20/0.8/1000,2096.16*AO532*'CO2 Conversion Factors'!$J$20/0.8/1000)","v":0},0,0,null,null,null,0,0,0,0,"",false,false,false,false,null,"","",""]
[null,null,null,null,null,null,null,null,null,null,null,null,null,null,null,null,null,null,null,null,null,null,null,null,null,null,null,null,null,null,null,null,null,null,null,null,null,{"$f":"IF(O533=\"130\",2014.4*AO533*'CO2 Conversion Factors'!$D$20/0.8/1000,2096.16*AO533*'CO2 Conversion Factors'!$D$20/0.8/1000)","v":0},{"$f":"IF(O533=\"130\",2014.4*AO533*'CO2 Conversion Factors'!$G$20/0.8/1000,2096.16*AO533*'CO2 Conversion Factors'!$G$20/0.8/1000)","v":0},{"$f":"IF(O533=\"130\",2014.4*AO533*'CO2 Conversion Factors'!$J$20/0.8/1000,2096.16*AO533*'CO2 Conversion Factors'!$J$20/0.8/1000)","v":0},0,0,null,null,null,0,0,0,0,"",false,false,false,false,null,"","",""]
[null,null,null,null,null,null,null,null,null,null,null,null,null,null,null,null,null,null,null,null,null,null,null,null,null,null,null,null,null,null,null,null,null,null,null,null,null,{"$f":"IF(O534=\"130\",2014.4*AO534*'CO2 Conversion Factors'!$D$20/0.8/1000,2096.16*AO534*'CO2 Conversion Factors'!$D$20/0.8/1000)","v":0},{"$f":"IF(O534=\"130\",2014.4*AO534*'CO2 Conversion Factors'!$G$20/0.8/1000,2096.16*AO534*'CO2 Conversion Factors'!$G$20/0.8/1000)","v":0},{"$f":"IF(O534=\"130\",2014.4*AO534*'CO2 Conversion Factors'!$J$20/0.8/1000,2096.16*AO534*'CO2 Conversion Factors'!$J$20/0.8/1000)","v":0},0,0,null,null,null,0,0,0,0,"",false,false,false,false,null,"","",""]
[null,null,null,null,null,null,null,null,null,null,null,null,null,null,null,null,null,null,null,null,null,null,null,null,null,null,null,null,null,null,null,null,null,null,null,null,null,{"$f":"IF(O535=\"130\",2014.4*AO535*'CO2 Conversion Factors'!$D$20/0.8/1000,2096.16*AO535*'CO2 Conversion Factors'!$D$20/0.8/1000)","v":0},{"$f":"IF(O535=\"130\",2014.4*AO535*'CO2 Conversion Factors'!$G$20/0.8/1000,2096.16*AO535*'CO2 Conversion Factors'!$G$20/0.8/1000)","v":0},{"$f":"IF(O535=\"130\",2014.4*AO535*'CO2 Conversion Factors'!$J$20/0.8/1000,2096.16*AO535*'CO2 Conversion Factors'!$J$20/0.8/1000)","v":0},0,0,null,null,null,0,0,0,0,"",false,false,false,false,null,"","",""]
[null,null,null,null,null,null,null,null,null,null,null,null,null,null,null,null,null,null,null,null,null,null,null,null,null,null,null,null,null,null,null,null,null,null,null,null,null,{"$f":"IF(O536=\"130\",2014.4*AO536*'CO2 Conversion Factors'!$D$20/0.8/1000,2096.16*AO536*'CO2 Conversion Factors'!$D$20/0.8/1000)","v":0},{"$f":"IF(O536=\"130\",2014.4*AO536*'CO2 Conversion Factors'!$G$20/0.8/1000,2096.16*AO536*'CO2 Conversion Factors'!$G$20/0.8/1000)","v":0},{"$f":"IF(O536=\"130\",2014.4*AO536*'CO2 Conversion Factors'!$J$20/0.8/1000,2096.16*AO536*'CO2 Conversion Factors'!$J$20/0.8/1000)","v":0},0,{"$f":"IFERROR(AO536*Cover_Select_SteamCost,0)","v":0},null,null,null,{"$f":"IF(NOT(OR(L536=\"NIS\",L536=\"OFF\")),F536)","v":0},{"$f":"IF(NOT(OR(L536=\"NIS\",L536=\"OFF\",L536=\"PO\")),F536)","v":0},{"$f":"IF(NOT(OR(L536=\"NIS\",L536=\"OFF\")),H536)","v":0},{"$f":"IF(NOT(OR(L536=\"NIS\",L536=\"OFF\",L536=\"PO\")),H536)","v":0},{"$f":"F536&H536","v":""},false,false,false,false,null,"","",""]
[null,null,null,null,null,null,null,null,null,null,null,null,null,null,null,null,null,null,null,null,null,null,null,null,null,null,null,null,null,null,null,null,null,null,null,null,null,{"$f":"IF(O537=\"130\",2014.4*AO537*'CO2 Conversion Factors'!$D$20/0.8/1000,2096.16*AO537*'CO2 Conversion Factors'!$D$20/0.8/1000)","v":0},{"$f":"IF(O537=\"130\",2014.4*AO537*'CO2 Conversion Factors'!$G$20/0.8/1000,2096.16*AO537*'CO2 Conversion Factors'!$G$20/0.8/1000)","v":0},{"$f":"IF(O537=\"130\",2014.4*AO537*'CO2 Conversion Factors'!$J$20/0.8/1000,2096.16*AO537*'CO2 Conversion Factors'!$J$20/0.8/1000)","v":0},0,0,null,null,null,0,0,0,0,"",false,false,false,false,null,"","",""]
[null,null,null,null,null,null,null,null,null,null,null,null,null,null,null,null,null,null,null,null,null,null,null,null,null,null,null,null,null,null,null,null,null,null,null,null,null,{"$f":"IF(O538=\"130\",2014.4*AO538*'CO2 Conversion Factors'!$D$20/0.8/1000,2096.16*AO538*'CO2 Conversion Factors'!$D$20/0.8/1000)","v":0},{"$f":"IF(O538=\"130\",2014.4*AO538*'CO2 Conversion Factors'!$G$20/0.8/1000,2096.16*AO538*'CO2 Conversion Factors'!$G$20/0.8/1000)","v":0},{"$f":"IF(O538=\"130\",2014.4*AO538*'CO2 Conversion Factors'!$J$20/0.8/1000,2096.16*AO538*'CO2 Conversion Factors'!$J$20/0.8/1000)","v":0},0,0,null,null,null,0,0,0,0,"",false,false,false,false,null,"","",""]
[null,null,null,null,null,null,null,null,null,null,null,null,null,null,null,null,null,null,null,null,null,null,null,null,null,null,null,null,null,null,null,null,null,null,null,null,null,{"$f":"IF(O539=\"130\",2014.4*AO539*'CO2 Conversion Factors'!$D$20/0.8/1000,2096.16*AO539*'CO2 Conversion Factors'!$D$20/0.8/1000)","v":0},{"$f":"IF(O539=\"130\",2014.4*AO539*'CO2 Conversion Factors'!$G$20/0.8/1000,2096.16*AO539*'CO2 Conversion Factors'!$G$20/0.8/1000)","v":0},{"$f":"IF(O539=\"130\",2014.4*AO539*'CO2 Conversion Factors'!$J$20/0.8/1000,2096.16*AO539*'CO2 Conversion Factors'!$J$20/0.8/1000)","v":0},0,0,null,null,null,0,0,0,0,"",false,false,false,false,null,"","",""]
[null,null,null,null,null,null,null,null,null,null,null,null,null,null,null,null,null,null,null,null,null,null,null,null,null,null,null,null,null,null,null,null,null,null,null,null,null,{"$f":"IF(O540=\"130\",2014.4*AO540*'CO2 Conversion Factors'!$D$20/0.8/1000,2096.16*AO540*'CO2 Conversion Factors'!$D$20/0.8/1000)","v":0},{"$f":"IF(O540=\"130\",2014.4*AO540*'CO2 Conversion Factors'!$G$20/0.8/1000,2096.16*AO540*'CO2 Conversion Factors'!$G$20/0.8/1000)","v":0},{"$f":"IF(O540=\"130\",2014.4*AO540*'CO2 Conversion Factors'!$J$20/0.8/1000,2096.16*AO540*'CO2 Conversion Factors'!$J$20/0.8/1000)","v":0},0,0,null,null,null,0,0,0,0,"",false,false,false,false,null,"","",""]
[null,null,null,null,null,null,null,null,null,null,null,null,null,null,null,null,null,null,null,null,null,null,null,null,null,null,null,null,null,null,null,null,null,null,null,null,null,{"$f":"IF(O541=\"130\",2014.4*AO541*'CO2 Conversion Factors'!$D$20/0.8/1000,2096.16*AO541*'CO2 Conversion Factors'!$D$20/0.8/1000)","v":0},{"$f":"IF(O541=\"130\",2014.4*AO541*'CO2 Conversion Factors'!$G$20/0.8/1000,2096.16*AO541*'CO2 Conversion Factors'!$G$20/0.8/1000)","v":0},{"$f":"IF(O541=\"130\",2014.4*AO541*'CO2 Conversion Factors'!$J$20/0.8/1000,2096.16*AO541*'CO2 Conversion Factors'!$J$20/0.8/1000)","v":0},0,0,null,null,null,0,0,0,0,"",false,false,false,false,null,"","",""]
[null,null,null,null,null,null,null,null,null,null,null,null,null,null,null,null,null,null,null,null,null,null,null,null,null,null,null,null,null,null,null,null,null,null,null,null,null,{"$f":"IF(O542=\"130\",2014.4*AO542*'CO2 Conversion Factors'!$D$20/0.8/1000,2096.16*AO542*'CO2 Conversion Factors'!$D$20/0.8/1000)","v":0},{"$f":"IF(O542=\"130\",2014.4*AO542*'CO2 Conversion Factors'!$G$20/0.8/1000,2096.16*AO542*'CO2 Conversion Factors'!$G$20/0.8/1000)","v":0},{"$f":"IF(O542=\"130\",2014.4*AO542*'CO2 Conversion Factors'!$J$20/0.8/1000,2096.16*AO542*'CO2 Conversion Factors'!$J$20/0.8/1000)","v":0},0,0,null,null,null,0,0,0,0,"",false,false,false,false,null,"","",""]
[null,null,null,null,null,null,null,null,null,null,null,null,null,null,null,null,null,null,null,null,null,null,null,null,null,null,null,null,null,null,null,null,null,null,null,null,null,{"$f":"IF(O543=\"130\",2014.4*AO543*'CO2 Conversion Factors'!$D$20/0.8/1000,2096.16*AO543*'CO2 Conversion Factors'!$D$20/0.8/1000)","v":0},{"$f":"IF(O543=\"130\",2014.4*AO543*'CO2 Conversion Factors'!$G$20/0.8/1000,2096.16*AO543*'CO2 Conversion Factors'!$G$20/0.8/1000)","v":0},{"$f":"IF(O543=\"130\",2014.4*AO543*'CO2 Conversion Factors'!$J$20/0.8/1000,2096.16*AO543*'CO2 Conversion Factors'!$J$20/0.8/1000)","v":0},0,0,null,null,null,0,0,0,0,"",false,false,false,false,null,"","",""]
[null,null,null,null,null,null,null,null,null,null,null,null,null,null,null,null,null,null,null,null,null,null,null,null,null,null,null,null,null,null,null,null,null,null,null,null,null,{"$f":"IF(O544=\"130\",2014.4*AO544*'CO2 Conversion Factors'!$D$20/0.8/1000,2096.16*AO544*'CO2 Conversion Factors'!$D$20/0.8/1000)","v":0},{"$f":"IF(O544=\"130\",2014.4*AO544*'CO2 Conversion Factors'!$G$20/0.8/1000,2096.16*AO544*'CO2 Conversion Factors'!$G$20/0.8/1000)","v":0},{"$f":"IF(O544=\"130\",2014.4*AO544*'CO2 Conversion Factors'!$J$20/0.8/1000,2096.16*AO544*'CO2 Conversion Factors'!$J$20/0.8/1000)","v":0},0,0,null,null,null,0,0,0,0,"",false,false,false,false,null,"","",""]
[null,null,null,null,null,null,null,null,null,null,null,null,null,null,null,null,null,null,null,null,null,null,null,null,null,null,null,null,null,null,null,null,null,null,null,null,null,{"$f":"IF(O545=\"130\",2014.4*AO545*'CO2 Conversion Factors'!$D$20/0.8/1000,2096.16*AO545*'CO2 Conversion Factors'!$D$20/0.8/1000)","v":0},{"$f":"IF(O545=\"130\",2014.4*AO545*'CO2 Conversion Factors'!$G$20/0.8/1000,2096.16*AO545*'CO2 Conversion Factors'!$G$20/0.8/1000)","v":0},{"$f":"IF(O545=\"130\",2014.4*AO545*'CO2 Conversion Factors'!$J$20/0.8/1000,2096.16*AO545*'CO2 Conversion Factors'!$J$20/0.8/1000)","v":0},0,0,null,null,null,0,0,0,0,"",false,false,false,false,null,"","",""]
[null,null,null,null,null,null,null,null,null,null,null,null,null,null,null,null,null,null,null,null,null,null,null,null,null,null,null,null,null,null,null,null,null,null,null,null,null,{"$f":"IF(O546=\"130\",2014.4*AO546*'CO2 Conversion Factors'!$D$20/0.8/1000,2096.16*AO546*'CO2 Conversion Factors'!$D$20/0.8/1000)","v":0},{"$f":"IF(O546=\"130\",2014.4*AO546*'CO2 Conversion Factors'!$G$20/0.8/1000,2096.16*AO546*'CO2 Conversion Factors'!$G$20/0.8/1000)","v":0},{"$f":"IF(O546=\"130\",2014.4*AO546*'CO2 Conversion Factors'!$J$20/0.8/1000,2096.16*AO546*'CO2 Conversion Factors'!$J$20/0.8/1000)","v":0},0,0,null,null,null,0,0,0,0,"",false,false,false,false,null,"","",""]
[null,null,null,null,null,null,null,null,null,null,null,null,null,null,null,null,null,null,null,null,null,null,null,null,null,null,null,null,null,null,null,null,null,null,null,null,null,{"$f":"IF(O547=\"130\",2014.4*AO547*'CO2 Conversion Factors'!$D$20/0.8/1000,2096.16*AO547*'CO2 Conversion Factors'!$D$20/0.8/1000)","v":0},{"$f":"IF(O547=\"130\",2014.4*AO547*'CO2 Conversion Factors'!$G$20/0.8/1000,2096.16*AO547*'CO2 Conversion Factors'!$G$20/0.8/1000)","v":0},{"$f":"IF(O547=\"130\",2014.4*AO547*'CO2 Conversion Factors'!$J$20/0.8/1000,2096.16*AO547*'CO2 Conversion Factors'!$J$20/0.8/1000)","v":0},0,0,null,null,null,0,0,0,0,"",false,false,false,false,null,"","",""]
[null,null,null,null,null,null,null,null,null,null,null,null,null,null,null,null,null,null,null,null,null,null,null,null,null,null,null,null,null,null,null,null,null,null,null,null,null,{"$f":"IF(O548=\"130\",2014.4*AO548*'CO2 Conversion Factors'!$D$20/0.8/1000,2096.16*AO548*'CO2 Conversion Factors'!$D$20/0.8/1000)","v":0},{"$f":"IF(O548=\"130\",2014.4*AO548*'CO2 Conversion Factors'!$G$20/0.8/1000,2096.16*AO548*'CO2 Conversion Factors'!$G$20/0.8/1000)","v":0},{"$f":"IF(O548=\"130\",2014.4*AO548*'CO2 Conversion Factors'!$J$20/0.8/1000,2096.16*AO548*'CO2 Conversion Factors'!$J$20/0.8/1000)","v":0},0,0,null,null,null,0,0,0,0,"",false,false,false,false,null,"","",""]
[null,null,null,null,null,null,null,null,null,null,null,null,null,null,null,null,null,null,null,null,null,null,null,null,null,null,null,null,null,null,null,null,null,null,null,null,null,{"$f":"IF(O549=\"130\",2014.4*AO549*'CO2 Conversion Factors'!$D$20/0.8/1000,2096.16*AO549*'CO2 Conversion Factors'!$D$20/0.8/1000)","v":0},{"$f":"IF(O549=\"130\",2014.4*AO549*'CO2 Conversion Factors'!$G$20/0.8/1000,2096.16*AO549*'CO2 Conversion Factors'!$G$20/0.8/1000)","v":0},{"$f":"IF(O549=\"130\",2014.4*AO549*'CO2 Conversion Factors'!$J$20/0.8/1000,2096.16*AO549*'CO2 Conversion Factors'!$J$20/0.8/1000)","v":0},0,0,null,null,null,0,0,0,0,"",false,false,false,false,null,"","",""]
[null,null,null,null,null,null,null,null,null,null,null,null,null,null,null,null,null,null,null,null,null,null,null,null,null,null,null,null,null,null,null,null,null,null,null,null,null,{"$f":"IF(O550=\"130\",2014.4*AO550*'CO2 Conversion Factors'!$D$20/0.8/1000,2096.16*AO550*'CO2 Conversion Factors'!$D$20/0.8/1000)","v":0},{"$f":"IF(O550=\"130\",2014.4*AO550*'CO2 Conversion Factors'!$G$20/0.8/1000,2096.16*AO550*'CO2 Conversion Factors'!$G$20/0.8/1000)","v":0},{"$f":"IF(O550=\"130\",2014.4*AO550*'CO2 Conversion Factors'!$J$20/0.8/1000,2096.16*AO550*'CO2 Conversion Factors'!$J$20/0.8/1000)","v":0},0,0,null,null,null,0,0,0,0,"",false,false,false,false,null,"","",""]
[null,null,null,null,null,null,null,null,null,null,null,null,null,null,null,null,null,null,null,null,null,null,null,null,null,null,null,null,null,null,null,null,null,null,null,null,null,{"$f":"IF(O551=\"130\",2014.4*AO551*'CO2 Conversion Factors'!$D$20/0.8/1000,2096.16*AO551*'CO2 Conversion Factors'!$D$20/0.8/1000)","v":0},{"$f":"IF(O551=\"130\",2014.4*AO551*'CO2 Conversion Factors'!$G$20/0.8/1000,2096.16*AO551*'CO2 Conversion Factors'!$G$20/0.8/1000)","v":0},{"$f":"IF(O551=\"130\",2014.4*AO551*'CO2 Conversion Factors'!$J$20/0.8/1000,2096.16*AO551*'CO2 Conversion Factors'!$J$20/0.8/1000)","v":0},0,0,null,null,null,0,0,0,0,"",false,false,false,false,null,"","",""]
[null,null,null,null,null,null,null,null,null,null,null,null,null,null,null,null,null,null,null,null,null,null,null,null,null,null,null,null,null,null,null,null,null,null,null,null,null,{"$f":"IF(O552=\"130\",2014.4*AO552*'CO2 Conversion Factors'!$D$20/0.8/1000,2096.16*AO552*'CO2 Conversion Factors'!$D$20/0.8/1000)","v":0},{"$f":"IF(O552=\"130\",2014.4*AO552*'CO2 Conversion Factors'!$G$20/0.8/1000,2096.16*AO552*'CO2 Conversion Factors'!$G$20/0.8/1000)","v":0},{"$f":"IF(O552=\"130\",2014.4*AO552*'CO2 Conversion Factors'!$J$20/0.8/1000,2096.16*AO552*'CO2 Conversion Factors'!$J$20/0.8/1000)","v":0},0,0,null,null,null,0,0,0,0,"",false,false,false,false,null,"","",""]
[null,null,null,null,null,null,null,null,null,null,null,null,null,null,null,null,null,null,null,null,null,null,null,null,null,null,null,null,null,null,null,null,null,null,null,null,null,{"$f":"IF(O553=\"130\",2014.4*AO553*'CO2 Conversion Factors'!$D$20/0.8/1000,2096.16*AO553*'CO2 Conversion Factors'!$D$20/0.8/1000)","v":0},{"$f":"IF(O553=\"130\",2014.4*AO553*'CO2 Conversion Factors'!$G$20/0.8/1000,2096.16*AO553*'CO2 Conversion Factors'!$G$20/0.8/1000)","v":0},{"$f":"IF(O553=\"130\",2014.4*AO553*'CO2 Conversion Factors'!$J$20/0.8/1000,2096.16*AO553*'CO2 Conversion Factors'!$J$20/0.8/1000)","v":0},0,0,null,null,null,0,0,0,0,"",false,false,false,false,null,"","",""]
[null,null,null,null,null,null,null,null,null,null,null,null,null,null,null,null,null,null,null,null,null,null,null,null,null,null,null,null,null,null,null,null,null,null,null,null,null,{"$f":"IF(O554=\"130\",2014.4*AO554*'CO2 Conversion Factors'!$D$20/0.8/1000,2096.16*AO554*'CO2 Conversion Factors'!$D$20/0.8/1000)","v":0},{"$f":"IF(O554=\"130\",2014.4*AO554*'CO2 Conversion Factors'!$G$20/0.8/1000,2096.16*AO554*'CO2 Conversion Factors'!$G$20/0.8/1000)","v":0},{"$f":"IF(O554=\"130\",2014.4*AO554*'CO2 Conversion Factors'!$J$20/0.8/1000,2096.16*AO554*'CO2 Conversion Factors'!$J$20/0.8/1000)","v":0},0,0,null,null,null,0,0,0,0,"",false,false,false,false,null,"","",""]
[null,null,null,null,null,null,null,null,null,null,null,null,null,null,null,null,null,null,null,null,null,null,null,null,null,null,null,null,null,null,null,null,null,null,null,null,null,{"$f":"IF(O555=\"130\",2014.4*AO555*'CO2 Conversion Factors'!$D$20/0.8/1000,2096.16*AO555*'CO2 Conversion Factors'!$D$20/0.8/1000)","v":0},{"$f":"IF(O555=\"130\",2014.4*AO555*'CO2 Conversion Factors'!$G$20/0.8/1000,2096.16*AO555*'CO2 Conversion Factors'!$G$20/0.8/1000)","v":0},{"$f":"IF(O555=\"130\",2014.4*AO555*'CO2 Conversion Factors'!$J$20/0.8/1000,2096.16*AO555*'CO2 Conversion Factors'!$J$20/0.8/1000)","v":0},0,0,null,null,null,0,0,0,0,"",false,false,false,false,null,"","",""]
[null,null,null,null,null,null,null,null,null,null,null,null,null,null,null,null,null,null,null,null,null,null,null,null,null,null,null,null,null,null,null,null,null,null,null,null,null,{"$f":"IF(O556=\"130\",2014.4*AO556*'CO2 Conversion Factors'!$D$20/0.8/1000,2096.16*AO556*'CO2 Conversion Factors'!$D$20/0.8/1000)","v":0},{"$f":"IF(O556=\"130\",2014.4*AO556*'CO2 Conversion Factors'!$G$20/0.8/1000,2096.16*AO556*'CO2 Conversion Factors'!$G$20/0.8/1000)","v":0},{"$f":"IF(O556=\"130\",2014.4*AO556*'CO2 Conversion Factors'!$J$20/0.8/1000,2096.16*AO556*'CO2 Conversion Factors'!$J$20/0.8/1000)","v":0},0,0,null,null,null,0,0,0,0,"",false,false,false,false,null,"","",""]
[null,null,null,null,null,null,null,null,null,null,null,null,null,null,null,null,null,null,null,null,null,null,null,null,null,null,null,null,null,null,null,null,null,null,null,null,null,{"$f":"IF(O557=\"130\",2014.4*AO557*'CO2 Conversion Factors'!$D$20/0.8/1000,2096.16*AO557*'CO2 Conversion Factors'!$D$20/0.8/1000)","v":0},{"$f":"IF(O557=\"130\",2014.4*AO557*'CO2 Conversion Factors'!$G$20/0.8/1000,2096.16*AO557*'CO2 Conversion Factors'!$G$20/0.8/1000)","v":0},{"$f":"IF(O557=\"130\",2014.4*AO557*'CO2 Conversion Factors'!$J$20/0.8/1000,2096.16*AO557*'CO2 Conversion Factors'!$J$20/0.8/1000)","v":0},0,0,null,null,null,0,0,0,0,"",false,false,false,false,null,"","",""]
[null,null,null,null,null,null,null,null,null,null,null,null,null,null,null,null,null,null,null,null,null,null,null,null,null,null,null,null,null,null,null,null,null,null,null,null,null,{"$f":"IF(O558=\"130\",2014.4*AO558*'CO2 Conversion Factors'!$D$20/0.8/1000,2096.16*AO558*'CO2 Conversion Factors'!$D$20/0.8/1000)","v":0},{"$f":"IF(O558=\"130\",2014.4*AO558*'CO2 Conversion Factors'!$G$20/0.8/1000,2096.16*AO558*'CO2 Conversion Factors'!$G$20/0.8/1000)","v":0},{"$f":"IF(O558=\"130\",2014.4*AO558*'CO2 Conversion Factors'!$J$20/0.8/1000,2096.16*AO558*'CO2 Conversion Factors'!$J$20/0.8/1000)","v":0},0,0,null,null,null,0,0,0,0,"",false,false,false,false,null,"","",""]
[null,null,null,null,null,null,null,null,null,null,null,null,null,null,null,null,null,null,null,null,null,null,null,null,null,null,null,null,null,null,null,null,null,null,null,null,null,{"$f":"IF(O559=\"130\",2014.4*AO559*'CO2 Conversion Factors'!$D$20/0.8/1000,2096.16*AO559*'CO2 Conversion Factors'!$D$20/0.8/1000)","v":0},{"$f":"IF(O559=\"130\",2014.4*AO559*'CO2 Conversion Factors'!$G$20/0.8/1000,2096.16*AO559*'CO2 Conversion Factors'!$G$20/0.8/1000)","v":0},{"$f":"IF(O559=\"130\",2014.4*AO559*'CO2 Conversion Factors'!$J$20/0.8/1000,2096.16*AO559*'CO2 Conversion Factors'!$J$20/0.8/1000)","v":0},0,0,null,null,null,0,0,0,0,"",false,false,false,false,null,"","",""]
[null,null,null,null,null,null,null,null,null,null,null,null,null,null,null,null,null,null,null,null,null,null,null,null,null,null,null,null,null,null,null,null,null,null,null,null,null,{"$f":"IF(O560=\"130\",2014.4*AO560*'CO2 Conversion Factors'!$D$20/0.8/1000,2096.16*AO560*'CO2 Conversion Factors'!$D$20/0.8/1000)","v":0},{"$f":"IF(O560=\"130\",2014.4*AO560*'CO2 Conversion Factors'!$G$20/0.8/1000,2096.16*AO560*'CO2 Conversion Factors'!$G$20/0.8/1000)","v":0},{"$f":"IF(O560=\"130\",2014.4*AO560*'CO2 Conversion Factors'!$J$20/0.8/1000,2096.16*AO560*'CO2 Conversion Factors'!$J$20/0.8/1000)","v":0},0,0,null,null,null,0,0,0,0,"",false,false,false,false,null,"","",""]
[null,null,null,null,null,null,null,null,null,null,null,null,null,null,null,null,null,null,null,null,null,null,null,null,null,null,null,null,null,null,null,null,null,null,null,null,null,{"$f":"IF(O561=\"130\",2014.4*AO561*'CO2 Conversion Factors'!$D$20/0.8/1000,2096.16*AO561*'CO2 Conversion Factors'!$D$20/0.8/1000)","v":0},{"$f":"IF(O561=\"130\",2014.4*AO561*'CO2 Conversion Factors'!$G$20/0.8/1000,2096.16*AO561*'CO2 Conversion Factors'!$G$20/0.8/1000)","v":0},{"$f":"IF(O561=\"130\",2014.4*AO561*'CO2 Conversion Factors'!$J$20/0.8/1000,2096.16*AO561*'CO2 Conversion Factors'!$J$20/0.8/1000)","v":0},0,0,null,null,null,0,0,0,0,"",false,false,false,false,null,"","",""]
[null,null,null,null,null,null,null,null,null,null,null,null,null,null,null,null,null,null,null,null,null,null,null,null,null,null,null,null,null,null,null,null,null,null,null,null,null,{"$f":"IF(O562=\"130\",2014.4*AO562*'CO2 Conversion Factors'!$D$20/0.8/1000,2096.16*AO562*'CO2 Conversion Factors'!$D$20/0.8/1000)","v":0},{"$f":"IF(O562=\"130\",2014.4*AO562*'CO2 Conversion Factors'!$G$20/0.8/1000,2096.16*AO562*'CO2 Conversion Factors'!$G$20/0.8/1000)","v":0},{"$f":"IF(O562=\"130\",2014.4*AO562*'CO2 Conversion Factors'!$J$20/0.8/1000,2096.16*AO562*'CO2 Conversion Factors'!$J$20/0.8/1000)","v":0},0,0,null,null,null,0,0,0,0,"",false,false,false,false,null,"","",""]
[null,null,null,null,null,null,null,null,null,null,null,null,null,null,null,null,null,null,null,null,null,null,null,null,null,null,null,null,null,null,null,null,null,null,null,null,null,{"$f":"IF(O563=\"130\",2014.4*AO563*'CO2 Conversion Factors'!$D$20/0.8/1000,2096.16*AO563*'CO2 Conversion Factors'!$D$20/0.8/1000)","v":0},{"$f":"IF(O563=\"130\",2014.4*AO563*'CO2 Conversion Factors'!$G$20/0.8/1000,2096.16*AO563*'CO2 Conversion Factors'!$G$20/0.8/1000)","v":0},{"$f":"IF(O563=\"130\",2014.4*AO563*'CO2 Conversion Factors'!$J$20/0.8/1000,2096.16*AO563*'CO2 Conversion Factors'!$J$20/0.8/1000)","v":0},0,0,null,null,null,0,0,0,0,"",false,false,false,false,null,"","",""]
[null,null,null,null,null,null,null,null,null,null,null,null,null,null,null,null,null,null,null,null,null,null,null,null,null,null,null,null,null,null,null,null,null,null,null,null,null,{"$f":"IF(O564=\"130\",2014.4*AO564*'CO2 Conversion Factors'!$D$20/0.8/1000,2096.16*AO564*'CO2 Conversion Factors'!$D$20/0.8/1000)","v":0},{"$f":"IF(O564=\"130\",2014.4*AO564*'CO2 Conversion Factors'!$G$20/0.8/1000,2096.16*AO564*'CO2 Conversion Factors'!$G$20/0.8/1000)","v":0},{"$f":"IF(O564=\"130\",2014.4*AO564*'CO2 Conversion Factors'!$J$20/0.8/1000,2096.16*AO564*'CO2 Conversion Factors'!$J$20/0.8/1000)","v":0},0,0,null,null,null,0,0,0,0,"",false,false,false,false,null,"","",""]
[null,null,null,null,null,null,null,null,null,null,null,null,null,null,null,null,null,null,null,null,null,null,null,null,null,null,null,null,null,null,null,null,null,null,null,null,null,{"$f":"IF(O565=\"130\",2014.4*AO565*'CO2 Conversion Factors'!$D$20/0.8/1000,2096.16*AO565*'CO2 Conversion Factors'!$D$20/0.8/1000)","v":0},{"$f":"IF(O565=\"130\",2014.4*AO565*'CO2 Conversion Factors'!$G$20/0.8/1000,2096.16*AO565*'CO2 Conversion Factors'!$G$20/0.8/1000)","v":0},{"$f":"IF(O565=\"130\",2014.4*AO565*'CO2 Conversion Factors'!$J$20/0.8/1000,2096.16*AO565*'CO2 Conversion Factors'!$J$20/0.8/1000)","v":0},0,0,null,null,null,0,0,0,0,"",false,false,false,false,null,"","",""]
[null,null,null,null,null,null,null,null,null,null,null,null,null,null,null,null,null,null,null,null,null,null,null,null,null,null,null,null,null,null,null,null,null,null,null,null,null,{"$f":"IF(O566=\"130\",2014.4*AO566*'CO2 Conversion Factors'!$D$20/0.8/1000,2096.16*AO566*'CO2 Conversion Factors'!$D$20/0.8/1000)","v":0},{"$f":"IF(O566=\"130\",2014.4*AO566*'CO2 Conversion Factors'!$G$20/0.8/1000,2096.16*AO566*'CO2 Conversion Factors'!$G$20/0.8/1000)","v":0},{"$f":"IF(O566=\"130\",2014.4*AO566*'CO2 Conversion Factors'!$J$20/0.8/1000,2096.16*AO566*'CO2 Conversion Factors'!$J$20/0.8/1000)","v":0},0,0,null,null,null,0,0,0,0,"",false,false,false,false,null,"","",""]
[null,null,null,null,null,null,null,null,null,null,null,null,null,null,null,null,null,null,null,null,null,null,null,null,null,null,null,null,null,null,null,null,null,null,null,null,null,{"$f":"IF(O567=\"130\",2014.4*AO567*'CO2 Conversion Factors'!$D$20/0.8/1000,2096.16*AO567*'CO2 Conversion Factors'!$D$20/0.8/1000)","v":0},{"$f":"IF(O567=\"130\",2014.4*AO567*'CO2 Conversion Factors'!$G$20/0.8/1000,2096.16*AO567*'CO2 Conversion Factors'!$G$20/0.8/1000)","v":0},{"$f":"IF(O567=\"130\",2014.4*AO567*'CO2 Conversion Factors'!$J$20/0.8/1000,2096.16*AO567*'CO2 Conversion Factors'!$J$20/0.8/1000)","v":0},0,0,null,null,null,0,0,0,0,"",false,false,false,false,null,"","",""]
[null,null,null,null,null,null,null,null,null,null,null,null,null,null,null,null,null,null,null,null,null,null,null,null,null,null,null,null,null,null,null,null,null,null,null,null,null,{"$f":"IF(O568=\"130\",2014.4*AO568*'CO2 Conversion Factors'!$D$20/0.8/1000,2096.16*AO568*'CO2 Conversion Factors'!$D$20/0.8/1000)","v":0},{"$f":"IF(O568=\"130\",2014.4*AO568*'CO2 Conversion Factors'!$G$20/0.8/1000,2096.16*AO568*'CO2 Conversion Factors'!$G$20/0.8/1000)","v":0},{"$f":"IF(O568=\"130\",2014.4*AO568*'CO2 Conversion Factors'!$J$20/0.8/1000,2096.16*AO568*'CO2 Conversion Factors'!$J$20/0.8/1000)","v":0},0,0,null,null,null,0,0,0,0,"",false,false,false,false,null,"","",""]
[null,null,null,null,null,null,null,null,null,null,null,null,null,null,null,null,null,null,null,null,null,null,null,null,null,null,null,null,null,null,null,null,null,null,null,null,null,{"$f":"IF(O569=\"130\",2014.4*AO569*'CO2 Conversion Factors'!$D$20/0.8/1000,2096.16*AO569*'CO2 Conversion Factors'!$D$20/0.8/1000)","v":0},{"$f":"IF(O569=\"130\",2014.4*AO569*'CO2 Conversion Factors'!$G$20/0.8/1000,2096.16*AO569*'CO2 Conversion Factors'!$G$20/0.8/1000)","v":0},{"$f":"IF(O569=\"130\",2014.4*AO569*'CO2 Conversion Factors'!$J$20/0.8/1000,2096.16*AO569*'CO2 Conversion Factors'!$J$20/0.8/1000)","v":0},0,0,null,null,null,0,0,0,0,"",false,false,false,false,null,"","",""]
[null,null,null,null,null,null,null,null,null,null,null,null,null,null,null,null,null,null,null,null,null,null,null,null,null,null,null,null,null,null,null,null,null,null,null,null,null,{"$f":"IF(O570=\"130\",2014.4*AO570*'CO2 Conversion Factors'!$D$20/0.8/1000,2096.16*AO570*'CO2 Conversion Factors'!$D$20/0.8/1000)","v":0},{"$f":"IF(O570=\"130\",2014.4*AO570*'CO2 Conversion Factors'!$G$20/0.8/1000,2096.16*AO570*'CO2 Conversion Factors'!$G$20/0.8/1000)","v":0},{"$f":"IF(O570=\"130\",2014.4*AO570*'CO2 Conversion Factors'!$J$20/0.8/1000,2096.16*AO570*'CO2 Conversion Factors'!$J$20/0.8/1000)","v":0},0,0,null,null,null,0,0,0,0,"",false,false,false,false,null,"","",""]
[null,null,null,null,null,null,null,null,null,null,null,null,null,null,null,null,null,null,null,null,null,null,null,null,null,null,null,null,null,null,null,null,null,null,null,null,null,{"$f":"IF(O571=\"130\",2014.4*AO571*'CO2 Conversion Factors'!$D$20/0.8/1000,2096.16*AO571*'CO2 Conversion Factors'!$D$20/0.8/1000)","v":0},{"$f":"IF(O571=\"130\",2014.4*AO571*'CO2 Conversion Factors'!$G$20/0.8/1000,2096.16*AO571*'CO2 Conversion Factors'!$G$20/0.8/1000)","v":0},{"$f":"IF(O571=\"130\",2014.4*AO571*'CO2 Conversion Factors'!$J$20/0.8/1000,2096.16*AO571*'CO2 Conversion Factors'!$J$20/0.8/1000)","v":0},0,0,null,null,null,0,0,0,0,"",false,false,false,false,null,"","",""]
[null,null,null,null,null,null,null,null,null,null,null,null,null,null,null,null,null,null,null,null,null,null,null,null,null,null,null,null,null,null,null,null,null,null,null,null,null,{"$f":"IF(O572=\"130\",2014.4*AO572*'CO2 Conversion Factors'!$D$20/0.8/1000,2096.16*AO572*'CO2 Conversion Factors'!$D$20/0.8/1000)","v":0},{"$f":"IF(O572=\"130\",2014.4*AO572*'CO2 Conversion Factors'!$G$20/0.8/1000,2096.16*AO572*'CO2 Conversion Factors'!$G$20/0.8/1000)","v":0},{"$f":"IF(O572=\"130\",2014.4*AO572*'CO2 Conversion Factors'!$J$20/0.8/1000,2096.16*AO572*'CO2 Conversion Factors'!$J$20/0.8/1000)","v":0},0,0,null,null,null,0,0,0,0,"",false,false,false,false,null,"","",""]
[null,null,null,null,null,null,null,null,null,null,null,null,null,null,null,null,null,null,null,null,null,null,null,null,null,null,null,null,null,null,null,null,null,null,null,null,null,{"$f":"IF(O573=\"130\",2014.4*AO573*'CO2 Conversion Factors'!$D$20/0.8/1000,2096.16*AO573*'CO2 Conversion Factors'!$D$20/0.8/1000)","v":0},{"$f":"IF(O573=\"130\",2014.4*AO573*'CO2 Conversion Factors'!$G$20/0.8/1000,2096.16*AO573*'CO2 Conversion Factors'!$G$20/0.8/1000)","v":0},{"$f":"IF(O573=\"130\",2014.4*AO573*'CO2 Conversion Factors'!$J$20/0.8/1000,2096.16*AO573*'CO2 Conversion Factors'!$J$20/0.8/1000)","v":0},0,0,null,null,null,0,0,0,0,"",false,false,false,false,null,"","",""]
[null,null,null,null,null,null,null,null,null,null,null,null,null,null,null,null,null,null,null,null,null,null,null,null,null,null,null,null,null,null,null,null,null,null,null,null,null,{"$f":"IF(O574=\"130\",2014.4*AO574*'CO2 Conversion Factors'!$D$20/0.8/1000,2096.16*AO574*'CO2 Conversion Factors'!$D$20/0.8/1000)","v":0},{"$f":"IF(O574=\"130\",2014.4*AO574*'CO2 Conversion Factors'!$G$20/0.8/1000,2096.16*AO574*'CO2 Conversion Factors'!$G$20/0.8/1000)","v":0},{"$f":"IF(O574=\"130\",2014.4*AO574*'CO2 Conversion Factors'!$J$20/0.8/1000,2096.16*AO574*'CO2 Conversion Factors'!$J$20/0.8/1000)","v":0},0,0,null,null,null,0,0,0,0,"",false,false,false,false,null,"","",""]
[null,null,null,null,null,null,null,null,null,null,null,null,null,null,null,null,null,null,null,null,null,null,null,null,null,null,null,null,null,null,null,null,null,null,null,null,null,{"$f":"IF(O575=\"130\",2014.4*AO575*'CO2 Conversion Factors'!$D$20/0.8/1000,2096.16*AO575*'CO2 Conversion Factors'!$D$20/0.8/1000)","v":0},{"$f":"IF(O575=\"130\",2014.4*AO575*'CO2 Conversion Factors'!$G$20/0.8/1000,2096.16*AO575*'CO2 Conversion Factors'!$G$20/0.8/1000)","v":0},{"$f":"IF(O575=\"130\",2014.4*AO575*'CO2 Conversion Factors'!$J$20/0.8/1000,2096.16*AO575*'CO2 Conversion Factors'!$J$20/0.8/1000)","v":0},0,0,null,null,null,0,0,0,0,"",false,false,false,false,null,"","",""]
[null,null,null,null,null,null,null,null,null,null,null,null,null,null,null,null,null,null,null,null,null,null,null,null,null,null,null,null,null,null,null,null,null,null,null,null,null,{"$f":"IF(O576=\"130\",2014.4*AO576*'CO2 Conversion Factors'!$D$20/0.8/1000,2096.16*AO576*'CO2 Conversion Factors'!$D$20/0.8/1000)","v":0},{"$f":"IF(O576=\"130\",2014.4*AO576*'CO2 Conversion Factors'!$G$20/0.8/1000,2096.16*AO576*'CO2 Conversion Factors'!$G$20/0.8/1000)","v":0},{"$f":"IF(O576=\"130\",2014.4*AO576*'CO2 Conversion Factors'!$J$20/0.8/1000,2096.16*AO576*'CO2 Conversion Factors'!$J$20/0.8/1000)","v":0},0,0,null,null,null,0,0,0,0,"",false,false,false,false,null,"","",""]
[null,null,null,null,null,null,null,null,null,null,null,null,null,null,null,null,null,null,null,null,null,null,null,null,null,null,null,null,null,null,null,null,null,null,null,null,null,{"$f":"IF(O577=\"130\",2014.4*AO577*'CO2 Conversion Factors'!$D$20/0.8/1000,2096.16*AO577*'CO2 Conversion Factors'!$D$20/0.8/1000)","v":0},{"$f":"IF(O577=\"130\",2014.4*AO577*'CO2 Conversion Factors'!$G$20/0.8/1000,2096.16*AO577*'CO2 Conversion Factors'!$G$20/0.8/1000)","v":0},{"$f":"IF(O577=\"130\",2014.4*AO577*'CO2 Conversion Factors'!$J$20/0.8/1000,2096.16*AO577*'CO2 Conversion Factors'!$J$20/0.8/1000)","v":0},0,0,null,null,null,0,0,0,0,"",false,false,false,false,null,"","",""]
[null,null,null,null,null,null,null,null,null,null,null,null,null,null,null,null,null,null,null,null,null,null,null,null,null,null,null,null,null,null,null,null,null,null,null,null,null,{"$f":"IF(O578=\"130\",2014.4*AO578*'CO2 Conversion Factors'!$D$20/0.8/1000,2096.16*AO578*'CO2 Conversion Factors'!$D$20/0.8/1000)","v":0},{"$f":"IF(O578=\"130\",2014.4*AO578*'CO2 Conversion Factors'!$G$20/0.8/1000,2096.16*AO578*'CO2 Conversion Factors'!$G$20/0.8/1000)","v":0},{"$f":"IF(O578=\"130\",2014.4*AO578*'CO2 Conversion Factors'!$J$20/0.8/1000,2096.16*AO578*'CO2 Conversion Factors'!$J$20/0.8/1000)","v":0},0,0,null,null,null,0,0,0,0,"",false,false,false,false,null,"","",""]
[null,null,null,null,null,null,null,null,null,null,null,null,null,null,null,null,null,null,null,null,null,null,null,null,null,null,null,null,null,null,null,null,null,null,null,null,null,{"$f":"IF(O579=\"130\",2014.4*AO579*'CO2 Conversion Factors'!$D$20/0.8/1000,2096.16*AO579*'CO2 Conversion Factors'!$D$20/0.8/1000)","v":0},{"$f":"IF(O579=\"130\",2014.4*AO579*'CO2 Conversion Factors'!$G$20/0.8/1000,2096.16*AO579*'CO2 Conversion Factors'!$G$20/0.8/1000)","v":0},{"$f":"IF(O579=\"130\",2014.4*AO579*'CO2 Conversion Factors'!$J$20/0.8/1000,2096.16*AO579*'CO2 Conversion Factors'!$J$20/0.8/1000)","v":0},{"$f":"IFERROR(IF(OR(L579=\"BLW\",L579=\"PRI\",L579=\"LNK\"),IF(Cover_Select_SteamCostUnits=\"£/1000kg\",11.6*(VLOOKUP($I579,Abb_Lookup_OrifaceDia,2,FALSE)^2)*SQRT(($O579-$P579)*($O579+$P579)),25.57363*(VLOOKUP($I579,Abb_Lookup_OrifaceDia,2,FALSE)^2)*SQRT(($O579-$P579)*($O579+$P579)))*(VLOOKUP(AE579,Cover_Lookup_OpTime,4,FALSE)/1000),IF(L579=\"LL\",IF(Cover_Select_SteamCostUnits=\"£/1000kg\",11.6*(VLOOKUP($I579,Abb_Lookup_OrifaceDia,2,FALSE)^2)*SQRT(($O579-$P579)*($O579+$P579)),25.57363*(VLOOKUP($I579,Abb_Lookup_OrifaceDia,2,FALSE)^2)*SQRT(($O579-$P579)*($O579+$P579)))*(VLOOKUP(AE579,Cover_Lookup_OpTime,4,FALSE)/2000),IF(L579=\"SL\",IF(Cover_Select_SteamCostUnits=\"£/1000kg\",11.6*(VLOOKUP($I579,Abb_Lookup_OrifaceDia,2,FALSE)^2)*SQRT(($O579-$P579)*($O579+$P579)),25.57363*(VLOOKUP($I579,Abb_Lookup_OrifaceDia,2,FALSE)^2)*SQRT(($O579-$P579)*($O579+$P579)))*(VLOOKUP(AE579,Cover_Lookup_OpTime,4,FALSE)/4000),0))),0)","v":0},0,null,null,null,0,0,0,0,"",false,false,false,false,null,"","",""]
[null,null,null,null,null,null,null,null,null,null,null,null,null,null,null,null,null,null,null,null,null,null,null,null,null,null,null,null,null,null,null,null,null,null,null,null,null,{"$f":"IF(O580=\"130\",2014.4*AO580*'CO2 Conversion Factors'!$D$20/0.8/1000,2096.16*AO580*'CO2 Conversion Factors'!$D$20/0.8/1000)","v":0},{"$f":"IF(O580=\"130\",2014.4*AO580*'CO2 Conversion Factors'!$G$20/0.8/1000,2096.16*AO580*'CO2 Conversion Factors'!$G$20/0.8/1000)","v":0},{"$f":"IF(O580=\"130\",2014.4*AO580*'CO2 Conversion Factors'!$J$20/0.8/1000,2096.16*AO580*'CO2 Conversion Factors'!$J$20/0.8/1000)","v":0},0,{"$f":"IFERROR(AO580*Cover_Select_SteamCost,0)","v":0},null,null,null,{"$f":"IF(NOT(OR(L580=\"NIS\",L580=\"OFF\")),F580)","v":0},{"$f":"IF(NOT(OR(L580=\"NIS\",L580=\"OFF\",L580=\"PO\")),F580)","v":0},{"$f":"IF(NOT(OR(L580=\"NIS\",L580=\"OFF\")),H580)","v":0},{"$f":"IF(NOT(OR(L580=\"NIS\",L580=\"OFF\",L580=\"PO\")),H580)","v":0},"",false,false,false,false,null,"","",""]
[null,null,null,null,null,null,null,null,null,null,null,null,null,null,null,null,null,null,null,null,null,null,null,null,null,null,null,null,null,null,null,null,null,null,null,null,null,{"$f":"IF(O581=\"130\",2014.4*AO581*'CO2 Conversion Factors'!$D$20/0.8/1000,2096.16*AO581*'CO2 Conversion Factors'!$D$20/0.8/1000)","v":0},{"$f":"IF(O581=\"130\",2014.4*AO581*'CO2 Conversion Factors'!$G$20/0.8/1000,2096.16*AO581*'CO2 Conversion Factors'!$G$20/0.8/1000)","v":0},{"$f":"IF(O581=\"130\",2014.4*AO581*'CO2 Conversion Factors'!$J$20/0.8/1000,2096.16*AO581*'CO2 Conversion Factors'!$J$20/0.8/1000)","v":0},0,0,null,null,null,0,0,0,0,{"$f":"F581&H581","v":""},{"$f":"IF(L581=\"CLD\", H581)","v":false},{"$f":"IF(L581=\"SL\", H581)","v":false},{"$f":"IF(L581=\"LL\", H581)","v":false},{"$f":"IF(L581=\"BLW\", H581)","v":false},null,"","",""]
[null,null,null,null,null,null,null,null,null,null,null,null,null,null,null,null,null,null,null,null,null,null,null,null,null,null,null,null,null,null,null,null,null,null,null,null,null,{"$f":"IF(O582=\"130\",2014.4*AO582*'CO2 Conversion Factors'!$D$20/0.8/1000,2096.16*AO582*'CO2 Conversion Factors'!$D$20/0.8/1000)","v":0},{"$f":"IF(O582=\"130\",2014.4*AO582*'CO2 Conversion Factors'!$G$20/0.8/1000,2096.16*AO582*'CO2 Conversion Factors'!$G$20/0.8/1000)","v":0},{"$f":"IF(O582=\"130\",2014.4*AO582*'CO2 Conversion Factors'!$J$20/0.8/1000,2096.16*AO582*'CO2 Conversion Factors'!$J$20/0.8/1000)","v":0},0,0,null,null,null,0,0,0,0,"",false,false,false,false,null,"","",""]
[null,null,null,null,null,null,null,null,null,null,null,null,null,null,null,null,null,null,null,null,null,null,null,null,null,null,null,null,null,null,null,null,null,null,null,null,null,{"$f":"IF(O583=\"130\",2014.4*AO583*'CO2 Conversion Factors'!$D$20/0.8/1000,2096.16*AO583*'CO2 Conversion Factors'!$D$20/0.8/1000)","v":0},{"$f":"IF(O583=\"130\",2014.4*AO583*'CO2 Conversion Factors'!$G$20/0.8/1000,2096.16*AO583*'CO2 Conversion Factors'!$G$20/0.8/1000)","v":0},{"$f":"IF(O583=\"130\",2014.4*AO583*'CO2 Conversion Factors'!$J$20/0.8/1000,2096.16*AO583*'CO2 Conversion Factors'!$J$20/0.8/1000)","v":0},0,0,null,null,null,0,0,0,0,"",false,false,false,false,null,"","",""]
[null,null,null,null,null,null,null,null,null,null,null,null,null,null,null,null,null,null,null,null,null,null,null,null,null,null,null,null,null,null,null,null,null,null,null,null,null,{"$f":"IF(O584=\"130\",2014.4*AO584*'CO2 Conversion Factors'!$D$20/0.8/1000,2096.16*AO584*'CO2 Conversion Factors'!$D$20/0.8/1000)","v":0},{"$f":"IF(O584=\"130\",2014.4*AO584*'CO2 Conversion Factors'!$G$20/0.8/1000,2096.16*AO584*'CO2 Conversion Factors'!$G$20/0.8/1000)","v":0},{"$f":"IF(O584=\"130\",2014.4*AO584*'CO2 Conversion Factors'!$J$20/0.8/1000,2096.16*AO584*'CO2 Conversion Factors'!$J$20/0.8/1000)","v":0},0,0,null,null,null,0,0,0,0,"",false,false,false,false,null,"","",""]
[null,null,null,null,null,null,null,null,null,null,null,null,null,null,null,null,null,null,null,null,null,null,null,null,null,null,null,null,null,null,null,null,null,null,null,null,null,{"$f":"IF(O585=\"130\",2014.4*AO585*'CO2 Conversion Factors'!$D$20/0.8/1000,2096.16*AO585*'CO2 Conversion Factors'!$D$20/0.8/1000)","v":0},{"$f":"IF(O585=\"130\",2014.4*AO585*'CO2 Conversion Factors'!$G$20/0.8/1000,2096.16*AO585*'CO2 Conversion Factors'!$G$20/0.8/1000)","v":0},{"$f":"IF(O585=\"130\",2014.4*AO585*'CO2 Conversion Factors'!$J$20/0.8/1000,2096.16*AO585*'CO2 Conversion Factors'!$J$20/0.8/1000)","v":0},0,0,null,null,null,0,0,0,0,"",false,false,false,false,null,"","",""]
[null,null,null,null,null,null,null,null,null,null,null,null,null,null,null,null,null,null,null,null,null,null,null,null,null,null,null,null,null,null,null,null,null,null,null,null,null,{"$f":"IF(O586=\"130\",2014.4*AO586*'CO2 Conversion Factors'!$D$20/0.8/1000,2096.16*AO586*'CO2 Conversion Factors'!$D$20/0.8/1000)","v":0},{"$f":"IF(O586=\"130\",2014.4*AO586*'CO2 Conversion Factors'!$G$20/0.8/1000,2096.16*AO586*'CO2 Conversion Factors'!$G$20/0.8/1000)","v":0},{"$f":"IF(O586=\"130\",2014.4*AO586*'CO2 Conversion Factors'!$J$20/0.8/1000,2096.16*AO586*'CO2 Conversion Factors'!$J$20/0.8/1000)","v":0},0,0,null,null,null,0,0,0,0,"",false,false,false,false,null,"","",""]
[null,null,null,null,null,null,null,null,null,null,null,null,null,null,null,null,null,null,null,null,null,null,null,null,null,null,null,null,null,null,null,null,null,null,null,null,null,{"$f":"IF(O587=\"130\",2014.4*AO587*'CO2 Conversion Factors'!$D$20/0.8/1000,2096.16*AO587*'CO2 Conversion Factors'!$D$20/0.8/1000)","v":0},{"$f":"IF(O587=\"130\",2014.4*AO587*'CO2 Conversion Factors'!$G$20/0.8/1000,2096.16*AO587*'CO2 Conversion Factors'!$G$20/0.8/1000)","v":0},{"$f":"IF(O587=\"130\",2014.4*AO587*'CO2 Conversion Factors'!$J$20/0.8/1000,2096.16*AO587*'CO2 Conversion Factors'!$J$20/0.8/1000)","v":0},0,0,null,null,null,0,0,0,0,"",false,false,false,false,null,"","",""]
[null,null,null,null,null,null,null,null,null,null,null,null,null,null,null,null,null,null,null,null,null,null,null,null,null,null,null,null,null,null,null,null,null,null,null,null,null,{"$f":"IF(O588=\"130\",2014.4*AO588*'CO2 Conversion Factors'!$D$20/0.8/1000,2096.16*AO588*'CO2 Conversion Factors'!$D$20/0.8/1000)","v":0},{"$f":"IF(O588=\"130\",2014.4*AO588*'CO2 Conversion Factors'!$G$20/0.8/1000,2096.16*AO588*'CO2 Conversion Factors'!$G$20/0.8/1000)","v":0},{"$f":"IF(O588=\"130\",2014.4*AO588*'CO2 Conversion Factors'!$J$20/0.8/1000,2096.16*AO588*'CO2 Conversion Factors'!$J$20/0.8/1000)","v":0},0,0,null,null,null,0,0,0,0,"",false,false,false,false,null,"","",""]
[null,null,null,null,null,null,null,null,null,null,null,null,null,null,null,null,null,null,null,null,null,null,null,null,null,null,null,null,null,null,null,null,null,null,null,null,null,{"$f":"IF(O589=\"130\",2014.4*AO589*'CO2 Conversion Factors'!$D$20/0.8/1000,2096.16*AO589*'CO2 Conversion Factors'!$D$20/0.8/1000)","v":0},{"$f":"IF(O589=\"130\",2014.4*AO589*'CO2 Conversion Factors'!$G$20/0.8/1000,2096.16*AO589*'CO2 Conversion Factors'!$G$20/0.8/1000)","v":0},{"$f":"IF(O589=\"130\",2014.4*AO589*'CO2 Conversion Factors'!$J$20/0.8/1000,2096.16*AO589*'CO2 Conversion Factors'!$J$20/0.8/1000)","v":0},0,0,null,null,null,0,0,0,0,"",false,false,false,false,null,"","",""]
[null,null,null,null,null,null,null,null,null,null,null,null,null,null,null,null,null,null,null,null,null,null,null,null,null,null,null,null,null,null,null,null,null,null,null,null,null,{"$f":"IF(O590=\"130\",2014.4*AO590*'CO2 Conversion Factors'!$D$20/0.8/1000,2096.16*AO590*'CO2 Conversion Factors'!$D$20/0.8/1000)","v":0},{"$f":"IF(O590=\"130\",2014.4*AO590*'CO2 Conversion Factors'!$G$20/0.8/1000,2096.16*AO590*'CO2 Conversion Factors'!$G$20/0.8/1000)","v":0},{"$f":"IF(O590=\"130\",2014.4*AO590*'CO2 Conversion Factors'!$J$20/0.8/1000,2096.16*AO590*'CO2 Conversion Factors'!$J$20/0.8/1000)","v":0},0,0,null,null,null,0,0,0,0,"",false,false,false,false,null,"","",""]
[null,null,null,null,null,null,null,null,null,null,null,null,null,null,null,null,null,null,null,null,null,null,null,null,null,null,null,null,null,null,null,null,null,null,null,null,null,{"$f":"IF(O591=\"130\",2014.4*AO591*'CO2 Conversion Factors'!$D$20/0.8/1000,2096.16*AO591*'CO2 Conversion Factors'!$D$20/0.8/1000)","v":0},{"$f":"IF(O591=\"130\",2014.4*AO591*'CO2 Conversion Factors'!$G$20/0.8/1000,2096.16*AO591*'CO2 Conversion Factors'!$G$20/0.8/1000)","v":0},{"$f":"IF(O591=\"130\",2014.4*AO591*'CO2 Conversion Factors'!$J$20/0.8/1000,2096.16*AO591*'CO2 Conversion Factors'!$J$20/0.8/1000)","v":0},0,0,null,null,null,0,0,0,0,"",false,false,false,false,null,"","",""]
[null,null,null,null,null,null,null,null,null,null,null,null,null,null,null,null,null,null,null,null,null,null,null,null,null,null,null,null,null,null,null,null,null,null,null,null,null,{"$f":"IF(O592=\"130\",2014.4*AO592*'CO2 Conversion Factors'!$D$20/0.8/1000,2096.16*AO592*'CO2 Conversion Factors'!$D$20/0.8/1000)","v":0},{"$f":"IF(O592=\"130\",2014.4*AO592*'CO2 Conversion Factors'!$G$20/0.8/1000,2096.16*AO592*'CO2 Conversion Factors'!$G$20/0.8/1000)","v":0},{"$f":"IF(O592=\"130\",2014.4*AO592*'CO2 Conversion Factors'!$J$20/0.8/1000,2096.16*AO592*'CO2 Conversion Factors'!$J$20/0.8/1000)","v":0},0,0,null,null,null,0,0,0,0,"",false,false,false,false,null,"","",""]
[null,null,null,null,null,null,null,null,null,null,null,null,null,null,null,null,null,null,null,null,null,null,null,null,null,null,null,null,null,null,null,null,null,null,null,null,null,{"$f":"IF(O593=\"130\",2014.4*AO593*'CO2 Conversion Factors'!$D$20/0.8/1000,2096.16*AO593*'CO2 Conversion Factors'!$D$20/0.8/1000)","v":0},{"$f":"IF(O593=\"130\",2014.4*AO593*'CO2 Conversion Factors'!$G$20/0.8/1000,2096.16*AO593*'CO2 Conversion Factors'!$G$20/0.8/1000)","v":0},{"$f":"IF(O593=\"130\",2014.4*AO593*'CO2 Conversion Factors'!$J$20/0.8/1000,2096.16*AO593*'CO2 Conversion Factors'!$J$20/0.8/1000)","v":0},0,0,null,null,null,0,0,0,0,"",false,false,false,false,null,"","",""]
[null,null,null,null,null,null,null,null,null,null,null,null,null,null,null,null,null,null,null,null,null,null,null,null,null,null,null,null,null,null,null,null,null,null,null,null,null,{"$f":"IF(O594=\"130\",2014.4*AO594*'CO2 Conversion Factors'!$D$20/0.8/1000,2096.16*AO594*'CO2 Conversion Factors'!$D$20/0.8/1000)","v":0},{"$f":"IF(O594=\"130\",2014.4*AO594*'CO2 Conversion Factors'!$G$20/0.8/1000,2096.16*AO594*'CO2 Conversion Factors'!$G$20/0.8/1000)","v":0},{"$f":"IF(O594=\"130\",2014.4*AO594*'CO2 Conversion Factors'!$J$20/0.8/1000,2096.16*AO594*'CO2 Conversion Factors'!$J$20/0.8/1000)","v":0},0,0,null,null,null,0,0,0,0,"",false,false,false,false,null,"","",""]
[null,null,null,null,null,null,null,null,null,null,null,null,null,null,null,null,null,null,null,null,null,null,null,null,null,null,null,null,null,null,null,null,null,null,null,null,null,{"$f":"IF(O595=\"130\",2014.4*AO595*'CO2 Conversion Factors'!$D$20/0.8/1000,2096.16*AO595*'CO2 Conversion Factors'!$D$20/0.8/1000)","v":0},{"$f":"IF(O595=\"130\",2014.4*AO595*'CO2 Conversion Factors'!$G$20/0.8/1000,2096.16*AO595*'CO2 Conversion Factors'!$G$20/0.8/1000)","v":0},{"$f":"IF(O595=\"130\",2014.4*AO595*'CO2 Conversion Factors'!$J$20/0.8/1000,2096.16*AO595*'CO2 Conversion Factors'!$J$20/0.8/1000)","v":0},0,0,null,null,null,0,0,0,0,"",false,false,false,false,null,"","",""]
[null,null,null,null,null,null,null,null,null,null,null,null,null,null,null,null,null,null,null,null,null,null,null,null,null,null,null,null,null,null,null,null,null,null,null,null,null,{"$f":"IF(O596=\"130\",2014.4*AO596*'CO2 Conversion Factors'!$D$20/0.8/1000,2096.16*AO596*'CO2 Conversion Factors'!$D$20/0.8/1000)","v":0},{"$f":"IF(O596=\"130\",2014.4*AO596*'CO2 Conversion Factors'!$G$20/0.8/1000,2096.16*AO596*'CO2 Conversion Factors'!$G$20/0.8/1000)","v":0},{"$f":"IF(O596=\"130\",2014.4*AO596*'CO2 Conversion Factors'!$J$20/0.8/1000,2096.16*AO596*'CO2 Conversion Factors'!$J$20/0.8/1000)","v":0},0,0,null,null,null,0,0,0,0,"",false,false,false,false,null,"","",""]
[null,null,null,null,null,null,null,null,null,null,null,null,null,null,null,null,null,null,null,null,null,null,null,null,null,null,null,null,null,null,null,null,null,null,null,null,null,{"$f":"IF(O597=\"130\",2014.4*AO597*'CO2 Conversion Factors'!$D$20/0.8/1000,2096.16*AO597*'CO2 Conversion Factors'!$D$20/0.8/1000)","v":0},{"$f":"IF(O597=\"130\",2014.4*AO597*'CO2 Conversion Factors'!$G$20/0.8/1000,2096.16*AO597*'CO2 Conversion Factors'!$G$20/0.8/1000)","v":0},{"$f":"IF(O597=\"130\",2014.4*AO597*'CO2 Conversion Factors'!$J$20/0.8/1000,2096.16*AO597*'CO2 Conversion Factors'!$J$20/0.8/1000)","v":0},0,0,null,null,null,0,0,0,0,"",false,false,false,false,null,"","",""]
[null,null,null,null,null,null,null,null,null,null,null,null,null,null,null,null,null,null,null,null,null,null,null,null,null,null,null,null,null,null,null,null,null,null,null,null,null,{"$f":"IF(O598=\"130\",2014.4*AO598*'CO2 Conversion Factors'!$D$20/0.8/1000,2096.16*AO598*'CO2 Conversion Factors'!$D$20/0.8/1000)","v":0},{"$f":"IF(O598=\"130\",2014.4*AO598*'CO2 Conversion Factors'!$G$20/0.8/1000,2096.16*AO598*'CO2 Conversion Factors'!$G$20/0.8/1000)","v":0},{"$f":"IF(O598=\"130\",2014.4*AO598*'CO2 Conversion Factors'!$J$20/0.8/1000,2096.16*AO598*'CO2 Conversion Factors'!$J$20/0.8/1000)","v":0},0,0,null,null,null,0,0,0,0,"",false,false,false,false,null,"","",""]
[null,null,null,null,null,null,null,null,null,null,null,null,null,null,null,null,null,null,null,null,null,null,null,null,null,null,null,null,null,null,null,null,null,null,null,null,null,{"$f":"IF(O599=\"130\",2014.4*AO599*'CO2 Conversion Factors'!$D$20/0.8/1000,2096.16*AO599*'CO2 Conversion Factors'!$D$20/0.8/1000)","v":0},{"$f":"IF(O599=\"130\",2014.4*AO599*'CO2 Conversion Factors'!$G$20/0.8/1000,2096.16*AO599*'CO2 Conversion Factors'!$G$20/0.8/1000)","v":0},{"$f":"IF(O599=\"130\",2014.4*AO599*'CO2 Conversion Factors'!$J$20/0.8/1000,2096.16*AO599*'CO2 Conversion Factors'!$J$20/0.8/1000)","v":0},0,0,null,null,null,0,0,0,0,"",false,false,false,false,null,"","",""]
[null,null,null,null,null,null,null,null,null,null,null,null,null,null,null,null,null,null,null,null,null,null,null,null,null,null,null,null,null,null,null,null,null,null,null,null,null,{"$f":"IF(O600=\"130\",2014.4*AO600*'CO2 Conversion Factors'!$D$20/0.8/1000,2096.16*AO600*'CO2 Conversion Factors'!$D$20/0.8/1000)","v":0},{"$f":"IF(O600=\"130\",2014.4*AO600*'CO2 Conversion Factors'!$G$20/0.8/1000,2096.16*AO600*'CO2 Conversion Factors'!$G$20/0.8/1000)","v":0},{"$f":"IF(O600=\"130\",2014.4*AO600*'CO2 Conversion Factors'!$J$20/0.8/1000,2096.16*AO600*'CO2 Conversion Factors'!$J$20/0.8/1000)","v":0},0,0,null,null,null,0,0,0,0,"",false,false,false,false,null,"","",""]
[null,null,null,null,null,null,null,null,null,null,null,null,null,null,null,null,null,null,null,null,null,null,null,null,null,null,null,null,null,null,null,null,null,null,null,null,null,{"$f":"IF(O601=\"130\",2014.4*AO601*'CO2 Conversion Factors'!$D$20/0.8/1000,2096.16*AO601*'CO2 Conversion Factors'!$D$20/0.8/1000)","v":0},{"$f":"IF(O601=\"130\",2014.4*AO601*'CO2 Conversion Factors'!$G$20/0.8/1000,2096.16*AO601*'CO2 Conversion Factors'!$G$20/0.8/1000)","v":0},{"$f":"IF(O601=\"130\",2014.4*AO601*'CO2 Conversion Factors'!$J$20/0.8/1000,2096.16*AO601*'CO2 Conversion Factors'!$J$20/0.8/1000)","v":0},0,0,null,null,null,0,0,0,0,"",false,false,false,false,null,"","",""]
[null,null,null,null,null,null,null,null,null,null,null,null,null,null,null,null,null,null,null,null,null,null,null,null,null,null,null,null,null,null,null,null,null,null,null,null,null,{"$f":"IF(O602=\"130\",2014.4*AO602*'CO2 Conversion Factors'!$D$20/0.8/1000,2096.16*AO602*'CO2 Conversion Factors'!$D$20/0.8/1000)","v":0},{"$f":"IF(O602=\"130\",2014.4*AO602*'CO2 Conversion Factors'!$G$20/0.8/1000,2096.16*AO602*'CO2 Conversion Factors'!$G$20/0.8/1000)","v":0},{"$f":"IF(O602=\"130\",2014.4*AO602*'CO2 Conversion Factors'!$J$20/0.8/1000,2096.16*AO602*'CO2 Conversion Factors'!$J$20/0.8/1000)","v":0},0,0,null,null,null,0,0,0,0,"",false,false,false,false,null,"","",""]
[null,null,null,null,null,null,null,null,null,null,null,null,null,null,null,null,null,null,null,null,null,null,null,null,null,null,null,null,null,null,null,null,null,null,null,null,null,{"$f":"IF(O603=\"130\",2014.4*AO603*'CO2 Conversion Factors'!$D$20/0.8/1000,2096.16*AO603*'CO2 Conversion Factors'!$D$20/0.8/1000)","v":0},{"$f":"IF(O603=\"130\",2014.4*AO603*'CO2 Conversion Factors'!$G$20/0.8/1000,2096.16*AO603*'CO2 Conversion Factors'!$G$20/0.8/1000)","v":0},{"$f":"IF(O603=\"130\",2014.4*AO603*'CO2 Conversion Factors'!$J$20/0.8/1000,2096.16*AO603*'CO2 Conversion Factors'!$J$20/0.8/1000)","v":0},0,0,null,null,null,0,0,0,0,"",false,false,false,false,null,"","",""]
[null,null,null,null,null,null,null,null,null,null,null,null,null,null,null,null,null,null,null,null,null,null,null,null,null,null,null,null,null,null,null,null,null,null,null,null,null,{"$f":"IF(O604=\"130\",2014.4*AO604*'CO2 Conversion Factors'!$D$20/0.8/1000,2096.16*AO604*'CO2 Conversion Factors'!$D$20/0.8/1000)","v":0},{"$f":"IF(O604=\"130\",2014.4*AO604*'CO2 Conversion Factors'!$G$20/0.8/1000,2096.16*AO604*'CO2 Conversion Factors'!$G$20/0.8/1000)","v":0},{"$f":"IF(O604=\"130\",2014.4*AO604*'CO2 Conversion Factors'!$J$20/0.8/1000,2096.16*AO604*'CO2 Conversion Factors'!$J$20/0.8/1000)","v":0},0,0,null,null,null,0,0,0,0,"",false,false,false,false,null,"","",""]
[null,null,null,null,null,null,null,null,null,null,null,null,null,null,null,null,null,null,null,null,null,null,null,null,null,null,null,null,null,null,null,null,null,null,null,null,null,{"$f":"IF(O605=\"130\",2014.4*AO605*'CO2 Conversion Factors'!$D$20/0.8/1000,2096.16*AO605*'CO2 Conversion Factors'!$D$20/0.8/1000)","v":0},{"$f":"IF(O605=\"130\",2014.4*AO605*'CO2 Conversion Factors'!$G$20/0.8/1000,2096.16*AO605*'CO2 Conversion Factors'!$G$20/0.8/1000)","v":0},{"$f":"IF(O605=\"130\",2014.4*AO605*'CO2 Conversion Factors'!$J$20/0.8/1000,2096.16*AO605*'CO2 Conversion Factors'!$J$20/0.8/1000)","v":0},0,0,null,null,null,0,0,0,0,"",false,false,false,false,null,"","",""]
[null,null,null,null,null,null,null,null,null,null,null,null,null,null,null,null,null,null,null,null,null,null,null,null,null,null,null,null,null,null,null,null,null,null,null,null,null,{"$f":"IF(O606=\"130\",2014.4*AO606*'CO2 Conversion Factors'!$D$20/0.8/1000,2096.16*AO606*'CO2 Conversion Factors'!$D$20/0.8/1000)","v":0},{"$f":"IF(O606=\"130\",2014.4*AO606*'CO2 Conversion Factors'!$G$20/0.8/1000,2096.16*AO606*'CO2 Conversion Factors'!$G$20/0.8/1000)","v":0},{"$f":"IF(O606=\"130\",2014.4*AO606*'CO2 Conversion Factors'!$J$20/0.8/1000,2096.16*AO606*'CO2 Conversion Factors'!$J$20/0.8/1000)","v":0},0,0,null,null,null,0,0,0,0,"",false,false,false,false,null,"","",""]
[null,null,null,null,null,null,null,null,null,null,null,null,null,null,null,null,null,null,null,null,null,null,null,null,null,null,null,null,null,null,null,null,null,null,null,null,null,{"$f":"IF(O607=\"130\",2014.4*AO607*'CO2 Conversion Factors'!$D$20/0.8/1000,2096.16*AO607*'CO2 Conversion Factors'!$D$20/0.8/1000)","v":0},{"$f":"IF(O607=\"130\",2014.4*AO607*'CO2 Conversion Factors'!$G$20/0.8/1000,2096.16*AO607*'CO2 Conversion Factors'!$G$20/0.8/1000)","v":0},{"$f":"IF(O607=\"130\",2014.4*AO607*'CO2 Conversion Factors'!$J$20/0.8/1000,2096.16*AO607*'CO2 Conversion Factors'!$J$20/0.8/1000)","v":0},0,0,null,null,null,0,0,0,0,"",false,false,false,false,null,"","",""]
[null,null,null,null,null,null,null,null,null,null,null,null,null,null,null,null,null,null,null,null,null,null,null,null,null,null,null,null,null,null,null,null,null,null,null,null,null,{"$f":"IF(O608=\"130\",2014.4*AO608*'CO2 Conversion Factors'!$D$20/0.8/1000,2096.16*AO608*'CO2 Conversion Factors'!$D$20/0.8/1000)","v":0},{"$f":"IF(O608=\"130\",2014.4*AO608*'CO2 Conversion Factors'!$G$20/0.8/1000,2096.16*AO608*'CO2 Conversion Factors'!$G$20/0.8/1000)","v":0},{"$f":"IF(O608=\"130\",2014.4*AO608*'CO2 Conversion Factors'!$J$20/0.8/1000,2096.16*AO608*'CO2 Conversion Factors'!$J$20/0.8/1000)","v":0},0,0,null,null,null,0,0,0,0,"",false,false,false,false,null,"","",""]
[null,null,null,null,null,null,null,null,null,null,null,null,null,null,null,null,null,null,null,null,null,null,null,null,null,null,null,null,null,null,null,null,null,null,null,null,null,{"$f":"IF(O609=\"130\",2014.4*AO609*'CO2 Conversion Factors'!$D$20/0.8/1000,2096.16*AO609*'CO2 Conversion Factors'!$D$20/0.8/1000)","v":0},{"$f":"IF(O609=\"130\",2014.4*AO609*'CO2 Conversion Factors'!$G$20/0.8/1000,2096.16*AO609*'CO2 Conversion Factors'!$G$20/0.8/1000)","v":0},{"$f":"IF(O609=\"130\",2014.4*AO609*'CO2 Conversion Factors'!$J$20/0.8/1000,2096.16*AO609*'CO2 Conversion Factors'!$J$20/0.8/1000)","v":0},0,0,null,null,null,0,0,0,0,"",false,false,false,false,null,"","",""]
[null,null,null,null,null,null,null,null,null,null,null,null,null,null,null,null,null,null,null,null,null,null,null,null,null,null,null,null,null,null,null,null,null,null,null,null,null,{"$f":"IF(O610=\"130\",2014.4*AO610*'CO2 Conversion Factors'!$D$20/0.8/1000,2096.16*AO610*'CO2 Conversion Factors'!$D$20/0.8/1000)","v":0},{"$f":"IF(O610=\"130\",2014.4*AO610*'CO2 Conversion Factors'!$G$20/0.8/1000,2096.16*AO610*'CO2 Conversion Factors'!$G$20/0.8/1000)","v":0},{"$f":"IF(O610=\"130\",2014.4*AO610*'CO2 Conversion Factors'!$J$20/0.8/1000,2096.16*AO610*'CO2 Conversion Factors'!$J$20/0.8/1000)","v":0},0,0,null,null,null,0,0,0,0,"",false,false,false,false,null,"","",""]
[null,null,null,null,null,null,null,null,null,null,null,null,null,null,null,null,null,null,null,null,null,null,null,null,null,null,null,null,null,null,null,null,null,null,null,null,null,{"$f":"IF(O611=\"130\",2014.4*AO611*'CO2 Conversion Factors'!$D$20/0.8/1000,2096.16*AO611*'CO2 Conversion Factors'!$D$20/0.8/1000)","v":0},{"$f":"IF(O611=\"130\",2014.4*AO611*'CO2 Conversion Factors'!$G$20/0.8/1000,2096.16*AO611*'CO2 Conversion Factors'!$G$20/0.8/1000)","v":0},{"$f":"IF(O611=\"130\",2014.4*AO611*'CO2 Conversion Factors'!$J$20/0.8/1000,2096.16*AO611*'CO2 Conversion Factors'!$J$20/0.8/1000)","v":0},0,0,null,null,null,0,0,0,0,"",false,false,false,false,null,"","",""]
[null,null,null,null,null,null,null,null,null,null,null,null,null,null,null,null,null,null,null,null,null,null,null,null,null,null,null,null,null,null,null,null,null,null,null,null,null,{"$f":"IF(O612=\"130\",2014.4*AO612*'CO2 Conversion Factors'!$D$20/0.8/1000,2096.16*AO612*'CO2 Conversion Factors'!$D$20/0.8/1000)","v":0},{"$f":"IF(O612=\"130\",2014.4*AO612*'CO2 Conversion Factors'!$G$20/0.8/1000,2096.16*AO612*'CO2 Conversion Factors'!$G$20/0.8/1000)","v":0},{"$f":"IF(O612=\"130\",2014.4*AO612*'CO2 Conversion Factors'!$J$20/0.8/1000,2096.16*AO612*'CO2 Conversion Factors'!$J$20/0.8/1000)","v":0},0,0,null,null,null,0,0,0,0,"",false,false,false,false,null,"","",""]
[null,null,null,null,null,null,null,null,null,null,null,null,null,null,null,null,null,null,null,null,null,null,null,null,null,null,null,null,null,null,null,null,null,null,null,null,null,{"$f":"IF(O613=\"130\",2014.4*AO613*'CO2 Conversion Factors'!$D$20/0.8/1000,2096.16*AO613*'CO2 Conversion Factors'!$D$20/0.8/1000)","v":0},{"$f":"IF(O613=\"130\",2014.4*AO613*'CO2 Conversion Factors'!$G$20/0.8/1000,2096.16*AO613*'CO2 Conversion Factors'!$G$20/0.8/1000)","v":0},{"$f":"IF(O613=\"130\",2014.4*AO613*'CO2 Conversion Factors'!$J$20/0.8/1000,2096.16*AO613*'CO2 Conversion Factors'!$J$20/0.8/1000)","v":0},0,0,null,null,null,0,0,0,0,"",false,false,false,false,null,"","",""]
[null,null,null,null,null,null,null,null,null,null,null,null,null,null,null,null,null,null,null,null,null,null,null,null,null,null,null,null,null,null,null,null,null,null,null,null,null,{"$f":"IF(O614=\"130\",2014.4*AO614*'CO2 Conversion Factors'!$D$20/0.8/1000,2096.16*AO614*'CO2 Conversion Factors'!$D$20/0.8/1000)","v":0},{"$f":"IF(O614=\"130\",2014.4*AO614*'CO2 Conversion Factors'!$G$20/0.8/1000,2096.16*AO614*'CO2 Conversion Factors'!$G$20/0.8/1000)","v":0},{"$f":"IF(O614=\"130\",2014.4*AO614*'CO2 Conversion Factors'!$J$20/0.8/1000,2096.16*AO614*'CO2 Conversion Factors'!$J$20/0.8/1000)","v":0},0,0,null,null,null,0,0,0,0,"",false,false,false,false,null,"","",""]
[null,null,null,null,null,null,null,null,null,null,null,null,null,null,null,null,null,null,null,null,null,null,null,null,null,null,null,null,null,null,null,null,null,null,null,null,null,{"$f":"IF(O615=\"130\",2014.4*AO615*'CO2 Conversion Factors'!$D$20/0.8/1000,2096.16*AO615*'CO2 Conversion Factors'!$D$20/0.8/1000)","v":0},{"$f":"IF(O615=\"130\",2014.4*AO615*'CO2 Conversion Factors'!$G$20/0.8/1000,2096.16*AO615*'CO2 Conversion Factors'!$G$20/0.8/1000)","v":0},{"$f":"IF(O615=\"130\",2014.4*AO615*'CO2 Conversion Factors'!$J$20/0.8/1000,2096.16*AO615*'CO2 Conversion Factors'!$J$20/0.8/1000)","v":0},0,0,null,null,null,0,0,0,0,"",false,false,false,false,null,"","",""]
[null,null,null,null,null,null,null,null,null,null,null,null,null,null,null,null,null,null,null,null,null,null,null,null,null,null,null,null,null,null,null,null,null,null,null,null,null,{"$f":"IF(O616=\"130\",2014.4*AO616*'CO2 Conversion Factors'!$D$20/0.8/1000,2096.16*AO616*'CO2 Conversion Factors'!$D$20/0.8/1000)","v":0},{"$f":"IF(O616=\"130\",2014.4*AO616*'CO2 Conversion Factors'!$G$20/0.8/1000,2096.16*AO616*'CO2 Conversion Factors'!$G$20/0.8/1000)","v":0},{"$f":"IF(O616=\"130\",2014.4*AO616*'CO2 Conversion Factors'!$J$20/0.8/1000,2096.16*AO616*'CO2 Conversion Factors'!$J$20/0.8/1000)","v":0},0,0,null,null,null,0,0,0,0,"",false,false,false,false,null,"","",""]
[null,null,null,null,null,null,null,null,null,null,null,null,null,null,null,null,null,null,null,null,null,null,null,null,null,null,null,null,null,null,null,null,null,null,null,null,null,{"$f":"IF(O617=\"130\",2014.4*AO617*'CO2 Conversion Factors'!$D$20/0.8/1000,2096.16*AO617*'CO2 Conversion Factors'!$D$20/0.8/1000)","v":0},{"$f":"IF(O617=\"130\",2014.4*AO617*'CO2 Conversion Factors'!$G$20/0.8/1000,2096.16*AO617*'CO2 Conversion Factors'!$G$20/0.8/1000)","v":0},{"$f":"IF(O617=\"130\",2014.4*AO617*'CO2 Conversion Factors'!$J$20/0.8/1000,2096.16*AO617*'CO2 Conversion Factors'!$J$20/0.8/1000)","v":0},0,0,null,null,null,0,0,0,0,"",false,false,false,false,null,"","",""]
[null,null,null,null,null,null,null,null,null,null,null,null,null,null,null,null,null,null,null,null,null,null,null,null,null,null,null,null,null,null,null,null,null,null,null,null,null,{"$f":"IF(O618=\"130\",2014.4*AO618*'CO2 Conversion Factors'!$D$20/0.8/1000,2096.16*AO618*'CO2 Conversion Factors'!$D$20/0.8/1000)","v":0},{"$f":"IF(O618=\"130\",2014.4*AO618*'CO2 Conversion Factors'!$G$20/0.8/1000,2096.16*AO618*'CO2 Conversion Factors'!$G$20/0.8/1000)","v":0},{"$f":"IF(O618=\"130\",2014.4*AO618*'CO2 Conversion Factors'!$J$20/0.8/1000,2096.16*AO618*'CO2 Conversion Factors'!$J$20/0.8/1000)","v":0},0,0,null,null,null,0,0,0,0,"",false,false,false,false,null,"","",""]
[null,null,null,null,null,null,null,null,null,null,null,null,null,null,null,null,null,null,null,null,null,null,null,null,null,null,null,null,null,null,null,null,null,null,null,null,null,{"$f":"IF(O619=\"130\",2014.4*AO619*'CO2 Conversion Factors'!$D$20/0.8/1000,2096.16*AO619*'CO2 Conversion Factors'!$D$20/0.8/1000)","v":0},{"$f":"IF(O619=\"130\",2014.4*AO619*'CO2 Conversion Factors'!$G$20/0.8/1000,2096.16*AO619*'CO2 Conversion Factors'!$G$20/0.8/1000)","v":0},{"$f":"IF(O619=\"130\",2014.4*AO619*'CO2 Conversion Factors'!$J$20/0.8/1000,2096.16*AO619*'CO2 Conversion Factors'!$J$20/0.8/1000)","v":0},0,0,null,null,null,0,0,0,0,"",false,false,false,false,null,"","",""]
[null,null,null,null,null,null,null,null,null,null,null,null,null,null,null,null,null,null,null,null,null,null,null,null,null,null,null,null,null,null,null,null,null,null,null,null,null,{"$f":"IF(O620=\"130\",2014.4*AO620*'CO2 Conversion Factors'!$D$20/0.8/1000,2096.16*AO620*'CO2 Conversion Factors'!$D$20/0.8/1000)","v":0},{"$f":"IF(O620=\"130\",2014.4*AO620*'CO2 Conversion Factors'!$G$20/0.8/1000,2096.16*AO620*'CO2 Conversion Factors'!$G$20/0.8/1000)","v":0},{"$f":"IF(O620=\"130\",2014.4*AO620*'CO2 Conversion Factors'!$J$20/0.8/1000,2096.16*AO620*'CO2 Conversion Factors'!$J$20/0.8/1000)","v":0},0,0,null,null,null,0,0,0,0,"",false,false,false,false,null,"","",""]
[null,null,null,null,null,null,null,null,null,null,null,null,null,null,null,null,null,null,null,null,null,null,null,null,null,null,null,null,null,null,null,null,null,null,null,null,null,{"$f":"IF(O621=\"130\",2014.4*AO621*'CO2 Conversion Factors'!$D$20/0.8/1000,2096.16*AO621*'CO2 Conversion Factors'!$D$20/0.8/1000)","v":0},{"$f":"IF(O621=\"130\",2014.4*AO621*'CO2 Conversion Factors'!$G$20/0.8/1000,2096.16*AO621*'CO2 Conversion Factors'!$G$20/0.8/1000)","v":0},{"$f":"IF(O621=\"130\",2014.4*AO621*'CO2 Conversion Factors'!$J$20/0.8/1000,2096.16*AO621*'CO2 Conversion Factors'!$J$20/0.8/1000)","v":0},0,0,null,null,null,0,0,0,0,"",false,false,false,false,null,"","",""]
[null,null,null,null,null,null,null,null,null,null,null,null,null,null,null,null,null,null,null,null,null,null,null,null,null,null,null,null,null,null,null,null,null,null,null,null,null,{"$f":"IF(O622=\"130\",2014.4*AO622*'CO2 Conversion Factors'!$D$20/0.8/1000,2096.16*AO622*'CO2 Conversion Factors'!$D$20/0.8/1000)","v":0},{"$f":"IF(O622=\"130\",2014.4*AO622*'CO2 Conversion Factors'!$G$20/0.8/1000,2096.16*AO622*'CO2 Conversion Factors'!$G$20/0.8/1000)","v":0},{"$f":"IF(O622=\"130\",2014.4*AO622*'CO2 Conversion Factors'!$J$20/0.8/1000,2096.16*AO622*'CO2 Conversion Factors'!$J$20/0.8/1000)","v":0},0,0,null,null,null,0,0,0,0,"",false,false,false,false,null,"","",""]
[null,null,null,null,null,null,null,null,null,null,null,null,null,null,null,null,null,null,null,null,null,null,null,null,null,null,null,null,null,null,null,null,null,null,null,null,null,{"$f":"IF(O623=\"130\",2014.4*AO623*'CO2 Conversion Factors'!$D$20/0.8/1000,2096.16*AO623*'CO2 Conversion Factors'!$D$20/0.8/1000)","v":0},{"$f":"IF(O623=\"130\",2014.4*AO623*'CO2 Conversion Factors'!$G$20/0.8/1000,2096.16*AO623*'CO2 Conversion Factors'!$G$20/0.8/1000)","v":0},{"$f":"IF(O623=\"130\",2014.4*AO623*'CO2 Conversion Factors'!$J$20/0.8/1000,2096.16*AO623*'CO2 Conversion Factors'!$J$20/0.8/1000)","v":0},0,0,null,null,null,0,0,0,0,"",false,false,false,false,null,"","",""]
[null,null,null,null,null,null,null,null,null,null,null,null,null,null,null,null,null,null,null,null,null,null,null,null,null,null,null,null,null,null,null,null,null,null,null,null,null,{"$f":"IF(O624=\"130\",2014.4*AO624*'CO2 Conversion Factors'!$D$20/0.8/1000,2096.16*AO624*'CO2 Conversion Factors'!$D$20/0.8/1000)","v":0},{"$f":"IF(O624=\"130\",2014.4*AO624*'CO2 Conversion Factors'!$G$20/0.8/1000,2096.16*AO624*'CO2 Conversion Factors'!$G$20/0.8/1000)","v":0},{"$f":"IF(O624=\"130\",2014.4*AO624*'CO2 Conversion Factors'!$J$20/0.8/1000,2096.16*AO624*'CO2 Conversion Factors'!$J$20/0.8/1000)","v":0},0,0,null,null,null,0,0,0,0,"",false,false,false,false,null,"","",""]
[null,null,null,null,null,null,null,null,null,null,null,null,null,null,null,null,null,null,null,null,null,null,null,null,null,null,null,null,null,null,null,null,null,null,null,null,null,{"$f":"IF(O625=\"130\",2014.4*AO625*'CO2 Conversion Factors'!$D$20/0.8/1000,2096.16*AO625*'CO2 Conversion Factors'!$D$20/0.8/1000)","v":0},{"$f":"IF(O625=\"130\",2014.4*AO625*'CO2 Conversion Factors'!$G$20/0.8/1000,2096.16*AO625*'CO2 Conversion Factors'!$G$20/0.8/1000)","v":0},{"$f":"IF(O625=\"130\",2014.4*AO625*'CO2 Conversion Factors'!$J$20/0.8/1000,2096.16*AO625*'CO2 Conversion Factors'!$J$20/0.8/1000)","v":0},0,0,null,null,null,0,0,0,0,"",false,false,false,false,null,"","",""]
[null,null,null,null,null,null,null,null,null,null,null,null,null,null,null,null,null,null,null,null,null,null,null,null,null,null,null,null,null,null,null,null,null,null,null,null,null,{"$f":"IF(O626=\"130\",2014.4*AO626*'CO2 Conversion Factors'!$D$20/0.8/1000,2096.16*AO626*'CO2 Conversion Factors'!$D$20/0.8/1000)","v":0},{"$f":"IF(O626=\"130\",2014.4*AO626*'CO2 Conversion Factors'!$G$20/0.8/1000,2096.16*AO626*'CO2 Conversion Factors'!$G$20/0.8/1000)","v":0},{"$f":"IF(O626=\"130\",2014.4*AO626*'CO2 Conversion Factors'!$J$20/0.8/1000,2096.16*AO626*'CO2 Conversion Factors'!$J$20/0.8/1000)","v":0},0,0,null,null,null,0,0,0,0,"",false,false,false,false,null,"","",""]
[null,null,null,null,null,null,null,null,null,null,null,null,null,null,null,null,null,null,null,null,null,null,null,null,null,null,null,null,null,null,null,null,null,null,null,null,null,{"$f":"IF(O627=\"130\",2014.4*AO627*'CO2 Conversion Factors'!$D$20/0.8/1000,2096.16*AO627*'CO2 Conversion Factors'!$D$20/0.8/1000)","v":0},{"$f":"IF(O627=\"130\",2014.4*AO627*'CO2 Conversion Factors'!$G$20/0.8/1000,2096.16*AO627*'CO2 Conversion Factors'!$G$20/0.8/1000)","v":0},{"$f":"IF(O627=\"130\",2014.4*AO627*'CO2 Conversion Factors'!$J$20/0.8/1000,2096.16*AO627*'CO2 Conversion Factors'!$J$20/0.8/1000)","v":0},0,0,null,null,null,0,0,0,0,"",false,false,false,false,null,"","",""]
[null,null,null,null,null,null,null,null,null,null,null,null,null,null,null,null,null,null,null,null,null,null,null,null,null,null,null,null,null,null,null,null,null,null,null,null,null,{"$f":"IF(O628=\"130\",2014.4*AO628*'CO2 Conversion Factors'!$D$20/0.8/1000,2096.16*AO628*'CO2 Conversion Factors'!$D$20/0.8/1000)","v":0},{"$f":"IF(O628=\"130\",2014.4*AO628*'CO2 Conversion Factors'!$G$20/0.8/1000,2096.16*AO628*'CO2 Conversion Factors'!$G$20/0.8/1000)","v":0},{"$f":"IF(O628=\"130\",2014.4*AO628*'CO2 Conversion Factors'!$J$20/0.8/1000,2096.16*AO628*'CO2 Conversion Factors'!$J$20/0.8/1000)","v":0},0,0,null,null,null,0,0,0,0,"",false,false,false,false,null,"","",""]
[null,null,null,null,null,null,null,null,null,null,null,null,null,null,null,null,null,null,null,null,null,null,null,null,null,null,null,null,null,null,null,null,null,null,null,null,null,{"$f":"IF(O629=\"130\",2014.4*AO629*'CO2 Conversion Factors'!$D$20/0.8/1000,2096.16*AO629*'CO2 Conversion Factors'!$D$20/0.8/1000)","v":0},{"$f":"IF(O629=\"130\",2014.4*AO629*'CO2 Conversion Factors'!$G$20/0.8/1000,2096.16*AO629*'CO2 Conversion Factors'!$G$20/0.8/1000)","v":0},{"$f":"IF(O629=\"130\",2014.4*AO629*'CO2 Conversion Factors'!$J$20/0.8/1000,2096.16*AO629*'CO2 Conversion Factors'!$J$20/0.8/1000)","v":0},0,0,null,null,null,0,0,0,0,"",false,false,false,false,null,"","",""]
[null,null,null,null,null,null,null,null,null,null,null,null,null,null,null,null,null,null,null,null,null,null,null,null,null,null,null,null,null,null,null,null,null,null,null,null,null,{"$f":"IF(O630=\"130\",2014.4*AO630*'CO2 Conversion Factors'!$D$20/0.8/1000,2096.16*AO630*'CO2 Conversion Factors'!$D$20/0.8/1000)","v":0},{"$f":"IF(O630=\"130\",2014.4*AO630*'CO2 Conversion Factors'!$G$20/0.8/1000,2096.16*AO630*'CO2 Conversion Factors'!$G$20/0.8/1000)","v":0},{"$f":"IF(O630=\"130\",2014.4*AO630*'CO2 Conversion Factors'!$J$20/0.8/1000,2096.16*AO630*'CO2 Conversion Factors'!$J$20/0.8/1000)","v":0},0,0,null,null,null,0,0,0,0,"",false,false,false,false,null,"","",""]
[null,null,null,null,null,null,null,null,null,null,null,null,null,null,null,null,null,null,null,null,null,null,null,null,null,null,null,null,null,null,null,null,null,null,null,null,null,{"$f":"IF(O631=\"130\",2014.4*AO631*'CO2 Conversion Factors'!$D$20/0.8/1000,2096.16*AO631*'CO2 Conversion Factors'!$D$20/0.8/1000)","v":0},{"$f":"IF(O631=\"130\",2014.4*AO631*'CO2 Conversion Factors'!$G$20/0.8/1000,2096.16*AO631*'CO2 Conversion Factors'!$G$20/0.8/1000)","v":0},{"$f":"IF(O631=\"130\",2014.4*AO631*'CO2 Conversion Factors'!$J$20/0.8/1000,2096.16*AO631*'CO2 Conversion Factors'!$J$20/0.8/1000)","v":0},0,0,null,null,null,0,0,0,0,"",false,false,false,false,null,"","",""]
[null,null,null,null,null,null,null,null,null,null,null,null,null,null,null,null,null,null,null,null,null,null,null,null,null,null,null,null,null,null,null,null,null,null,null,null,null,{"$f":"IF(O632=\"130\",2014.4*AO632*'CO2 Conversion Factors'!$D$20/0.8/1000,2096.16*AO632*'CO2 Conversion Factors'!$D$20/0.8/1000)","v":0},{"$f":"IF(O632=\"130\",2014.4*AO632*'CO2 Conversion Factors'!$G$20/0.8/1000,2096.16*AO632*'CO2 Conversion Factors'!$G$20/0.8/1000)","v":0},{"$f":"IF(O632=\"130\",2014.4*AO632*'CO2 Conversion Factors'!$J$20/0.8/1000,2096.16*AO632*'CO2 Conversion Factors'!$J$20/0.8/1000)","v":0},0,0,null,null,null,0,0,0,0,"",false,false,false,false,null,"","",""]
[null,null,null,null,null,null,null,null,null,null,null,null,null,null,null,null,null,null,null,null,null,null,null,null,null,null,null,null,null,null,null,null,null,null,null,null,null,{"$f":"IF(O633=\"130\",2014.4*AO633*'CO2 Conversion Factors'!$D$20/0.8/1000,2096.16*AO633*'CO2 Conversion Factors'!$D$20/0.8/1000)","v":0},{"$f":"IF(O633=\"130\",2014.4*AO633*'CO2 Conversion Factors'!$G$20/0.8/1000,2096.16*AO633*'CO2 Conversion Factors'!$G$20/0.8/1000)","v":0},{"$f":"IF(O633=\"130\",2014.4*AO633*'CO2 Conversion Factors'!$J$20/0.8/1000,2096.16*AO633*'CO2 Conversion Factors'!$J$20/0.8/1000)","v":0},0,0,null,null,null,0,0,0,0,"",false,false,false,false,null,"","",""]
[null,null,null,null,null,null,null,null,null,null,null,null,null,null,null,null,null,null,null,null,null,null,null,null,null,null,null,null,null,null,null,null,null,null,null,null,null,{"$f":"IF(O634=\"130\",2014.4*AO634*'CO2 Conversion Factors'!$D$20/0.8/1000,2096.16*AO634*'CO2 Conversion Factors'!$D$20/0.8/1000)","v":0},{"$f":"IF(O634=\"130\",2014.4*AO634*'CO2 Conversion Factors'!$G$20/0.8/1000,2096.16*AO634*'CO2 Conversion Factors'!$G$20/0.8/1000)","v":0},{"$f":"IF(O634=\"130\",2014.4*AO634*'CO2 Conversion Factors'!$J$20/0.8/1000,2096.16*AO634*'CO2 Conversion Factors'!$J$20/0.8/1000)","v":0},0,0,null,null,null,0,0,0,0,"",false,false,false,false,null,"","",""]
[null,null,null,null,null,null,null,null,null,null,null,null,null,null,null,null,null,null,null,null,null,null,null,null,null,null,null,null,null,null,null,null,null,null,null,null,null,{"$f":"IF(O635=\"130\",2014.4*AO635*'CO2 Conversion Factors'!$D$20/0.8/1000,2096.16*AO635*'CO2 Conversion Factors'!$D$20/0.8/1000)","v":0},{"$f":"IF(O635=\"130\",2014.4*AO635*'CO2 Conversion Factors'!$G$20/0.8/1000,2096.16*AO635*'CO2 Conversion Factors'!$G$20/0.8/1000)","v":0},{"$f":"IF(O635=\"130\",2014.4*AO635*'CO2 Conversion Factors'!$J$20/0.8/1000,2096.16*AO635*'CO2 Conversion Factors'!$J$20/0.8/1000)","v":0},0,0,null,null,null,0,0,0,0,"",false,false,false,false,null,"","",""]
[null,null,null,null,null,null,null,null,null,null,null,null,null,null,null,null,null,null,null,null,null,null,null,null,null,null,null,null,null,null,null,null,null,null,null,null,null,{"$f":"IF(O636=\"130\",2014.4*AO636*'CO2 Conversion Factors'!$D$20/0.8/1000,2096.16*AO636*'CO2 Conversion Factors'!$D$20/0.8/1000)","v":0},{"$f":"IF(O636=\"130\",2014.4*AO636*'CO2 Conversion Factors'!$G$20/0.8/1000,2096.16*AO636*'CO2 Conversion Factors'!$G$20/0.8/1000)","v":0},{"$f":"IF(O636=\"130\",2014.4*AO636*'CO2 Conversion Factors'!$J$20/0.8/1000,2096.16*AO636*'CO2 Conversion Factors'!$J$20/0.8/1000)","v":0},0,0,null,null,null,0,0,0,0,"",false,false,false,false,null,"","",""]
[null,null,null,null,null,null,null,null,null,null,null,null,null,null,null,null,null,null,null,null,null,null,null,null,null,null,null,null,null,null,null,null,null,null,null,null,null,{"$f":"IF(O637=\"130\",2014.4*AO637*'CO2 Conversion Factors'!$D$20/0.8/1000,2096.16*AO637*'CO2 Conversion Factors'!$D$20/0.8/1000)","v":0},{"$f":"IF(O637=\"130\",2014.4*AO637*'CO2 Conversion Factors'!$G$20/0.8/1000,2096.16*AO637*'CO2 Conversion Factors'!$G$20/0.8/1000)","v":0},{"$f":"IF(O637=\"130\",2014.4*AO637*'CO2 Conversion Factors'!$J$20/0.8/1000,2096.16*AO637*'CO2 Conversion Factors'!$J$20/0.8/1000)","v":0},0,0,null,null,null,0,0,0,0,"",false,false,false,false,null,"","",""]
[null,null,null,null,null,null,null,null,null,null,null,null,null,null,null,null,null,null,null,null,null,null,null,null,null,null,null,null,null,null,null,null,null,null,null,null,null,{"$f":"IF(O638=\"130\",2014.4*AO638*'CO2 Conversion Factors'!$D$20/0.8/1000,2096.16*AO638*'CO2 Conversion Factors'!$D$20/0.8/1000)","v":0},{"$f":"IF(O638=\"130\",2014.4*AO638*'CO2 Conversion Factors'!$G$20/0.8/1000,2096.16*AO638*'CO2 Conversion Factors'!$G$20/0.8/1000)","v":0},{"$f":"IF(O638=\"130\",2014.4*AO638*'CO2 Conversion Factors'!$J$20/0.8/1000,2096.16*AO638*'CO2 Conversion Factors'!$J$20/0.8/1000)","v":0},0,0,null,null,null,0,0,0,0,"",false,false,false,false,null,"","",""]
[null,null,null,null,null,null,null,null,null,null,null,null,null,null,null,null,null,null,null,null,null,null,null,null,null,null,null,null,null,null,null,null,null,null,null,null,null,{"$f":"IF(O639=\"130\",2014.4*AO639*'CO2 Conversion Factors'!$D$20/0.8/1000,2096.16*AO639*'CO2 Conversion Factors'!$D$20/0.8/1000)","v":0},{"$f":"IF(O639=\"130\",2014.4*AO639*'CO2 Conversion Factors'!$G$20/0.8/1000,2096.16*AO639*'CO2 Conversion Factors'!$G$20/0.8/1000)","v":0},{"$f":"IF(O639=\"130\",2014.4*AO639*'CO2 Conversion Factors'!$J$20/0.8/1000,2096.16*AO639*'CO2 Conversion Factors'!$J$20/0.8/1000)","v":0},0,0,null,null,null,0,0,0,0,"",false,false,false,false,null,"","",""]
[null,null,null,null,null,null,null,null,null,null,null,null,null,null,null,null,null,null,null,null,null,null,null,null,null,null,null,null,null,null,null,null,null,null,null,null,null,{"$f":"IF(O640=\"130\",2014.4*AO640*'CO2 Conversion Factors'!$D$20/0.8/1000,2096.16*AO640*'CO2 Conversion Factors'!$D$20/0.8/1000)","v":0},{"$f":"IF(O640=\"130\",2014.4*AO640*'CO2 Conversion Factors'!$G$20/0.8/1000,2096.16*AO640*'CO2 Conversion Factors'!$G$20/0.8/1000)","v":0},{"$f":"IF(O640=\"130\",2014.4*AO640*'CO2 Conversion Factors'!$J$20/0.8/1000,2096.16*AO640*'CO2 Conversion Factors'!$J$20/0.8/1000)","v":0},0,0,null,null,null,0,0,0,0,"",false,false,false,false,null,"","",""]
[null,null,null,null,null,null,null,null,null,null,null,null,null,null,null,null,null,null,null,null,null,null,null,null,null,null,null,null,null,null,null,null,null,null,null,null,null,{"$f":"IF(O641=\"130\",2014.4*AO641*'CO2 Conversion Factors'!$D$20/0.8/1000,2096.16*AO641*'CO2 Conversion Factors'!$D$20/0.8/1000)","v":0},{"$f":"IF(O641=\"130\",2014.4*AO641*'CO2 Conversion Factors'!$G$20/0.8/1000,2096.16*AO641*'CO2 Conversion Factors'!$G$20/0.8/1000)","v":0},{"$f":"IF(O641=\"130\",2014.4*AO641*'CO2 Conversion Factors'!$J$20/0.8/1000,2096.16*AO641*'CO2 Conversion Factors'!$J$20/0.8/1000)","v":0},0,0,null,null,null,0,0,0,0,"",false,false,false,false,null,"","",""]
[null,null,null,null,null,null,null,null,null,null,null,null,null,null,null,null,null,null,null,null,null,null,null,null,null,null,null,null,null,null,null,null,null,null,null,null,null,{"$f":"IF(O642=\"130\",2014.4*AO642*'CO2 Conversion Factors'!$D$20/0.8/1000,2096.16*AO642*'CO2 Conversion Factors'!$D$20/0.8/1000)","v":0},{"$f":"IF(O642=\"130\",2014.4*AO642*'CO2 Conversion Factors'!$G$20/0.8/1000,2096.16*AO642*'CO2 Conversion Factors'!$G$20/0.8/1000)","v":0},{"$f":"IF(O642=\"130\",2014.4*AO642*'CO2 Conversion Factors'!$J$20/0.8/1000,2096.16*AO642*'CO2 Conversion Factors'!$J$20/0.8/1000)","v":0},0,0,null,null,null,0,0,0,0,"",false,false,false,false,null,"","",""]
[null,null,null,null,null,null,null,null,null,null,null,null,null,null,null,null,null,null,null,null,null,null,null,null,null,null,null,null,null,null,null,null,null,null,null,null,null,{"$f":"IF(O643=\"130\",2014.4*AO643*'CO2 Conversion Factors'!$D$20/0.8/1000,2096.16*AO643*'CO2 Conversion Factors'!$D$20/0.8/1000)","v":0},{"$f":"IF(O643=\"130\",2014.4*AO643*'CO2 Conversion Factors'!$G$20/0.8/1000,2096.16*AO643*'CO2 Conversion Factors'!$G$20/0.8/1000)","v":0},{"$f":"IF(O643=\"130\",2014.4*AO643*'CO2 Conversion Factors'!$J$20/0.8/1000,2096.16*AO643*'CO2 Conversion Factors'!$J$20/0.8/1000)","v":0},{"$f":"IFERROR(IF(OR(L643=\"BLW\",L643=\"PRI\",L643=\"LNK\"),IF(Cover_Select_SteamCostUnits=\"£/1000kg\",11.6*(VLOOKUP($I643,Abb_Lookup_OrifaceDia,2,FALSE)^2)*SQRT(($O643-$P643)*($O643+$P643)),25.57363*(VLOOKUP($I643,Abb_Lookup_OrifaceDia,2,FALSE)^2)*SQRT(($O643-$P643)*($O643+$P643)))*(VLOOKUP(AE643,Cover_Lookup_OpTime,4,FALSE)/1000),IF(L643=\"LL\",IF(Cover_Select_SteamCostUnits=\"£/1000kg\",11.6*(VLOOKUP($I643,Abb_Lookup_OrifaceDia,2,FALSE)^2)*SQRT(($O643-$P643)*($O643+$P643)),25.57363*(VLOOKUP($I643,Abb_Lookup_OrifaceDia,2,FALSE)^2)*SQRT(($O643-$P643)*($O643+$P643)))*(VLOOKUP(AE643,Cover_Lookup_OpTime,4,FALSE)/2000),IF(L643=\"SL\",IF(Cover_Select_SteamCostUnits=\"£/1000kg\",11.6*(VLOOKUP($I643,Abb_Lookup_OrifaceDia,2,FALSE)^2)*SQRT(($O643-$P643)*($O643+$P643)),25.57363*(VLOOKUP($I643,Abb_Lookup_OrifaceDia,2,FALSE)^2)*SQRT(($O643-$P643)*($O643+$P643)))*(VLOOKUP(AE643,Cover_Lookup_OpTime,4,FALSE)/4000),0))),0)","v":0},0,null,null,null,0,0,0,0,"",false,false,false,false,null,"","",""]
[null,null,null,null,null,null,null,null,null,null,null,null,null,null,null,null,null,null,null,null,null,null,null,null,null,null,null,null,null,null,null,null,null,null,null,null,null,{"$f":"IF(O644=\"130\",2014.4*AO644*'CO2 Conversion Factors'!$D$20/0.8/1000,2096.16*AO644*'CO2 Conversion Factors'!$D$20/0.8/1000)","v":0},{"$f":"IF(O644=\"130\",2014.4*AO644*'CO2 Conversion Factors'!$G$20/0.8/1000,2096.16*AO644*'CO2 Conversion Factors'!$G$20/0.8/1000)","v":0},{"$f":"IF(O644=\"130\",2014.4*AO644*'CO2 Conversion Factors'!$J$20/0.8/1000,2096.16*AO644*'CO2 Conversion Factors'!$J$20/0.8/1000)","v":0},0,{"$f":"IFERROR(AO644*Cover_Select_SteamCost,0)","v":0},null,null,null,{"$f":"IF(NOT(OR(L644=\"NIS\",L644=\"OFF\")),F644)","v":0},{"$f":"IF(NOT(OR(L644=\"NIS\",L644=\"OFF\",L644=\"PO\")),F644)","v":0},{"$f":"IF(NOT(OR(L644=\"NIS\",L644=\"OFF\")),H644)","v":0},{"$f":"IF(NOT(OR(L644=\"NIS\",L644=\"OFF\",L644=\"PO\")),H644)","v":0},"",false,false,false,false,null,"","",""]
[null,null,null,null,null,null,null,null,null,null,null,null,null,null,null,null,null,null,null,null,null,null,null,null,null,null,null,null,null,null,null,null,null,null,null,null,null,{"$f":"IF(O645=\"130\",2014.4*AO645*'CO2 Conversion Factors'!$D$20/0.8/1000,2096.16*AO645*'CO2 Conversion Factors'!$D$20/0.8/1000)","v":0},{"$f":"IF(O645=\"130\",2014.4*AO645*'CO2 Conversion Factors'!$G$20/0.8/1000,2096.16*AO645*'CO2 Conversion Factors'!$G$20/0.8/1000)","v":0},{"$f":"IF(O645=\"130\",2014.4*AO645*'CO2 Conversion Factors'!$J$20/0.8/1000,2096.16*AO645*'CO2 Conversion Factors'!$J$20/0.8/1000)","v":0},0,0,null,null,null,0,0,0,0,{"$f":"F645&H645","v":""},{"$f":"IF(L645=\"CLD\", H645)","v":false},{"$f":"IF(L645=\"SL\", H645)","v":false},{"$f":"IF(L645=\"LL\", H645)","v":false},{"$f":"IF(L645=\"BLW\", H645)","v":false},null,"","",""]
[null,null,null,null,null,null,null,null,null,null,null,null,null,null,null,null,null,null,null,null,null,null,null,null,null,null,null,null,null,null,null,null,null,null,null,null,null,{"$f":"IF(O646=\"130\",2014.4*AO646*'CO2 Conversion Factors'!$D$20/0.8/1000,2096.16*AO646*'CO2 Conversion Factors'!$D$20/0.8/1000)","v":0},{"$f":"IF(O646=\"130\",2014.4*AO646*'CO2 Conversion Factors'!$G$20/0.8/1000,2096.16*AO646*'CO2 Conversion Factors'!$G$20/0.8/1000)","v":0},{"$f":"IF(O646=\"130\",2014.4*AO646*'CO2 Conversion Factors'!$J$20/0.8/1000,2096.16*AO646*'CO2 Conversion Factors'!$J$20/0.8/1000)","v":0},0,0,null,null,null,0,0,0,0,"",false,false,false,false,null,"","",""]
[null,null,null,null,null,null,null,null,null,null,null,null,null,null,null,null,null,null,null,null,null,null,null,null,null,null,null,null,null,null,null,null,null,null,null,null,null,{"$f":"IF(O647=\"130\",2014.4*AO647*'CO2 Conversion Factors'!$D$20/0.8/1000,2096.16*AO647*'CO2 Conversion Factors'!$D$20/0.8/1000)","v":0},{"$f":"IF(O647=\"130\",2014.4*AO647*'CO2 Conversion Factors'!$G$20/0.8/1000,2096.16*AO647*'CO2 Conversion Factors'!$G$20/0.8/1000)","v":0},{"$f":"IF(O647=\"130\",2014.4*AO647*'CO2 Conversion Factors'!$J$20/0.8/1000,2096.16*AO647*'CO2 Conversion Factors'!$J$20/0.8/1000)","v":0},0,0,null,null,null,0,0,0,0,"",false,false,false,false,null,"","",""]
[null,null,null,null,null,null,null,null,null,null,null,null,null,null,null,null,null,null,null,null,null,null,null,null,null,null,null,null,null,null,null,null,null,null,null,null,null,{"$f":"IF(O648=\"130\",2014.4*AO648*'CO2 Conversion Factors'!$D$20/0.8/1000,2096.16*AO648*'CO2 Conversion Factors'!$D$20/0.8/1000)","v":0},{"$f":"IF(O648=\"130\",2014.4*AO648*'CO2 Conversion Factors'!$G$20/0.8/1000,2096.16*AO648*'CO2 Conversion Factors'!$G$20/0.8/1000)","v":0},{"$f":"IF(O648=\"130\",2014.4*AO648*'CO2 Conversion Factors'!$J$20/0.8/1000,2096.16*AO648*'CO2 Conversion Factors'!$J$20/0.8/1000)","v":0},0,0,null,null,null,0,0,0,0,"",false,false,false,false,null,"","",""]
[null,null,null,null,null,null,null,null,null,null,null,null,null,null,null,null,null,null,null,null,null,null,null,null,null,null,null,null,null,null,null,null,null,null,null,null,null,{"$f":"IF(O649=\"130\",2014.4*AO649*'CO2 Conversion Factors'!$D$20/0.8/1000,2096.16*AO649*'CO2 Conversion Factors'!$D$20/0.8/1000)","v":0},{"$f":"IF(O649=\"130\",2014.4*AO649*'CO2 Conversion Factors'!$G$20/0.8/1000,2096.16*AO649*'CO2 Conversion Factors'!$G$20/0.8/1000)","v":0},{"$f":"IF(O649=\"130\",2014.4*AO649*'CO2 Conversion Factors'!$J$20/0.8/1000,2096.16*AO649*'CO2 Conversion Factors'!$J$20/0.8/1000)","v":0},0,0,null,null,null,0,0,0,0,"",false,false,false,false,null,"","",""]
[null,null,null,null,null,null,null,null,null,null,null,null,null,null,null,null,null,null,null,null,null,null,null,null,null,null,null,null,null,null,null,null,null,null,null,null,null,{"$f":"IF(O650=\"130\",2014.4*AO650*'CO2 Conversion Factors'!$D$20/0.8/1000,2096.16*AO650*'CO2 Conversion Factors'!$D$20/0.8/1000)","v":0},{"$f":"IF(O650=\"130\",2014.4*AO650*'CO2 Conversion Factors'!$G$20/0.8/1000,2096.16*AO650*'CO2 Conversion Factors'!$G$20/0.8/1000)","v":0},{"$f":"IF(O650=\"130\",2014.4*AO650*'CO2 Conversion Factors'!$J$20/0.8/1000,2096.16*AO650*'CO2 Conversion Factors'!$J$20/0.8/1000)","v":0},0,0,null,null,null,0,0,0,0,"",false,false,false,false,null,"","",""]
[null,null,null,null,null,null,null,null,null,null,null,null,null,null,null,null,null,null,null,null,null,null,null,null,null,null,null,null,null,null,null,null,null,null,null,null,null,{"$f":"IF(O651=\"130\",2014.4*AO651*'CO2 Conversion Factors'!$D$20/0.8/1000,2096.16*AO651*'CO2 Conversion Factors'!$D$20/0.8/1000)","v":0},{"$f":"IF(O651=\"130\",2014.4*AO651*'CO2 Conversion Factors'!$G$20/0.8/1000,2096.16*AO651*'CO2 Conversion Factors'!$G$20/0.8/1000)","v":0},{"$f":"IF(O651=\"130\",2014.4*AO651*'CO2 Conversion Factors'!$J$20/0.8/1000,2096.16*AO651*'CO2 Conversion Factors'!$J$20/0.8/1000)","v":0},0,0,null,null,null,0,0,0,0,"",false,false,false,false,null,"","",""]
[null,null,null,null,null,null,null,null,null,null,null,null,null,null,null,null,null,null,null,null,null,null,null,null,null,null,null,null,null,null,null,null,null,null,null,null,null,{"$f":"IF(O652=\"130\",2014.4*AO652*'CO2 Conversion Factors'!$D$20/0.8/1000,2096.16*AO652*'CO2 Conversion Factors'!$D$20/0.8/1000)","v":0},{"$f":"IF(O652=\"130\",2014.4*AO652*'CO2 Conversion Factors'!$G$20/0.8/1000,2096.16*AO652*'CO2 Conversion Factors'!$G$20/0.8/1000)","v":0},{"$f":"IF(O652=\"130\",2014.4*AO652*'CO2 Conversion Factors'!$J$20/0.8/1000,2096.16*AO652*'CO2 Conversion Factors'!$J$20/0.8/1000)","v":0},0,0,null,null,null,0,0,0,0,"",false,false,false,false,null,"","",""]
[null,null,null,null,null,null,null,null,null,null,null,null,null,null,null,null,null,null,null,null,null,null,null,null,null,null,null,null,null,null,null,null,null,null,null,null,null,{"$f":"IF(O653=\"130\",2014.4*AO653*'CO2 Conversion Factors'!$D$20/0.8/1000,2096.16*AO653*'CO2 Conversion Factors'!$D$20/0.8/1000)","v":0},{"$f":"IF(O653=\"130\",2014.4*AO653*'CO2 Conversion Factors'!$G$20/0.8/1000,2096.16*AO653*'CO2 Conversion Factors'!$G$20/0.8/1000)","v":0},{"$f":"IF(O653=\"130\",2014.4*AO653*'CO2 Conversion Factors'!$J$20/0.8/1000,2096.16*AO653*'CO2 Conversion Factors'!$J$20/0.8/1000)","v":0},0,0,null,null,null,0,0,0,0,"",false,false,false,false,null,"","",""]
[null,null,null,null,null,null,null,null,null,null,null,null,null,null,null,null,null,null,null,null,null,null,null,null,null,null,null,null,null,null,null,null,null,null,null,null,null,{"$f":"IF(O654=\"130\",2014.4*AO654*'CO2 Conversion Factors'!$D$20/0.8/1000,2096.16*AO654*'CO2 Conversion Factors'!$D$20/0.8/1000)","v":0},{"$f":"IF(O654=\"130\",2014.4*AO654*'CO2 Conversion Factors'!$G$20/0.8/1000,2096.16*AO654*'CO2 Conversion Factors'!$G$20/0.8/1000)","v":0},{"$f":"IF(O654=\"130\",2014.4*AO654*'CO2 Conversion Factors'!$J$20/0.8/1000,2096.16*AO654*'CO2 Conversion Factors'!$J$20/0.8/1000)","v":0},0,0,null,null,null,0,0,0,0,"",false,false,false,false,null,"","",""]
[null,null,null,null,null,null,null,null,null,null,null,null,null,null,null,null,null,null,null,null,null,null,null,null,null,null,null,null,null,null,null,null,null,null,null,null,null,{"$f":"IF(O655=\"130\",2014.4*AO655*'CO2 Conversion Factors'!$D$20/0.8/1000,2096.16*AO655*'CO2 Conversion Factors'!$D$20/0.8/1000)","v":0},{"$f":"IF(O655=\"130\",2014.4*AO655*'CO2 Conversion Factors'!$G$20/0.8/1000,2096.16*AO655*'CO2 Conversion Factors'!$G$20/0.8/1000)","v":0},{"$f":"IF(O655=\"130\",2014.4*AO655*'CO2 Conversion Factors'!$J$20/0.8/1000,2096.16*AO655*'CO2 Conversion Factors'!$J$20/0.8/1000)","v":0},0,0,null,null,null,0,0,0,0,"",false,false,false,false,null,"","",""]
[null,null,null,null,null,null,null,null,null,null,null,null,null,null,null,null,null,null,null,null,null,null,null,null,null,null,null,null,null,null,null,null,null,null,null,null,null,{"$f":"IF(O656=\"130\",2014.4*AO656*'CO2 Conversion Factors'!$D$20/0.8/1000,2096.16*AO656*'CO2 Conversion Factors'!$D$20/0.8/1000)","v":0},{"$f":"IF(O656=\"130\",2014.4*AO656*'CO2 Conversion Factors'!$G$20/0.8/1000,2096.16*AO656*'CO2 Conversion Factors'!$G$20/0.8/1000)","v":0},{"$f":"IF(O656=\"130\",2014.4*AO656*'CO2 Conversion Factors'!$J$20/0.8/1000,2096.16*AO656*'CO2 Conversion Factors'!$J$20/0.8/1000)","v":0},0,0,null,null,null,0,0,0,0,"",false,false,false,false,null,"","",""]
[null,null,null,null,null,null,null,null,null,null,null,null,null,null,null,null,null,null,null,null,null,null,null,null,null,null,null,null,null,null,null,null,null,null,null,null,null,{"$f":"IF(O657=\"130\",2014.4*AO657*'CO2 Conversion Factors'!$D$20/0.8/1000,2096.16*AO657*'CO2 Conversion Factors'!$D$20/0.8/1000)","v":0},{"$f":"IF(O657=\"130\",2014.4*AO657*'CO2 Conversion Factors'!$G$20/0.8/1000,2096.16*AO657*'CO2 Conversion Factors'!$G$20/0.8/1000)","v":0},{"$f":"IF(O657=\"130\",2014.4*AO657*'CO2 Conversion Factors'!$J$20/0.8/1000,2096.16*AO657*'CO2 Conversion Factors'!$J$20/0.8/1000)","v":0},0,0,null,null,null,0,0,0,0,"",false,false,false,false,null,"","",""]
[null,null,null,null,null,null,null,null,null,null,null,null,null,null,null,null,null,null,null,null,null,null,null,null,null,null,null,null,null,null,null,null,null,null,null,null,null,{"$f":"IF(O658=\"130\",2014.4*AO658*'CO2 Conversion Factors'!$D$20/0.8/1000,2096.16*AO658*'CO2 Conversion Factors'!$D$20/0.8/1000)","v":0},{"$f":"IF(O658=\"130\",2014.4*AO658*'CO2 Conversion Factors'!$G$20/0.8/1000,2096.16*AO658*'CO2 Conversion Factors'!$G$20/0.8/1000)","v":0},{"$f":"IF(O658=\"130\",2014.4*AO658*'CO2 Conversion Factors'!$J$20/0.8/1000,2096.16*AO658*'CO2 Conversion Factors'!$J$20/0.8/1000)","v":0},0,0,null,null,null,0,0,0,0,"",false,false,false,false,null,"","",""]
[null,null,null,null,null,null,null,null,null,null,null,null,null,null,null,null,null,null,null,null,null,null,null,null,null,null,null,null,null,null,null,null,null,null,null,null,null,{"$f":"IF(O659=\"130\",2014.4*AO659*'CO2 Conversion Factors'!$D$20/0.8/1000,2096.16*AO659*'CO2 Conversion Factors'!$D$20/0.8/1000)","v":0},{"$f":"IF(O659=\"130\",2014.4*AO659*'CO2 Conversion Factors'!$G$20/0.8/1000,2096.16*AO659*'CO2 Conversion Factors'!$G$20/0.8/1000)","v":0},{"$f":"IF(O659=\"130\",2014.4*AO659*'CO2 Conversion Factors'!$J$20/0.8/1000,2096.16*AO659*'CO2 Conversion Factors'!$J$20/0.8/1000)","v":0},0,0,null,null,null,0,0,0,0,"",false,false,false,false,null,"","",""]
[null,null,null,null,null,null,null,null,null,null,null,null,null,null,null,null,null,null,null,null,null,null,null,null,null,null,null,null,null,null,null,null,null,null,null,null,null,{"$f":"IF(O660=\"130\",2014.4*AO660*'CO2 Conversion Factors'!$D$20/0.8/1000,2096.16*AO660*'CO2 Conversion Factors'!$D$20/0.8/1000)","v":0},{"$f":"IF(O660=\"130\",2014.4*AO660*'CO2 Conversion Factors'!$G$20/0.8/1000,2096.16*AO660*'CO2 Conversion Factors'!$G$20/0.8/1000)","v":0},{"$f":"IF(O660=\"130\",2014.4*AO660*'CO2 Conversion Factors'!$J$20/0.8/1000,2096.16*AO660*'CO2 Conversion Factors'!$J$20/0.8/1000)","v":0},0,0,null,null,null,0,0,0,0,"",false,false,false,false,null,"","",""]
[null,null,null,null,null,null,null,null,null,null,null,null,null,null,null,null,null,null,null,null,null,null,null,null,null,null,null,null,null,null,null,null,null,null,null,null,null,{"$f":"IF(O661=\"130\",2014.4*AO661*'CO2 Conversion Factors'!$D$20/0.8/1000,2096.16*AO661*'CO2 Conversion Factors'!$D$20/0.8/1000)","v":0},{"$f":"IF(O661=\"130\",2014.4*AO661*'CO2 Conversion Factors'!$G$20/0.8/1000,2096.16*AO661*'CO2 Conversion Factors'!$G$20/0.8/1000)","v":0},{"$f":"IF(O661=\"130\",2014.4*AO661*'CO2 Conversion Factors'!$J$20/0.8/1000,2096.16*AO661*'CO2 Conversion Factors'!$J$20/0.8/1000)","v":0},0,0,null,null,null,0,0,0,0,"",false,false,false,false,null,"","",""]
[null,null,null,null,null,null,null,null,null,null,null,null,null,null,null,null,null,null,null,null,null,null,null,null,null,null,null,null,null,null,null,null,null,null,null,null,null,{"$f":"IF(O662=\"130\",2014.4*AO662*'CO2 Conversion Factors'!$D$20/0.8/1000,2096.16*AO662*'CO2 Conversion Factors'!$D$20/0.8/1000)","v":0},{"$f":"IF(O662=\"130\",2014.4*AO662*'CO2 Conversion Factors'!$G$20/0.8/1000,2096.16*AO662*'CO2 Conversion Factors'!$G$20/0.8/1000)","v":0},{"$f":"IF(O662=\"130\",2014.4*AO662*'CO2 Conversion Factors'!$J$20/0.8/1000,2096.16*AO662*'CO2 Conversion Factors'!$J$20/0.8/1000)","v":0},0,0,null,null,null,0,0,0,0,"",false,false,false,false,null,"","",""]
[null,null,null,null,null,null,null,null,null,null,null,null,null,null,null,null,null,null,null,null,null,null,null,null,null,null,null,null,null,null,null,null,null,null,null,null,null,{"$f":"IF(O663=\"130\",2014.4*AO663*'CO2 Conversion Factors'!$D$20/0.8/1000,2096.16*AO663*'CO2 Conversion Factors'!$D$20/0.8/1000)","v":0},{"$f":"IF(O663=\"130\",2014.4*AO663*'CO2 Conversion Factors'!$G$20/0.8/1000,2096.16*AO663*'CO2 Conversion Factors'!$G$20/0.8/1000)","v":0},{"$f":"IF(O663=\"130\",2014.4*AO663*'CO2 Conversion Factors'!$J$20/0.8/1000,2096.16*AO663*'CO2 Conversion Factors'!$J$20/0.8/1000)","v":0},0,0,null,null,null,0,0,0,0,"",false,false,false,false,null,"","",""]
[null,null,null,null,null,null,null,null,null,null,null,null,null,null,null,null,null,null,null,null,null,null,null,null,null,null,null,null,null,null,null,null,null,null,null,null,null,{"$f":"IF(O664=\"130\",2014.4*AO664*'CO2 Conversion Factors'!$D$20/0.8/1000,2096.16*AO664*'CO2 Conversion Factors'!$D$20/0.8/1000)","v":0},{"$f":"IF(O664=\"130\",2014.4*AO664*'CO2 Conversion Factors'!$G$20/0.8/1000,2096.16*AO664*'CO2 Conversion Factors'!$G$20/0.8/1000)","v":0},{"$f":"IF(O664=\"130\",2014.4*AO664*'CO2 Conversion Factors'!$J$20/0.8/1000,2096.16*AO664*'CO2 Conversion Factors'!$J$20/0.8/1000)","v":0},0,0,null,null,null,0,0,0,0,"",false,false,false,false,null,"","",""]
[null,null,null,null,null,null,null,null,null,null,null,null,null,null,null,null,null,null,null,null,null,null,null,null,null,null,null,null,null,null,null,null,null,null,null,null,null,{"$f":"IF(O665=\"130\",2014.4*AO665*'CO2 Conversion Factors'!$D$20/0.8/1000,2096.16*AO665*'CO2 Conversion Factors'!$D$20/0.8/1000)","v":0},{"$f":"IF(O665=\"130\",2014.4*AO665*'CO2 Conversion Factors'!$G$20/0.8/1000,2096.16*AO665*'CO2 Conversion Factors'!$G$20/0.8/1000)","v":0},{"$f":"IF(O665=\"130\",2014.4*AO665*'CO2 Conversion Factors'!$J$20/0.8/1000,2096.16*AO665*'CO2 Conversion Factors'!$J$20/0.8/1000)","v":0},0,0,null,null,null,0,0,0,0,"",false,false,false,false]
[null,null,null,null,null,null,null,null,null,null,null,null,null,null,null,null,null,null,null,null,null,null,null,null,null,null,null,null,null,null,null,null,null,null,null,null,null,{"$f":"IF(O666=\"130\",2014.4*AO666*'CO2 Conversion Factors'!$D$20/0.8/1000,2096.16*AO666*'CO2 Conversion Factors'!$D$20/0.8/1000)","v":0},{"$f":"IF(O666=\"130\",2014.4*AO666*'CO2 Conversion Factors'!$G$20/0.8/1000,2096.16*AO666*'CO2 Conversion Factors'!$G$20/0.8/1000)","v":0},{"$f":"IF(O666=\"130\",2014.4*AO666*'CO2 Conversion Factors'!$J$20/0.8/1000,2096.16*AO666*'CO2 Conversion Factors'!$J$20/0.8/1000)","v":0},0,0,null,null,null,0,0,0,0,"",false,false,false,false,null,"","",""]
[null,null,null,null,null,null,null,null,null,null,null,null,null,null,null,null,null,null,null,null,null,null,null,null,null,null,null,null,null,null,null,null,null,null,null,null,null,{"$f":"IF(O667=\"130\",2014.4*AO667*'CO2 Conversion Factors'!$D$20/0.8/1000,2096.16*AO667*'CO2 Conversion Factors'!$D$20/0.8/1000)","v":0},{"$f":"IF(O667=\"130\",2014.4*AO667*'CO2 Conversion Factors'!$G$20/0.8/1000,2096.16*AO667*'CO2 Conversion Factors'!$G$20/0.8/1000)","v":0},{"$f":"IF(O667=\"130\",2014.4*AO667*'CO2 Conversion Factors'!$J$20/0.8/1000,2096.16*AO667*'CO2 Conversion Factors'!$J$20/0.8/1000)","v":0},0,0,null,null,null,0,0,0,0,"",false,false,false,false,null,"","",""]
[null,null,null,null,null,null,null,null,null,null,null,null,null,null,null,null,null,null,null,null,null,null,null,null,null,null,null,null,null,null,null,null,null,null,null,null,null,{"$f":"IF(O668=\"130\",2014.4*AO668*'CO2 Conversion Factors'!$D$20/0.8/1000,2096.16*AO668*'CO2 Conversion Factors'!$D$20/0.8/1000)","v":0},{"$f":"IF(O668=\"130\",2014.4*AO668*'CO2 Conversion Factors'!$G$20/0.8/1000,2096.16*AO668*'CO2 Conversion Factors'!$G$20/0.8/1000)","v":0},{"$f":"IF(O668=\"130\",2014.4*AO668*'CO2 Conversion Factors'!$J$20/0.8/1000,2096.16*AO668*'CO2 Conversion Factors'!$J$20/0.8/1000)","v":0},0,0,null,null,null,0,0,0,0,"",false,false,false,false,null,"","",""]
[null,null,null,null,null,null,null,null,null,null,null,null,null,null,null,null,null,null,null,null,null,null,null,null,null,null,null,null,null,null,null,null,null,null,null,null,null,{"$f":"IF(O669=\"130\",2014.4*AO669*'CO2 Conversion Factors'!$D$20/0.8/1000,2096.16*AO669*'CO2 Conversion Factors'!$D$20/0.8/1000)","v":0},{"$f":"IF(O669=\"130\",2014.4*AO669*'CO2 Conversion Factors'!$G$20/0.8/1000,2096.16*AO669*'CO2 Conversion Factors'!$G$20/0.8/1000)","v":0},{"$f":"IF(O669=\"130\",2014.4*AO669*'CO2 Conversion Factors'!$J$20/0.8/1000,2096.16*AO669*'CO2 Conversion Factors'!$J$20/0.8/1000)","v":0},0,0,null,null,null,0,0,0,0,"",false,false,false,false,null,"","",""]
[null,null,null,null,null,null,null,null,null,null,null,null,null,null,null,null,null,null,null,null,null,null,null,null,null,null,null,null,null,null,null,null,null,null,null,null,null,{"$f":"IF(O670=\"130\",2014.4*AO670*'CO2 Conversion Factors'!$D$20/0.8/1000,2096.16*AO670*'CO2 Conversion Factors'!$D$20/0.8/1000)","v":0},{"$f":"IF(O670=\"130\",2014.4*AO670*'CO2 Conversion Factors'!$G$20/0.8/1000,2096.16*AO670*'CO2 Conversion Factors'!$G$20/0.8/1000)","v":0},{"$f":"IF(O670=\"130\",2014.4*AO670*'CO2 Conversion Factors'!$J$20/0.8/1000,2096.16*AO670*'CO2 Conversion Factors'!$J$20/0.8/1000)","v":0},0,0,null,null,null,0,0,0,0,"",false,false,false,false,null,"","",""]
[null,null,null,null,null,null,null,null,null,null,null,null,null,null,null,null,null,null,null,null,null,null,null,null,null,null,null,null,null,null,null,null,null,null,null,null,null,{"$f":"IF(O671=\"130\",2014.4*AO671*'CO2 Conversion Factors'!$D$20/0.8/1000,2096.16*AO671*'CO2 Conversion Factors'!$D$20/0.8/1000)","v":0},{"$f":"IF(O671=\"130\",2014.4*AO671*'CO2 Conversion Factors'!$G$20/0.8/1000,2096.16*AO671*'CO2 Conversion Factors'!$G$20/0.8/1000)","v":0},{"$f":"IF(O671=\"130\",2014.4*AO671*'CO2 Conversion Factors'!$J$20/0.8/1000,2096.16*AO671*'CO2 Conversion Factors'!$J$20/0.8/1000)","v":0},0,0,null,null,null,0,0,0,0,"",false,false,false,false,null,"","",""]
[null,null,null,null,null,null,null,null,null,null,null,null,null,null,null,null,null,null,null,null,null,null,null,null,null,null,null,null,null,null,null,null,null,null,null,null,null,{"$f":"IF(O672=\"130\",2014.4*AO672*'CO2 Conversion Factors'!$D$20/0.8/1000,2096.16*AO672*'CO2 Conversion Factors'!$D$20/0.8/1000)","v":0},{"$f":"IF(O672=\"130\",2014.4*AO672*'CO2 Conversion Factors'!$G$20/0.8/1000,2096.16*AO672*'CO2 Conversion Factors'!$G$20/0.8/1000)","v":0},{"$f":"IF(O672=\"130\",2014.4*AO672*'CO2 Conversion Factors'!$J$20/0.8/1000,2096.16*AO672*'CO2 Conversion Factors'!$J$20/0.8/1000)","v":0},0,0,null,null,null,0,0,0,0,"",false,false,false,false,null,"","",""]
[null,null,null,null,null,null,null,null,null,null,null,null,null,null,null,null,null,null,null,null,null,null,null,null,null,null,null,null,null,null,null,null,null,null,null,null,null,{"$f":"IF(O673=\"130\",2014.4*AO673*'CO2 Conversion Factors'!$D$20/0.8/1000,2096.16*AO673*'CO2 Conversion Factors'!$D$20/0.8/1000)","v":0},{"$f":"IF(O673=\"130\",2014.4*AO673*'CO2 Conversion Factors'!$G$20/0.8/1000,2096.16*AO673*'CO2 Conversion Factors'!$G$20/0.8/1000)","v":0},{"$f":"IF(O673=\"130\",2014.4*AO673*'CO2 Conversion Factors'!$J$20/0.8/1000,2096.16*AO673*'CO2 Conversion Factors'!$J$20/0.8/1000)","v":0},0,0,null,null,null,0,0,0,0,"",false,false,false,false,null,"","",""]
[null,null,null,null,null,null,null,null,null,null,null,null,null,null,null,null,null,null,null,null,null,null,null,null,null,null,null,null,null,null,null,null,null,null,null,null,null,{"$f":"IF(O674=\"130\",2014.4*AO674*'CO2 Conversion Factors'!$D$20/0.8/1000,2096.16*AO674*'CO2 Conversion Factors'!$D$20/0.8/1000)","v":0},{"$f":"IF(O674=\"130\",2014.4*AO674*'CO2 Conversion Factors'!$G$20/0.8/1000,2096.16*AO674*'CO2 Conversion Factors'!$G$20/0.8/1000)","v":0},{"$f":"IF(O674=\"130\",2014.4*AO674*'CO2 Conversion Factors'!$J$20/0.8/1000,2096.16*AO674*'CO2 Conversion Factors'!$J$20/0.8/1000)","v":0},0,0,null,null,null,0,0,0,0,"",false,false,false,false,null,"","",""]
[null,null,null,null,null,null,null,null,null,null,null,null,null,null,null,null,null,null,null,null,null,null,null,null,null,null,null,null,null,null,null,null,null,null,null,null,null,{"$f":"IF(O675=\"130\",2014.4*AO675*'CO2 Conversion Factors'!$D$20/0.8/1000,2096.16*AO675*'CO2 Conversion Factors'!$D$20/0.8/1000)","v":0},{"$f":"IF(O675=\"130\",2014.4*AO675*'CO2 Conversion Factors'!$G$20/0.8/1000,2096.16*AO675*'CO2 Conversion Factors'!$G$20/0.8/1000)","v":0},{"$f":"IF(O675=\"130\",2014.4*AO675*'CO2 Conversion Factors'!$J$20/0.8/1000,2096.16*AO675*'CO2 Conversion Factors'!$J$20/0.8/1000)","v":0},0,0,null,null,null,0,0,0,0,"",false,false,false,false,null,"","",""]
[null,null,null,null,null,null,null,null,null,null,null,null,null,null,null,null,null,null,null,null,null,null,null,null,null,null,null,null,null,null,null,null,null,null,null,null,null,{"$f":"IF(O676=\"130\",2014.4*AO676*'CO2 Conversion Factors'!$D$20/0.8/1000,2096.16*AO676*'CO2 Conversion Factors'!$D$20/0.8/1000)","v":0},{"$f":"IF(O676=\"130\",2014.4*AO676*'CO2 Conversion Factors'!$G$20/0.8/1000,2096.16*AO676*'CO2 Conversion Factors'!$G$20/0.8/1000)","v":0},{"$f":"IF(O676=\"130\",2014.4*AO676*'CO2 Conversion Factors'!$J$20/0.8/1000,2096.16*AO676*'CO2 Conversion Factors'!$J$20/0.8/1000)","v":0},0,0,null,null,null,0,0,0,0,"",false,false,false,false,null,"","",""]
[null,null,null,null,null,null,null,null,null,null,null,null,null,null,null,null,null,null,null,null,null,null,null,null,null,null,null,null,null,null,null,null,null,null,null,null,null,{"$f":"IF(O677=\"130\",2014.4*AO677*'CO2 Conversion Factors'!$D$20/0.8/1000,2096.16*AO677*'CO2 Conversion Factors'!$D$20/0.8/1000)","v":0},{"$f":"IF(O677=\"130\",2014.4*AO677*'CO2 Conversion Factors'!$G$20/0.8/1000,2096.16*AO677*'CO2 Conversion Factors'!$G$20/0.8/1000)","v":0},{"$f":"IF(O677=\"130\",2014.4*AO677*'CO2 Conversion Factors'!$J$20/0.8/1000,2096.16*AO677*'CO2 Conversion Factors'!$J$20/0.8/1000)","v":0},0,0,null,null,null,0,0,0,0,"",false,false,false,false,null,"","",""]
[null,null,null,null,null,null,null,null,null,null,null,null,null,null,null,null,null,null,null,null,null,null,null,null,null,null,null,null,null,null,null,null,null,null,null,null,null,{"$f":"IF(O678=\"130\",2014.4*AO678*'CO2 Conversion Factors'!$D$20/0.8/1000,2096.16*AO678*'CO2 Conversion Factors'!$D$20/0.8/1000)","v":0},{"$f":"IF(O678=\"130\",2014.4*AO678*'CO2 Conversion Factors'!$G$20/0.8/1000,2096.16*AO678*'CO2 Conversion Factors'!$G$20/0.8/1000)","v":0},{"$f":"IF(O678=\"130\",2014.4*AO678*'CO2 Conversion Factors'!$J$20/0.8/1000,2096.16*AO678*'CO2 Conversion Factors'!$J$20/0.8/1000)","v":0},0,0,null,null,null,0,0,0,0,"",false,false,false,false,null,"","",""]
[null,null,null,null,null,null,null,null,null,null,null,null,null,null,null,null,null,null,null,null,null,null,null,null,null,null,null,null,null,null,null,null,null,null,null,null,null,{"$f":"IF(O679=\"130\",2014.4*AO679*'CO2 Conversion Factors'!$D$20/0.8/1000,2096.16*AO679*'CO2 Conversion Factors'!$D$20/0.8/1000)","v":0},{"$f":"IF(O679=\"130\",2014.4*AO679*'CO2 Conversion Factors'!$G$20/0.8/1000,2096.16*AO679*'CO2 Conversion Factors'!$G$20/0.8/1000)","v":0},{"$f":"IF(O679=\"130\",2014.4*AO679*'CO2 Conversion Factors'!$J$20/0.8/1000,2096.16*AO679*'CO2 Conversion Factors'!$J$20/0.8/1000)","v":0},0,0,null,null,null,0,0,0,0,"",false,false,false,false,null,"","",""]
[null,null,null,null,null,null,null,null,null,null,null,null,null,null,null,null,null,null,null,null,null,null,null,null,null,null,null,null,null,null,null,null,null,null,null,null,null,{"$f":"IF(O680=\"130\",2014.4*AO680*'CO2 Conversion Factors'!$D$20/0.8/1000,2096.16*AO680*'CO2 Conversion Factors'!$D$20/0.8/1000)","v":0},{"$f":"IF(O680=\"130\",2014.4*AO680*'CO2 Conversion Factors'!$G$20/0.8/1000,2096.16*AO680*'CO2 Conversion Factors'!$G$20/0.8/1000)","v":0},{"$f":"IF(O680=\"130\",2014.4*AO680*'CO2 Conversion Factors'!$J$20/0.8/1000,2096.16*AO680*'CO2 Conversion Factors'!$J$20/0.8/1000)","v":0},0,0,null,null,null,0,0,0,0,"",false,false,false,false,null,"","",""]
[null,null,null,null,null,null,null,null,null,null,null,null,null,null,null,null,null,null,null,null,null,null,null,null,null,null,null,null,null,null,null,null,null,null,null,null,null,{"$f":"IF(O681=\"130\",2014.4*AO681*'CO2 Conversion Factors'!$D$20/0.8/1000,2096.16*AO681*'CO2 Conversion Factors'!$D$20/0.8/1000)","v":0},{"$f":"IF(O681=\"130\",2014.4*AO681*'CO2 Conversion Factors'!$G$20/0.8/1000,2096.16*AO681*'CO2 Conversion Factors'!$G$20/0.8/1000)","v":0},{"$f":"IF(O681=\"130\",2014.4*AO681*'CO2 Conversion Factors'!$J$20/0.8/1000,2096.16*AO681*'CO2 Conversion Factors'!$J$20/0.8/1000)","v":0},0,0,null,null,null,0,0,0,0,"",false,false,false,false,null,"","",""]
[null,null,null,null,null,null,null,null,null,null,null,null,null,null,null,null,null,null,null,null,null,null,null,null,null,null,null,null,null,null,null,null,null,null,null,null,null,{"$f":"IF(O682=\"130\",2014.4*AO682*'CO2 Conversion Factors'!$D$20/0.8/1000,2096.16*AO682*'CO2 Conversion Factors'!$D$20/0.8/1000)","v":0},{"$f":"IF(O682=\"130\",2014.4*AO682*'CO2 Conversion Factors'!$G$20/0.8/1000,2096.16*AO682*'CO2 Conversion Factors'!$G$20/0.8/1000)","v":0},{"$f":"IF(O682=\"130\",2014.4*AO682*'CO2 Conversion Factors'!$J$20/0.8/1000,2096.16*AO682*'CO2 Conversion Factors'!$J$20/0.8/1000)","v":0},0,0,null,null,null,0,0,0,0,"",false,false,false,false,null,"","",""]
[null,null,null,null,null,null,null,null,null,null,null,null,null,null,null,null,null,null,null,null,null,null,null,null,null,null,null,null,null,null,null,null,null,null,null,null,null,{"$f":"IF(O683=\"130\",2014.4*AO683*'CO2 Conversion Factors'!$D$20/0.8/1000,2096.16*AO683*'CO2 Conversion Factors'!$D$20/0.8/1000)","v":0},{"$f":"IF(O683=\"130\",2014.4*AO683*'CO2 Conversion Factors'!$G$20/0.8/1000,2096.16*AO683*'CO2 Conversion Factors'!$G$20/0.8/1000)","v":0},{"$f":"IF(O683=\"130\",2014.4*AO683*'CO2 Conversion Factors'!$J$20/0.8/1000,2096.16*AO683*'CO2 Conversion Factors'!$J$20/0.8/1000)","v":0},0,0,null,null,null,0,0,0,0,"",false,false,false,false,null,"","",""]
[null,null,null,null,null,null,null,null,null,null,null,null,null,null,null,null,null,null,null,null,null,null,null,null,null,null,null,null,null,null,null,null,null,null,null,null,null,{"$f":"IF(O684=\"130\",2014.4*AO684*'CO2 Conversion Factors'!$D$20/0.8/1000,2096.16*AO684*'CO2 Conversion Factors'!$D$20/0.8/1000)","v":0},{"$f":"IF(O684=\"130\",2014.4*AO684*'CO2 Conversion Factors'!$G$20/0.8/1000,2096.16*AO684*'CO2 Conversion Factors'!$G$20/0.8/1000)","v":0},{"$f":"IF(O684=\"130\",2014.4*AO684*'CO2 Conversion Factors'!$J$20/0.8/1000,2096.16*AO684*'CO2 Conversion Factors'!$J$20/0.8/1000)","v":0},0,0,null,null,null,0,0,0,0,"",false,false,false,false,null,"","",""]
[null,null,null,null,null,null,null,null,null,null,null,null,null,null,null,null,null,null,null,null,null,null,null,null,null,null,null,null,null,null,null,null,null,null,null,null,null,{"$f":"IF(O685=\"130\",2014.4*AO685*'CO2 Conversion Factors'!$D$20/0.8/1000,2096.16*AO685*'CO2 Conversion Factors'!$D$20/0.8/1000)","v":0},{"$f":"IF(O685=\"130\",2014.4*AO685*'CO2 Conversion Factors'!$G$20/0.8/1000,2096.16*AO685*'CO2 Conversion Factors'!$G$20/0.8/1000)","v":0},{"$f":"IF(O685=\"130\",2014.4*AO685*'CO2 Conversion Factors'!$J$20/0.8/1000,2096.16*AO685*'CO2 Conversion Factors'!$J$20/0.8/1000)","v":0},0,0,null,null,null,0,0,0,0,"",false,false,false,false,null,"","",""]
[null,null,null,null,null,null,null,null,null,null,null,null,null,null,null,null,null,null,null,null,null,null,null,null,null,null,null,null,null,null,null,null,null,null,null,null,null,{"$f":"IF(O686=\"130\",2014.4*AO686*'CO2 Conversion Factors'!$D$20/0.8/1000,2096.16*AO686*'CO2 Conversion Factors'!$D$20/0.8/1000)","v":0},{"$f":"IF(O686=\"130\",2014.4*AO686*'CO2 Conversion Factors'!$G$20/0.8/1000,2096.16*AO686*'CO2 Conversion Factors'!$G$20/0.8/1000)","v":0},{"$f":"IF(O686=\"130\",2014.4*AO686*'CO2 Conversion Factors'!$J$20/0.8/1000,2096.16*AO686*'CO2 Conversion Factors'!$J$20/0.8/1000)","v":0},0,0,null,null,null,0,0,0,0,"",false,false,false,false,null,"","",""]
[null,null,null,null,null,null,null,null,null,null,null,null,null,null,null,null,null,null,null,null,null,null,null,null,null,null,null,null,null,null,null,null,null,null,null,null,null,{"$f":"IF(O687=\"130\",2014.4*AO687*'CO2 Conversion Factors'!$D$20/0.8/1000,2096.16*AO687*'CO2 Conversion Factors'!$D$20/0.8/1000)","v":0},{"$f":"IF(O687=\"130\",2014.4*AO687*'CO2 Conversion Factors'!$G$20/0.8/1000,2096.16*AO687*'CO2 Conversion Factors'!$G$20/0.8/1000)","v":0},{"$f":"IF(O687=\"130\",2014.4*AO687*'CO2 Conversion Factors'!$J$20/0.8/1000,2096.16*AO687*'CO2 Conversion Factors'!$J$20/0.8/1000)","v":0},0,0,null,null,null,0,0,0,0,"",false,false,false,false,null,"","",""]
[null,null,null,null,null,null,null,null,null,null,null,null,null,null,null,null,null,null,null,null,null,null,null,null,null,null,null,null,null,null,null,null,null,null,null,null,null,{"$f":"IF(O688=\"130\",2014.4*AO688*'CO2 Conversion Factors'!$D$20/0.8/1000,2096.16*AO688*'CO2 Conversion Factors'!$D$20/0.8/1000)","v":0},{"$f":"IF(O688=\"130\",2014.4*AO688*'CO2 Conversion Factors'!$G$20/0.8/1000,2096.16*AO688*'CO2 Conversion Factors'!$G$20/0.8/1000)","v":0},{"$f":"IF(O688=\"130\",2014.4*AO688*'CO2 Conversion Factors'!$J$20/0.8/1000,2096.16*AO688*'CO2 Conversion Factors'!$J$20/0.8/1000)","v":0},0,0,null,null,null,0,0,0,0,"",false,false,false,false,null,"","",""]
[null,null,null,null,null,null,null,null,null,null,null,null,null,null,null,null,null,null,null,null,null,null,null,null,null,null,null,null,null,null,null,null,null,null,null,null,null,{"$f":"IF(O689=\"130\",2014.4*AO689*'CO2 Conversion Factors'!$D$20/0.8/1000,2096.16*AO689*'CO2 Conversion Factors'!$D$20/0.8/1000)","v":0},{"$f":"IF(O689=\"130\",2014.4*AO689*'CO2 Conversion Factors'!$G$20/0.8/1000,2096.16*AO689*'CO2 Conversion Factors'!$G$20/0.8/1000)","v":0},{"$f":"IF(O689=\"130\",2014.4*AO689*'CO2 Conversion Factors'!$J$20/0.8/1000,2096.16*AO689*'CO2 Conversion Factors'!$J$20/0.8/1000)","v":0},0,0,null,null,null,0,0,0,0,"",false,false,false,false,null,"","",""]
[null,null,null,null,null,null,null,null,null,null,null,null,null,null,null,null,null,null,null,null,null,null,null,null,null,null,null,null,null,null,null,null,null,null,null,null,null,{"$f":"IF(O690=\"130\",2014.4*AO690*'CO2 Conversion Factors'!$D$20/0.8/1000,2096.16*AO690*'CO2 Conversion Factors'!$D$20/0.8/1000)","v":0},{"$f":"IF(O690=\"130\",2014.4*AO690*'CO2 Conversion Factors'!$G$20/0.8/1000,2096.16*AO690*'CO2 Conversion Factors'!$G$20/0.8/1000)","v":0},{"$f":"IF(O690=\"130\",2014.4*AO690*'CO2 Conversion Factors'!$J$20/0.8/1000,2096.16*AO690*'CO2 Conversion Factors'!$J$20/0.8/1000)","v":0},0,0,null,null,null,0,0,0,0,"",false,false,false,false,null,"","",""]
[null,null,null,null,null,null,null,null,null,null,null,null,null,null,null,null,null,null,null,null,null,null,null,null,null,null,null,null,null,null,null,null,null,null,null,null,null,{"$f":"IF(O691=\"130\",2014.4*AO691*'CO2 Conversion Factors'!$D$20/0.8/1000,2096.16*AO691*'CO2 Conversion Factors'!$D$20/0.8/1000)","v":0},{"$f":"IF(O691=\"130\",2014.4*AO691*'CO2 Conversion Factors'!$G$20/0.8/1000,2096.16*AO691*'CO2 Conversion Factors'!$G$20/0.8/1000)","v":0},{"$f":"IF(O691=\"130\",2014.4*AO691*'CO2 Conversion Factors'!$J$20/0.8/1000,2096.16*AO691*'CO2 Conversion Factors'!$J$20/0.8/1000)","v":0},0,0,null,null,null,0,0,0,0,"",false,false,false,false,null,"","",""]
[null,null,null,null,null,null,null,null,null,null,null,null,null,null,null,null,null,null,null,null,null,null,null,null,null,null,null,null,null,null,null,null,null,null,null,null,null,{"$f":"IF(O692=\"130\",2014.4*AO692*'CO2 Conversion Factors'!$D$20/0.8/1000,2096.16*AO692*'CO2 Conversion Factors'!$D$20/0.8/1000)","v":0},{"$f":"IF(O692=\"130\",2014.4*AO692*'CO2 Conversion Factors'!$G$20/0.8/1000,2096.16*AO692*'CO2 Conversion Factors'!$G$20/0.8/1000)","v":0},{"$f":"IF(O692=\"130\",2014.4*AO692*'CO2 Conversion Factors'!$J$20/0.8/1000,2096.16*AO692*'CO2 Conversion Factors'!$J$20/0.8/1000)","v":0},0,0,null,null,null,0,0,0,0,"",false,false,false,false,null,"","",""]
[null,null,null,null,null,null,null,null,null,null,null,null,null,null,null,null,null,null,null,null,null,null,null,null,null,null,null,null,null,null,null,null,null,null,null,null,null,{"$f":"IF(O693=\"130\",2014.4*AO693*'CO2 Conversion Factors'!$D$20/0.8/1000,2096.16*AO693*'CO2 Conversion Factors'!$D$20/0.8/1000)","v":0},{"$f":"IF(O693=\"130\",2014.4*AO693*'CO2 Conversion Factors'!$G$20/0.8/1000,2096.16*AO693*'CO2 Conversion Factors'!$G$20/0.8/1000)","v":0},{"$f":"IF(O693=\"130\",2014.4*AO693*'CO2 Conversion Factors'!$J$20/0.8/1000,2096.16*AO693*'CO2 Conversion Factors'!$J$20/0.8/1000)","v":0},0,0,null,null,null,0,0,0,0,"",false,false,false,false,null,"","",""]
[null,null,null,null,null,null,null,null,null,null,null,null,null,null,null,null,null,null,null,null,null,null,null,null,null,null,null,null,null,null,null,null,null,null,null,null,null,{"$f":"IF(O694=\"130\",2014.4*AO694*'CO2 Conversion Factors'!$D$20/0.8/1000,2096.16*AO694*'CO2 Conversion Factors'!$D$20/0.8/1000)","v":0},{"$f":"IF(O694=\"130\",2014.4*AO694*'CO2 Conversion Factors'!$G$20/0.8/1000,2096.16*AO694*'CO2 Conversion Factors'!$G$20/0.8/1000)","v":0},{"$f":"IF(O694=\"130\",2014.4*AO694*'CO2 Conversion Factors'!$J$20/0.8/1000,2096.16*AO694*'CO2 Conversion Factors'!$J$20/0.8/1000)","v":0},0,0,null,null,null,0,0,0,0,"",false,false,false,false,null,"","",""]
[null,null,null,null,null,null,null,null,null,null,null,null,null,null,null,null,null,null,null,null,null,null,null,null,null,null,null,null,null,null,null,null,null,null,null,null,null,{"$f":"IF(O695=\"130\",2014.4*AO695*'CO2 Conversion Factors'!$D$20/0.8/1000,2096.16*AO695*'CO2 Conversion Factors'!$D$20/0.8/1000)","v":0},{"$f":"IF(O695=\"130\",2014.4*AO695*'CO2 Conversion Factors'!$G$20/0.8/1000,2096.16*AO695*'CO2 Conversion Factors'!$G$20/0.8/1000)","v":0},{"$f":"IF(O695=\"130\",2014.4*AO695*'CO2 Conversion Factors'!$J$20/0.8/1000,2096.16*AO695*'CO2 Conversion Factors'!$J$20/0.8/1000)","v":0},0,0,null,null,null,0,0,0,0,"",false,false,false,false,null,"","",""]
[null,null,null,null,null,null,null,null,null,null,null,null,null,null,null,null,null,null,null,null,null,null,null,null,null,null,null,null,null,null,null,null,null,null,null,null,null,{"$f":"IF(O696=\"130\",2014.4*AO696*'CO2 Conversion Factors'!$D$20/0.8/1000,2096.16*AO696*'CO2 Conversion Factors'!$D$20/0.8/1000)","v":0},{"$f":"IF(O696=\"130\",2014.4*AO696*'CO2 Conversion Factors'!$G$20/0.8/1000,2096.16*AO696*'CO2 Conversion Factors'!$G$20/0.8/1000)","v":0},{"$f":"IF(O696=\"130\",2014.4*AO696*'CO2 Conversion Factors'!$J$20/0.8/1000,2096.16*AO696*'CO2 Conversion Factors'!$J$20/0.8/1000)","v":0},0,0,null,null,null,0,0,0,0,"",false,false,false,false,null,"","",""]
[null,null,null,null,null,null,null,null,null,null,null,null,null,null,null,null,null,null,null,null,null,null,null,null,null,null,null,null,null,null,null,null,null,null,null,null,null,{"$f":"IF(O697=\"130\",2014.4*AO697*'CO2 Conversion Factors'!$D$20/0.8/1000,2096.16*AO697*'CO2 Conversion Factors'!$D$20/0.8/1000)","v":0},{"$f":"IF(O697=\"130\",2014.4*AO697*'CO2 Conversion Factors'!$G$20/0.8/1000,2096.16*AO697*'CO2 Conversion Factors'!$G$20/0.8/1000)","v":0},{"$f":"IF(O697=\"130\",2014.4*AO697*'CO2 Conversion Factors'!$J$20/0.8/1000,2096.16*AO697*'CO2 Conversion Factors'!$J$20/0.8/1000)","v":0},0,0,null,null,null,0,0,0,0,"",false,false,false,false,null,"","",""]
[null,null,null,null,null,null,null,null,null,null,null,null,null,null,null,null,null,null,null,null,null,null,null,null,null,null,null,null,null,null,null,null,null,null,null,null,null,{"$f":"IF(O698=\"130\",2014.4*AO698*'CO2 Conversion Factors'!$D$20/0.8/1000,2096.16*AO698*'CO2 Conversion Factors'!$D$20/0.8/1000)","v":0},{"$f":"IF(O698=\"130\",2014.4*AO698*'CO2 Conversion Factors'!$G$20/0.8/1000,2096.16*AO698*'CO2 Conversion Factors'!$G$20/0.8/1000)","v":0},{"$f":"IF(O698=\"130\",2014.4*AO698*'CO2 Conversion Factors'!$J$20/0.8/1000,2096.16*AO698*'CO2 Conversion Factors'!$J$20/0.8/1000)","v":0},0,0,null,null,null,0,0,0,0,"",false,false,false,false,null,"","",""]
[null,null,null,null,null,null,null,null,null,null,null,null,null,null,null,null,null,null,null,null,null,null,null,null,null,null,null,null,null,null,null,null,null,null,null,null,null,{"$f":"IF(O699=\"130\",2014.4*AO699*'CO2 Conversion Factors'!$D$20/0.8/1000,2096.16*AO699*'CO2 Conversion Factors'!$D$20/0.8/1000)","v":0},{"$f":"IF(O699=\"130\",2014.4*AO699*'CO2 Conversion Factors'!$G$20/0.8/1000,2096.16*AO699*'CO2 Conversion Factors'!$G$20/0.8/1000)","v":0},{"$f":"IF(O699=\"130\",2014.4*AO699*'CO2 Conversion Factors'!$J$20/0.8/1000,2096.16*AO699*'CO2 Conversion Factors'!$J$20/0.8/1000)","v":0},0,0,null,null,null,0,0,0,0,"",false,false,false,false,null,"","",""]
[null,null,null,null,null,null,null,null,null,null,null,null,null,null,null,null,null,null,null,null,null,null,null,null,null,null,null,null,null,null,null,null,null,null,null,null,null,{"$f":"IF(O700=\"130\",2014.4*AO700*'CO2 Conversion Factors'!$D$20/0.8/1000,2096.16*AO700*'CO2 Conversion Factors'!$D$20/0.8/1000)","v":0},{"$f":"IF(O700=\"130\",2014.4*AO700*'CO2 Conversion Factors'!$G$20/0.8/1000,2096.16*AO700*'CO2 Conversion Factors'!$G$20/0.8/1000)","v":0},{"$f":"IF(O700=\"130\",2014.4*AO700*'CO2 Conversion Factors'!$J$20/0.8/1000,2096.16*AO700*'CO2 Conversion Factors'!$J$20/0.8/1000)","v":0},0,0,null,null,null,0,0,0,0,"",false,false,false,false,null,"","",""]
[null,null,null,null,null,null,null,null,null,null,null,null,null,null,null,null,null,null,null,null,null,null,null,null,null,null,null,null,null,null,null,null,null,null,null,null,null,{"$f":"IF(O701=\"130\",2014.4*AO701*'CO2 Conversion Factors'!$D$20/0.8/1000,2096.16*AO701*'CO2 Conversion Factors'!$D$20/0.8/1000)","v":0},{"$f":"IF(O701=\"130\",2014.4*AO701*'CO2 Conversion Factors'!$G$20/0.8/1000,2096.16*AO701*'CO2 Conversion Factors'!$G$20/0.8/1000)","v":0},{"$f":"IF(O701=\"130\",2014.4*AO701*'CO2 Conversion Factors'!$J$20/0.8/1000,2096.16*AO701*'CO2 Conversion Factors'!$J$20/0.8/1000)","v":0},0,0,null,null,null,0,0,0,0,"",false,false,false,false,null,"","",""]
[null,null,null,null,null,null,null,null,null,null,null,null,null,null,null,null,null,null,null,null,null,null,null,null,null,null,null,null,null,null,null,null,null,null,null,null,null,{"$f":"IF(O702=\"130\",2014.4*AO702*'CO2 Conversion Factors'!$D$20/0.8/1000,2096.16*AO702*'CO2 Conversion Factors'!$D$20/0.8/1000)","v":0},{"$f":"IF(O702=\"130\",2014.4*AO702*'CO2 Conversion Factors'!$G$20/0.8/1000,2096.16*AO702*'CO2 Conversion Factors'!$G$20/0.8/1000)","v":0},{"$f":"IF(O702=\"130\",2014.4*AO702*'CO2 Conversion Factors'!$J$20/0.8/1000,2096.16*AO702*'CO2 Conversion Factors'!$J$20/0.8/1000)","v":0},0,0,null,null,null,0,0,0,0,"",false,false,false,false,null,"","",""]
[null,null,null,null,null,null,null,null,null,null,null,null,null,null,null,null,null,null,null,null,null,null,null,null,null,null,null,null,null,null,null,null,null,null,null,null,null,{"$f":"IF(O703=\"130\",2014.4*AO703*'CO2 Conversion Factors'!$D$20/0.8/1000,2096.16*AO703*'CO2 Conversion Factors'!$D$20/0.8/1000)","v":0},{"$f":"IF(O703=\"130\",2014.4*AO703*'CO2 Conversion Factors'!$G$20/0.8/1000,2096.16*AO703*'CO2 Conversion Factors'!$G$20/0.8/1000)","v":0},{"$f":"IF(O703=\"130\",2014.4*AO703*'CO2 Conversion Factors'!$J$20/0.8/1000,2096.16*AO703*'CO2 Conversion Factors'!$J$20/0.8/1000)","v":0},0,0,null,null,null,0,0,0,0,"",false,false,false,false,null,"","",""]
[null,null,null,null,null,null,null,null,null,null,null,null,null,null,null,null,null,null,null,null,null,null,null,null,null,null,null,null,null,null,null,null,null,null,null,null,null,{"$f":"IF(O704=\"130\",2014.4*AO704*'CO2 Conversion Factors'!$D$20/0.8/1000,2096.16*AO704*'CO2 Conversion Factors'!$D$20/0.8/1000)","v":0},{"$f":"IF(O704=\"130\",2014.4*AO704*'CO2 Conversion Factors'!$G$20/0.8/1000,2096.16*AO704*'CO2 Conversion Factors'!$G$20/0.8/1000)","v":0},{"$f":"IF(O704=\"130\",2014.4*AO704*'CO2 Conversion Factors'!$J$20/0.8/1000,2096.16*AO704*'CO2 Conversion Factors'!$J$20/0.8/1000)","v":0},0,0,null,null,null,0,0,0,0,"",false,false,false,false,null,"","",""]
[null,null,null,null,null,null,null,null,null,null,null,null,null,null,null,null,null,null,null,null,null,null,null,null,null,null,null,null,null,null,null,null,null,null,null,null,null,{"$f":"IF(O705=\"130\",2014.4*AO705*'CO2 Conversion Factors'!$D$20/0.8/1000,2096.16*AO705*'CO2 Conversion Factors'!$D$20/0.8/1000)","v":0},{"$f":"IF(O705=\"130\",2014.4*AO705*'CO2 Conversion Factors'!$G$20/0.8/1000,2096.16*AO705*'CO2 Conversion Factors'!$G$20/0.8/1000)","v":0},{"$f":"IF(O705=\"130\",2014.4*AO705*'CO2 Conversion Factors'!$J$20/0.8/1000,2096.16*AO705*'CO2 Conversion Factors'!$J$20/0.8/1000)","v":0},0,0,null,null,null,0,0,0,0,"",false,false,false,false,null,"","",""]
[null,null,null,null,null,null,null,null,null,null,null,null,null,null,null,null,null,null,null,null,null,null,null,null,null,null,null,null,null,null,null,null,null,null,null,null,null,{"$f":"IF(O706=\"130\",2014.4*AO706*'CO2 Conversion Factors'!$D$20/0.8/1000,2096.16*AO706*'CO2 Conversion Factors'!$D$20/0.8/1000)","v":0},{"$f":"IF(O706=\"130\",2014.4*AO706*'CO2 Conversion Factors'!$G$20/0.8/1000,2096.16*AO706*'CO2 Conversion Factors'!$G$20/0.8/1000)","v":0},{"$f":"IF(O706=\"130\",2014.4*AO706*'CO2 Conversion Factors'!$J$20/0.8/1000,2096.16*AO706*'CO2 Conversion Factors'!$J$20/0.8/1000)","v":0},0,0,null,null,null,0,0,0,0,"",false,false,false,false,null,"","",""]
[null,null,null,null,null,null,null,null,null,null,null,null,null,null,null,null,null,null,null,null,null,null,null,null,null,null,null,null,null,null,null,null,null,null,null,null,null,{"$f":"IF(O707=\"130\",2014.4*AO707*'CO2 Conversion Factors'!$D$20/0.8/1000,2096.16*AO707*'CO2 Conversion Factors'!$D$20/0.8/1000)","v":0},{"$f":"IF(O707=\"130\",2014.4*AO707*'CO2 Conversion Factors'!$G$20/0.8/1000,2096.16*AO707*'CO2 Conversion Factors'!$G$20/0.8/1000)","v":0},{"$f":"IF(O707=\"130\",2014.4*AO707*'CO2 Conversion Factors'!$J$20/0.8/1000,2096.16*AO707*'CO2 Conversion Factors'!$J$20/0.8/1000)","v":0},{"$f":"IFERROR(IF(OR(L707=\"BLW\",L707=\"PRI\",L707=\"LNK\"),IF(Cover_Select_SteamCostUnits=\"£/1000kg\",11.6*(VLOOKUP($I707,Abb_Lookup_OrifaceDia,2,FALSE)^2)*SQRT(($O707-$P707)*($O707+$P707)),25.57363*(VLOOKUP($I707,Abb_Lookup_OrifaceDia,2,FALSE)^2)*SQRT(($O707-$P707)*($O707+$P707)))*(VLOOKUP(AE707,Cover_Lookup_OpTime,4,FALSE)/1000),IF(L707=\"LL\",IF(Cover_Select_SteamCostUnits=\"£/1000kg\",11.6*(VLOOKUP($I707,Abb_Lookup_OrifaceDia,2,FALSE)^2)*SQRT(($O707-$P707)*($O707+$P707)),25.57363*(VLOOKUP($I707,Abb_Lookup_OrifaceDia,2,FALSE)^2)*SQRT(($O707-$P707)*($O707+$P707)))*(VLOOKUP(AE707,Cover_Lookup_OpTime,4,FALSE)/2000),IF(L707=\"SL\",IF(Cover_Select_SteamCostUnits=\"£/1000kg\",11.6*(VLOOKUP($I707,Abb_Lookup_OrifaceDia,2,FALSE)^2)*SQRT(($O707-$P707)*($O707+$P707)),25.57363*(VLOOKUP($I707,Abb_Lookup_OrifaceDia,2,FALSE)^2)*SQRT(($O707-$P707)*($O707+$P707)))*(VLOOKUP(AE707,Cover_Lookup_OpTime,4,FALSE)/4000),0))),0)","v":0},0,null,null,null,0,0,0,0,"",false,false,false,false,null,"","",""]
[null,null,null,null,null,null,null,null,null,null,null,null,null,null,null,null,null,null,null,null,null,null,null,null,null,null,null,null,null,null,null,null,null,null,null,null,null,{"$f":"IF(O708=\"130\",2014.4*AO708*'CO2 Conversion Factors'!$D$20/0.8/1000,2096.16*AO708*'CO2 Conversion Factors'!$D$20/0.8/1000)","v":0},{"$f":"IF(O708=\"130\",2014.4*AO708*'CO2 Conversion Factors'!$G$20/0.8/1000,2096.16*AO708*'CO2 Conversion Factors'!$G$20/0.8/1000)","v":0},{"$f":"IF(O708=\"130\",2014.4*AO708*'CO2 Conversion Factors'!$J$20/0.8/1000,2096.16*AO708*'CO2 Conversion Factors'!$J$20/0.8/1000)","v":0},0,0,null,null,null,0,0,0,0,"",false,false,false,false,null,"","",""]
[null,null,null,null,null,null,null,null,null,null,null,null,null,null,null,null,null,null,null,null,null,null,null,null,null,null,null,null,null,null,null,null,null,null,null,null,null,{"$f":"IF(O709=\"130\",2014.4*AO709*'CO2 Conversion Factors'!$D$20/0.8/1000,2096.16*AO709*'CO2 Conversion Factors'!$D$20/0.8/1000)","v":0},{"$f":"IF(O709=\"130\",2014.4*AO709*'CO2 Conversion Factors'!$G$20/0.8/1000,2096.16*AO709*'CO2 Conversion Factors'!$G$20/0.8/1000)","v":0},{"$f":"IF(O709=\"130\",2014.4*AO709*'CO2 Conversion Factors'!$J$20/0.8/1000,2096.16*AO709*'CO2 Conversion Factors'!$J$20/0.8/1000)","v":0},0,{"$f":"IFERROR(AO709*Cover_Select_SteamCost,0)","v":0},null,null,null,{"$f":"IF(NOT(OR(L709=\"NIS\",L709=\"OFF\")),F709)","v":0},{"$f":"IF(NOT(OR(L709=\"NIS\",L709=\"OFF\",L709=\"PO\")),F709)","v":0},{"$f":"IF(NOT(OR(L709=\"NIS\",L709=\"OFF\")),H709)","v":0},{"$f":"IF(NOT(OR(L709=\"NIS\",L709=\"OFF\",L709=\"PO\")),H709)","v":0},"",{"$f":"IF(L709=\"CLD\", H709)","v":false},{"$f":"IF(L709=\"SL\", H709)","v":false},{"$f":"IF(L709=\"LL\", H709)","v":false},{"$f":"IF(L709=\"BLW\", H709)","v":false},null,"","",""]
[null,null,null,null,null,null,null,null,null,null,null,null,null,null,null,null,null,null,null,null,null,null,null,null,null,null,null,null,null,null,null,null,null,null,null,null,null,{"$f":"IF(O710=\"130\",2014.4*AO710*'CO2 Conversion Factors'!$D$20/0.8/1000,2096.16*AO710*'CO2 Conversion Factors'!$D$20/0.8/1000)","v":0},{"$f":"IF(O710=\"130\",2014.4*AO710*'CO2 Conversion Factors'!$G$20/0.8/1000,2096.16*AO710*'CO2 Conversion Factors'!$G$20/0.8/1000)","v":0},{"$f":"IF(O710=\"130\",2014.4*AO710*'CO2 Conversion Factors'!$J$20/0.8/1000,2096.16*AO710*'CO2 Conversion Factors'!$J$20/0.8/1000)","v":0},0,0,null,null,null,0,0,0,0,{"$f":"F710&H710","v":""},false,false,false,false,null,"","",""]
[null,null,null,null,null,null,null,null,null,null,null,null,null,null,null,null,null,null,null,null,null,null,null,null,null,null,null,null,null,null,null,null,null,null,null,null,null,{"$f":"IF(O711=\"130\",2014.4*AO711*'CO2 Conversion Factors'!$D$20/0.8/1000,2096.16*AO711*'CO2 Conversion Factors'!$D$20/0.8/1000)","v":0},{"$f":"IF(O711=\"130\",2014.4*AO711*'CO2 Conversion Factors'!$G$20/0.8/1000,2096.16*AO711*'CO2 Conversion Factors'!$G$20/0.8/1000)","v":0},{"$f":"IF(O711=\"130\",2014.4*AO711*'CO2 Conversion Factors'!$J$20/0.8/1000,2096.16*AO711*'CO2 Conversion Factors'!$J$20/0.8/1000)","v":0},0,0,null,null,null,0,0,0,0,"",false,false,false,false,null,"","",""]
[null,null,null,null,null,null,null,null,null,null,null,null,null,null,null,null,null,null,null,null,null,null,null,null,null,null,null,null,null,null,null,null,null,null,null,null,null,{"$f":"IF(O712=\"130\",2014.4*AO712*'CO2 Conversion Factors'!$D$20/0.8/1000,2096.16*AO712*'CO2 Conversion Factors'!$D$20/0.8/1000)","v":0},{"$f":"IF(O712=\"130\",2014.4*AO712*'CO2 Conversion Factors'!$G$20/0.8/1000,2096.16*AO712*'CO2 Conversion Factors'!$G$20/0.8/1000)","v":0},{"$f":"IF(O712=\"130\",2014.4*AO712*'CO2 Conversion Factors'!$J$20/0.8/1000,2096.16*AO712*'CO2 Conversion Factors'!$J$20/0.8/1000)","v":0},0,0,null,null,null,0,0,0,0,"",false,false,false,false,null,"","",""]
[null,null,null,null,null,null,null,null,null,null,null,null,null,null,null,null,null,null,null,null,null,null,null,null,null,null,null,null,null,null,null,null,null,null,null,null,null,{"$f":"IF(O713=\"130\",2014.4*AO713*'CO2 Conversion Factors'!$D$20/0.8/1000,2096.16*AO713*'CO2 Conversion Factors'!$D$20/0.8/1000)","v":0},{"$f":"IF(O713=\"130\",2014.4*AO713*'CO2 Conversion Factors'!$G$20/0.8/1000,2096.16*AO713*'CO2 Conversion Factors'!$G$20/0.8/1000)","v":0},{"$f":"IF(O713=\"130\",2014.4*AO713*'CO2 Conversion Factors'!$J$20/0.8/1000,2096.16*AO713*'CO2 Conversion Factors'!$J$20/0.8/1000)","v":0},0,0,null,null,null,0,0,0,0,"",false,false,false,false,null,"","",""]
[null,null,null,null,null,null,null,null,null,null,null,null,null,null,null,null,null,null,null,null,null,null,null,null,null,null,null,null,null,null,null,null,null,null,null,null,null,{"$f":"IF(O714=\"130\",2014.4*AO714*'CO2 Conversion Factors'!$D$20/0.8/1000,2096.16*AO714*'CO2 Conversion Factors'!$D$20/0.8/1000)","v":0},{"$f":"IF(O714=\"130\",2014.4*AO714*'CO2 Conversion Factors'!$G$20/0.8/1000,2096.16*AO714*'CO2 Conversion Factors'!$G$20/0.8/1000)","v":0},{"$f":"IF(O714=\"130\",2014.4*AO714*'CO2 Conversion Factors'!$J$20/0.8/1000,2096.16*AO714*'CO2 Conversion Factors'!$J$20/0.8/1000)","v":0},0,0,null,null,null,0,0,0,0,"",false,false,false,false,null,"","",""]
[null,null,null,null,null,null,null,null,null,null,null,null,null,null,null,null,null,null,null,null,null,null,null,null,null,null,null,null,null,null,null,null,null,null,null,null,null,{"$f":"IF(O715=\"130\",2014.4*AO715*'CO2 Conversion Factors'!$D$20/0.8/1000,2096.16*AO715*'CO2 Conversion Factors'!$D$20/0.8/1000)","v":0},{"$f":"IF(O715=\"130\",2014.4*AO715*'CO2 Conversion Factors'!$G$20/0.8/1000,2096.16*AO715*'CO2 Conversion Factors'!$G$20/0.8/1000)","v":0},{"$f":"IF(O715=\"130\",2014.4*AO715*'CO2 Conversion Factors'!$J$20/0.8/1000,2096.16*AO715*'CO2 Conversion Factors'!$J$20/0.8/1000)","v":0},0,0,null,null,null,0,0,0,0,"",false,false,false,false,null,"","",""]
[null,null,null,null,null,null,null,null,null,null,null,null,null,null,null,null,null,null,null,null,null,null,null,null,null,null,null,null,null,null,null,null,null,null,null,null,null,{"$f":"IF(O716=\"130\",2014.4*AO716*'CO2 Conversion Factors'!$D$20/0.8/1000,2096.16*AO716*'CO2 Conversion Factors'!$D$20/0.8/1000)","v":0},{"$f":"IF(O716=\"130\",2014.4*AO716*'CO2 Conversion Factors'!$G$20/0.8/1000,2096.16*AO716*'CO2 Conversion Factors'!$G$20/0.8/1000)","v":0},{"$f":"IF(O716=\"130\",2014.4*AO716*'CO2 Conversion Factors'!$J$20/0.8/1000,2096.16*AO716*'CO2 Conversion Factors'!$J$20/0.8/1000)","v":0},0,0,null,null,null,0,0,0,0,"",false,false,false,false,null,"","",""]
[null,null,null,null,null,null,null,null,null,null,null,null,null,null,null,null,null,null,null,null,null,null,null,null,null,null,null,null,null,null,null,null,null,null,null,null,null,{"$f":"IF(O717=\"130\",2014.4*AO717*'CO2 Conversion Factors'!$D$20/0.8/1000,2096.16*AO717*'CO2 Conversion Factors'!$D$20/0.8/1000)","v":0},{"$f":"IF(O717=\"130\",2014.4*AO717*'CO2 Conversion Factors'!$G$20/0.8/1000,2096.16*AO717*'CO2 Conversion Factors'!$G$20/0.8/1000)","v":0},{"$f":"IF(O717=\"130\",2014.4*AO717*'CO2 Conversion Factors'!$J$20/0.8/1000,2096.16*AO717*'CO2 Conversion Factors'!$J$20/0.8/1000)","v":0},0,0,null,null,null,0,0,0,0,"",false,false,false,false,null,"","",""]
[null,null,null,null,null,null,null,null,null,null,null,null,null,null,null,null,null,null,null,null,null,null,null,null,null,null,null,null,null,null,null,null,null,null,null,null,null,{"$f":"IF(O718=\"130\",2014.4*AO718*'CO2 Conversion Factors'!$D$20/0.8/1000,2096.16*AO718*'CO2 Conversion Factors'!$D$20/0.8/1000)","v":0},{"$f":"IF(O718=\"130\",2014.4*AO718*'CO2 Conversion Factors'!$G$20/0.8/1000,2096.16*AO718*'CO2 Conversion Factors'!$G$20/0.8/1000)","v":0},{"$f":"IF(O718=\"130\",2014.4*AO718*'CO2 Conversion Factors'!$J$20/0.8/1000,2096.16*AO718*'CO2 Conversion Factors'!$J$20/0.8/1000)","v":0},0,0,null,null,null,0,0,0,0,"",false,false,false,false,null,"","",""]
[null,null,null,null,null,null,null,null,null,null,null,null,null,null,null,null,null,null,null,null,null,null,null,null,null,null,null,null,null,null,null,null,null,null,null,null,null,{"$f":"IF(O719=\"130\",2014.4*AO719*'CO2 Conversion Factors'!$D$20/0.8/1000,2096.16*AO719*'CO2 Conversion Factors'!$D$20/0.8/1000)","v":0},{"$f":"IF(O719=\"130\",2014.4*AO719*'CO2 Conversion Factors'!$G$20/0.8/1000,2096.16*AO719*'CO2 Conversion Factors'!$G$20/0.8/1000)","v":0},{"$f":"IF(O719=\"130\",2014.4*AO719*'CO2 Conversion Factors'!$J$20/0.8/1000,2096.16*AO719*'CO2 Conversion Factors'!$J$20/0.8/1000)","v":0},0,0,null,null,null,0,0,0,0,"",false,false,false,false,null,"","",""]
[null,null,null,null,null,null,null,null,null,null,null,null,null,null,null,null,null,null,null,null,null,null,null,null,null,null,null,null,null,null,null,null,null,null,null,null,null,{"$f":"IF(O720=\"130\",2014.4*AO720*'CO2 Conversion Factors'!$D$20/0.8/1000,2096.16*AO720*'CO2 Conversion Factors'!$D$20/0.8/1000)","v":0},{"$f":"IF(O720=\"130\",2014.4*AO720*'CO2 Conversion Factors'!$G$20/0.8/1000,2096.16*AO720*'CO2 Conversion Factors'!$G$20/0.8/1000)","v":0},{"$f":"IF(O720=\"130\",2014.4*AO720*'CO2 Conversion Factors'!$J$20/0.8/1000,2096.16*AO720*'CO2 Conversion Factors'!$J$20/0.8/1000)","v":0},0,0,null,null,null,0,0,0,0,"",false,false,false,false,null,"","",""]
[null,null,null,null,null,null,null,null,null,null,null,null,null,null,null,null,null,null,null,null,null,null,null,null,null,null,null,null,null,null,null,null,null,null,null,null,null,{"$f":"IF(O721=\"130\",2014.4*AO721*'CO2 Conversion Factors'!$D$20/0.8/1000,2096.16*AO721*'CO2 Conversion Factors'!$D$20/0.8/1000)","v":0},{"$f":"IF(O721=\"130\",2014.4*AO721*'CO2 Conversion Factors'!$G$20/0.8/1000,2096.16*AO721*'CO2 Conversion Factors'!$G$20/0.8/1000)","v":0},{"$f":"IF(O721=\"130\",2014.4*AO721*'CO2 Conversion Factors'!$J$20/0.8/1000,2096.16*AO721*'CO2 Conversion Factors'!$J$20/0.8/1000)","v":0},0,0,null,null,null,0,0,0,0,"",false,false,false,false,null,"","",""]
[null,null,null,null,null,null,null,null,null,null,null,null,null,null,null,null,null,null,null,null,null,null,null,null,null,null,null,null,null,null,null,null,null,null,null,null,null,{"$f":"IF(O722=\"130\",2014.4*AO722*'CO2 Conversion Factors'!$D$20/0.8/1000,2096.16*AO722*'CO2 Conversion Factors'!$D$20/0.8/1000)","v":0},{"$f":"IF(O722=\"130\",2014.4*AO722*'CO2 Conversion Factors'!$G$20/0.8/1000,2096.16*AO722*'CO2 Conversion Factors'!$G$20/0.8/1000)","v":0},{"$f":"IF(O722=\"130\",2014.4*AO722*'CO2 Conversion Factors'!$J$20/0.8/1000,2096.16*AO722*'CO2 Conversion Factors'!$J$20/0.8/1000)","v":0},0,0,null,null,null,0,0,0,0,"",false,false,false,false,null,"","",""]
[null,null,null,null,null,null,null,null,null,null,null,null,null,null,null,null,null,null,null,null,null,null,null,null,null,null,null,null,null,null,null,null,null,null,null,null,null,{"$f":"IF(O723=\"130\",2014.4*AO723*'CO2 Conversion Factors'!$D$20/0.8/1000,2096.16*AO723*'CO2 Conversion Factors'!$D$20/0.8/1000)","v":0},{"$f":"IF(O723=\"130\",2014.4*AO723*'CO2 Conversion Factors'!$G$20/0.8/1000,2096.16*AO723*'CO2 Conversion Factors'!$G$20/0.8/1000)","v":0},{"$f":"IF(O723=\"130\",2014.4*AO723*'CO2 Conversion Factors'!$J$20/0.8/1000,2096.16*AO723*'CO2 Conversion Factors'!$J$20/0.8/1000)","v":0},0,0,null,null,null,0,0,0,0,"",false,false,false,false,null,"","",""]
[null,null,null,null,null,null,null,null,null,null,null,null,null,null,null,null,null,null,null,null,null,null,null,null,null,null,null,null,null,null,null,null,null,null,null,null,null,{"$f":"IF(O724=\"130\",2014.4*AO724*'CO2 Conversion Factors'!$D$20/0.8/1000,2096.16*AO724*'CO2 Conversion Factors'!$D$20/0.8/1000)","v":0},{"$f":"IF(O724=\"130\",2014.4*AO724*'CO2 Conversion Factors'!$G$20/0.8/1000,2096.16*AO724*'CO2 Conversion Factors'!$G$20/0.8/1000)","v":0},{"$f":"IF(O724=\"130\",2014.4*AO724*'CO2 Conversion Factors'!$J$20/0.8/1000,2096.16*AO724*'CO2 Conversion Factors'!$J$20/0.8/1000)","v":0},0,0,null,null,null,0,0,0,0,"",false,false,false,false,null,"","",""]
[null,null,null,null,null,null,null,null,null,null,null,null,null,null,null,null,null,null,null,null,null,null,null,null,null,null,null,null,null,null,null,null,null,null,null,null,null,{"$f":"IF(O725=\"130\",2014.4*AO725*'CO2 Conversion Factors'!$D$20/0.8/1000,2096.16*AO725*'CO2 Conversion Factors'!$D$20/0.8/1000)","v":0},{"$f":"IF(O725=\"130\",2014.4*AO725*'CO2 Conversion Factors'!$G$20/0.8/1000,2096.16*AO725*'CO2 Conversion Factors'!$G$20/0.8/1000)","v":0},{"$f":"IF(O725=\"130\",2014.4*AO725*'CO2 Conversion Factors'!$J$20/0.8/1000,2096.16*AO725*'CO2 Conversion Factors'!$J$20/0.8/1000)","v":0},0,0,null,null,null,0,0,0,0,"",false,false,false,false,null,"","",""]
[null,null,null,null,null,null,null,null,null,null,null,null,null,null,null,null,null,null,null,null,null,null,null,null,null,null,null,null,null,null,null,null,null,null,null,null,null,{"$f":"IF(O726=\"130\",2014.4*AO726*'CO2 Conversion Factors'!$D$20/0.8/1000,2096.16*AO726*'CO2 Conversion Factors'!$D$20/0.8/1000)","v":0},{"$f":"IF(O726=\"130\",2014.4*AO726*'CO2 Conversion Factors'!$G$20/0.8/1000,2096.16*AO726*'CO2 Conversion Factors'!$G$20/0.8/1000)","v":0},{"$f":"IF(O726=\"130\",2014.4*AO726*'CO2 Conversion Factors'!$J$20/0.8/1000,2096.16*AO726*'CO2 Conversion Factors'!$J$20/0.8/1000)","v":0},0,0,null,null,null,0,0,0,0,"",false,false,false,false,null,"","",""]
[null,null,null,null,null,null,null,null,null,null,null,null,null,null,null,null,null,null,null,null,null,null,null,null,null,null,null,null,null,null,null,null,null,null,null,null,null,{"$f":"IF(O727=\"130\",2014.4*AO727*'CO2 Conversion Factors'!$D$20/0.8/1000,2096.16*AO727*'CO2 Conversion Factors'!$D$20/0.8/1000)","v":0},{"$f":"IF(O727=\"130\",2014.4*AO727*'CO2 Conversion Factors'!$G$20/0.8/1000,2096.16*AO727*'CO2 Conversion Factors'!$G$20/0.8/1000)","v":0},{"$f":"IF(O727=\"130\",2014.4*AO727*'CO2 Conversion Factors'!$J$20/0.8/1000,2096.16*AO727*'CO2 Conversion Factors'!$J$20/0.8/1000)","v":0},0,0,null,null,null,0,0,0,0,"",false,false,false,false,null,"","",""]
[null,null,null,null,null,null,null,null,null,null,null,null,null,null,null,null,null,null,null,null,null,null,null,null,null,null,null,null,null,null,null,null,null,null,null,null,null,{"$f":"IF(O728=\"130\",2014.4*AO728*'CO2 Conversion Factors'!$D$20/0.8/1000,2096.16*AO728*'CO2 Conversion Factors'!$D$20/0.8/1000)","v":0},{"$f":"IF(O728=\"130\",2014.4*AO728*'CO2 Conversion Factors'!$G$20/0.8/1000,2096.16*AO728*'CO2 Conversion Factors'!$G$20/0.8/1000)","v":0},{"$f":"IF(O728=\"130\",2014.4*AO728*'CO2 Conversion Factors'!$J$20/0.8/1000,2096.16*AO728*'CO2 Conversion Factors'!$J$20/0.8/1000)","v":0},0,0,null,null,null,0,0,0,0,"",false,false,false,false,null,"","",""]
[null,null,null,null,null,null,null,null,null,null,null,null,null,null,null,null,null,null,null,null,null,null,null,null,null,null,null,null,null,null,null,null,null,null,null,null,null,{"$f":"IF(O729=\"130\",2014.4*AO729*'CO2 Conversion Factors'!$D$20/0.8/1000,2096.16*AO729*'CO2 Conversion Factors'!$D$20/0.8/1000)","v":0},{"$f":"IF(O729=\"130\",2014.4*AO729*'CO2 Conversion Factors'!$G$20/0.8/1000,2096.16*AO729*'CO2 Conversion Factors'!$G$20/0.8/1000)","v":0},{"$f":"IF(O729=\"130\",2014.4*AO729*'CO2 Conversion Factors'!$J$20/0.8/1000,2096.16*AO729*'CO2 Conversion Factors'!$J$20/0.8/1000)","v":0},0,0,null,null,null,0,0,0,0,"",false,false,false,false,null,"","",""]
[null,null,null,null,null,null,null,null,null,null,null,null,null,null,null,null,null,null,null,null,null,null,null,null,null,null,null,null,null,null,null,null,null,null,null,null,null,{"$f":"IF(O730=\"130\",2014.4*AO730*'CO2 Conversion Factors'!$D$20/0.8/1000,2096.16*AO730*'CO2 Conversion Factors'!$D$20/0.8/1000)","v":0},{"$f":"IF(O730=\"130\",2014.4*AO730*'CO2 Conversion Factors'!$G$20/0.8/1000,2096.16*AO730*'CO2 Conversion Factors'!$G$20/0.8/1000)","v":0},{"$f":"IF(O730=\"130\",2014.4*AO730*'CO2 Conversion Factors'!$J$20/0.8/1000,2096.16*AO730*'CO2 Conversion Factors'!$J$20/0.8/1000)","v":0},0,0,null,null,null,0,0,0,0,"",false,false,false,false,null,"","",""]
[null,null,null,null,null,null,null,null,null,null,null,null,null,null,null,null,null,null,null,null,null,null,null,null,null,null,null,null,null,null,null,null,null,null,null,null,null,{"$f":"IF(O731=\"130\",2014.4*AO731*'CO2 Conversion Factors'!$D$20/0.8/1000,2096.16*AO731*'CO2 Conversion Factors'!$D$20/0.8/1000)","v":0},{"$f":"IF(O731=\"130\",2014.4*AO731*'CO2 Conversion Factors'!$G$20/0.8/1000,2096.16*AO731*'CO2 Conversion Factors'!$G$20/0.8/1000)","v":0},{"$f":"IF(O731=\"130\",2014.4*AO731*'CO2 Conversion Factors'!$J$20/0.8/1000,2096.16*AO731*'CO2 Conversion Factors'!$J$20/0.8/1000)","v":0},0,0,null,null,null,0,0,0,0,"",false,false,false,false,null,"","",""]
[null,null,null,null,null,null,null,null,null,null,null,null,null,null,null,null,null,null,null,null,null,null,null,null,null,null,null,null,null,null,null,null,null,null,null,null,null,{"$f":"IF(O732=\"130\",2014.4*AO732*'CO2 Conversion Factors'!$D$20/0.8/1000,2096.16*AO732*'CO2 Conversion Factors'!$D$20/0.8/1000)","v":0},{"$f":"IF(O732=\"130\",2014.4*AO732*'CO2 Conversion Factors'!$G$20/0.8/1000,2096.16*AO732*'CO2 Conversion Factors'!$G$20/0.8/1000)","v":0},{"$f":"IF(O732=\"130\",2014.4*AO732*'CO2 Conversion Factors'!$J$20/0.8/1000,2096.16*AO732*'CO2 Conversion Factors'!$J$20/0.8/1000)","v":0},0,0,null,null,null,0,0,0,0,"",false,false,false,false,null,"","",""]
[null,null,null,null,null,null,null,null,null,null,null,null,null,null,null,null,null,null,null,null,null,null,null,null,null,null,null,null,null,null,null,null,null,null,null,null,null,{"$f":"IF(O733=\"130\",2014.4*AO733*'CO2 Conversion Factors'!$D$20/0.8/1000,2096.16*AO733*'CO2 Conversion Factors'!$D$20/0.8/1000)","v":0},{"$f":"IF(O733=\"130\",2014.4*AO733*'CO2 Conversion Factors'!$G$20/0.8/1000,2096.16*AO733*'CO2 Conversion Factors'!$G$20/0.8/1000)","v":0},{"$f":"IF(O733=\"130\",2014.4*AO733*'CO2 Conversion Factors'!$J$20/0.8/1000,2096.16*AO733*'CO2 Conversion Factors'!$J$20/0.8/1000)","v":0},0,0,null,null,null,0,0,0,0,"",false,false,false,false,null,"","",""]
[null,null,null,null,null,null,null,null,null,null,null,null,null,null,null,null,null,null,null,null,null,null,null,null,null,null,null,null,null,null,null,null,null,null,null,null,null,{"$f":"IF(O734=\"130\",2014.4*AO734*'CO2 Conversion Factors'!$D$20/0.8/1000,2096.16*AO734*'CO2 Conversion Factors'!$D$20/0.8/1000)","v":0},{"$f":"IF(O734=\"130\",2014.4*AO734*'CO2 Conversion Factors'!$G$20/0.8/1000,2096.16*AO734*'CO2 Conversion Factors'!$G$20/0.8/1000)","v":0},{"$f":"IF(O734=\"130\",2014.4*AO734*'CO2 Conversion Factors'!$J$20/0.8/1000,2096.16*AO734*'CO2 Conversion Factors'!$J$20/0.8/1000)","v":0},0,0,null,null,null,0,0,0,0,"",false,false,false,false,null,"","",""]
[null,null,null,null,null,null,null,null,null,null,null,null,null,null,null,null,null,null,null,null,null,null,null,null,null,null,null,null,null,null,null,null,null,null,null,null,null,{"$f":"IF(O735=\"130\",2014.4*AO735*'CO2 Conversion Factors'!$D$20/0.8/1000,2096.16*AO735*'CO2 Conversion Factors'!$D$20/0.8/1000)","v":0},{"$f":"IF(O735=\"130\",2014.4*AO735*'CO2 Conversion Factors'!$G$20/0.8/1000,2096.16*AO735*'CO2 Conversion Factors'!$G$20/0.8/1000)","v":0},{"$f":"IF(O735=\"130\",2014.4*AO735*'CO2 Conversion Factors'!$J$20/0.8/1000,2096.16*AO735*'CO2 Conversion Factors'!$J$20/0.8/1000)","v":0},0,0,null,null,null,0,0,0,0,"",false,false,false,false,null,"","",""]
[null,null,null,null,null,null,null,null,null,null,null,null,null,null,null,null,null,null,null,null,null,null,null,null,null,null,null,null,null,null,null,null,null,null,null,null,null,{"$f":"IF(O736=\"130\",2014.4*AO736*'CO2 Conversion Factors'!$D$20/0.8/1000,2096.16*AO736*'CO2 Conversion Factors'!$D$20/0.8/1000)","v":0},{"$f":"IF(O736=\"130\",2014.4*AO736*'CO2 Conversion Factors'!$G$20/0.8/1000,2096.16*AO736*'CO2 Conversion Factors'!$G$20/0.8/1000)","v":0},{"$f":"IF(O736=\"130\",2014.4*AO736*'CO2 Conversion Factors'!$J$20/0.8/1000,2096.16*AO736*'CO2 Conversion Factors'!$J$20/0.8/1000)","v":0},0,0,null,null,null,0,0,0,0,"",false,false,false,false,null,"","",""]
[null,null,null,null,null,null,null,null,null,null,null,null,null,null,null,null,null,null,null,null,null,null,null,null,null,null,null,null,null,null,null,null,null,null,null,null,null,{"$f":"IF(O737=\"130\",2014.4*AO737*'CO2 Conversion Factors'!$D$20/0.8/1000,2096.16*AO737*'CO2 Conversion Factors'!$D$20/0.8/1000)","v":0},{"$f":"IF(O737=\"130\",2014.4*AO737*'CO2 Conversion Factors'!$G$20/0.8/1000,2096.16*AO737*'CO2 Conversion Factors'!$G$20/0.8/1000)","v":0},{"$f":"IF(O737=\"130\",2014.4*AO737*'CO2 Conversion Factors'!$J$20/0.8/1000,2096.16*AO737*'CO2 Conversion Factors'!$J$20/0.8/1000)","v":0},0,0,null,null,null,0,0,0,0,"",false,false,false,false,null,"","",""]
[null,null,null,null,null,null,null,null,null,null,null,null,null,null,null,null,null,null,null,null,null,null,null,null,null,null,null,null,null,null,null,null,null,null,null,null,null,{"$f":"IF(O738=\"130\",2014.4*AO738*'CO2 Conversion Factors'!$D$20/0.8/1000,2096.16*AO738*'CO2 Conversion Factors'!$D$20/0.8/1000)","v":0},{"$f":"IF(O738=\"130\",2014.4*AO738*'CO2 Conversion Factors'!$G$20/0.8/1000,2096.16*AO738*'CO2 Conversion Factors'!$G$20/0.8/1000)","v":0},{"$f":"IF(O738=\"130\",2014.4*AO738*'CO2 Conversion Factors'!$J$20/0.8/1000,2096.16*AO738*'CO2 Conversion Factors'!$J$20/0.8/1000)","v":0},0,0,null,null,null,0,0,0,0,"",false,false,false,false,null,"","",""]
[null,null,null,null,null,null,null,null,null,null,null,null,null,null,null,null,null,null,null,null,null,null,null,null,null,null,null,null,null,null,null,null,null,null,null,null,null,{"$f":"IF(O739=\"130\",2014.4*AO739*'CO2 Conversion Factors'!$D$20/0.8/1000,2096.16*AO739*'CO2 Conversion Factors'!$D$20/0.8/1000)","v":0},{"$f":"IF(O739=\"130\",2014.4*AO739*'CO2 Conversion Factors'!$G$20/0.8/1000,2096.16*AO739*'CO2 Conversion Factors'!$G$20/0.8/1000)","v":0},{"$f":"IF(O739=\"130\",2014.4*AO739*'CO2 Conversion Factors'!$J$20/0.8/1000,2096.16*AO739*'CO2 Conversion Factors'!$J$20/0.8/1000)","v":0},0,0,null,null,null,0,0,0,0,"",false,false,false,false,null,"","",""]
[null,null,null,null,null,null,null,null,null,null,null,null,null,null,null,null,null,null,null,null,null,null,null,null,null,null,null,null,null,null,null,null,null,null,null,null,null,{"$f":"IF(O740=\"130\",2014.4*AO740*'CO2 Conversion Factors'!$D$20/0.8/1000,2096.16*AO740*'CO2 Conversion Factors'!$D$20/0.8/1000)","v":0},{"$f":"IF(O740=\"130\",2014.4*AO740*'CO2 Conversion Factors'!$G$20/0.8/1000,2096.16*AO740*'CO2 Conversion Factors'!$G$20/0.8/1000)","v":0},{"$f":"IF(O740=\"130\",2014.4*AO740*'CO2 Conversion Factors'!$J$20/0.8/1000,2096.16*AO740*'CO2 Conversion Factors'!$J$20/0.8/1000)","v":0},0,0,null,null,null,0,0,0,0,"",false,false,false,false,null,"","",""]
[null,null,null,null,null,null,null,null,null,null,null,null,null,null,null,null,null,null,null,null,null,null,null,null,null,null,null,null,null,null,null,null,null,null,null,null,null,{"$f":"IF(O741=\"130\",2014.4*AO741*'CO2 Conversion Factors'!$D$20/0.8/1000,2096.16*AO741*'CO2 Conversion Factors'!$D$20/0.8/1000)","v":0},{"$f":"IF(O741=\"130\",2014.4*AO741*'CO2 Conversion Factors'!$G$20/0.8/1000,2096.16*AO741*'CO2 Conversion Factors'!$G$20/0.8/1000)","v":0},{"$f":"IF(O741=\"130\",2014.4*AO741*'CO2 Conversion Factors'!$J$20/0.8/1000,2096.16*AO741*'CO2 Conversion Factors'!$J$20/0.8/1000)","v":0},0,0,null,null,null,0,0,0,0,"",false,false,false,false,null,"","",""]
[null,null,null,null,null,null,null,null,null,null,null,null,null,null,null,null,null,null,null,null,null,null,null,null,null,null,null,null,null,null,null,null,null,null,null,null,null,{"$f":"IF(O742=\"130\",2014.4*AO742*'CO2 Conversion Factors'!$D$20/0.8/1000,2096.16*AO742*'CO2 Conversion Factors'!$D$20/0.8/1000)","v":0},{"$f":"IF(O742=\"130\",2014.4*AO742*'CO2 Conversion Factors'!$G$20/0.8/1000,2096.16*AO742*'CO2 Conversion Factors'!$G$20/0.8/1000)","v":0},{"$f":"IF(O742=\"130\",2014.4*AO742*'CO2 Conversion Factors'!$J$20/0.8/1000,2096.16*AO742*'CO2 Conversion Factors'!$J$20/0.8/1000)","v":0},0,0,null,null,null,0,0,0,0,"",false,false,false,false,null,"","",""]
[null,null,null,null,null,null,null,null,null,null,null,null,null,null,null,null,null,null,null,null,null,null,null,null,null,null,null,null,null,null,null,null,null,null,null,null,null,{"$f":"IF(O743=\"130\",2014.4*AO743*'CO2 Conversion Factors'!$D$20/0.8/1000,2096.16*AO743*'CO2 Conversion Factors'!$D$20/0.8/1000)","v":0},{"$f":"IF(O743=\"130\",2014.4*AO743*'CO2 Conversion Factors'!$G$20/0.8/1000,2096.16*AO743*'CO2 Conversion Factors'!$G$20/0.8/1000)","v":0},{"$f":"IF(O743=\"130\",2014.4*AO743*'CO2 Conversion Factors'!$J$20/0.8/1000,2096.16*AO743*'CO2 Conversion Factors'!$J$20/0.8/1000)","v":0},0,0,null,null,null,0,0,0,0,"",false,false,false,false,null,"","",""]
[null,null,null,null,null,null,null,null,null,null,null,null,null,null,null,null,null,null,null,null,null,null,null,null,null,null,null,null,null,null,null,null,null,null,null,null,null,{"$f":"IF(O744=\"130\",2014.4*AO744*'CO2 Conversion Factors'!$D$20/0.8/1000,2096.16*AO744*'CO2 Conversion Factors'!$D$20/0.8/1000)","v":0},{"$f":"IF(O744=\"130\",2014.4*AO744*'CO2 Conversion Factors'!$G$20/0.8/1000,2096.16*AO744*'CO2 Conversion Factors'!$G$20/0.8/1000)","v":0},{"$f":"IF(O744=\"130\",2014.4*AO744*'CO2 Conversion Factors'!$J$20/0.8/1000,2096.16*AO744*'CO2 Conversion Factors'!$J$20/0.8/1000)","v":0},0,0,null,null,null,0,0,0,0,"",false,false,false,false,null,"","",""]
[null,null,null,null,null,null,null,null,null,null,null,null,null,null,null,null,null,null,null,null,null,null,null,null,null,null,null,null,null,null,null,null,null,null,null,null,null,{"$f":"IF(O745=\"130\",2014.4*AO745*'CO2 Conversion Factors'!$D$20/0.8/1000,2096.16*AO745*'CO2 Conversion Factors'!$D$20/0.8/1000)","v":0},{"$f":"IF(O745=\"130\",2014.4*AO745*'CO2 Conversion Factors'!$G$20/0.8/1000,2096.16*AO745*'CO2 Conversion Factors'!$G$20/0.8/1000)","v":0},{"$f":"IF(O745=\"130\",2014.4*AO745*'CO2 Conversion Factors'!$J$20/0.8/1000,2096.16*AO745*'CO2 Conversion Factors'!$J$20/0.8/1000)","v":0},0,0,null,null,null,0,0,0,0,"",false,false,false,false,null,"","",""]
[null,null,null,null,null,null,null,null,null,null,null,null,null,null,null,null,null,null,null,null,null,null,null,null,null,null,null,null,null,null,null,null,null,null,null,null,null,{"$f":"IF(O746=\"130\",2014.4*AO746*'CO2 Conversion Factors'!$D$20/0.8/1000,2096.16*AO746*'CO2 Conversion Factors'!$D$20/0.8/1000)","v":0},{"$f":"IF(O746=\"130\",2014.4*AO746*'CO2 Conversion Factors'!$G$20/0.8/1000,2096.16*AO746*'CO2 Conversion Factors'!$G$20/0.8/1000)","v":0},{"$f":"IF(O746=\"130\",2014.4*AO746*'CO2 Conversion Factors'!$J$20/0.8/1000,2096.16*AO746*'CO2 Conversion Factors'!$J$20/0.8/1000)","v":0},0,0,null,null,null,0,0,0,0,"",false,false,false,false,null,"","",""]
[null,null,null,null,null,null,null,null,null,null,null,null,null,null,null,null,null,null,null,null,null,null,null,null,null,null,null,null,null,null,null,null,null,null,null,null,null,{"$f":"IF(O747=\"130\",2014.4*AO747*'CO2 Conversion Factors'!$D$20/0.8/1000,2096.16*AO747*'CO2 Conversion Factors'!$D$20/0.8/1000)","v":0},{"$f":"IF(O747=\"130\",2014.4*AO747*'CO2 Conversion Factors'!$G$20/0.8/1000,2096.16*AO747*'CO2 Conversion Factors'!$G$20/0.8/1000)","v":0},{"$f":"IF(O747=\"130\",2014.4*AO747*'CO2 Conversion Factors'!$J$20/0.8/1000,2096.16*AO747*'CO2 Conversion Factors'!$J$20/0.8/1000)","v":0},0,0,null,null,null,0,0,0,0,"",false,false,false,false,null,"","",""]
[null,null,null,null,null,null,null,null,null,null,null,null,null,null,null,null,null,null,null,null,null,null,null,null,null,null,null,null,null,null,null,null,null,null,null,null,null,{"$f":"IF(O748=\"130\",2014.4*AO748*'CO2 Conversion Factors'!$D$20/0.8/1000,2096.16*AO748*'CO2 Conversion Factors'!$D$20/0.8/1000)","v":0},{"$f":"IF(O748=\"130\",2014.4*AO748*'CO2 Conversion Factors'!$G$20/0.8/1000,2096.16*AO748*'CO2 Conversion Factors'!$G$20/0.8/1000)","v":0},{"$f":"IF(O748=\"130\",2014.4*AO748*'CO2 Conversion Factors'!$J$20/0.8/1000,2096.16*AO748*'CO2 Conversion Factors'!$J$20/0.8/1000)","v":0},0,0,null,null,null,0,0,0,0,"",false,false,false,false,null,"","",""]
[null,null,null,null,null,null,null,null,null,null,null,null,null,null,null,null,null,null,null,null,null,null,null,null,null,null,null,null,null,null,null,null,null,null,null,null,null,{"$f":"IF(O749=\"130\",2014.4*AO749*'CO2 Conversion Factors'!$D$20/0.8/1000,2096.16*AO749*'CO2 Conversion Factors'!$D$20/0.8/1000)","v":0},{"$f":"IF(O749=\"130\",2014.4*AO749*'CO2 Conversion Factors'!$G$20/0.8/1000,2096.16*AO749*'CO2 Conversion Factors'!$G$20/0.8/1000)","v":0},{"$f":"IF(O749=\"130\",2014.4*AO749*'CO2 Conversion Factors'!$J$20/0.8/1000,2096.16*AO749*'CO2 Conversion Factors'!$J$20/0.8/1000)","v":0},0,0,null,null,null,0,0,0,0,"",false,false,false,false,null,"","",""]
[null,null,null,null,null,null,null,null,null,null,null,null,null,null,null,null,null,null,null,null,null,null,null,null,null,null,null,null,null,null,null,null,null,null,null,null,null,{"$f":"IF(O750=\"130\",2014.4*AO750*'CO2 Conversion Factors'!$D$20/0.8/1000,2096.16*AO750*'CO2 Conversion Factors'!$D$20/0.8/1000)","v":0},{"$f":"IF(O750=\"130\",2014.4*AO750*'CO2 Conversion Factors'!$G$20/0.8/1000,2096.16*AO750*'CO2 Conversion Factors'!$G$20/0.8/1000)","v":0},{"$f":"IF(O750=\"130\",2014.4*AO750*'CO2 Conversion Factors'!$J$20/0.8/1000,2096.16*AO750*'CO2 Conversion Factors'!$J$20/0.8/1000)","v":0},0,0,null,null,null,0,0,0,0,"",false,false,false,false,null,"","",""]
[null,null,null,null,null,null,null,null,null,null,null,null,null,null,null,null,null,null,null,null,null,null,null,null,null,null,null,null,null,null,null,null,null,null,null,null,null,{"$f":"IF(O751=\"130\",2014.4*AO751*'CO2 Conversion Factors'!$D$20/0.8/1000,2096.16*AO751*'CO2 Conversion Factors'!$D$20/0.8/1000)","v":0},{"$f":"IF(O751=\"130\",2014.4*AO751*'CO2 Conversion Factors'!$G$20/0.8/1000,2096.16*AO751*'CO2 Conversion Factors'!$G$20/0.8/1000)","v":0},{"$f":"IF(O751=\"130\",2014.4*AO751*'CO2 Conversion Factors'!$J$20/0.8/1000,2096.16*AO751*'CO2 Conversion Factors'!$J$20/0.8/1000)","v":0},0,0,null,null,null,0,0,0,0,"",false,false,false,false,null,"","",""]
[null,null,null,null,null,null,null,null,null,null,null,null,null,null,null,null,null,null,null,null,null,null,null,null,null,null,null,null,null,null,null,null,null,null,null,null,null,{"$f":"IF(O752=\"130\",2014.4*AO752*'CO2 Conversion Factors'!$D$20/0.8/1000,2096.16*AO752*'CO2 Conversion Factors'!$D$20/0.8/1000)","v":0},{"$f":"IF(O752=\"130\",2014.4*AO752*'CO2 Conversion Factors'!$G$20/0.8/1000,2096.16*AO752*'CO2 Conversion Factors'!$G$20/0.8/1000)","v":0},{"$f":"IF(O752=\"130\",2014.4*AO752*'CO2 Conversion Factors'!$J$20/0.8/1000,2096.16*AO752*'CO2 Conversion Factors'!$J$20/0.8/1000)","v":0},0,0,null,null,null,0,0,0,0,"",false,false,false,false,null,"","",""]
[null,null,null,null,null,null,null,null,null,null,null,null,null,null,null,null,null,null,null,null,null,null,null,null,null,null,null,null,null,null,null,null,null,null,null,null,null,{"$f":"IF(O753=\"130\",2014.4*AO753*'CO2 Conversion Factors'!$D$20/0.8/1000,2096.16*AO753*'CO2 Conversion Factors'!$D$20/0.8/1000)","v":0},{"$f":"IF(O753=\"130\",2014.4*AO753*'CO2 Conversion Factors'!$G$20/0.8/1000,2096.16*AO753*'CO2 Conversion Factors'!$G$20/0.8/1000)","v":0},{"$f":"IF(O753=\"130\",2014.4*AO753*'CO2 Conversion Factors'!$J$20/0.8/1000,2096.16*AO753*'CO2 Conversion Factors'!$J$20/0.8/1000)","v":0},0,0,null,null,null,0,0,0,0,"",false,false,false,false,null,"","",""]
[null,null,null,null,null,null,null,null,null,null,null,null,null,null,null,null,null,null,null,null,null,null,null,null,null,null,null,null,null,null,null,null,null,null,null,null,null,{"$f":"IF(O754=\"130\",2014.4*AO754*'CO2 Conversion Factors'!$D$20/0.8/1000,2096.16*AO754*'CO2 Conversion Factors'!$D$20/0.8/1000)","v":0},{"$f":"IF(O754=\"130\",2014.4*AO754*'CO2 Conversion Factors'!$G$20/0.8/1000,2096.16*AO754*'CO2 Conversion Factors'!$G$20/0.8/1000)","v":0},{"$f":"IF(O754=\"130\",2014.4*AO754*'CO2 Conversion Factors'!$J$20/0.8/1000,2096.16*AO754*'CO2 Conversion Factors'!$J$20/0.8/1000)","v":0},0,0,null,null,null,0,0,0,0,"",false,false,false,false,null,"","",""]
[null,null,null,null,null,null,null,null,null,null,null,null,null,null,null,null,null,null,null,null,null,null,null,null,null,null,null,null,null,null,null,null,null,null,null,null,null,{"$f":"IF(O755=\"130\",2014.4*AO755*'CO2 Conversion Factors'!$D$20/0.8/1000,2096.16*AO755*'CO2 Conversion Factors'!$D$20/0.8/1000)","v":0},{"$f":"IF(O755=\"130\",2014.4*AO755*'CO2 Conversion Factors'!$G$20/0.8/1000,2096.16*AO755*'CO2 Conversion Factors'!$G$20/0.8/1000)","v":0},{"$f":"IF(O755=\"130\",2014.4*AO755*'CO2 Conversion Factors'!$J$20/0.8/1000,2096.16*AO755*'CO2 Conversion Factors'!$J$20/0.8/1000)","v":0},0,0,null,null,null,0,0,0,0,"",false,false,false,false,null,"","",""]
[null,null,null,null,null,null,null,null,null,null,null,null,null,null,null,null,null,null,null,null,null,null,null,null,null,null,null,null,null,null,null,null,null,null,null,null,null,{"$f":"IF(O756=\"130\",2014.4*AO756*'CO2 Conversion Factors'!$D$20/0.8/1000,2096.16*AO756*'CO2 Conversion Factors'!$D$20/0.8/1000)","v":0},{"$f":"IF(O756=\"130\",2014.4*AO756*'CO2 Conversion Factors'!$G$20/0.8/1000,2096.16*AO756*'CO2 Conversion Factors'!$G$20/0.8/1000)","v":0},{"$f":"IF(O756=\"130\",2014.4*AO756*'CO2 Conversion Factors'!$J$20/0.8/1000,2096.16*AO756*'CO2 Conversion Factors'!$J$20/0.8/1000)","v":0},0,0,null,null,null,0,0,0,0,"",false,false,false,false,null,"","",""]
[null,null,null,null,null,null,null,null,null,null,null,null,null,null,null,null,null,null,null,null,null,null,null,null,null,null,null,null,null,null,null,null,null,null,null,null,null,{"$f":"IF(O757=\"130\",2014.4*AO757*'CO2 Conversion Factors'!$D$20/0.8/1000,2096.16*AO757*'CO2 Conversion Factors'!$D$20/0.8/1000)","v":0},{"$f":"IF(O757=\"130\",2014.4*AO757*'CO2 Conversion Factors'!$G$20/0.8/1000,2096.16*AO757*'CO2 Conversion Factors'!$G$20/0.8/1000)","v":0},{"$f":"IF(O757=\"130\",2014.4*AO757*'CO2 Conversion Factors'!$J$20/0.8/1000,2096.16*AO757*'CO2 Conversion Factors'!$J$20/0.8/1000)","v":0},0,0,null,null,null,0,0,0,0,"",false,false,false,false,null,"","",""]
[null,null,null,null,null,null,null,null,null,null,null,null,null,null,null,null,null,null,null,null,null,null,null,null,null,null,null,null,null,null,null,null,null,null,null,null,null,{"$f":"IF(O758=\"130\",2014.4*AO758*'CO2 Conversion Factors'!$D$20/0.8/1000,2096.16*AO758*'CO2 Conversion Factors'!$D$20/0.8/1000)","v":0},{"$f":"IF(O758=\"130\",2014.4*AO758*'CO2 Conversion Factors'!$G$20/0.8/1000,2096.16*AO758*'CO2 Conversion Factors'!$G$20/0.8/1000)","v":0},{"$f":"IF(O758=\"130\",2014.4*AO758*'CO2 Conversion Factors'!$J$20/0.8/1000,2096.16*AO758*'CO2 Conversion Factors'!$J$20/0.8/1000)","v":0},0,0,null,null,null,0,0,0,0,"",false,false,false,false,null,"","",""]
[null,null,null,null,null,null,null,null,null,null,null,null,null,null,null,null,null,null,null,null,null,null,null,null,null,null,null,null,null,null,null,null,null,null,null,null,null,{"$f":"IF(O759=\"130\",2014.4*AO759*'CO2 Conversion Factors'!$D$20/0.8/1000,2096.16*AO759*'CO2 Conversion Factors'!$D$20/0.8/1000)","v":0},{"$f":"IF(O759=\"130\",2014.4*AO759*'CO2 Conversion Factors'!$G$20/0.8/1000,2096.16*AO759*'CO2 Conversion Factors'!$G$20/0.8/1000)","v":0},{"$f":"IF(O759=\"130\",2014.4*AO759*'CO2 Conversion Factors'!$J$20/0.8/1000,2096.16*AO759*'CO2 Conversion Factors'!$J$20/0.8/1000)","v":0},0,0,null,null,null,0,0,0,0,"",false,false,false,false,null,"","",""]
[null,null,null,null,null,null,null,null,null,null,null,null,null,null,null,null,null,null,null,null,null,null,null,null,null,null,null,null,null,null,null,null,null,null,null,null,null,{"$f":"IF(O760=\"130\",2014.4*AO760*'CO2 Conversion Factors'!$D$20/0.8/1000,2096.16*AO760*'CO2 Conversion Factors'!$D$20/0.8/1000)","v":0},{"$f":"IF(O760=\"130\",2014.4*AO760*'CO2 Conversion Factors'!$G$20/0.8/1000,2096.16*AO760*'CO2 Conversion Factors'!$G$20/0.8/1000)","v":0},{"$f":"IF(O760=\"130\",2014.4*AO760*'CO2 Conversion Factors'!$J$20/0.8/1000,2096.16*AO760*'CO2 Conversion Factors'!$J$20/0.8/1000)","v":0},0,0,null,null,null,0,0,0,0,"",false,false,false,false,null,"","",""]
[null,null,null,null,null,null,null,null,null,null,null,null,null,null,null,null,null,null,null,null,null,null,null,null,null,null,null,null,null,null,null,null,null,null,null,null,null,{"$f":"IF(O761=\"130\",2014.4*AO761*'CO2 Conversion Factors'!$D$20/0.8/1000,2096.16*AO761*'CO2 Conversion Factors'!$D$20/0.8/1000)","v":0},{"$f":"IF(O761=\"130\",2014.4*AO761*'CO2 Conversion Factors'!$G$20/0.8/1000,2096.16*AO761*'CO2 Conversion Factors'!$G$20/0.8/1000)","v":0},{"$f":"IF(O761=\"130\",2014.4*AO761*'CO2 Conversion Factors'!$J$20/0.8/1000,2096.16*AO761*'CO2 Conversion Factors'!$J$20/0.8/1000)","v":0},0,0,null,null,null,0,0,0,0,"",false,false,false,false,null,"","",""]
[null,null,null,null,null,null,null,null,null,null,null,null,null,null,null,null,null,null,null,null,null,null,null,null,null,null,null,null,null,null,null,null,null,null,null,null,null,{"$f":"IF(O762=\"130\",2014.4*AO762*'CO2 Conversion Factors'!$D$20/0.8/1000,2096.16*AO762*'CO2 Conversion Factors'!$D$20/0.8/1000)","v":0},{"$f":"IF(O762=\"130\",2014.4*AO762*'CO2 Conversion Factors'!$G$20/0.8/1000,2096.16*AO762*'CO2 Conversion Factors'!$G$20/0.8/1000)","v":0},{"$f":"IF(O762=\"130\",2014.4*AO762*'CO2 Conversion Factors'!$J$20/0.8/1000,2096.16*AO762*'CO2 Conversion Factors'!$J$20/0.8/1000)","v":0},0,0,null,null,null,0,0,0,0,"",false,false,false,false,null,"","",""]
[null,null,null,null,null,null,null,null,null,null,null,null,null,null,null,null,null,null,null,null,null,null,null,null,null,null,null,null,null,null,null,null,null,null,null,null,null,{"$f":"IF(O763=\"130\",2014.4*AO763*'CO2 Conversion Factors'!$D$20/0.8/1000,2096.16*AO763*'CO2 Conversion Factors'!$D$20/0.8/1000)","v":0},{"$f":"IF(O763=\"130\",2014.4*AO763*'CO2 Conversion Factors'!$G$20/0.8/1000,2096.16*AO763*'CO2 Conversion Factors'!$G$20/0.8/1000)","v":0},{"$f":"IF(O763=\"130\",2014.4*AO763*'CO2 Conversion Factors'!$J$20/0.8/1000,2096.16*AO763*'CO2 Conversion Factors'!$J$20/0.8/1000)","v":0},0,0,null,null,null,0,0,0,0,"",false,false,false,false,null,"","",""]
[null,null,null,null,null,null,null,null,null,null,null,null,null,null,null,null,null,null,null,null,null,null,null,null,null,null,null,null,null,null,null,null,null,null,null,null,null,{"$f":"IF(O764=\"130\",2014.4*AO764*'CO2 Conversion Factors'!$D$20/0.8/1000,2096.16*AO764*'CO2 Conversion Factors'!$D$20/0.8/1000)","v":0},{"$f":"IF(O764=\"130\",2014.4*AO764*'CO2 Conversion Factors'!$G$20/0.8/1000,2096.16*AO764*'CO2 Conversion Factors'!$G$20/0.8/1000)","v":0},{"$f":"IF(O764=\"130\",2014.4*AO764*'CO2 Conversion Factors'!$J$20/0.8/1000,2096.16*AO764*'CO2 Conversion Factors'!$J$20/0.8/1000)","v":0},0,0,null,null,null,0,0,0,0,"",false,false,false,false,null,"","",""]
[null,null,null,null,null,null,null,null,null,null,null,null,null,null,null,null,null,null,null,null,null,null,null,null,null,null,null,null,null,null,null,null,null,null,null,null,null,{"$f":"IF(O765=\"130\",2014.4*AO765*'CO2 Conversion Factors'!$D$20/0.8/1000,2096.16*AO765*'CO2 Conversion Factors'!$D$20/0.8/1000)","v":0},{"$f":"IF(O765=\"130\",2014.4*AO765*'CO2 Conversion Factors'!$G$20/0.8/1000,2096.16*AO765*'CO2 Conversion Factors'!$G$20/0.8/1000)","v":0},{"$f":"IF(O765=\"130\",2014.4*AO765*'CO2 Conversion Factors'!$J$20/0.8/1000,2096.16*AO765*'CO2 Conversion Factors'!$J$20/0.8/1000)","v":0},0,0,null,null,null,0,0,0,0,"",false,false,false,false,null,"","",""]
[null,null,null,null,null,null,null,null,null,null,null,null,null,null,null,null,null,null,null,null,null,null,null,null,null,null,null,null,null,null,null,null,null,null,null,null,null,{"$f":"IF(O766=\"130\",2014.4*AO766*'CO2 Conversion Factors'!$D$20/0.8/1000,2096.16*AO766*'CO2 Conversion Factors'!$D$20/0.8/1000)","v":0},{"$f":"IF(O766=\"130\",2014.4*AO766*'CO2 Conversion Factors'!$G$20/0.8/1000,2096.16*AO766*'CO2 Conversion Factors'!$G$20/0.8/1000)","v":0},{"$f":"IF(O766=\"130\",2014.4*AO766*'CO2 Conversion Factors'!$J$20/0.8/1000,2096.16*AO766*'CO2 Conversion Factors'!$J$20/0.8/1000)","v":0},0,0,null,null,null,0,0,0,0,"",false,false,false,false,null,"","",""]
[null,null,null,null,null,null,null,null,null,null,null,null,null,null,null,null,null,null,null,null,null,null,null,null,null,null,null,null,null,null,null,null,null,null,null,null,null,{"$f":"IF(O767=\"130\",2014.4*AO767*'CO2 Conversion Factors'!$D$20/0.8/1000,2096.16*AO767*'CO2 Conversion Factors'!$D$20/0.8/1000)","v":0},{"$f":"IF(O767=\"130\",2014.4*AO767*'CO2 Conversion Factors'!$G$20/0.8/1000,2096.16*AO767*'CO2 Conversion Factors'!$G$20/0.8/1000)","v":0},{"$f":"IF(O767=\"130\",2014.4*AO767*'CO2 Conversion Factors'!$J$20/0.8/1000,2096.16*AO767*'CO2 Conversion Factors'!$J$20/0.8/1000)","v":0},0,0,null,null,null,0,0,0,0,"",false,false,false,false,null,"","",""]
[null,null,null,null,null,null,null,null,null,null,null,null,null,null,null,null,null,null,null,null,null,null,null,null,null,null,null,null,null,null,null,null,null,null,null,null,null,{"$f":"IF(O768=\"130\",2014.4*AO768*'CO2 Conversion Factors'!$D$20/0.8/1000,2096.16*AO768*'CO2 Conversion Factors'!$D$20/0.8/1000)","v":0},{"$f":"IF(O768=\"130\",2014.4*AO768*'CO2 Conversion Factors'!$G$20/0.8/1000,2096.16*AO768*'CO2 Conversion Factors'!$G$20/0.8/1000)","v":0},{"$f":"IF(O768=\"130\",2014.4*AO768*'CO2 Conversion Factors'!$J$20/0.8/1000,2096.16*AO768*'CO2 Conversion Factors'!$J$20/0.8/1000)","v":0},0,0,null,null,null,0,0,0,0,"",false,false,false,false,null,"","",""]
[null,null,null,null,null,null,null,null,null,null,null,null,null,null,null,null,null,null,null,null,null,null,null,null,null,null,null,null,null,null,null,null,null,null,null,null,null,{"$f":"IF(O769=\"130\",2014.4*AO769*'CO2 Conversion Factors'!$D$20/0.8/1000,2096.16*AO769*'CO2 Conversion Factors'!$D$20/0.8/1000)","v":0},{"$f":"IF(O769=\"130\",2014.4*AO769*'CO2 Conversion Factors'!$G$20/0.8/1000,2096.16*AO769*'CO2 Conversion Factors'!$G$20/0.8/1000)","v":0},{"$f":"IF(O769=\"130\",2014.4*AO769*'CO2 Conversion Factors'!$J$20/0.8/1000,2096.16*AO769*'CO2 Conversion Factors'!$J$20/0.8/1000)","v":0},0,0,null,null,null,0,0,0,0,"",false,false,false,false,null,"","",""]
[null,null,null,null,null,null,null,null,null,null,null,null,null,null,null,null,null,null,null,null,null,null,null,null,null,null,null,null,null,null,null,null,null,null,null,null,null,{"$f":"IF(O770=\"130\",2014.4*AO770*'CO2 Conversion Factors'!$D$20/0.8/1000,2096.16*AO770*'CO2 Conversion Factors'!$D$20/0.8/1000)","v":0},{"$f":"IF(O770=\"130\",2014.4*AO770*'CO2 Conversion Factors'!$G$20/0.8/1000,2096.16*AO770*'CO2 Conversion Factors'!$G$20/0.8/1000)","v":0},{"$f":"IF(O770=\"130\",2014.4*AO770*'CO2 Conversion Factors'!$J$20/0.8/1000,2096.16*AO770*'CO2 Conversion Factors'!$J$20/0.8/1000)","v":0},0,0,null,null,null,0,0,0,0,"",false,false,false,false,null,"","",""]
[null,null,null,null,null,null,null,null,null,null,null,null,null,null,null,null,null,null,null,null,null,null,null,null,null,null,null,null,null,null,null,null,null,null,null,null,null,{"$f":"IF(O771=\"130\",2014.4*AO771*'CO2 Conversion Factors'!$D$20/0.8/1000,2096.16*AO771*'CO2 Conversion Factors'!$D$20/0.8/1000)","v":0},{"$f":"IF(O771=\"130\",2014.4*AO771*'CO2 Conversion Factors'!$G$20/0.8/1000,2096.16*AO771*'CO2 Conversion Factors'!$G$20/0.8/1000)","v":0},{"$f":"IF(O771=\"130\",2014.4*AO771*'CO2 Conversion Factors'!$J$20/0.8/1000,2096.16*AO771*'CO2 Conversion Factors'!$J$20/0.8/1000)","v":0},{"$f":"IFERROR(IF(OR(L771=\"BLW\",L771=\"PRI\",L771=\"LNK\"),IF(Cover_Select_SteamCostUnits=\"£/1000kg\",11.6*(VLOOKUP($I771,Abb_Lookup_OrifaceDia,2,FALSE)^2)*SQRT(($O771-$P771)*($O771+$P771)),25.57363*(VLOOKUP($I771,Abb_Lookup_OrifaceDia,2,FALSE)^2)*SQRT(($O771-$P771)*($O771+$P771)))*(VLOOKUP(AE771,Cover_Lookup_OpTime,4,FALSE)/1000),IF(L771=\"LL\",IF(Cover_Select_SteamCostUnits=\"£/1000kg\",11.6*(VLOOKUP($I771,Abb_Lookup_OrifaceDia,2,FALSE)^2)*SQRT(($O771-$P771)*($O771+$P771)),25.57363*(VLOOKUP($I771,Abb_Lookup_OrifaceDia,2,FALSE)^2)*SQRT(($O771-$P771)*($O771+$P771)))*(VLOOKUP(AE771,Cover_Lookup_OpTime,4,FALSE)/2000),IF(L771=\"SL\",IF(Cover_Select_SteamCostUnits=\"£/1000kg\",11.6*(VLOOKUP($I771,Abb_Lookup_OrifaceDia,2,FALSE)^2)*SQRT(($O771-$P771)*($O771+$P771)),25.57363*(VLOOKUP($I771,Abb_Lookup_OrifaceDia,2,FALSE)^2)*SQRT(($O771-$P771)*($O771+$P771)))*(VLOOKUP(AE771,Cover_Lookup_OpTime,4,FALSE)/4000),0))),0)","v":0},0,null,null,null,0,0,0,0,"",false,false,false,false,null,"","",""]
[null,null,null,null,null,null,null,null,null,null,null,null,null,null,null,null,null,null,null,null,null,null,null,null,null,null,null,null,null,null,null,null,null,null,null,null,null,{"$f":"IF(O772=\"130\",2014.4*AO772*'CO2 Conversion Factors'!$D$20/0.8/1000,2096.16*AO772*'CO2 Conversion Factors'!$D$20/0.8/1000)","v":0},{"$f":"IF(O772=\"130\",2014.4*AO772*'CO2 Conversion Factors'!$G$20/0.8/1000,2096.16*AO772*'CO2 Conversion Factors'!$G$20/0.8/1000)","v":0},{"$f":"IF(O772=\"130\",2014.4*AO772*'CO2 Conversion Factors'!$J$20/0.8/1000,2096.16*AO772*'CO2 Conversion Factors'!$J$20/0.8/1000)","v":0},0,0,null,null,null,0,0,0,0,"",false,false,false,false,null,"","",""]
[null,null,null,null,null,null,null,null,null,null,null,null,null,null,null,null,null,null,null,null,null,null,null,null,null,null,null,null,null,null,null,null,null,null,null,null,null,{"$f":"IF(O773=\"130\",2014.4*AO773*'CO2 Conversion Factors'!$D$20/0.8/1000,2096.16*AO773*'CO2 Conversion Factors'!$D$20/0.8/1000)","v":0},{"$f":"IF(O773=\"130\",2014.4*AO773*'CO2 Conversion Factors'!$G$20/0.8/1000,2096.16*AO773*'CO2 Conversion Factors'!$G$20/0.8/1000)","v":0},{"$f":"IF(O773=\"130\",2014.4*AO773*'CO2 Conversion Factors'!$J$20/0.8/1000,2096.16*AO773*'CO2 Conversion Factors'!$J$20/0.8/1000)","v":0},0,{"$f":"IFERROR(AO773*Cover_Select_SteamCost,0)","v":0},null,null,null,{"$f":"IF(NOT(OR(L773=\"NIS\",L773=\"OFF\")),F773)","v":0},{"$f":"IF(NOT(OR(L773=\"NIS\",L773=\"OFF\",L773=\"PO\")),F773)","v":0},{"$f":"IF(NOT(OR(L773=\"NIS\",L773=\"OFF\")),H773)","v":0},{"$f":"IF(NOT(OR(L773=\"NIS\",L773=\"OFF\",L773=\"PO\")),H773)","v":0},"",{"$f":"IF(L773=\"CLD\", H773)","v":false},{"$f":"IF(L773=\"SL\", H773)","v":false},{"$f":"IF(L773=\"LL\", H773)","v":false},{"$f":"IF(L773=\"BLW\", H773)","v":false},null,"","",""]
[null,null,null,null,null,null,null,null,null,null,null,null,null,null,null,null,null,null,null,null,null,null,null,null,null,null,null,null,null,null,null,null,null,null,null,null,null,{"$f":"IF(O774=\"130\",2014.4*AO774*'CO2 Conversion Factors'!$D$20/0.8/1000,2096.16*AO774*'CO2 Conversion Factors'!$D$20/0.8/1000)","v":0},{"$f":"IF(O774=\"130\",2014.4*AO774*'CO2 Conversion Factors'!$G$20/0.8/1000,2096.16*AO774*'CO2 Conversion Factors'!$G$20/0.8/1000)","v":0},{"$f":"IF(O774=\"130\",2014.4*AO774*'CO2 Conversion Factors'!$J$20/0.8/1000,2096.16*AO774*'CO2 Conversion Factors'!$J$20/0.8/1000)","v":0},0,0,null,null,null,0,0,0,0,{"$f":"F774&H774","v":""},false,false,false,false,null,"","",""]
[null,null,null,null,null,null,null,null,null,null,null,null,null,null,null,null,null,null,null,null,null,null,null,null,null,null,null,null,null,null,null,null,null,null,null,null,null,{"$f":"IF(O775=\"130\",2014.4*AO775*'CO2 Conversion Factors'!$D$20/0.8/1000,2096.16*AO775*'CO2 Conversion Factors'!$D$20/0.8/1000)","v":0},{"$f":"IF(O775=\"130\",2014.4*AO775*'CO2 Conversion Factors'!$G$20/0.8/1000,2096.16*AO775*'CO2 Conversion Factors'!$G$20/0.8/1000)","v":0},{"$f":"IF(O775=\"130\",2014.4*AO775*'CO2 Conversion Factors'!$J$20/0.8/1000,2096.16*AO775*'CO2 Conversion Factors'!$J$20/0.8/1000)","v":0},0,0,null,null,null,0,0,0,0,"",false,false,false,false,null,"","",""]
[null,null,null,null,null,null,null,null,null,null,null,null,null,null,null,null,null,null,null,null,null,null,null,null,null,null,null,null,null,null,null,null,null,null,null,null,null,{"$f":"IF(O776=\"130\",2014.4*AO776*'CO2 Conversion Factors'!$D$20/0.8/1000,2096.16*AO776*'CO2 Conversion Factors'!$D$20/0.8/1000)","v":0},{"$f":"IF(O776=\"130\",2014.4*AO776*'CO2 Conversion Factors'!$G$20/0.8/1000,2096.16*AO776*'CO2 Conversion Factors'!$G$20/0.8/1000)","v":0},{"$f":"IF(O776=\"130\",2014.4*AO776*'CO2 Conversion Factors'!$J$20/0.8/1000,2096.16*AO776*'CO2 Conversion Factors'!$J$20/0.8/1000)","v":0},0,0,null,null,null,0,0,0,0,"",false,false,false,false,null,"","",""]
[null,null,null,null,null,null,null,null,null,null,null,null,null,null,null,null,null,null,null,null,null,null,null,null,null,null,null,null,null,null,null,null,null,null,null,null,null,{"$f":"IF(O777=\"130\",2014.4*AO777*'CO2 Conversion Factors'!$D$20/0.8/1000,2096.16*AO777*'CO2 Conversion Factors'!$D$20/0.8/1000)","v":0},{"$f":"IF(O777=\"130\",2014.4*AO777*'CO2 Conversion Factors'!$G$20/0.8/1000,2096.16*AO777*'CO2 Conversion Factors'!$G$20/0.8/1000)","v":0},{"$f":"IF(O777=\"130\",2014.4*AO777*'CO2 Conversion Factors'!$J$20/0.8/1000,2096.16*AO777*'CO2 Conversion Factors'!$J$20/0.8/1000)","v":0},0,0,null,null,null,0,0,0,0,"",false,false,false,false,null,"","",""]
[null,null,null,null,null,null,null,null,null,null,null,null,null,null,null,null,null,null,null,null,null,null,null,null,null,null,null,null,null,null,null,null,null,null,null,null,null,{"$f":"IF(O778=\"130\",2014.4*AO778*'CO2 Conversion Factors'!$D$20/0.8/1000,2096.16*AO778*'CO2 Conversion Factors'!$D$20/0.8/1000)","v":0},{"$f":"IF(O778=\"130\",2014.4*AO778*'CO2 Conversion Factors'!$G$20/0.8/1000,2096.16*AO778*'CO2 Conversion Factors'!$G$20/0.8/1000)","v":0},{"$f":"IF(O778=\"130\",2014.4*AO778*'CO2 Conversion Factors'!$J$20/0.8/1000,2096.16*AO778*'CO2 Conversion Factors'!$J$20/0.8/1000)","v":0},0,0,null,null,null,0,0,0,0,"",false,false,false,false,null,"","",""]
[null,null,null,null,null,null,null,null,null,null,null,null,null,null,null,null,null,null,null,null,null,null,null,null,null,null,null,null,null,null,null,null,null,null,null,null,null,{"$f":"IF(O779=\"130\",2014.4*AO779*'CO2 Conversion Factors'!$D$20/0.8/1000,2096.16*AO779*'CO2 Conversion Factors'!$D$20/0.8/1000)","v":0},{"$f":"IF(O779=\"130\",2014.4*AO779*'CO2 Conversion Factors'!$G$20/0.8/1000,2096.16*AO779*'CO2 Conversion Factors'!$G$20/0.8/1000)","v":0},{"$f":"IF(O779=\"130\",2014.4*AO779*'CO2 Conversion Factors'!$J$20/0.8/1000,2096.16*AO779*'CO2 Conversion Factors'!$J$20/0.8/1000)","v":0},0,0,null,null,null,0,0,0,0,"",false,false,false,false,null,"","",""]
[null,null,null,null,null,null,null,null,null,null,null,null,null,null,null,null,null,null,null,null,null,null,null,null,null,null,null,null,null,null,null,null,null,null,null,null,null,{"$f":"IF(O780=\"130\",2014.4*AO780*'CO2 Conversion Factors'!$D$20/0.8/1000,2096.16*AO780*'CO2 Conversion Factors'!$D$20/0.8/1000)","v":0},{"$f":"IF(O780=\"130\",2014.4*AO780*'CO2 Conversion Factors'!$G$20/0.8/1000,2096.16*AO780*'CO2 Conversion Factors'!$G$20/0.8/1000)","v":0},{"$f":"IF(O780=\"130\",2014.4*AO780*'CO2 Conversion Factors'!$J$20/0.8/1000,2096.16*AO780*'CO2 Conversion Factors'!$J$20/0.8/1000)","v":0},0,0,null,null,null,0,0,0,0,"",false,false,false,false,null,"","",""]
[null,null,null,null,null,null,null,null,null,null,null,null,null,null,null,null,null,null,null,null,null,null,null,null,null,null,null,null,null,null,null,null,null,null,null,null,null,{"$f":"IF(O781=\"130\",2014.4*AO781*'CO2 Conversion Factors'!$D$20/0.8/1000,2096.16*AO781*'CO2 Conversion Factors'!$D$20/0.8/1000)","v":0},{"$f":"IF(O781=\"130\",2014.4*AO781*'CO2 Conversion Factors'!$G$20/0.8/1000,2096.16*AO781*'CO2 Conversion Factors'!$G$20/0.8/1000)","v":0},{"$f":"IF(O781=\"130\",2014.4*AO781*'CO2 Conversion Factors'!$J$20/0.8/1000,2096.16*AO781*'CO2 Conversion Factors'!$J$20/0.8/1000)","v":0},0,0,null,null,null,0,0,0,0,"",false,false,false,false,null,"","",""]
[null,null,null,null,null,null,null,null,null,null,null,null,null,null,null,null,null,null,null,null,null,null,null,null,null,null,null,null,null,null,null,null,null,null,null,null,null,{"$f":"IF(O782=\"130\",2014.4*AO782*'CO2 Conversion Factors'!$D$20/0.8/1000,2096.16*AO782*'CO2 Conversion Factors'!$D$20/0.8/1000)","v":0},{"$f":"IF(O782=\"130\",2014.4*AO782*'CO2 Conversion Factors'!$G$20/0.8/1000,2096.16*AO782*'CO2 Conversion Factors'!$G$20/0.8/1000)","v":0},{"$f":"IF(O782=\"130\",2014.4*AO782*'CO2 Conversion Factors'!$J$20/0.8/1000,2096.16*AO782*'CO2 Conversion Factors'!$J$20/0.8/1000)","v":0},0,0,null,null,null,0,0,0,0,"",false,false,false,false,null,"","",""]
[null,null,null,null,null,null,null,null,null,null,null,null,null,null,null,null,null,null,null,null,null,null,null,null,null,null,null,null,null,null,null,null,null,null,null,null,null,{"$f":"IF(O783=\"130\",2014.4*AO783*'CO2 Conversion Factors'!$D$20/0.8/1000,2096.16*AO783*'CO2 Conversion Factors'!$D$20/0.8/1000)","v":0},{"$f":"IF(O783=\"130\",2014.4*AO783*'CO2 Conversion Factors'!$G$20/0.8/1000,2096.16*AO783*'CO2 Conversion Factors'!$G$20/0.8/1000)","v":0},{"$f":"IF(O783=\"130\",2014.4*AO783*'CO2 Conversion Factors'!$J$20/0.8/1000,2096.16*AO783*'CO2 Conversion Factors'!$J$20/0.8/1000)","v":0},0,0,null,null,null,0,0,0,0,"",false,false,false,false,null,"","",""]
[null,null,null,null,null,null,null,null,null,null,null,null,null,null,null,null,null,null,null,null,null,null,null,null,null,null,null,null,null,null,null,null,null,null,null,null,null,{"$f":"IF(O784=\"130\",2014.4*AO784*'CO2 Conversion Factors'!$D$20/0.8/1000,2096.16*AO784*'CO2 Conversion Factors'!$D$20/0.8/1000)","v":0},{"$f":"IF(O784=\"130\",2014.4*AO784*'CO2 Conversion Factors'!$G$20/0.8/1000,2096.16*AO784*'CO2 Conversion Factors'!$G$20/0.8/1000)","v":0},{"$f":"IF(O784=\"130\",2014.4*AO784*'CO2 Conversion Factors'!$J$20/0.8/1000,2096.16*AO784*'CO2 Conversion Factors'!$J$20/0.8/1000)","v":0},0,0,null,null,null,0,0,0,0,"",false,false,false,false,null,"","",786]
[null,null,null,null,null,null,null,null,null,null,null,null,null,null,null,null,null,null,null,null,null,null,null,null,null,null,null,null,null,null,null,null,null,null,null,null,null,{"$f":"IF(O785=\"130\",2014.4*AO785*'CO2 Conversion Factors'!$D$20/0.8/1000,2096.16*AO785*'CO2 Conversion Factors'!$D$20/0.8/1000)","v":0},{"$f":"IF(O785=\"130\",2014.4*AO785*'CO2 Conversion Factors'!$G$20/0.8/1000,2096.16*AO785*'CO2 Conversion Factors'!$G$20/0.8/1000)","v":0},{"$f":"IF(O785=\"130\",2014.4*AO785*'CO2 Conversion Factors'!$J$20/0.8/1000,2096.16*AO785*'CO2 Conversion Factors'!$J$20/0.8/1000)","v":0},0,0,null,null,null,0,0,0,0,"",false,false,false,false,null,"","",787]
[null,null,null,null,null,null,null,null,null,null,null,null,null,null,null,null,null,null,null,null,null,null,null,null,null,null,null,null,null,null,null,null,null,null,null,null,null,{"$f":"IF(O786=\"130\",2014.4*AO786*'CO2 Conversion Factors'!$D$20/0.8/1000,2096.16*AO786*'CO2 Conversion Factors'!$D$20/0.8/1000)","v":0},{"$f":"IF(O786=\"130\",2014.4*AO786*'CO2 Conversion Factors'!$G$20/0.8/1000,2096.16*AO786*'CO2 Conversion Factors'!$G$20/0.8/1000)","v":0},{"$f":"IF(O786=\"130\",2014.4*AO786*'CO2 Conversion Factors'!$J$20/0.8/1000,2096.16*AO786*'CO2 Conversion Factors'!$J$20/0.8/1000)","v":0},0,0,null,null,null,0,0,0,0,"",false,false,false,false,null,"","",788]
[null,null,null,null,null,null,null,null,null,null,null,null,null,null,null,null,null,null,null,null,null,null,null,null,null,null,null,null,null,null,null,null,null,null,null,null,null,{"$f":"IF(O787=\"130\",2014.4*AO787*'CO2 Conversion Factors'!$D$20/0.8/1000,2096.16*AO787*'CO2 Conversion Factors'!$D$20/0.8/1000)","v":0},{"$f":"IF(O787=\"130\",2014.4*AO787*'CO2 Conversion Factors'!$G$20/0.8/1000,2096.16*AO787*'CO2 Conversion Factors'!$G$20/0.8/1000)","v":0},{"$f":"IF(O787=\"130\",2014.4*AO787*'CO2 Conversion Factors'!$J$20/0.8/1000,2096.16*AO787*'CO2 Conversion Factors'!$J$20/0.8/1000)","v":0},0,0,null,null,null,0,0,0,0,"",false,false,false,false,null,"","",789]
[null,null,null,null,null,null,null,null,null,null,null,null,null,null,null,null,null,null,null,null,null,null,null,null,null,null,null,null,null,null,null,null,null,null,null,null,null,{"$f":"IF(O788=\"130\",2014.4*AO788*'CO2 Conversion Factors'!$D$20/0.8/1000,2096.16*AO788*'CO2 Conversion Factors'!$D$20/0.8/1000)","v":0},{"$f":"IF(O788=\"130\",2014.4*AO788*'CO2 Conversion Factors'!$G$20/0.8/1000,2096.16*AO788*'CO2 Conversion Factors'!$G$20/0.8/1000)","v":0},{"$f":"IF(O788=\"130\",2014.4*AO788*'CO2 Conversion Factors'!$J$20/0.8/1000,2096.16*AO788*'CO2 Conversion Factors'!$J$20/0.8/1000)","v":0},0,0,null,null,null,0,0,0,0,"",false,false,false,false,null,"","",""]
[null,null,null,null,null,null,null,null,null,null,null,null,null,null,null,null,null,null,null,null,null,null,null,null,null,null,null,null,null,null,null,null,null,null,null,null,null,{"$f":"IF(O789=\"130\",2014.4*AO789*'CO2 Conversion Factors'!$D$20/0.8/1000,2096.16*AO789*'CO2 Conversion Factors'!$D$20/0.8/1000)","v":0},{"$f":"IF(O789=\"130\",2014.4*AO789*'CO2 Conversion Factors'!$G$20/0.8/1000,2096.16*AO789*'CO2 Conversion Factors'!$G$20/0.8/1000)","v":0},{"$f":"IF(O789=\"130\",2014.4*AO789*'CO2 Conversion Factors'!$J$20/0.8/1000,2096.16*AO789*'CO2 Conversion Factors'!$J$20/0.8/1000)","v":0},0,0,null,null,null,0,0,0,0,"",false,false,false,false,null,"","",790]
[null,null,null,null,null,null,null,null,null,null,null,null,null,null,null,null,null,null,null,null,null,null,null,null,null,null,null,null,null,null,null,null,null,null,null,null,null,{"$f":"IF(O790=\"130\",2014.4*AO790*'CO2 Conversion Factors'!$D$20/0.8/1000,2096.16*AO790*'CO2 Conversion Factors'!$D$20/0.8/1000)","v":0},{"$f":"IF(O790=\"130\",2014.4*AO790*'CO2 Conversion Factors'!$G$20/0.8/1000,2096.16*AO790*'CO2 Conversion Factors'!$G$20/0.8/1000)","v":0},{"$f":"IF(O790=\"130\",2014.4*AO790*'CO2 Conversion Factors'!$J$20/0.8/1000,2096.16*AO790*'CO2 Conversion Factors'!$J$20/0.8/1000)","v":0},0,0,null,null,null,0,0,0,0,"",false,false,false,false,null,"","",791]
[null,null,null,null,null,null,null,null,null,null,null,null,null,null,null,null,null,null,null,null,null,null,null,null,null,null,null,null,null,null,null,null,null,null,null,null,null,{"$f":"IF(O791=\"130\",2014.4*AO791*'CO2 Conversion Factors'!$D$20/0.8/1000,2096.16*AO791*'CO2 Conversion Factors'!$D$20/0.8/1000)","v":0},{"$f":"IF(O791=\"130\",2014.4*AO791*'CO2 Conversion Factors'!$G$20/0.8/1000,2096.16*AO791*'CO2 Conversion Factors'!$G$20/0.8/1000)","v":0},{"$f":"IF(O791=\"130\",2014.4*AO791*'CO2 Conversion Factors'!$J$20/0.8/1000,2096.16*AO791*'CO2 Conversion Factors'!$J$20/0.8/1000)","v":0},0,0,null,null,null,0,0,0,0,"",false,false,false,false,null,"","",792]
[null,null,null,null,null,null,null,null,null,null,null,null,null,null,null,null,null,null,null,null,null,null,null,null,null,null,null,null,null,null,null,null,null,null,null,null,null,{"$f":"IF(O792=\"130\",2014.4*AO792*'CO2 Conversion Factors'!$D$20/0.8/1000,2096.16*AO792*'CO2 Conversion Factors'!$D$20/0.8/1000)","v":0},{"$f":"IF(O792=\"130\",2014.4*AO792*'CO2 Conversion Factors'!$G$20/0.8/1000,2096.16*AO792*'CO2 Conversion Factors'!$G$20/0.8/1000)","v":0},{"$f":"IF(O792=\"130\",2014.4*AO792*'CO2 Conversion Factors'!$J$20/0.8/1000,2096.16*AO792*'CO2 Conversion Factors'!$J$20/0.8/1000)","v":0},0,0,null,null,null,0,0,0,0,"",false,false,false,false,null,"","",793]
[null,null,null,null,null,null,null,null,null,null,null,null,null,null,null,null,null,null,null,null,null,null,null,null,null,null,null,null,null,null,null,null,null,null,null,null,null,{"$f":"IF(O793=\"130\",2014.4*AO793*'CO2 Conversion Factors'!$D$20/0.8/1000,2096.16*AO793*'CO2 Conversion Factors'!$D$20/0.8/1000)","v":0},{"$f":"IF(O793=\"130\",2014.4*AO793*'CO2 Conversion Factors'!$G$20/0.8/1000,2096.16*AO793*'CO2 Conversion Factors'!$G$20/0.8/1000)","v":0},{"$f":"IF(O793=\"130\",2014.4*AO793*'CO2 Conversion Factors'!$J$20/0.8/1000,2096.16*AO793*'CO2 Conversion Factors'!$J$20/0.8/1000)","v":0},0,0,null,null,null,0,0,0,0,"",false,false,false,false,null,"","",794]
[null,null,null,null,null,null,null,null,null,null,null,null,null,null,null,null,null,null,null,null,null,null,null,null,null,null,null,null,null,null,null,null,null,null,null,null,null,{"$f":"IF(O794=\"130\",2014.4*AO794*'CO2 Conversion Factors'!$D$20/0.8/1000,2096.16*AO794*'CO2 Conversion Factors'!$D$20/0.8/1000)","v":0},{"$f":"IF(O794=\"130\",2014.4*AO794*'CO2 Conversion Factors'!$G$20/0.8/1000,2096.16*AO794*'CO2 Conversion Factors'!$G$20/0.8/1000)","v":0},{"$f":"IF(O794=\"130\",2014.4*AO794*'CO2 Conversion Factors'!$J$20/0.8/1000,2096.16*AO794*'CO2 Conversion Factors'!$J$20/0.8/1000)","v":0},0,0,null,null,null,0,0,0,0,"",false,false,false,false,null,"","",795]
[null,null,null,null,null,null,null,null,null,null,null,null,null,null,null,null,null,null,null,null,null,null,null,null,null,null,null,null,null,null,null,null,null,null,null,null,null,{"$f":"IF(O795=\"130\",2014.4*AO795*'CO2 Conversion Factors'!$D$20/0.8/1000,2096.16*AO795*'CO2 Conversion Factors'!$D$20/0.8/1000)","v":0},{"$f":"IF(O795=\"130\",2014.4*AO795*'CO2 Conversion Factors'!$G$20/0.8/1000,2096.16*AO795*'CO2 Conversion Factors'!$G$20/0.8/1000)","v":0},{"$f":"IF(O795=\"130\",2014.4*AO795*'CO2 Conversion Factors'!$J$20/0.8/1000,2096.16*AO795*'CO2 Conversion Factors'!$J$20/0.8/1000)","v":0},0,0,null,null,null,0,0,0,0,"",false,false,false,false,null,"","",796]
[null,null,null,null,null,null,null,null,null,null,null,null,null,null,null,null,null,null,null,null,null,null,null,null,null,null,null,null,null,null,null,null,null,null,null,null,null,{"$f":"IF(O796=\"130\",2014.4*AO796*'CO2 Conversion Factors'!$D$20/0.8/1000,2096.16*AO796*'CO2 Conversion Factors'!$D$20/0.8/1000)","v":0},{"$f":"IF(O796=\"130\",2014.4*AO796*'CO2 Conversion Factors'!$G$20/0.8/1000,2096.16*AO796*'CO2 Conversion Factors'!$G$20/0.8/1000)","v":0},{"$f":"IF(O796=\"130\",2014.4*AO796*'CO2 Conversion Factors'!$J$20/0.8/1000,2096.16*AO796*'CO2 Conversion Factors'!$J$20/0.8/1000)","v":0},0,0,null,null,null,0,0,0,0,"",false,false,false,false,null,"","",797]
[null,null,null,null,null,null,null,null,null,null,null,null,null,null,null,null,null,null,null,null,null,null,null,null,null,null,null,null,null,null,null,null,null,null,null,null,null,{"$f":"IF(O797=\"130\",2014.4*AO797*'CO2 Conversion Factors'!$D$20/0.8/1000,2096.16*AO797*'CO2 Conversion Factors'!$D$20/0.8/1000)","v":0},{"$f":"IF(O797=\"130\",2014.4*AO797*'CO2 Conversion Factors'!$G$20/0.8/1000,2096.16*AO797*'CO2 Conversion Factors'!$G$20/0.8/1000)","v":0},{"$f":"IF(O797=\"130\",2014.4*AO797*'CO2 Conversion Factors'!$J$20/0.8/1000,2096.16*AO797*'CO2 Conversion Factors'!$J$20/0.8/1000)","v":0},0,0,null,null,null,0,0,0,0,"",false,false,false,false,null,"","",""]
[null,null,null,null,null,null,null,null,null,null,null,null,null,null,null,null,null,null,null,null,null,null,null,null,null,null,null,null,null,null,null,null,null,null,null,null,null,{"$f":"IF(O798=\"130\",2014.4*AO798*'CO2 Conversion Factors'!$D$20/0.8/1000,2096.16*AO798*'CO2 Conversion Factors'!$D$20/0.8/1000)","v":0},{"$f":"IF(O798=\"130\",2014.4*AO798*'CO2 Conversion Factors'!$G$20/0.8/1000,2096.16*AO798*'CO2 Conversion Factors'!$G$20/0.8/1000)","v":0},{"$f":"IF(O798=\"130\",2014.4*AO798*'CO2 Conversion Factors'!$J$20/0.8/1000,2096.16*AO798*'CO2 Conversion Factors'!$J$20/0.8/1000)","v":0},0,0,null,null,null,0,0,0,0,"",false,false,false,false,null,"","",798]
[null,null,null,null,null,null,null,null,null,null,null,null,null,null,null,null,null,null,null,null,null,null,null,null,null,null,null,null,null,null,null,null,null,null,null,null,null,{"$f":"IF(O799=\"130\",2014.4*AO799*'CO2 Conversion Factors'!$D$20/0.8/1000,2096.16*AO799*'CO2 Conversion Factors'!$D$20/0.8/1000)","v":0},{"$f":"IF(O799=\"130\",2014.4*AO799*'CO2 Conversion Factors'!$G$20/0.8/1000,2096.16*AO799*'CO2 Conversion Factors'!$G$20/0.8/1000)","v":0},{"$f":"IF(O799=\"130\",2014.4*AO799*'CO2 Conversion Factors'!$J$20/0.8/1000,2096.16*AO799*'CO2 Conversion Factors'!$J$20/0.8/1000)","v":0},0,0,null,null,null,0,0,0,0,"",false,false,false,false,null,"","",799]
[null,null,null,null,null,null,null,null,null,null,null,null,null,null,null,null,null,null,null,null,null,null,null,null,null,null,null,null,null,null,null,null,null,null,null,null,null,{"$f":"IF(O800=\"130\",2014.4*AO800*'CO2 Conversion Factors'!$D$20/0.8/1000,2096.16*AO800*'CO2 Conversion Factors'!$D$20/0.8/1000)","v":0},{"$f":"IF(O800=\"130\",2014.4*AO800*'CO2 Conversion Factors'!$G$20/0.8/1000,2096.16*AO800*'CO2 Conversion Factors'!$G$20/0.8/1000)","v":0},{"$f":"IF(O800=\"130\",2014.4*AO800*'CO2 Conversion Factors'!$J$20/0.8/1000,2096.16*AO800*'CO2 Conversion Factors'!$J$20/0.8/1000)","v":0},0,0,null,null,null,0,0,0,0,"",false,false,false,false,null,"","",600]
[null,null,null,null,null,null,null,null,null,null,null,null,null,null,null,null,null,null,null,null,null,null,null,null,null,null,null,null,null,null,null,null,null,null,null,null,null,{"$f":"IF(O801=\"130\",2014.4*AO801*'CO2 Conversion Factors'!$D$20/0.8/1000,2096.16*AO801*'CO2 Conversion Factors'!$D$20/0.8/1000)","v":0},{"$f":"IF(O801=\"130\",2014.4*AO801*'CO2 Conversion Factors'!$G$20/0.8/1000,2096.16*AO801*'CO2 Conversion Factors'!$G$20/0.8/1000)","v":0},{"$f":"IF(O801=\"130\",2014.4*AO801*'CO2 Conversion Factors'!$J$20/0.8/1000,2096.16*AO801*'CO2 Conversion Factors'!$J$20/0.8/1000)","v":0},0,0,null,null,null,0,0,0,0,"",false,false,false,false,null,"","",601]
[null,null,null,null,null,null,null,null,null,null,null,null,null,null,null,null,null,null,null,null,null,null,null,null,null,null,null,null,null,null,null,null,null,null,null,null,null,{"$f":"IF(O802=\"130\",2014.4*AO802*'CO2 Conversion Factors'!$D$20/0.8/1000,2096.16*AO802*'CO2 Conversion Factors'!$D$20/0.8/1000)","v":0},{"$f":"IF(O802=\"130\",2014.4*AO802*'CO2 Conversion Factors'!$G$20/0.8/1000,2096.16*AO802*'CO2 Conversion Factors'!$G$20/0.8/1000)","v":0},{"$f":"IF(O802=\"130\",2014.4*AO802*'CO2 Conversion Factors'!$J$20/0.8/1000,2096.16*AO802*'CO2 Conversion Factors'!$J$20/0.8/1000)","v":0},0,0,null,null,null,0,0,0,0,"",false,false,false,false,null,"","",""]
[null,null,null,null,null,null,null,null,null,null,null,null,null,null,null,null,null,null,null,null,null,null,null,null,null,null,null,null,null,null,null,null,null,null,null,null,null,{"$f":"IF(O803=\"130\",2014.4*AO803*'CO2 Conversion Factors'!$D$20/0.8/1000,2096.16*AO803*'CO2 Conversion Factors'!$D$20/0.8/1000)","v":0},{"$f":"IF(O803=\"130\",2014.4*AO803*'CO2 Conversion Factors'!$G$20/0.8/1000,2096.16*AO803*'CO2 Conversion Factors'!$G$20/0.8/1000)","v":0},{"$f":"IF(O803=\"130\",2014.4*AO803*'CO2 Conversion Factors'!$J$20/0.8/1000,2096.16*AO803*'CO2 Conversion Factors'!$J$20/0.8/1000)","v":0},0,0,null,null,null,0,0,0,0,"",false,false,false,false,null,"","",602]
[null,null,null,null,null,null,null,null,null,null,null,null,null,null,null,null,null,null,null,null,null,null,null,null,null,null,null,null,null,null,null,null,null,null,null,null,null,{"$f":"IF(O804=\"130\",2014.4*AO804*'CO2 Conversion Factors'!$D$20/0.8/1000,2096.16*AO804*'CO2 Conversion Factors'!$D$20/0.8/1000)","v":0},{"$f":"IF(O804=\"130\",2014.4*AO804*'CO2 Conversion Factors'!$G$20/0.8/1000,2096.16*AO804*'CO2 Conversion Factors'!$G$20/0.8/1000)","v":0},{"$f":"IF(O804=\"130\",2014.4*AO804*'CO2 Conversion Factors'!$J$20/0.8/1000,2096.16*AO804*'CO2 Conversion Factors'!$J$20/0.8/1000)","v":0},0,0,null,null,null,0,0,0,0,"",false,false,false,false,null,"","",603]
[null,null,null,null,null,null,null,null,null,null,null,null,null,null,null,null,null,null,null,null,null,null,null,null,null,null,null,null,null,null,null,null,null,null,null,null,null,{"$f":"IF(O805=\"130\",2014.4*AO805*'CO2 Conversion Factors'!$D$20/0.8/1000,2096.16*AO805*'CO2 Conversion Factors'!$D$20/0.8/1000)","v":0},{"$f":"IF(O805=\"130\",2014.4*AO805*'CO2 Conversion Factors'!$G$20/0.8/1000,2096.16*AO805*'CO2 Conversion Factors'!$G$20/0.8/1000)","v":0},{"$f":"IF(O805=\"130\",2014.4*AO805*'CO2 Conversion Factors'!$J$20/0.8/1000,2096.16*AO805*'CO2 Conversion Factors'!$J$20/0.8/1000)","v":0},0,0,null,null,null,0,0,0,0,"",false,false,false,false,null,"","",604]
[null,null,null,null,null,null,null,null,null,null,null,null,null,null,null,null,null,null,null,null,null,null,null,null,null,null,null,null,null,null,null,null,null,null,null,null,null,{"$f":"IF(O806=\"130\",2014.4*AO806*'CO2 Conversion Factors'!$D$20/0.8/1000,2096.16*AO806*'CO2 Conversion Factors'!$D$20/0.8/1000)","v":0},{"$f":"IF(O806=\"130\",2014.4*AO806*'CO2 Conversion Factors'!$G$20/0.8/1000,2096.16*AO806*'CO2 Conversion Factors'!$G$20/0.8/1000)","v":0},{"$f":"IF(O806=\"130\",2014.4*AO806*'CO2 Conversion Factors'!$J$20/0.8/1000,2096.16*AO806*'CO2 Conversion Factors'!$J$20/0.8/1000)","v":0},0,0,null,null,null,0,0,0,0,"",false,false,false,false,null,"","",605]
[null,null,null,null,null,null,null,null,null,null,null,null,null,null,null,null,null,null,null,null,null,null,null,null,null,null,null,null,null,null,null,null,null,null,null,null,null,{"$f":"IF(O807=\"130\",2014.4*AO807*'CO2 Conversion Factors'!$D$20/0.8/1000,2096.16*AO807*'CO2 Conversion Factors'!$D$20/0.8/1000)","v":0},{"$f":"IF(O807=\"130\",2014.4*AO807*'CO2 Conversion Factors'!$G$20/0.8/1000,2096.16*AO807*'CO2 Conversion Factors'!$G$20/0.8/1000)","v":0},{"$f":"IF(O807=\"130\",2014.4*AO807*'CO2 Conversion Factors'!$J$20/0.8/1000,2096.16*AO807*'CO2 Conversion Factors'!$J$20/0.8/1000)","v":0},0,0,null,null,null,0,0,0,0,"",false,false,false,false,null,"","",""]
[null,null,null,null,null,null,null,null,null,null,null,null,null,null,null,null,null,null,null,null,null,null,null,null,null,null,null,null,null,null,null,null,null,null,null,null,null,{"$f":"IF(O808=\"130\",2014.4*AO808*'CO2 Conversion Factors'!$D$20/0.8/1000,2096.16*AO808*'CO2 Conversion Factors'!$D$20/0.8/1000)","v":0},{"$f":"IF(O808=\"130\",2014.4*AO808*'CO2 Conversion Factors'!$G$20/0.8/1000,2096.16*AO808*'CO2 Conversion Factors'!$G$20/0.8/1000)","v":0},{"$f":"IF(O808=\"130\",2014.4*AO808*'CO2 Conversion Factors'!$J$20/0.8/1000,2096.16*AO808*'CO2 Conversion Factors'!$J$20/0.8/1000)","v":0},0,0,null,null,null,0,0,0,0,"",false,false,false,false,null,"","",606]
[null,null,null,null,null,null,null,null,null,null,null,null,null,null,null,null,null,null,null,null,null,null,null,null,null,null,null,null,null,null,null,null,null,null,null,null,null,{"$f":"IF(O809=\"130\",2014.4*AO809*'CO2 Conversion Factors'!$D$20/0.8/1000,2096.16*AO809*'CO2 Conversion Factors'!$D$20/0.8/1000)","v":0},{"$f":"IF(O809=\"130\",2014.4*AO809*'CO2 Conversion Factors'!$G$20/0.8/1000,2096.16*AO809*'CO2 Conversion Factors'!$G$20/0.8/1000)","v":0},{"$f":"IF(O809=\"130\",2014.4*AO809*'CO2 Conversion Factors'!$J$20/0.8/1000,2096.16*AO809*'CO2 Conversion Factors'!$J$20/0.8/1000)","v":0},0,0,null,null,null,0,0,0,0,"",false,false,false,false,null,"","",607]
[null,null,null,null,null,null,null,null,null,null,null,null,null,null,null,null,null,null,null,null,null,null,null,null,null,null,null,null,null,null,null,null,null,null,null,null,null,{"$f":"IF(O810=\"130\",2014.4*AO810*'CO2 Conversion Factors'!$D$20/0.8/1000,2096.16*AO810*'CO2 Conversion Factors'!$D$20/0.8/1000)","v":0},{"$f":"IF(O810=\"130\",2014.4*AO810*'CO2 Conversion Factors'!$G$20/0.8/1000,2096.16*AO810*'CO2 Conversion Factors'!$G$20/0.8/1000)","v":0},{"$f":"IF(O810=\"130\",2014.4*AO810*'CO2 Conversion Factors'!$J$20/0.8/1000,2096.16*AO810*'CO2 Conversion Factors'!$J$20/0.8/1000)","v":0},0,0,null,null,null,0,0,0,0,"",false,false,false,false,null,"","",608]
[null,null,null,null,null,null,null,null,null,null,null,null,null,null,null,null,null,null,null,null,null,null,null,null,null,null,null,null,null,null,null,null,null,null,null,null,null,{"$f":"IF(O811=\"130\",2014.4*AO811*'CO2 Conversion Factors'!$D$20/0.8/1000,2096.16*AO811*'CO2 Conversion Factors'!$D$20/0.8/1000)","v":0},{"$f":"IF(O811=\"130\",2014.4*AO811*'CO2 Conversion Factors'!$G$20/0.8/1000,2096.16*AO811*'CO2 Conversion Factors'!$G$20/0.8/1000)","v":0},{"$f":"IF(O811=\"130\",2014.4*AO811*'CO2 Conversion Factors'!$J$20/0.8/1000,2096.16*AO811*'CO2 Conversion Factors'!$J$20/0.8/1000)","v":0},0,0,null,null,null,0,0,0,0,"",false,false,false,false,null,"","",609]
[null,null,null,null,null,null,null,null,null,null,null,null,null,null,null,null,null,null,null,null,null,null,null,null,null,null,null,null,null,null,null,null,null,null,null,null,null,{"$f":"IF(O812=\"130\",2014.4*AO812*'CO2 Conversion Factors'!$D$20/0.8/1000,2096.16*AO812*'CO2 Conversion Factors'!$D$20/0.8/1000)","v":0},{"$f":"IF(O812=\"130\",2014.4*AO812*'CO2 Conversion Factors'!$G$20/0.8/1000,2096.16*AO812*'CO2 Conversion Factors'!$G$20/0.8/1000)","v":0},{"$f":"IF(O812=\"130\",2014.4*AO812*'CO2 Conversion Factors'!$J$20/0.8/1000,2096.16*AO812*'CO2 Conversion Factors'!$J$20/0.8/1000)","v":0},0,0,null,null,null,0,0,0,0,"",false,false,false,false,null,"","",610]
[null,null,null,null,null,null,null,null,null,null,null,null,null,null,null,null,null,null,null,null,null,null,null,null,null,null,null,null,null,null,null,null,null,null,null,null,null,{"$f":"IF(O813=\"130\",2014.4*AO813*'CO2 Conversion Factors'!$D$20/0.8/1000,2096.16*AO813*'CO2 Conversion Factors'!$D$20/0.8/1000)","v":0},{"$f":"IF(O813=\"130\",2014.4*AO813*'CO2 Conversion Factors'!$G$20/0.8/1000,2096.16*AO813*'CO2 Conversion Factors'!$G$20/0.8/1000)","v":0},{"$f":"IF(O813=\"130\",2014.4*AO813*'CO2 Conversion Factors'!$J$20/0.8/1000,2096.16*AO813*'CO2 Conversion Factors'!$J$20/0.8/1000)","v":0},0,0,null,null,null,0,0,0,0,"",false,false,false,false,null,"","",611]
[null,null,null,null,null,null,null,null,null,null,null,null,null,null,null,null,null,null,null,null,null,null,null,null,null,null,null,null,null,null,null,null,null,null,null,null,null,{"$f":"IF(O814=\"130\",2014.4*AO814*'CO2 Conversion Factors'!$D$20/0.8/1000,2096.16*AO814*'CO2 Conversion Factors'!$D$20/0.8/1000)","v":0},{"$f":"IF(O814=\"130\",2014.4*AO814*'CO2 Conversion Factors'!$G$20/0.8/1000,2096.16*AO814*'CO2 Conversion Factors'!$G$20/0.8/1000)","v":0},{"$f":"IF(O814=\"130\",2014.4*AO814*'CO2 Conversion Factors'!$J$20/0.8/1000,2096.16*AO814*'CO2 Conversion Factors'!$J$20/0.8/1000)","v":0},0,0,null,null,null,0,0,0,0,"",false,false,false,false,null,"","",612]
[null,null,null,null,null,null,null,null,null,null,null,null,null,null,null,null,null,null,null,null,null,null,null,null,null,null,null,null,null,null,null,null,null,null,null,null,null,{"$f":"IF(O815=\"130\",2014.4*AO815*'CO2 Conversion Factors'!$D$20/0.8/1000,2096.16*AO815*'CO2 Conversion Factors'!$D$20/0.8/1000)","v":0},{"$f":"IF(O815=\"130\",2014.4*AO815*'CO2 Conversion Factors'!$G$20/0.8/1000,2096.16*AO815*'CO2 Conversion Factors'!$G$20/0.8/1000)","v":0},{"$f":"IF(O815=\"130\",2014.4*AO815*'CO2 Conversion Factors'!$J$20/0.8/1000,2096.16*AO815*'CO2 Conversion Factors'!$J$20/0.8/1000)","v":0},0,0,null,null,null,0,0,0,0,"",false,false,false,false,null,"","",613]
[null,null,null,null,null,null,null,null,null,null,null,null,null,null,null,null,null,null,null,null,null,null,null,null,null,null,null,null,null,null,null,null,null,null,null,null,null,{"$f":"IF(O816=\"130\",2014.4*AO816*'CO2 Conversion Factors'!$D$20/0.8/1000,2096.16*AO816*'CO2 Conversion Factors'!$D$20/0.8/1000)","v":0},{"$f":"IF(O816=\"130\",2014.4*AO816*'CO2 Conversion Factors'!$G$20/0.8/1000,2096.16*AO816*'CO2 Conversion Factors'!$G$20/0.8/1000)","v":0},{"$f":"IF(O816=\"130\",2014.4*AO816*'CO2 Conversion Factors'!$J$20/0.8/1000,2096.16*AO816*'CO2 Conversion Factors'!$J$20/0.8/1000)","v":0},0,0,null,null,null,0,0,0,0,"",false,false,false,false,null,"","",614]
[null,null,null,null,null,null,null,null,null,null,null,null,null,null,null,null,null,null,null,null,null,null,null,null,null,null,null,null,null,null,null,null,null,null,null,null,null,{"$f":"IF(O817=\"130\",2014.4*AO817*'CO2 Conversion Factors'!$D$20/0.8/1000,2096.16*AO817*'CO2 Conversion Factors'!$D$20/0.8/1000)","v":0},{"$f":"IF(O817=\"130\",2014.4*AO817*'CO2 Conversion Factors'!$G$20/0.8/1000,2096.16*AO817*'CO2 Conversion Factors'!$G$20/0.8/1000)","v":0},{"$f":"IF(O817=\"130\",2014.4*AO817*'CO2 Conversion Factors'!$J$20/0.8/1000,2096.16*AO817*'CO2 Conversion Factors'!$J$20/0.8/1000)","v":0},0,0,null,null,null,0,0,0,0,"",false,false,false,false,null,"","",615]
[null,null,null,null,null,null,null,null,null,null,null,null,null,null,null,null,null,null,null,null,null,null,null,null,null,null,null,null,null,null,null,null,null,null,null,null,null,{"$f":"IF(O818=\"130\",2014.4*AO818*'CO2 Conversion Factors'!$D$20/0.8/1000,2096.16*AO818*'CO2 Conversion Factors'!$D$20/0.8/1000)","v":0},{"$f":"IF(O818=\"130\",2014.4*AO818*'CO2 Conversion Factors'!$G$20/0.8/1000,2096.16*AO818*'CO2 Conversion Factors'!$G$20/0.8/1000)","v":0},{"$f":"IF(O818=\"130\",2014.4*AO818*'CO2 Conversion Factors'!$J$20/0.8/1000,2096.16*AO818*'CO2 Conversion Factors'!$J$20/0.8/1000)","v":0},0,0,null,null,null,0,0,0,0,"",false,false,false,false,null,"","",616]
[null,null,null,null,null,null,null,null,null,null,null,null,null,null,null,null,null,null,null,null,null,null,null,null,null,null,null,null,null,null,null,null,null,null,null,null,null,{"$f":"IF(O819=\"130\",2014.4*AO819*'CO2 Conversion Factors'!$D$20/0.8/1000,2096.16*AO819*'CO2 Conversion Factors'!$D$20/0.8/1000)","v":0},{"$f":"IF(O819=\"130\",2014.4*AO819*'CO2 Conversion Factors'!$G$20/0.8/1000,2096.16*AO819*'CO2 Conversion Factors'!$G$20/0.8/1000)","v":0},{"$f":"IF(O819=\"130\",2014.4*AO819*'CO2 Conversion Factors'!$J$20/0.8/1000,2096.16*AO819*'CO2 Conversion Factors'!$J$20/0.8/1000)","v":0},0,0,null,null,null,0,0,0,0,"",false,false,false,false,null,"","",617]
[null,null,null,null,null,null,null,null,null,null,null,null,null,null,null,null,null,null,null,null,null,null,null,null,null,null,null,null,null,null,null,null,null,null,null,null,null,{"$f":"IF(O820=\"130\",2014.4*AO820*'CO2 Conversion Factors'!$D$20/0.8/1000,2096.16*AO820*'CO2 Conversion Factors'!$D$20/0.8/1000)","v":0},{"$f":"IF(O820=\"130\",2014.4*AO820*'CO2 Conversion Factors'!$G$20/0.8/1000,2096.16*AO820*'CO2 Conversion Factors'!$G$20/0.8/1000)","v":0},{"$f":"IF(O820=\"130\",2014.4*AO820*'CO2 Conversion Factors'!$J$20/0.8/1000,2096.16*AO820*'CO2 Conversion Factors'!$J$20/0.8/1000)","v":0},0,0,null,null,null,0,0,0,0,"",false,false,false,false,null,"","",617]
[null,null,null,null,null,null,null,null,null,null,null,null,null,null,null,null,null,null,null,null,null,null,null,null,null,null,null,null,null,null,null,null,null,null,null,null,null,{"$f":"IF(O821=\"130\",2014.4*AO821*'CO2 Conversion Factors'!$D$20/0.8/1000,2096.16*AO821*'CO2 Conversion Factors'!$D$20/0.8/1000)","v":0},{"$f":"IF(O821=\"130\",2014.4*AO821*'CO2 Conversion Factors'!$G$20/0.8/1000,2096.16*AO821*'CO2 Conversion Factors'!$G$20/0.8/1000)","v":0},{"$f":"IF(O821=\"130\",2014.4*AO821*'CO2 Conversion Factors'!$J$20/0.8/1000,2096.16*AO821*'CO2 Conversion Factors'!$J$20/0.8/1000)","v":0},0,0,null,null,null,0,0,0,0,"",false,false,false,false,null,"","",618]
[null,null,null,null,null,null,null,null,null,null,null,null,null,null,null,null,null,null,null,null,null,null,null,null,null,null,null,null,null,null,null,null,null,null,null,null,null,{"$f":"IF(O822=\"130\",2014.4*AO822*'CO2 Conversion Factors'!$D$20/0.8/1000,2096.16*AO822*'CO2 Conversion Factors'!$D$20/0.8/1000)","v":0},{"$f":"IF(O822=\"130\",2014.4*AO822*'CO2 Conversion Factors'!$G$20/0.8/1000,2096.16*AO822*'CO2 Conversion Factors'!$G$20/0.8/1000)","v":0},{"$f":"IF(O822=\"130\",2014.4*AO822*'CO2 Conversion Factors'!$J$20/0.8/1000,2096.16*AO822*'CO2 Conversion Factors'!$J$20/0.8/1000)","v":0},0,0,null,null,null,0,0,0,0,"",false,false,false,false,null,"","",619]
[null,null,null,null,null,null,null,null,null,null,null,null,null,null,null,null,null,null,null,null,null,null,null,null,null,null,null,null,null,null,null,null,null,null,null,null,null,{"$f":"IF(O823=\"130\",2014.4*AO823*'CO2 Conversion Factors'!$D$20/0.8/1000,2096.16*AO823*'CO2 Conversion Factors'!$D$20/0.8/1000)","v":0},{"$f":"IF(O823=\"130\",2014.4*AO823*'CO2 Conversion Factors'!$G$20/0.8/1000,2096.16*AO823*'CO2 Conversion Factors'!$G$20/0.8/1000)","v":0},{"$f":"IF(O823=\"130\",2014.4*AO823*'CO2 Conversion Factors'!$J$20/0.8/1000,2096.16*AO823*'CO2 Conversion Factors'!$J$20/0.8/1000)","v":0},0,0,null,null,null,0,0,0,0,"",false,false,false,false,null,"","",620]
[null,null,null,null,null,null,null,null,null,null,null,null,null,null,null,null,null,null,null,null,null,null,null,null,null,null,null,null,null,null,null,null,null,null,null,null,null,{"$f":"IF(O824=\"130\",2014.4*AO824*'CO2 Conversion Factors'!$D$20/0.8/1000,2096.16*AO824*'CO2 Conversion Factors'!$D$20/0.8/1000)","v":0},{"$f":"IF(O824=\"130\",2014.4*AO824*'CO2 Conversion Factors'!$G$20/0.8/1000,2096.16*AO824*'CO2 Conversion Factors'!$G$20/0.8/1000)","v":0},{"$f":"IF(O824=\"130\",2014.4*AO824*'CO2 Conversion Factors'!$J$20/0.8/1000,2096.16*AO824*'CO2 Conversion Factors'!$J$20/0.8/1000)","v":0},0,0,null,null,null,0,0,0,0,"",false,false,false,false,null,"","",621]
[null,null,null,null,null,null,null,null,null,null,null,null,null,null,null,null,null,null,null,null,null,null,null,null,null,null,null,null,null,null,null,null,null,null,null,null,null,{"$f":"IF(O825=\"130\",2014.4*AO825*'CO2 Conversion Factors'!$D$20/0.8/1000,2096.16*AO825*'CO2 Conversion Factors'!$D$20/0.8/1000)","v":0},{"$f":"IF(O825=\"130\",2014.4*AO825*'CO2 Conversion Factors'!$G$20/0.8/1000,2096.16*AO825*'CO2 Conversion Factors'!$G$20/0.8/1000)","v":0},{"$f":"IF(O825=\"130\",2014.4*AO825*'CO2 Conversion Factors'!$J$20/0.8/1000,2096.16*AO825*'CO2 Conversion Factors'!$J$20/0.8/1000)","v":0},0,{"$f":"IFERROR(AO825*Cover_Select_SteamCost,0)","v":0},null,null,null,{"$f":"IF(NOT(OR(L825=\"NIS\",L825=\"OFF\")),F825)","v":0},{"$f":"IF(NOT(OR(L825=\"NIS\",L825=\"OFF\",L825=\"PO\")),F825)","v":0},{"$f":"IF(NOT(OR(L825=\"NIS\",L825=\"OFF\")),H825)","v":0},{"$f":"IF(NOT(OR(L825=\"NIS\",L825=\"OFF\",L825=\"PO\")),H825)","v":0},{"$f":"F825&H825","v":""},false,false,false,false,null,"","",""]
[null,null,null,null,null,null,null,null,null,null,null,null,null,null,null,null,null,null,null,null,null,null,null,null,null,null,null,null,null,null,null,null,null,null,null,null,null,{"$f":"IF(O826=\"130\",2014.4*AO826*'CO2 Conversion Factors'!$D$20/0.8/1000,2096.16*AO826*'CO2 Conversion Factors'!$D$20/0.8/1000)","v":0},{"$f":"IF(O826=\"130\",2014.4*AO826*'CO2 Conversion Factors'!$G$20/0.8/1000,2096.16*AO826*'CO2 Conversion Factors'!$G$20/0.8/1000)","v":0},{"$f":"IF(O826=\"130\",2014.4*AO826*'CO2 Conversion Factors'!$J$20/0.8/1000,2096.16*AO826*'CO2 Conversion Factors'!$J$20/0.8/1000)","v":0},0,0,null,null,null,0,0,0,0,"",false,false,false,false,null,"","",622]
[null,null,null,null,null,null,null,null,null,null,null,null,null,null,null,null,null,null,null,null,null,null,null,null,null,null,null,null,null,null,null,null,null,null,null,null,null,{"$f":"IF(O827=\"130\",2014.4*AO827*'CO2 Conversion Factors'!$D$20/0.8/1000,2096.16*AO827*'CO2 Conversion Factors'!$D$20/0.8/1000)","v":0},{"$f":"IF(O827=\"130\",2014.4*AO827*'CO2 Conversion Factors'!$G$20/0.8/1000,2096.16*AO827*'CO2 Conversion Factors'!$G$20/0.8/1000)","v":0},{"$f":"IF(O827=\"130\",2014.4*AO827*'CO2 Conversion Factors'!$J$20/0.8/1000,2096.16*AO827*'CO2 Conversion Factors'!$J$20/0.8/1000)","v":0},0,0,null,null,null,0,0,0,0,"",false,false,false,false,null,"","",623]
[null,null,null,null,null,null,null,null,null,null,null,null,null,null,null,null,null,null,null,null,null,null,null,null,null,null,null,null,null,null,null,null,null,null,null,null,null,{"$f":"IF(O828=\"130\",2014.4*AO828*'CO2 Conversion Factors'!$D$20/0.8/1000,2096.16*AO828*'CO2 Conversion Factors'!$D$20/0.8/1000)","v":0},{"$f":"IF(O828=\"130\",2014.4*AO828*'CO2 Conversion Factors'!$G$20/0.8/1000,2096.16*AO828*'CO2 Conversion Factors'!$G$20/0.8/1000)","v":0},{"$f":"IF(O828=\"130\",2014.4*AO828*'CO2 Conversion Factors'!$J$20/0.8/1000,2096.16*AO828*'CO2 Conversion Factors'!$J$20/0.8/1000)","v":0},0,0,null,null,null,0,0,0,0,"",false,false,false,false,null,"","",624]
[null,null,null,null,null,null,null,null,null,null,null,null,null,null,null,null,null,null,null,null,null,null,null,null,null,null,null,null,null,null,null,null,null,null,null,null,null,{"$f":"IF(O829=\"130\",2014.4*AO829*'CO2 Conversion Factors'!$D$20/0.8/1000,2096.16*AO829*'CO2 Conversion Factors'!$D$20/0.8/1000)","v":0},{"$f":"IF(O829=\"130\",2014.4*AO829*'CO2 Conversion Factors'!$G$20/0.8/1000,2096.16*AO829*'CO2 Conversion Factors'!$G$20/0.8/1000)","v":0},{"$f":"IF(O829=\"130\",2014.4*AO829*'CO2 Conversion Factors'!$J$20/0.8/1000,2096.16*AO829*'CO2 Conversion Factors'!$J$20/0.8/1000)","v":0},0,0,null,null,null,0,0,0,0,"",false,false,false,false,null,"","",625]
[null,null,null,null,null,null,null,null,null,null,null,null,null,null,null,null,null,null,null,null,null,null,null,null,null,null,null,null,null,null,null,null,null,null,null,null,null,{"$f":"IF(O830=\"130\",2014.4*AO830*'CO2 Conversion Factors'!$D$20/0.8/1000,2096.16*AO830*'CO2 Conversion Factors'!$D$20/0.8/1000)","v":0},{"$f":"IF(O830=\"130\",2014.4*AO830*'CO2 Conversion Factors'!$G$20/0.8/1000,2096.16*AO830*'CO2 Conversion Factors'!$G$20/0.8/1000)","v":0},{"$f":"IF(O830=\"130\",2014.4*AO830*'CO2 Conversion Factors'!$J$20/0.8/1000,2096.16*AO830*'CO2 Conversion Factors'!$J$20/0.8/1000)","v":0},0,0,null,null,null,0,0,0,0,"",false,false,false,false,null,"","",626]
[null,null,null,null,null,null,null,null,null,null,null,null,null,null,null,null,null,null,null,null,null,null,null,null,null,null,null,null,null,null,null,null,null,null,null,null,null,{"$f":"IF(O831=\"130\",2014.4*AO831*'CO2 Conversion Factors'!$D$20/0.8/1000,2096.16*AO831*'CO2 Conversion Factors'!$D$20/0.8/1000)","v":0},{"$f":"IF(O831=\"130\",2014.4*AO831*'CO2 Conversion Factors'!$G$20/0.8/1000,2096.16*AO831*'CO2 Conversion Factors'!$G$20/0.8/1000)","v":0},{"$f":"IF(O831=\"130\",2014.4*AO831*'CO2 Conversion Factors'!$J$20/0.8/1000,2096.16*AO831*'CO2 Conversion Factors'!$J$20/0.8/1000)","v":0},0,0,null,null,null,0,0,0,0,"",false,false,false,false,null,"","",627]
[null,null,null,null,null,null,null,null,null,null,null,null,null,null,null,null,null,null,null,null,null,null,null,null,null,null,null,null,null,null,null,null,null,null,null,null,null,{"$f":"IF(O832=\"130\",2014.4*AO832*'CO2 Conversion Factors'!$D$20/0.8/1000,2096.16*AO832*'CO2 Conversion Factors'!$D$20/0.8/1000)","v":0},{"$f":"IF(O832=\"130\",2014.4*AO832*'CO2 Conversion Factors'!$G$20/0.8/1000,2096.16*AO832*'CO2 Conversion Factors'!$G$20/0.8/1000)","v":0},{"$f":"IF(O832=\"130\",2014.4*AO832*'CO2 Conversion Factors'!$J$20/0.8/1000,2096.16*AO832*'CO2 Conversion Factors'!$J$20/0.8/1000)","v":0},0,0,null,null,null,0,0,0,0,"",false,false,false,false,null,"","",628]
[null,null,null,null,null,null,null,null,null,null,null,null,null,null,null,null,null,null,null,null,null,null,null,null,null,null,null,null,null,null,null,null,null,null,null,null,null,{"$f":"IF(O833=\"130\",2014.4*AO833*'CO2 Conversion Factors'!$D$20/0.8/1000,2096.16*AO833*'CO2 Conversion Factors'!$D$20/0.8/1000)","v":0},{"$f":"IF(O833=\"130\",2014.4*AO833*'CO2 Conversion Factors'!$G$20/0.8/1000,2096.16*AO833*'CO2 Conversion Factors'!$G$20/0.8/1000)","v":0},{"$f":"IF(O833=\"130\",2014.4*AO833*'CO2 Conversion Factors'!$J$20/0.8/1000,2096.16*AO833*'CO2 Conversion Factors'!$J$20/0.8/1000)","v":0},0,0,null,null,null,0,0,0,0,"",false,false,false,false,null,"","",629]
[null,null,null,null,null,null,null,null,null,null,null,null,null,null,null,null,null,null,null,null,null,null,null,null,null,null,null,null,null,null,null,null,null,null,null,null,null,{"$f":"IF(O834=\"130\",2014.4*AO834*'CO2 Conversion Factors'!$D$20/0.8/1000,2096.16*AO834*'CO2 Conversion Factors'!$D$20/0.8/1000)","v":0},{"$f":"IF(O834=\"130\",2014.4*AO834*'CO2 Conversion Factors'!$G$20/0.8/1000,2096.16*AO834*'CO2 Conversion Factors'!$G$20/0.8/1000)","v":0},{"$f":"IF(O834=\"130\",2014.4*AO834*'CO2 Conversion Factors'!$J$20/0.8/1000,2096.16*AO834*'CO2 Conversion Factors'!$J$20/0.8/1000)","v":0},0,0,null,null,null,0,0,0,0,"",false,false,false,false,null,"","",""]
[null,null,null,null,null,null,null,null,null,null,null,null,null,null,null,null,null,null,null,null,null,null,null,null,null,null,null,null,null,null,null,null,null,null,null,null,null,{"$f":"IF(O835=\"130\",2014.4*AO835*'CO2 Conversion Factors'!$D$20/0.8/1000,2096.16*AO835*'CO2 Conversion Factors'!$D$20/0.8/1000)","v":0},{"$f":"IF(O835=\"130\",2014.4*AO835*'CO2 Conversion Factors'!$G$20/0.8/1000,2096.16*AO835*'CO2 Conversion Factors'!$G$20/0.8/1000)","v":0},{"$f":"IF(O835=\"130\",2014.4*AO835*'CO2 Conversion Factors'!$J$20/0.8/1000,2096.16*AO835*'CO2 Conversion Factors'!$J$20/0.8/1000)","v":0},{"$f":"IFERROR(IF(OR(L835=\"BLW\",L835=\"PRI\",L835=\"LNK\"),IF(Cover_Select_SteamCostUnits=\"£/1000kg\",11.6*(VLOOKUP($I835,Abb_Lookup_OrifaceDia,2,FALSE)^2)*SQRT(($O835-$P835)*($O835+$P835)),25.57363*(VLOOKUP($I835,Abb_Lookup_OrifaceDia,2,FALSE)^2)*SQRT(($O835-$P835)*($O835+$P835)))*(VLOOKUP(AE835,Cover_Lookup_OpTime,4,FALSE)/1000),IF(L835=\"LL\",IF(Cover_Select_SteamCostUnits=\"£/1000kg\",11.6*(VLOOKUP($I835,Abb_Lookup_OrifaceDia,2,FALSE)^2)*SQRT(($O835-$P835)*($O835+$P835)),25.57363*(VLOOKUP($I835,Abb_Lookup_OrifaceDia,2,FALSE)^2)*SQRT(($O835-$P835)*($O835+$P835)))*(VLOOKUP(AE835,Cover_Lookup_OpTime,4,FALSE)/2000),IF(L835=\"SL\",IF(Cover_Select_SteamCostUnits=\"£/1000kg\",11.6*(VLOOKUP($I835,Abb_Lookup_OrifaceDia,2,FALSE)^2)*SQRT(($O835-$P835)*($O835+$P835)),25.57363*(VLOOKUP($I835,Abb_Lookup_OrifaceDia,2,FALSE)^2)*SQRT(($O835-$P835)*($O835+$P835)))*(VLOOKUP(AE835,Cover_Lookup_OpTime,4,FALSE)/4000),0))),0)","v":0},0,null,null,null,0,0,0,0,"",false,false,false,false,null,"","",631]
[null,null,null,null,null,null,null,null,null,null,null,null,null,null,null,null,null,null,null,null,null,null,null,null,null,null,null,null,null,null,null,null,null,null,null,null,null,{"$f":"IF(O836=\"130\",2014.4*AO836*'CO2 Conversion Factors'!$D$20/0.8/1000,2096.16*AO836*'CO2 Conversion Factors'!$D$20/0.8/1000)","v":0},{"$f":"IF(O836=\"130\",2014.4*AO836*'CO2 Conversion Factors'!$G$20/0.8/1000,2096.16*AO836*'CO2 Conversion Factors'!$G$20/0.8/1000)","v":0},{"$f":"IF(O836=\"130\",2014.4*AO836*'CO2 Conversion Factors'!$J$20/0.8/1000,2096.16*AO836*'CO2 Conversion Factors'!$J$20/0.8/1000)","v":0},0,0,null,null,null,0,0,0,0,"",false,false,false,false,null,"","",632]
[null,null,null,null,null,null,null,null,null,null,null,null,null,null,null,null,null,null,null,null,null,null,null,null,null,null,null,null,null,null,null,null,null,null,null,null,null,{"$f":"IF(O837=\"130\",2014.4*AO837*'CO2 Conversion Factors'!$D$20/0.8/1000,2096.16*AO837*'CO2 Conversion Factors'!$D$20/0.8/1000)","v":0},{"$f":"IF(O837=\"130\",2014.4*AO837*'CO2 Conversion Factors'!$G$20/0.8/1000,2096.16*AO837*'CO2 Conversion Factors'!$G$20/0.8/1000)","v":0},{"$f":"IF(O837=\"130\",2014.4*AO837*'CO2 Conversion Factors'!$J$20/0.8/1000,2096.16*AO837*'CO2 Conversion Factors'!$J$20/0.8/1000)","v":0},0,{"$f":"IFERROR(AO837*Cover_Select_SteamCost,0)","v":0},null,null,null,{"$f":"IF(NOT(OR(L837=\"NIS\",L837=\"OFF\")),F837)","v":0},{"$f":"IF(NOT(OR(L837=\"NIS\",L837=\"OFF\",L837=\"PO\")),F837)","v":0},{"$f":"IF(NOT(OR(L837=\"NIS\",L837=\"OFF\")),H837)","v":0},{"$f":"IF(NOT(OR(L837=\"NIS\",L837=\"OFF\",L837=\"PO\")),H837)","v":0},"",{"$f":"IF(L837=\"CLD\", H837)","v":false},{"$f":"IF(L837=\"SL\", H837)","v":false},{"$f":"IF(L837=\"LL\", H837)","v":false},{"$f":"IF(L837=\"BLW\", H837)","v":false},null,"","",634]
[null,null,null,null,null,null,null,null,null,null,null,null,null,null,null,null,null,null,null,null,null,null,null,null,null,null,null,null,null,null,null,null,null,null,null,null,null,{"$f":"IF(O838=\"130\",2014.4*AO838*'CO2 Conversion Factors'!$D$20/0.8/1000,2096.16*AO838*'CO2 Conversion Factors'!$D$20/0.8/1000)","v":0},{"$f":"IF(O838=\"130\",2014.4*AO838*'CO2 Conversion Factors'!$G$20/0.8/1000,2096.16*AO838*'CO2 Conversion Factors'!$G$20/0.8/1000)","v":0},{"$f":"IF(O838=\"130\",2014.4*AO838*'CO2 Conversion Factors'!$J$20/0.8/1000,2096.16*AO838*'CO2 Conversion Factors'!$J$20/0.8/1000)","v":0},0,0,null,null,null,0,0,0,0,{"$f":"F838&H838","v":""},false,false,false,false,null,"","",633]
[null,null,null,null,null,null,null,null,null,null,null,null,null,null,null,null,null,null,null,null,null,null,null,null,null,null,null,null,null,null,null,null,null,null,null,null,null,{"$f":"IF(O839=\"130\",2014.4*AO839*'CO2 Conversion Factors'!$D$20/0.8/1000,2096.16*AO839*'CO2 Conversion Factors'!$D$20/0.8/1000)","v":0},{"$f":"IF(O839=\"130\",2014.4*AO839*'CO2 Conversion Factors'!$G$20/0.8/1000,2096.16*AO839*'CO2 Conversion Factors'!$G$20/0.8/1000)","v":0},{"$f":"IF(O839=\"130\",2014.4*AO839*'CO2 Conversion Factors'!$J$20/0.8/1000,2096.16*AO839*'CO2 Conversion Factors'!$J$20/0.8/1000)","v":0},0,0,null,null,null,0,0,0,0,"",false,false,false,false,null,"","",""]
[null,null,null,null,null,null,null,null,null,null,null,null,null,null,null,null,null,null,null,null,null,null,null,null,null,null,null,null,null,null,null,null,null,null,null,null,null,{"$f":"IF(O840=\"130\",2014.4*AO840*'CO2 Conversion Factors'!$D$20/0.8/1000,2096.16*AO840*'CO2 Conversion Factors'!$D$20/0.8/1000)","v":0},{"$f":"IF(O840=\"130\",2014.4*AO840*'CO2 Conversion Factors'!$G$20/0.8/1000,2096.16*AO840*'CO2 Conversion Factors'!$G$20/0.8/1000)","v":0},{"$f":"IF(O840=\"130\",2014.4*AO840*'CO2 Conversion Factors'!$J$20/0.8/1000,2096.16*AO840*'CO2 Conversion Factors'!$J$20/0.8/1000)","v":0},0,0,null,null,null,0,0,0,0,"",false,false,false,false,null,"","",634]
[null,null,null,null,null,null,null,null,null,null,null,null,null,null,null,null,null,null,null,null,null,null,null,null,null,null,null,null,null,null,null,null,null,null,null,null,null,{"$f":"IF(O841=\"130\",2014.4*AO841*'CO2 Conversion Factors'!$D$20/0.8/1000,2096.16*AO841*'CO2 Conversion Factors'!$D$20/0.8/1000)","v":0},{"$f":"IF(O841=\"130\",2014.4*AO841*'CO2 Conversion Factors'!$G$20/0.8/1000,2096.16*AO841*'CO2 Conversion Factors'!$G$20/0.8/1000)","v":0},{"$f":"IF(O841=\"130\",2014.4*AO841*'CO2 Conversion Factors'!$J$20/0.8/1000,2096.16*AO841*'CO2 Conversion Factors'!$J$20/0.8/1000)","v":0},0,0,null,null,null,0,0,0,0,"",false,false,false,false,null,"","",635]
[null,null,null,null,null,null,null,null,null,null,null,null,null,null,null,null,null,null,null,null,null,null,null,null,null,null,null,null,null,null,null,null,null,null,null,null,null,{"$f":"IF(O842=\"130\",2014.4*AO842*'CO2 Conversion Factors'!$D$20/0.8/1000,2096.16*AO842*'CO2 Conversion Factors'!$D$20/0.8/1000)","v":0},{"$f":"IF(O842=\"130\",2014.4*AO842*'CO2 Conversion Factors'!$G$20/0.8/1000,2096.16*AO842*'CO2 Conversion Factors'!$G$20/0.8/1000)","v":0},{"$f":"IF(O842=\"130\",2014.4*AO842*'CO2 Conversion Factors'!$J$20/0.8/1000,2096.16*AO842*'CO2 Conversion Factors'!$J$20/0.8/1000)","v":0},0,0,null,null,null,0,0,0,0,"",false,false,false,false,null,"","",636]
[null,null,null,null,null,null,null,null,null,null,null,null,null,null,null,null,null,null,null,null,null,null,null,null,null,null,null,null,null,null,null,null,null,null,null,null,null,{"$f":"IF(O843=\"130\",2014.4*AO843*'CO2 Conversion Factors'!$D$20/0.8/1000,2096.16*AO843*'CO2 Conversion Factors'!$D$20/0.8/1000)","v":0},{"$f":"IF(O843=\"130\",2014.4*AO843*'CO2 Conversion Factors'!$G$20/0.8/1000,2096.16*AO843*'CO2 Conversion Factors'!$G$20/0.8/1000)","v":0},{"$f":"IF(O843=\"130\",2014.4*AO843*'CO2 Conversion Factors'!$J$20/0.8/1000,2096.16*AO843*'CO2 Conversion Factors'!$J$20/0.8/1000)","v":0},0,0,null,null,null,0,0,0,0,"",false,false,false,false,null,"","",637]
[null,null,null,null,null,null,null,null,null,null,null,null,null,null,null,null,null,null,null,null,null,null,null,null,null,null,null,null,null,null,null,null,null,null,null,null,null,{"$f":"IF(O844=\"130\",2014.4*AO844*'CO2 Conversion Factors'!$D$20/0.8/1000,2096.16*AO844*'CO2 Conversion Factors'!$D$20/0.8/1000)","v":0},{"$f":"IF(O844=\"130\",2014.4*AO844*'CO2 Conversion Factors'!$G$20/0.8/1000,2096.16*AO844*'CO2 Conversion Factors'!$G$20/0.8/1000)","v":0},{"$f":"IF(O844=\"130\",2014.4*AO844*'CO2 Conversion Factors'!$J$20/0.8/1000,2096.16*AO844*'CO2 Conversion Factors'!$J$20/0.8/1000)","v":0},0,0,null,null,null,0,0,0,0,"",false,false,false,false,null,"","",""]
[null,null,null,null,null,null,null,null,null,null,null,null,null,null,null,null,null,null,null,null,null,null,null,null,null,null,null,null,null,null,null,null,null,null,null,null,null,{"$f":"IF(O845=\"130\",2014.4*AO845*'CO2 Conversion Factors'!$D$20/0.8/1000,2096.16*AO845*'CO2 Conversion Factors'!$D$20/0.8/1000)","v":0},{"$f":"IF(O845=\"130\",2014.4*AO845*'CO2 Conversion Factors'!$G$20/0.8/1000,2096.16*AO845*'CO2 Conversion Factors'!$G$20/0.8/1000)","v":0},{"$f":"IF(O845=\"130\",2014.4*AO845*'CO2 Conversion Factors'!$J$20/0.8/1000,2096.16*AO845*'CO2 Conversion Factors'!$J$20/0.8/1000)","v":0},0,0,null,null,null,0,0,0,0,"",false,false,false,false,null,"","",""]
[null,null,null,null,null,null,null,null,null,null,null,null,null,null,null,null,null,null,null,null,null,null,null,null,null,null,null,null,null,null,null,null,null,null,null,null,null,{"$f":"IF(O846=\"130\",2014.4*AO846*'CO2 Conversion Factors'!$D$20/0.8/1000,2096.16*AO846*'CO2 Conversion Factors'!$D$20/0.8/1000)","v":0},{"$f":"IF(O846=\"130\",2014.4*AO846*'CO2 Conversion Factors'!$G$20/0.8/1000,2096.16*AO846*'CO2 Conversion Factors'!$G$20/0.8/1000)","v":0},{"$f":"IF(O846=\"130\",2014.4*AO846*'CO2 Conversion Factors'!$J$20/0.8/1000,2096.16*AO846*'CO2 Conversion Factors'!$J$20/0.8/1000)","v":0},0,0,null,null,null,0,0,0,0,"",false,false,false,false,null,"","",""]
[null,null,null,null,null,null,null,null,null,null,null,null,null,null,null,null,null,null,null,null,null,null,null,null,null,null,null,null,null,null,null,null,null,null,null,null,null,{"$f":"IF(O847=\"130\",2014.4*AO847*'CO2 Conversion Factors'!$D$20/0.8/1000,2096.16*AO847*'CO2 Conversion Factors'!$D$20/0.8/1000)","v":0},{"$f":"IF(O847=\"130\",2014.4*AO847*'CO2 Conversion Factors'!$G$20/0.8/1000,2096.16*AO847*'CO2 Conversion Factors'!$G$20/0.8/1000)","v":0},{"$f":"IF(O847=\"130\",2014.4*AO847*'CO2 Conversion Factors'!$J$20/0.8/1000,2096.16*AO847*'CO2 Conversion Factors'!$J$20/0.8/1000)","v":0},0,0,null,null,null,0,0,0,0,"",false,false,false,false,null,"","",""]
[null,null,null,null,null,null,null,null,null,null,null,null,null,null,null,null,null,null,null,null,null,null,null,null,null,null,null,null,null,null,null,null,null,null,null,null,null,{"$f":"IF(O848=\"130\",2014.4*AO848*'CO2 Conversion Factors'!$D$20/0.8/1000,2096.16*AO848*'CO2 Conversion Factors'!$D$20/0.8/1000)","v":0},{"$f":"IF(O848=\"130\",2014.4*AO848*'CO2 Conversion Factors'!$G$20/0.8/1000,2096.16*AO848*'CO2 Conversion Factors'!$G$20/0.8/1000)","v":0},{"$f":"IF(O848=\"130\",2014.4*AO848*'CO2 Conversion Factors'!$J$20/0.8/1000,2096.16*AO848*'CO2 Conversion Factors'!$J$20/0.8/1000)","v":0},0,0,null,null,null,0,0,0,0,"",false,false,false,false,null,"","",742]
[null,null,null,null,null,null,null,null,null,null,null,null,null,null,null,null,null,null,null,null,null,null,null,null,null,null,null,null,null,null,null,null,null,null,null,null,null,{"$f":"IF(O849=\"130\",2014.4*AO849*'CO2 Conversion Factors'!$D$20/0.8/1000,2096.16*AO849*'CO2 Conversion Factors'!$D$20/0.8/1000)","v":0},{"$f":"IF(O849=\"130\",2014.4*AO849*'CO2 Conversion Factors'!$G$20/0.8/1000,2096.16*AO849*'CO2 Conversion Factors'!$G$20/0.8/1000)","v":0},{"$f":"IF(O849=\"130\",2014.4*AO849*'CO2 Conversion Factors'!$J$20/0.8/1000,2096.16*AO849*'CO2 Conversion Factors'!$J$20/0.8/1000)","v":0},0,0,null,null,null,0,0,0,0,"",false,false,false,false,null,"","",""]
[null,null,null,null,null,null,null,null,null,null,null,null,null,null,null,null,null,null,null,null,null,null,null,null,null,null,null,null,null,null,null,null,null,null,null,null,null,{"$f":"IF(O850=\"130\",2014.4*AO850*'CO2 Conversion Factors'!$D$20/0.8/1000,2096.16*AO850*'CO2 Conversion Factors'!$D$20/0.8/1000)","v":0},{"$f":"IF(O850=\"130\",2014.4*AO850*'CO2 Conversion Factors'!$G$20/0.8/1000,2096.16*AO850*'CO2 Conversion Factors'!$G$20/0.8/1000)","v":0},{"$f":"IF(O850=\"130\",2014.4*AO850*'CO2 Conversion Factors'!$J$20/0.8/1000,2096.16*AO850*'CO2 Conversion Factors'!$J$20/0.8/1000)","v":0},0,0,null,null,null,0,0,0,0,"",false,false,false,false,null,"","",642]
[null,null,null,null,null,null,null,null,null,null,null,null,null,null,null,null,null,null,null,null,null,null,null,null,null,null,null,null,null,null,null,null,null,null,null,null,null,{"$f":"IF(O851=\"130\",2014.4*AO851*'CO2 Conversion Factors'!$D$20/0.8/1000,2096.16*AO851*'CO2 Conversion Factors'!$D$20/0.8/1000)","v":0},{"$f":"IF(O851=\"130\",2014.4*AO851*'CO2 Conversion Factors'!$G$20/0.8/1000,2096.16*AO851*'CO2 Conversion Factors'!$G$20/0.8/1000)","v":0},{"$f":"IF(O851=\"130\",2014.4*AO851*'CO2 Conversion Factors'!$J$20/0.8/1000,2096.16*AO851*'CO2 Conversion Factors'!$J$20/0.8/1000)","v":0},0,0,null,null,null,0,0,0,0,"",false,false,false,false,null,"","",643]
[null,null,null,null,null,null,null,null,null,null,null,null,null,null,null,null,null,null,null,null,null,null,null,null,null,null,null,null,null,null,null,null,null,null,null,null,null,{"$f":"IF(O852=\"130\",2014.4*AO852*'CO2 Conversion Factors'!$D$20/0.8/1000,2096.16*AO852*'CO2 Conversion Factors'!$D$20/0.8/1000)","v":0},{"$f":"IF(O852=\"130\",2014.4*AO852*'CO2 Conversion Factors'!$G$20/0.8/1000,2096.16*AO852*'CO2 Conversion Factors'!$G$20/0.8/1000)","v":0},{"$f":"IF(O852=\"130\",2014.4*AO852*'CO2 Conversion Factors'!$J$20/0.8/1000,2096.16*AO852*'CO2 Conversion Factors'!$J$20/0.8/1000)","v":0},0,0,null,null,null,0,0,0,0,"",false,false,false,false,null,"","",644]
[null,null,null,null,null,null,null,null,null,null,null,null,null,null,null,null,null,null,null,null,null,null,null,null,null,null,null,null,null,null,null,null,null,null,null,null,null,{"$f":"IF(O853=\"130\",2014.4*AO853*'CO2 Conversion Factors'!$D$20/0.8/1000,2096.16*AO853*'CO2 Conversion Factors'!$D$20/0.8/1000)","v":0},{"$f":"IF(O853=\"130\",2014.4*AO853*'CO2 Conversion Factors'!$G$20/0.8/1000,2096.16*AO853*'CO2 Conversion Factors'!$G$20/0.8/1000)","v":0},{"$f":"IF(O853=\"130\",2014.4*AO853*'CO2 Conversion Factors'!$J$20/0.8/1000,2096.16*AO853*'CO2 Conversion Factors'!$J$20/0.8/1000)","v":0},0,0,null,null,null,0,0,0,0,"",false,false,false,false,null,"","",645]
[null,null,null,null,null,null,null,null,null,null,null,null,null,null,null,null,null,null,null,null,null,null,null,null,null,null,null,null,null,null,null,null,null,null,null,null,null,{"$f":"IF(O854=\"130\",2014.4*AO854*'CO2 Conversion Factors'!$D$20/0.8/1000,2096.16*AO854*'CO2 Conversion Factors'!$D$20/0.8/1000)","v":0},{"$f":"IF(O854=\"130\",2014.4*AO854*'CO2 Conversion Factors'!$G$20/0.8/1000,2096.16*AO854*'CO2 Conversion Factors'!$G$20/0.8/1000)","v":0},{"$f":"IF(O854=\"130\",2014.4*AO854*'CO2 Conversion Factors'!$J$20/0.8/1000,2096.16*AO854*'CO2 Conversion Factors'!$J$20/0.8/1000)","v":0},0,0,null,null,null,0,0,0,0,"",false,false,false,false,null,"","",645]
[null,null,null,null,null,null,null,null,null,null,null,null,null,null,null,null,null,null,null,null,null,null,null,null,null,null,null,null,null,null,null,null,null,null,null,null,null,{"$f":"IF(O855=\"130\",2014.4*AO855*'CO2 Conversion Factors'!$D$20/0.8/1000,2096.16*AO855*'CO2 Conversion Factors'!$D$20/0.8/1000)","v":0},{"$f":"IF(O855=\"130\",2014.4*AO855*'CO2 Conversion Factors'!$G$20/0.8/1000,2096.16*AO855*'CO2 Conversion Factors'!$G$20/0.8/1000)","v":0},{"$f":"IF(O855=\"130\",2014.4*AO855*'CO2 Conversion Factors'!$J$20/0.8/1000,2096.16*AO855*'CO2 Conversion Factors'!$J$20/0.8/1000)","v":0},0,0,null,null,null,0,0,0,0,"",false,false,false,false,null,"","",646]
[null,null,null,null,null,null,null,null,null,null,null,null,null,null,null,null,null,null,null,null,null,null,null,null,null,null,null,null,null,null,null,null,null,null,null,null,null,{"$f":"IF(O856=\"130\",2014.4*AO856*'CO2 Conversion Factors'!$D$20/0.8/1000,2096.16*AO856*'CO2 Conversion Factors'!$D$20/0.8/1000)","v":0},{"$f":"IF(O856=\"130\",2014.4*AO856*'CO2 Conversion Factors'!$G$20/0.8/1000,2096.16*AO856*'CO2 Conversion Factors'!$G$20/0.8/1000)","v":0},{"$f":"IF(O856=\"130\",2014.4*AO856*'CO2 Conversion Factors'!$J$20/0.8/1000,2096.16*AO856*'CO2 Conversion Factors'!$J$20/0.8/1000)","v":0},0,0,null,null,null,0,0,0,0,"",false,false,false,false,null,"","",647]
[null,null,null,null,null,null,null,null,null,null,null,null,null,null,null,null,null,null,null,null,null,null,null,null,null,null,null,null,null,null,null,null,null,null,null,null,null,{"$f":"IF(O857=\"130\",2014.4*AO857*'CO2 Conversion Factors'!$D$20/0.8/1000,2096.16*AO857*'CO2 Conversion Factors'!$D$20/0.8/1000)","v":0},{"$f":"IF(O857=\"130\",2014.4*AO857*'CO2 Conversion Factors'!$G$20/0.8/1000,2096.16*AO857*'CO2 Conversion Factors'!$G$20/0.8/1000)","v":0},{"$f":"IF(O857=\"130\",2014.4*AO857*'CO2 Conversion Factors'!$J$20/0.8/1000,2096.16*AO857*'CO2 Conversion Factors'!$J$20/0.8/1000)","v":0},0,0,null,null,null,0,0,0,0,"",false,false,false,false,null,"","",648]
[null,null,null,null,null,null,null,null,null,null,null,null,null,null,null,null,null,null,null,null,null,null,null,null,null,null,null,null,null,null,null,null,null,null,null,null,null,{"$f":"IF(O858=\"130\",2014.4*AO858*'CO2 Conversion Factors'!$D$20/0.8/1000,2096.16*AO858*'CO2 Conversion Factors'!$D$20/0.8/1000)","v":0},{"$f":"IF(O858=\"130\",2014.4*AO858*'CO2 Conversion Factors'!$G$20/0.8/1000,2096.16*AO858*'CO2 Conversion Factors'!$G$20/0.8/1000)","v":0},{"$f":"IF(O858=\"130\",2014.4*AO858*'CO2 Conversion Factors'!$J$20/0.8/1000,2096.16*AO858*'CO2 Conversion Factors'!$J$20/0.8/1000)","v":0},0,0,null,null,null,0,0,0,0,"",false,false,false,false,null,"","",649]
[null,null,null,null,null,null,null,null,null,null,null,null,null,null,null,null,null,null,null,null,null,null,null,null,null,null,null,null,null,null,null,null,null,null,null,null,null,{"$f":"IF(O859=\"130\",2014.4*AO859*'CO2 Conversion Factors'!$D$20/0.8/1000,2096.16*AO859*'CO2 Conversion Factors'!$D$20/0.8/1000)","v":0},{"$f":"IF(O859=\"130\",2014.4*AO859*'CO2 Conversion Factors'!$G$20/0.8/1000,2096.16*AO859*'CO2 Conversion Factors'!$G$20/0.8/1000)","v":0},{"$f":"IF(O859=\"130\",2014.4*AO859*'CO2 Conversion Factors'!$J$20/0.8/1000,2096.16*AO859*'CO2 Conversion Factors'!$J$20/0.8/1000)","v":0},0,0,null,null,null,0,0,0,0,"",false,false,false,false,null,"","",651]
[null,null,null,null,null,null,null,null,null,null,null,null,null,null,null,null,null,null,null,null,null,null,null,null,null,null,null,null,null,null,null,null,null,null,null,null,null,{"$f":"IF(O860=\"130\",2014.4*AO860*'CO2 Conversion Factors'!$D$20/0.8/1000,2096.16*AO860*'CO2 Conversion Factors'!$D$20/0.8/1000)","v":0},{"$f":"IF(O860=\"130\",2014.4*AO860*'CO2 Conversion Factors'!$G$20/0.8/1000,2096.16*AO860*'CO2 Conversion Factors'!$G$20/0.8/1000)","v":0},{"$f":"IF(O860=\"130\",2014.4*AO860*'CO2 Conversion Factors'!$J$20/0.8/1000,2096.16*AO860*'CO2 Conversion Factors'!$J$20/0.8/1000)","v":0},0,0,null,null,null,0,0,0,0,"",false,false,false,false,null,"","",650]
[null,null,null,null,null,null,null,null,null,null,null,null,null,null,null,null,null,null,null,null,null,null,null,null,null,null,null,null,null,null,null,null,null,null,null,null,null,{"$f":"IF(O861=\"130\",2014.4*AO861*'CO2 Conversion Factors'!$D$20/0.8/1000,2096.16*AO861*'CO2 Conversion Factors'!$D$20/0.8/1000)","v":0},{"$f":"IF(O861=\"130\",2014.4*AO861*'CO2 Conversion Factors'!$G$20/0.8/1000,2096.16*AO861*'CO2 Conversion Factors'!$G$20/0.8/1000)","v":0},{"$f":"IF(O861=\"130\",2014.4*AO861*'CO2 Conversion Factors'!$J$20/0.8/1000,2096.16*AO861*'CO2 Conversion Factors'!$J$20/0.8/1000)","v":0},0,0,null,null,null,0,0,0,0,"",false,false,false,false,null,"","",652]
[null,null,null,null,null,null,null,null,null,null,null,null,null,null,null,null,null,null,null,null,null,null,null,null,null,null,null,null,null,null,null,null,null,null,null,null,null,{"$f":"IF(O862=\"130\",2014.4*AO862*'CO2 Conversion Factors'!$D$20/0.8/1000,2096.16*AO862*'CO2 Conversion Factors'!$D$20/0.8/1000)","v":0},{"$f":"IF(O862=\"130\",2014.4*AO862*'CO2 Conversion Factors'!$G$20/0.8/1000,2096.16*AO862*'CO2 Conversion Factors'!$G$20/0.8/1000)","v":0},{"$f":"IF(O862=\"130\",2014.4*AO862*'CO2 Conversion Factors'!$J$20/0.8/1000,2096.16*AO862*'CO2 Conversion Factors'!$J$20/0.8/1000)","v":0},0,0,null,null,null,0,0,0,0,"",false,false,false,false,null,"","",653]
[null,null,null,null,null,null,null,null,null,null,null,null,null,null,null,null,null,null,null,null,null,null,null,null,null,null,null,null,null,null,null,null,null,null,null,null,null,{"$f":"IF(O863=\"130\",2014.4*AO863*'CO2 Conversion Factors'!$D$20/0.8/1000,2096.16*AO863*'CO2 Conversion Factors'!$D$20/0.8/1000)","v":0},{"$f":"IF(O863=\"130\",2014.4*AO863*'CO2 Conversion Factors'!$G$20/0.8/1000,2096.16*AO863*'CO2 Conversion Factors'!$G$20/0.8/1000)","v":0},{"$f":"IF(O863=\"130\",2014.4*AO863*'CO2 Conversion Factors'!$J$20/0.8/1000,2096.16*AO863*'CO2 Conversion Factors'!$J$20/0.8/1000)","v":0},0,0,null,null,null,0,0,0,0,"",false,false,false,false,null,"","",654]
[null,null,null,null,null,null,null,null,null,null,null,null,null,null,null,null,null,null,null,null,null,null,null,null,null,null,null,null,null,null,null,null,null,null,null,null,null,{"$f":"IF(O864=\"130\",2014.4*AO864*'CO2 Conversion Factors'!$D$20/0.8/1000,2096.16*AO864*'CO2 Conversion Factors'!$D$20/0.8/1000)","v":0},{"$f":"IF(O864=\"130\",2014.4*AO864*'CO2 Conversion Factors'!$G$20/0.8/1000,2096.16*AO864*'CO2 Conversion Factors'!$G$20/0.8/1000)","v":0},{"$f":"IF(O864=\"130\",2014.4*AO864*'CO2 Conversion Factors'!$J$20/0.8/1000,2096.16*AO864*'CO2 Conversion Factors'!$J$20/0.8/1000)","v":0},0,0,null,null,null,0,0,0,0,"",false,false,false,false,null,"","",655]
[null,null,null,null,null,null,null,null,null,null,null,null,null,null,null,null,null,null,null,null,null,null,null,null,null,null,null,null,null,null,null,null,null,null,null,null,null,{"$f":"IF(O865=\"130\",2014.4*AO865*'CO2 Conversion Factors'!$D$20/0.8/1000,2096.16*AO865*'CO2 Conversion Factors'!$D$20/0.8/1000)","v":0},{"$f":"IF(O865=\"130\",2014.4*AO865*'CO2 Conversion Factors'!$G$20/0.8/1000,2096.16*AO865*'CO2 Conversion Factors'!$G$20/0.8/1000)","v":0},{"$f":"IF(O865=\"130\",2014.4*AO865*'CO2 Conversion Factors'!$J$20/0.8/1000,2096.16*AO865*'CO2 Conversion Factors'!$J$20/0.8/1000)","v":0},0,0,null,null,null,0,0,0,0,"",false,false,false,false,null,"","",""]
[null,null,null,null,null,null,null,null,null,null,null,null,null,null,null,null,null,null,null,null,null,null,null,null,null,null,null,null,null,null,null,null,null,null,null,null,null,{"$f":"IF(O866=\"130\",2014.4*AO866*'CO2 Conversion Factors'!$D$20/0.8/1000,2096.16*AO866*'CO2 Conversion Factors'!$D$20/0.8/1000)","v":0},{"$f":"IF(O866=\"130\",2014.4*AO866*'CO2 Conversion Factors'!$G$20/0.8/1000,2096.16*AO866*'CO2 Conversion Factors'!$G$20/0.8/1000)","v":0},{"$f":"IF(O866=\"130\",2014.4*AO866*'CO2 Conversion Factors'!$J$20/0.8/1000,2096.16*AO866*'CO2 Conversion Factors'!$J$20/0.8/1000)","v":0},0,0,null,null,null,0,0,0,0,"",false,false,false,false,null,"","",656]
[null,null,null,null,null,null,null,null,null,null,null,null,null,null,null,null,null,null,null,null,null,null,null,null,null,null,null,null,null,null,null,null,null,null,null,null,null,{"$f":"IF(O867=\"130\",2014.4*AO867*'CO2 Conversion Factors'!$D$20/0.8/1000,2096.16*AO867*'CO2 Conversion Factors'!$D$20/0.8/1000)","v":0},{"$f":"IF(O867=\"130\",2014.4*AO867*'CO2 Conversion Factors'!$G$20/0.8/1000,2096.16*AO867*'CO2 Conversion Factors'!$G$20/0.8/1000)","v":0},{"$f":"IF(O867=\"130\",2014.4*AO867*'CO2 Conversion Factors'!$J$20/0.8/1000,2096.16*AO867*'CO2 Conversion Factors'!$J$20/0.8/1000)","v":0},0,0,null,null,null,0,0,0,0,"",false,false,false,false,null,"","",657]
[null,null,null,null,null,null,null,null,null,null,null,null,null,null,null,null,null,null,null,null,null,null,null,null,null,null,null,null,null,null,null,null,null,null,null,null,null,{"$f":"IF(O868=\"130\",2014.4*AO868*'CO2 Conversion Factors'!$D$20/0.8/1000,2096.16*AO868*'CO2 Conversion Factors'!$D$20/0.8/1000)","v":0},{"$f":"IF(O868=\"130\",2014.4*AO868*'CO2 Conversion Factors'!$G$20/0.8/1000,2096.16*AO868*'CO2 Conversion Factors'!$G$20/0.8/1000)","v":0},{"$f":"IF(O868=\"130\",2014.4*AO868*'CO2 Conversion Factors'!$J$20/0.8/1000,2096.16*AO868*'CO2 Conversion Factors'!$J$20/0.8/1000)","v":0},0,0,null,null,null,0,0,0,0,"",false,false,false,false,null,"","",658]
[null,null,null,null,null,null,null,null,null,null,null,null,null,null,null,null,null,null,null,null,null,null,null,null,null,null,null,null,null,null,null,null,null,null,null,null,null,{"$f":"IF(O869=\"130\",2014.4*AO869*'CO2 Conversion Factors'!$D$20/0.8/1000,2096.16*AO869*'CO2 Conversion Factors'!$D$20/0.8/1000)","v":0},{"$f":"IF(O869=\"130\",2014.4*AO869*'CO2 Conversion Factors'!$G$20/0.8/1000,2096.16*AO869*'CO2 Conversion Factors'!$G$20/0.8/1000)","v":0},{"$f":"IF(O869=\"130\",2014.4*AO869*'CO2 Conversion Factors'!$J$20/0.8/1000,2096.16*AO869*'CO2 Conversion Factors'!$J$20/0.8/1000)","v":0},0,0,null,null,null,0,0,0,0,"",false,false,false,false,null,"","",659]
[null,null,null,null,null,null,null,null,null,null,null,null,null,null,null,null,null,null,null,null,null,null,null,null,null,null,null,null,null,null,null,null,null,null,null,null,null,{"$f":"IF(O870=\"130\",2014.4*AO870*'CO2 Conversion Factors'!$D$20/0.8/1000,2096.16*AO870*'CO2 Conversion Factors'!$D$20/0.8/1000)","v":0},{"$f":"IF(O870=\"130\",2014.4*AO870*'CO2 Conversion Factors'!$G$20/0.8/1000,2096.16*AO870*'CO2 Conversion Factors'!$G$20/0.8/1000)","v":0},{"$f":"IF(O870=\"130\",2014.4*AO870*'CO2 Conversion Factors'!$J$20/0.8/1000,2096.16*AO870*'CO2 Conversion Factors'!$J$20/0.8/1000)","v":0},0,0,null,null,null,0,0,0,0,"",false,false,false,false,null,"","",660]
[null,null,null,null,null,null,null,null,null,null,null,null,null,null,null,null,null,null,null,null,null,null,null,null,null,null,null,null,null,null,null,null,null,null,null,null,null,{"$f":"IF(O871=\"130\",2014.4*AO871*'CO2 Conversion Factors'!$D$20/0.8/1000,2096.16*AO871*'CO2 Conversion Factors'!$D$20/0.8/1000)","v":0},{"$f":"IF(O871=\"130\",2014.4*AO871*'CO2 Conversion Factors'!$G$20/0.8/1000,2096.16*AO871*'CO2 Conversion Factors'!$G$20/0.8/1000)","v":0},{"$f":"IF(O871=\"130\",2014.4*AO871*'CO2 Conversion Factors'!$J$20/0.8/1000,2096.16*AO871*'CO2 Conversion Factors'!$J$20/0.8/1000)","v":0},0,0,null,null,null,0,0,0,0,"",false,false,false,false,null,"","",661]
[null,null,null,null,null,null,null,null,null,null,null,null,null,null,null,null,null,null,null,null,null,null,null,null,null,null,null,null,null,null,null,null,null,null,null,null,null,{"$f":"IF(O872=\"130\",2014.4*AO872*'CO2 Conversion Factors'!$D$20/0.8/1000,2096.16*AO872*'CO2 Conversion Factors'!$D$20/0.8/1000)","v":0},{"$f":"IF(O872=\"130\",2014.4*AO872*'CO2 Conversion Factors'!$G$20/0.8/1000,2096.16*AO872*'CO2 Conversion Factors'!$G$20/0.8/1000)","v":0},{"$f":"IF(O872=\"130\",2014.4*AO872*'CO2 Conversion Factors'!$J$20/0.8/1000,2096.16*AO872*'CO2 Conversion Factors'!$J$20/0.8/1000)","v":0},0,0,null,null,null,0,0,0,0,"",false,false,false,false,null,"","",662]
[null,null,null,null,null,null,null,null,null,null,null,null,null,null,null,null,null,null,null,null,null,null,null,null,null,null,null,null,null,null,null,null,null,null,null,null,null,{"$f":"IF(O873=\"130\",2014.4*AO873*'CO2 Conversion Factors'!$D$20/0.8/1000,2096.16*AO873*'CO2 Conversion Factors'!$D$20/0.8/1000)","v":0},{"$f":"IF(O873=\"130\",2014.4*AO873*'CO2 Conversion Factors'!$G$20/0.8/1000,2096.16*AO873*'CO2 Conversion Factors'!$G$20/0.8/1000)","v":0},{"$f":"IF(O873=\"130\",2014.4*AO873*'CO2 Conversion Factors'!$J$20/0.8/1000,2096.16*AO873*'CO2 Conversion Factors'!$J$20/0.8/1000)","v":0},0,0,null,null,null,0,0,0,0,"",false,false,false,false,null,"","",663]
[null,null,null,null,null,null,null,null,null,null,null,null,null,null,null,null,null,null,null,null,null,null,null,null,null,null,null,null,null,null,null,null,null,null,null,null,null,{"$f":"IF(O874=\"130\",2014.4*AO874*'CO2 Conversion Factors'!$D$20/0.8/1000,2096.16*AO874*'CO2 Conversion Factors'!$D$20/0.8/1000)","v":0},{"$f":"IF(O874=\"130\",2014.4*AO874*'CO2 Conversion Factors'!$G$20/0.8/1000,2096.16*AO874*'CO2 Conversion Factors'!$G$20/0.8/1000)","v":0},{"$f":"IF(O874=\"130\",2014.4*AO874*'CO2 Conversion Factors'!$J$20/0.8/1000,2096.16*AO874*'CO2 Conversion Factors'!$J$20/0.8/1000)","v":0},0,0,null,null,null,0,0,0,0,"",false,false,false,false,null,"","",664]
[null,null,null,null,null,null,null,null,null,null,null,null,null,null,null,null,null,null,null,null,null,null,null,null,null,null,null,null,null,null,null,null,null,null,null,null,null,{"$f":"IF(O875=\"130\",2014.4*AO875*'CO2 Conversion Factors'!$D$20/0.8/1000,2096.16*AO875*'CO2 Conversion Factors'!$D$20/0.8/1000)","v":0},{"$f":"IF(O875=\"130\",2014.4*AO875*'CO2 Conversion Factors'!$G$20/0.8/1000,2096.16*AO875*'CO2 Conversion Factors'!$G$20/0.8/1000)","v":0},{"$f":"IF(O875=\"130\",2014.4*AO875*'CO2 Conversion Factors'!$J$20/0.8/1000,2096.16*AO875*'CO2 Conversion Factors'!$J$20/0.8/1000)","v":0},0,0,null,null,null,0,0,0,0,"",false,false,false,false,null,"","",665]
[null,null,null,null,null,null,null,null,null,null,null,null,null,null,null,null,null,null,null,null,null,null,null,null,null,null,null,null,null,null,null,null,null,null,null,null,null,{"$f":"IF(O876=\"130\",2014.4*AO876*'CO2 Conversion Factors'!$D$20/0.8/1000,2096.16*AO876*'CO2 Conversion Factors'!$D$20/0.8/1000)","v":0},{"$f":"IF(O876=\"130\",2014.4*AO876*'CO2 Conversion Factors'!$G$20/0.8/1000,2096.16*AO876*'CO2 Conversion Factors'!$G$20/0.8/1000)","v":0},{"$f":"IF(O876=\"130\",2014.4*AO876*'CO2 Conversion Factors'!$J$20/0.8/1000,2096.16*AO876*'CO2 Conversion Factors'!$J$20/0.8/1000)","v":0},0,0,null,null,null,0,0,0,0,"",false,false,false,false,null,"","",666]
[null,null,null,null,null,null,null,null,null,null,null,null,null,null,null,null,null,null,null,null,null,null,null,null,null,null,null,null,null,null,null,null,null,null,null,null,null,{"$f":"IF(O877=\"130\",2014.4*AO877*'CO2 Conversion Factors'!$D$20/0.8/1000,2096.16*AO877*'CO2 Conversion Factors'!$D$20/0.8/1000)","v":0},{"$f":"IF(O877=\"130\",2014.4*AO877*'CO2 Conversion Factors'!$G$20/0.8/1000,2096.16*AO877*'CO2 Conversion Factors'!$G$20/0.8/1000)","v":0},{"$f":"IF(O877=\"130\",2014.4*AO877*'CO2 Conversion Factors'!$J$20/0.8/1000,2096.16*AO877*'CO2 Conversion Factors'!$J$20/0.8/1000)","v":0},0,0,null,null,null,0,0,0,0,"",false,false,false,false,null,"","",667]
[null,null,null,null,null,null,null,null,null,null,null,null,null,null,null,null,null,null,null,null,null,null,null,null,null,null,null,null,null,null,null,null,null,null,null,null,null,{"$f":"IF(O878=\"130\",2014.4*AO878*'CO2 Conversion Factors'!$D$20/0.8/1000,2096.16*AO878*'CO2 Conversion Factors'!$D$20/0.8/1000)","v":0},{"$f":"IF(O878=\"130\",2014.4*AO878*'CO2 Conversion Factors'!$G$20/0.8/1000,2096.16*AO878*'CO2 Conversion Factors'!$G$20/0.8/1000)","v":0},{"$f":"IF(O878=\"130\",2014.4*AO878*'CO2 Conversion Factors'!$J$20/0.8/1000,2096.16*AO878*'CO2 Conversion Factors'!$J$20/0.8/1000)","v":0},0,0,null,null,null,0,0,0,0,"",false,false,false,false,null,"","",""]
[null,null,null,null,null,null,null,null,null,null,null,null,null,null,null,null,null,null,null,null,null,null,null,null,null,null,null,null,null,null,null,null,null,null,null,null,null,{"$f":"IF(O879=\"130\",2014.4*AO879*'CO2 Conversion Factors'!$D$20/0.8/1000,2096.16*AO879*'CO2 Conversion Factors'!$D$20/0.8/1000)","v":0},{"$f":"IF(O879=\"130\",2014.4*AO879*'CO2 Conversion Factors'!$G$20/0.8/1000,2096.16*AO879*'CO2 Conversion Factors'!$G$20/0.8/1000)","v":0},{"$f":"IF(O879=\"130\",2014.4*AO879*'CO2 Conversion Factors'!$J$20/0.8/1000,2096.16*AO879*'CO2 Conversion Factors'!$J$20/0.8/1000)","v":0},0,0,null,null,null,0,0,0,0,"",false,false,false,false,null,"","",668]
[null,null,null,null,null,null,null,null,null,null,null,null,null,null,null,null,null,null,null,null,null,null,null,null,null,null,null,null,null,null,null,null,null,null,null,null,null,{"$f":"IF(O880=\"130\",2014.4*AO880*'CO2 Conversion Factors'!$D$20/0.8/1000,2096.16*AO880*'CO2 Conversion Factors'!$D$20/0.8/1000)","v":0},{"$f":"IF(O880=\"130\",2014.4*AO880*'CO2 Conversion Factors'!$G$20/0.8/1000,2096.16*AO880*'CO2 Conversion Factors'!$G$20/0.8/1000)","v":0},{"$f":"IF(O880=\"130\",2014.4*AO880*'CO2 Conversion Factors'!$J$20/0.8/1000,2096.16*AO880*'CO2 Conversion Factors'!$J$20/0.8/1000)","v":0},0,0,null,null,null,0,0,0,0,"",false,false,false,false,null,"","",669]
[null,null,null,null,null,null,null,null,null,null,null,null,null,null,null,null,null,null,null,null,null,null,null,null,null,null,null,null,null,null,null,null,null,null,null,null,null,{"$f":"IF(O881=\"130\",2014.4*AO881*'CO2 Conversion Factors'!$D$20/0.8/1000,2096.16*AO881*'CO2 Conversion Factors'!$D$20/0.8/1000)","v":0},{"$f":"IF(O881=\"130\",2014.4*AO881*'CO2 Conversion Factors'!$G$20/0.8/1000,2096.16*AO881*'CO2 Conversion Factors'!$G$20/0.8/1000)","v":0},{"$f":"IF(O881=\"130\",2014.4*AO881*'CO2 Conversion Factors'!$J$20/0.8/1000,2096.16*AO881*'CO2 Conversion Factors'!$J$20/0.8/1000)","v":0},0,0,null,null,null,0,0,0,0,"",false,false,false,false,null,"","",670]
[null,null,null,null,null,null,null,null,null,null,null,null,null,null,null,null,null,null,null,null,null,null,null,null,null,null,null,null,null,null,null,null,null,null,null,null,null,{"$f":"IF(O882=\"130\",2014.4*AO882*'CO2 Conversion Factors'!$D$20/0.8/1000,2096.16*AO882*'CO2 Conversion Factors'!$D$20/0.8/1000)","v":0},{"$f":"IF(O882=\"130\",2014.4*AO882*'CO2 Conversion Factors'!$G$20/0.8/1000,2096.16*AO882*'CO2 Conversion Factors'!$G$20/0.8/1000)","v":0},{"$f":"IF(O882=\"130\",2014.4*AO882*'CO2 Conversion Factors'!$J$20/0.8/1000,2096.16*AO882*'CO2 Conversion Factors'!$J$20/0.8/1000)","v":0},0,0,null,null,null,0,0,0,0,"",false,false,false,false,null,"","",671]
[null,null,null,null,null,null,null,null,null,null,null,null,null,null,null,null,null,null,null,null,null,null,null,null,null,null,null,null,null,null,null,null,null,null,null,null,null,{"$f":"IF(O883=\"130\",2014.4*AO883*'CO2 Conversion Factors'!$D$20/0.8/1000,2096.16*AO883*'CO2 Conversion Factors'!$D$20/0.8/1000)","v":0},{"$f":"IF(O883=\"130\",2014.4*AO883*'CO2 Conversion Factors'!$G$20/0.8/1000,2096.16*AO883*'CO2 Conversion Factors'!$G$20/0.8/1000)","v":0},{"$f":"IF(O883=\"130\",2014.4*AO883*'CO2 Conversion Factors'!$J$20/0.8/1000,2096.16*AO883*'CO2 Conversion Factors'!$J$20/0.8/1000)","v":0},0,0,null,null,null,0,0,0,0,"",false,false,false,false,null,"","SU157",""]
[null,null,null,null,null,null,null,null,null,null,null,null,null,null,null,null,null,null,null,null,null,null,null,null,null,null,null,null,null,null,null,null,null,null,null,null,null,{"$f":"IF(O884=\"130\",2014.4*AO884*'CO2 Conversion Factors'!$D$20/0.8/1000,2096.16*AO884*'CO2 Conversion Factors'!$D$20/0.8/1000)","v":0},{"$f":"IF(O884=\"130\",2014.4*AO884*'CO2 Conversion Factors'!$G$20/0.8/1000,2096.16*AO884*'CO2 Conversion Factors'!$G$20/0.8/1000)","v":0},{"$f":"IF(O884=\"130\",2014.4*AO884*'CO2 Conversion Factors'!$J$20/0.8/1000,2096.16*AO884*'CO2 Conversion Factors'!$J$20/0.8/1000)","v":0},0,0,null,null,null,0,0,0,0,"",false,false,false,false,null,"","",8532]
[null,null,null,null,null,null,null,null,null,null,null,null,null,null,null,null,null,null,null,null,null,null,null,null,null,null,null,null,null,null,null,null,null,null,null,null,null,{"$f":"IF(O885=\"130\",2014.4*AO885*'CO2 Conversion Factors'!$D$20/0.8/1000,2096.16*AO885*'CO2 Conversion Factors'!$D$20/0.8/1000)","v":0},{"$f":"IF(O885=\"130\",2014.4*AO885*'CO2 Conversion Factors'!$G$20/0.8/1000,2096.16*AO885*'CO2 Conversion Factors'!$G$20/0.8/1000)","v":0},{"$f":"IF(O885=\"130\",2014.4*AO885*'CO2 Conversion Factors'!$J$20/0.8/1000,2096.16*AO885*'CO2 Conversion Factors'!$J$20/0.8/1000)","v":0},0,0,null,null,null,0,0,0,0,"",false,false,false,false,null,"","",""]
[null,null,null,null,null,null,null,null,null,null,null,null,null,null,null,null,null,null,null,null,null,null,null,null,null,null,null,null,null,null,null,null,null,null,null,null,null,{"$f":"IF(O886=\"130\",2014.4*AO886*'CO2 Conversion Factors'!$D$20/0.8/1000,2096.16*AO886*'CO2 Conversion Factors'!$D$20/0.8/1000)","v":0},{"$f":"IF(O886=\"130\",2014.4*AO886*'CO2 Conversion Factors'!$G$20/0.8/1000,2096.16*AO886*'CO2 Conversion Factors'!$G$20/0.8/1000)","v":0},{"$f":"IF(O886=\"130\",2014.4*AO886*'CO2 Conversion Factors'!$J$20/0.8/1000,2096.16*AO886*'CO2 Conversion Factors'!$J$20/0.8/1000)","v":0},0,0,null,null,null,0,0,0,0,"",false,false,false,false,null,"","",8516]
[null,null,null,null,null,null,null,null,null,null,null,null,null,null,null,null,null,null,null,null,null,null,null,null,null,null,null,null,null,null,null,null,null,null,null,null,null,{"$f":"IF(O887=\"130\",2014.4*AO887*'CO2 Conversion Factors'!$D$20/0.8/1000,2096.16*AO887*'CO2 Conversion Factors'!$D$20/0.8/1000)","v":0},{"$f":"IF(O887=\"130\",2014.4*AO887*'CO2 Conversion Factors'!$G$20/0.8/1000,2096.16*AO887*'CO2 Conversion Factors'!$G$20/0.8/1000)","v":0},{"$f":"IF(O887=\"130\",2014.4*AO887*'CO2 Conversion Factors'!$J$20/0.8/1000,2096.16*AO887*'CO2 Conversion Factors'!$J$20/0.8/1000)","v":0},0,0,null,null,null,0,0,0,0,"",false,false,false,false,null,"","",8517]
[null,null,null,null,null,null,null,null,null,null,null,null,null,null,null,null,null,null,null,null,null,null,null,null,null,null,null,null,null,null,null,null,null,null,null,null,null,{"$f":"IF(O888=\"130\",2014.4*AO888*'CO2 Conversion Factors'!$D$20/0.8/1000,2096.16*AO888*'CO2 Conversion Factors'!$D$20/0.8/1000)","v":0},{"$f":"IF(O888=\"130\",2014.4*AO888*'CO2 Conversion Factors'!$G$20/0.8/1000,2096.16*AO888*'CO2 Conversion Factors'!$G$20/0.8/1000)","v":0},{"$f":"IF(O888=\"130\",2014.4*AO888*'CO2 Conversion Factors'!$J$20/0.8/1000,2096.16*AO888*'CO2 Conversion Factors'!$J$20/0.8/1000)","v":0},0,0,null,null,null,0,0,0,0,"",false,false,false,false,null,"","",8519]
[null,null,null,null,null,null,null,null,null,null,null,null,null,null,null,null,null,null,null,null,null,null,null,null,null,null,null,null,null,null,null,null,null,null,null,null,null,{"$f":"IF(O889=\"130\",2014.4*AO889*'CO2 Conversion Factors'!$D$20/0.8/1000,2096.16*AO889*'CO2 Conversion Factors'!$D$20/0.8/1000)","v":0},{"$f":"IF(O889=\"130\",2014.4*AO889*'CO2 Conversion Factors'!$G$20/0.8/1000,2096.16*AO889*'CO2 Conversion Factors'!$G$20/0.8/1000)","v":0},{"$f":"IF(O889=\"130\",2014.4*AO889*'CO2 Conversion Factors'!$J$20/0.8/1000,2096.16*AO889*'CO2 Conversion Factors'!$J$20/0.8/1000)","v":0},0,0,null,null,null,0,0,0,0,"",false,false,false,false,null,"","",8520]
[null,null,null,null,null,null,null,null,null,null,null,null,null,null,null,null,null,null,null,null,null,null,null,null,null,null,null,null,null,null,null,null,null,null,null,null,null,{"$f":"IF(O890=\"130\",2014.4*AO890*'CO2 Conversion Factors'!$D$20/0.8/1000,2096.16*AO890*'CO2 Conversion Factors'!$D$20/0.8/1000)","v":0},{"$f":"IF(O890=\"130\",2014.4*AO890*'CO2 Conversion Factors'!$G$20/0.8/1000,2096.16*AO890*'CO2 Conversion Factors'!$G$20/0.8/1000)","v":0},{"$f":"IF(O890=\"130\",2014.4*AO890*'CO2 Conversion Factors'!$J$20/0.8/1000,2096.16*AO890*'CO2 Conversion Factors'!$J$20/0.8/1000)","v":0},0,0,null,null,null,0,0,0,0,"",false,false,false,false,null,"","SU159",""]
[null,null,null,null,null,null,null,null,null,null,null,null,null,null,null,null,null,null,null,null,null,null,null,null,null,null,null,null,null,null,null,null,null,null,null,null,null,{"$f":"IF(O891=\"130\",2014.4*AO891*'CO2 Conversion Factors'!$D$20/0.8/1000,2096.16*AO891*'CO2 Conversion Factors'!$D$20/0.8/1000)","v":0},{"$f":"IF(O891=\"130\",2014.4*AO891*'CO2 Conversion Factors'!$G$20/0.8/1000,2096.16*AO891*'CO2 Conversion Factors'!$G$20/0.8/1000)","v":0},{"$f":"IF(O891=\"130\",2014.4*AO891*'CO2 Conversion Factors'!$J$20/0.8/1000,2096.16*AO891*'CO2 Conversion Factors'!$J$20/0.8/1000)","v":0},0,0,null,null,null,0,0,0,0,"",false,false,false,false,null,"","",8523]
[null,null,null,null,null,null,null,null,null,null,null,null,null,null,null,null,null,null,null,null,null,null,null,null,null,null,null,null,null,null,null,null,null,null,null,null,null,{"$f":"IF(O892=\"130\",2014.4*AO892*'CO2 Conversion Factors'!$D$20/0.8/1000,2096.16*AO892*'CO2 Conversion Factors'!$D$20/0.8/1000)","v":0},{"$f":"IF(O892=\"130\",2014.4*AO892*'CO2 Conversion Factors'!$G$20/0.8/1000,2096.16*AO892*'CO2 Conversion Factors'!$G$20/0.8/1000)","v":0},{"$f":"IF(O892=\"130\",2014.4*AO892*'CO2 Conversion Factors'!$J$20/0.8/1000,2096.16*AO892*'CO2 Conversion Factors'!$J$20/0.8/1000)","v":0},0,0,null,null,null,0,0,0,0,"",false,false,false,false,null,"","",8528]
[null,null,null,null,null,null,null,null,null,null,null,null,null,null,null,null,null,null,null,null,null,null,null,null,null,null,null,null,null,null,null,null,null,null,null,null,null,{"$f":"IF(O893=\"130\",2014.4*AO893*'CO2 Conversion Factors'!$D$20/0.8/1000,2096.16*AO893*'CO2 Conversion Factors'!$D$20/0.8/1000)","v":0},{"$f":"IF(O893=\"130\",2014.4*AO893*'CO2 Conversion Factors'!$G$20/0.8/1000,2096.16*AO893*'CO2 Conversion Factors'!$G$20/0.8/1000)","v":0},{"$f":"IF(O893=\"130\",2014.4*AO893*'CO2 Conversion Factors'!$J$20/0.8/1000,2096.16*AO893*'CO2 Conversion Factors'!$J$20/0.8/1000)","v":0},0,0,null,null,null,0,0,0,0,"",false,false,false,false,null,"","",8527]
[null,null,null,null,null,null,null,null,null,null,null,null,null,null,null,null,null,null,null,null,null,null,null,null,null,null,null,null,null,null,null,null,null,null,null,null,null,{"$f":"IF(O894=\"130\",2014.4*AO894*'CO2 Conversion Factors'!$D$20/0.8/1000,2096.16*AO894*'CO2 Conversion Factors'!$D$20/0.8/1000)","v":0},{"$f":"IF(O894=\"130\",2014.4*AO894*'CO2 Conversion Factors'!$G$20/0.8/1000,2096.16*AO894*'CO2 Conversion Factors'!$G$20/0.8/1000)","v":0},{"$f":"IF(O894=\"130\",2014.4*AO894*'CO2 Conversion Factors'!$J$20/0.8/1000,2096.16*AO894*'CO2 Conversion Factors'!$J$20/0.8/1000)","v":0},0,0,null,null,null,0,0,0,0,"",false,false,false,false,null,"","SU155",""]
[null,null,null,null,null,null,null,null,null,null,null,null,null,null,null,null,null,null,null,null,null,null,null,null,null,null,null,null,null,null,null,null,null,null,null,null,null,{"$f":"IF(O895=\"130\",2014.4*AO895*'CO2 Conversion Factors'!$D$20/0.8/1000,2096.16*AO895*'CO2 Conversion Factors'!$D$20/0.8/1000)","v":0},{"$f":"IF(O895=\"130\",2014.4*AO895*'CO2 Conversion Factors'!$G$20/0.8/1000,2096.16*AO895*'CO2 Conversion Factors'!$G$20/0.8/1000)","v":0},{"$f":"IF(O895=\"130\",2014.4*AO895*'CO2 Conversion Factors'!$J$20/0.8/1000,2096.16*AO895*'CO2 Conversion Factors'!$J$20/0.8/1000)","v":0},0,0,null,null,null,0,0,0,0,"",false,false,false,false,null,"","SU154",""]
[null,null,null,null,null,null,null,null,null,null,null,null,null,null,null,null,null,null,null,null,null,null,null,null,null,null,null,null,null,null,null,null,null,null,null,null,null,{"$f":"IF(O896=\"130\",2014.4*AO896*'CO2 Conversion Factors'!$D$20/0.8/1000,2096.16*AO896*'CO2 Conversion Factors'!$D$20/0.8/1000)","v":0},{"$f":"IF(O896=\"130\",2014.4*AO896*'CO2 Conversion Factors'!$G$20/0.8/1000,2096.16*AO896*'CO2 Conversion Factors'!$G$20/0.8/1000)","v":0},{"$f":"IF(O896=\"130\",2014.4*AO896*'CO2 Conversion Factors'!$J$20/0.8/1000,2096.16*AO896*'CO2 Conversion Factors'!$J$20/0.8/1000)","v":0},0,0,null,null,null,0,0,0,0,"",false,false,false,false,null,"","SU154",""]
[null,null,null,null,null,null,null,null,null,null,null,null,null,null,null,null,null,null,null,null,null,null,null,null,null,null,null,null,null,null,null,null,null,null,null,null,null,{"$f":"IF(O897=\"130\",2014.4*AO897*'CO2 Conversion Factors'!$D$20/0.8/1000,2096.16*AO897*'CO2 Conversion Factors'!$D$20/0.8/1000)","v":0},{"$f":"IF(O897=\"130\",2014.4*AO897*'CO2 Conversion Factors'!$G$20/0.8/1000,2096.16*AO897*'CO2 Conversion Factors'!$G$20/0.8/1000)","v":0},{"$f":"IF(O897=\"130\",2014.4*AO897*'CO2 Conversion Factors'!$J$20/0.8/1000,2096.16*AO897*'CO2 Conversion Factors'!$J$20/0.8/1000)","v":0},0,0,null,null,null,0,0,0,0,"",false,false,false,false,null,"","SU152",""]
[null,null,null,null,null,null,null,null,null,null,null,null,null,null,null,null,null,null,null,null,null,null,null,null,null,null,null,null,null,null,null,null,null,null,null,null,null,{"$f":"IF(O898=\"130\",2014.4*AO898*'CO2 Conversion Factors'!$D$20/0.8/1000,2096.16*AO898*'CO2 Conversion Factors'!$D$20/0.8/1000)","v":0},{"$f":"IF(O898=\"130\",2014.4*AO898*'CO2 Conversion Factors'!$G$20/0.8/1000,2096.16*AO898*'CO2 Conversion Factors'!$G$20/0.8/1000)","v":0},{"$f":"IF(O898=\"130\",2014.4*AO898*'CO2 Conversion Factors'!$J$20/0.8/1000,2096.16*AO898*'CO2 Conversion Factors'!$J$20/0.8/1000)","v":0},0,0,null,null,null,0,0,0,0,"",false,false,false,false,null,"","SU151",""]
[null,null,null,null,null,null,null,null,null,null,null,null,null,null,null,null,null,null,null,null,null,null,null,null,null,null,null,null,null,null,null,null,null,null,null,null,null,{"$f":"IF(O899=\"130\",2014.4*AO899*'CO2 Conversion Factors'!$D$20/0.8/1000,2096.16*AO899*'CO2 Conversion Factors'!$D$20/0.8/1000)","v":0},{"$f":"IF(O899=\"130\",2014.4*AO899*'CO2 Conversion Factors'!$G$20/0.8/1000,2096.16*AO899*'CO2 Conversion Factors'!$G$20/0.8/1000)","v":0},{"$f":"IF(O899=\"130\",2014.4*AO899*'CO2 Conversion Factors'!$J$20/0.8/1000,2096.16*AO899*'CO2 Conversion Factors'!$J$20/0.8/1000)","v":0},{"$f":"IFERROR(IF(OR(L899=\"BLW\",L899=\"PRI\",L899=\"LNK\"),IF(Cover_Select_SteamCostUnits=\"£/1000kg\",11.6*(VLOOKUP($I899,Abb_Lookup_OrifaceDia,2,FALSE)^2)*SQRT(($O899-$P899)*($O899+$P899)),25.57363*(VLOOKUP($I899,Abb_Lookup_OrifaceDia,2,FALSE)^2)*SQRT(($O899-$P899)*($O899+$P899)))*(VLOOKUP(AE899,Cover_Lookup_OpTime,4,FALSE)/1000),IF(L899=\"LL\",IF(Cover_Select_SteamCostUnits=\"£/1000kg\",11.6*(VLOOKUP($I899,Abb_Lookup_OrifaceDia,2,FALSE)^2)*SQRT(($O899-$P899)*($O899+$P899)),25.57363*(VLOOKUP($I899,Abb_Lookup_OrifaceDia,2,FALSE)^2)*SQRT(($O899-$P899)*($O899+$P899)))*(VLOOKUP(AE899,Cover_Lookup_OpTime,4,FALSE)/2000),IF(L899=\"SL\",IF(Cover_Select_SteamCostUnits=\"£/1000kg\",11.6*(VLOOKUP($I899,Abb_Lookup_OrifaceDia,2,FALSE)^2)*SQRT(($O899-$P899)*($O899+$P899)),25.57363*(VLOOKUP($I899,Abb_Lookup_OrifaceDia,2,FALSE)^2)*SQRT(($O899-$P899)*($O899+$P899)))*(VLOOKUP(AE899,Cover_Lookup_OpTime,4,FALSE)/4000),0))),0)","v":0},0,null,null,null,0,0,0,0,"",false,false,false,false,null,"","",""]
[null,null,null,null,null,null,null,null,null,null,null,null,null,null,null,null,null,null,null,null,null,null,null,null,null,null,null,null,null,null,null,null,null,null,null,null,null,{"$f":"IF(O900=\"130\",2014.4*AO900*'CO2 Conversion Factors'!$D$20/0.8/1000,2096.16*AO900*'CO2 Conversion Factors'!$D$20/0.8/1000)","v":0},{"$f":"IF(O900=\"130\",2014.4*AO900*'CO2 Conversion Factors'!$G$20/0.8/1000,2096.16*AO900*'CO2 Conversion Factors'!$G$20/0.8/1000)","v":0},{"$f":"IF(O900=\"130\",2014.4*AO900*'CO2 Conversion Factors'!$J$20/0.8/1000,2096.16*AO900*'CO2 Conversion Factors'!$J$20/0.8/1000)","v":0},0,0,null,null,null,0,0,0,0,"",false,false,false,false,null,"","SU 172",""]
[null,null,null,null,null,null,null,null,null,null,null,null,null,null,null,null,null,null,null,null,null,null,null,null,null,null,null,null,null,null,null,null,null,null,null,null,null,{"$f":"IF(O901=\"130\",2014.4*AO901*'CO2 Conversion Factors'!$D$20/0.8/1000,2096.16*AO901*'CO2 Conversion Factors'!$D$20/0.8/1000)","v":0},{"$f":"IF(O901=\"130\",2014.4*AO901*'CO2 Conversion Factors'!$G$20/0.8/1000,2096.16*AO901*'CO2 Conversion Factors'!$G$20/0.8/1000)","v":0},{"$f":"IF(O901=\"130\",2014.4*AO901*'CO2 Conversion Factors'!$J$20/0.8/1000,2096.16*AO901*'CO2 Conversion Factors'!$J$20/0.8/1000)","v":0},0,{"$f":"IFERROR(AO901*Cover_Select_SteamCost,0)","v":0},null,null,null,{"$f":"IF(NOT(OR(L901=\"NIS\",L901=\"OFF\")),F901)","v":0},{"$f":"IF(NOT(OR(L901=\"NIS\",L901=\"OFF\",L901=\"PO\")),F901)","v":0},{"$f":"IF(NOT(OR(L901=\"NIS\",L901=\"OFF\")),H901)","v":0},{"$f":"IF(NOT(OR(L901=\"NIS\",L901=\"OFF\",L901=\"PO\")),H901)","v":0},"",{"$f":"IF(L901=\"CLD\", H901)","v":false},{"$f":"IF(L901=\"SL\", H901)","v":false},{"$f":"IF(L901=\"LL\", H901)","v":false},{"$f":"IF(L901=\"BLW\", H901)","v":false},null,"","SU 173",""]
[null,null,null,null,null,null,null,null,null,null,null,null,null,null,null,null,null,null,null,null,null,null,null,null,null,null,null,null,null,null,null,null,null,null,null,null,null,{"$f":"IF(O902=\"130\",2014.4*AO902*'CO2 Conversion Factors'!$D$20/0.8/1000,2096.16*AO902*'CO2 Conversion Factors'!$D$20/0.8/1000)","v":0},{"$f":"IF(O902=\"130\",2014.4*AO902*'CO2 Conversion Factors'!$G$20/0.8/1000,2096.16*AO902*'CO2 Conversion Factors'!$G$20/0.8/1000)","v":0},{"$f":"IF(O902=\"130\",2014.4*AO902*'CO2 Conversion Factors'!$J$20/0.8/1000,2096.16*AO902*'CO2 Conversion Factors'!$J$20/0.8/1000)","v":0},0,0,null,null,null,0,0,0,0,{"$f":"F902&H902","v":""},false,false,false,false,null,"","SU 174",""]
[null,null,null,null,null,null,null,null,null,null,null,null,null,null,null,null,null,null,null,null,null,null,null,null,null,null,null,null,null,null,null,null,null,null,null,null,null,{"$f":"IF(O903=\"130\",2014.4*AO903*'CO2 Conversion Factors'!$D$20/0.8/1000,2096.16*AO903*'CO2 Conversion Factors'!$D$20/0.8/1000)","v":0},{"$f":"IF(O903=\"130\",2014.4*AO903*'CO2 Conversion Factors'!$G$20/0.8/1000,2096.16*AO903*'CO2 Conversion Factors'!$G$20/0.8/1000)","v":0},{"$f":"IF(O903=\"130\",2014.4*AO903*'CO2 Conversion Factors'!$J$20/0.8/1000,2096.16*AO903*'CO2 Conversion Factors'!$J$20/0.8/1000)","v":0},0,0,null,null,null,0,0,0,0,"",false,false,false,false,null,"","",""]
[null,null,null,null,null,null,null,null,null,null,null,null,null,null,null,null,null,null,null,null,null,null,null,null,null,null,null,null,null,null,null,null,null,null,null,null,null,{"$f":"IF(O904=\"130\",2014.4*AO904*'CO2 Conversion Factors'!$D$20/0.8/1000,2096.16*AO904*'CO2 Conversion Factors'!$D$20/0.8/1000)","v":0},{"$f":"IF(O904=\"130\",2014.4*AO904*'CO2 Conversion Factors'!$G$20/0.8/1000,2096.16*AO904*'CO2 Conversion Factors'!$G$20/0.8/1000)","v":0},{"$f":"IF(O904=\"130\",2014.4*AO904*'CO2 Conversion Factors'!$J$20/0.8/1000,2096.16*AO904*'CO2 Conversion Factors'!$J$20/0.8/1000)","v":0},0,0,null,null,null,0,0,0,0,"",false,false,false,false,null,"","",""]
[null,null,null,null,null,null,null,null,null,null,null,null,null,null,null,null,null,null,null,null,null,null,null,null,null,null,null,null,null,null,null,null,null,null,null,null,null,{"$f":"IF(O905=\"130\",2014.4*AO905*'CO2 Conversion Factors'!$D$20/0.8/1000,2096.16*AO905*'CO2 Conversion Factors'!$D$20/0.8/1000)","v":0},{"$f":"IF(O905=\"130\",2014.4*AO905*'CO2 Conversion Factors'!$G$20/0.8/1000,2096.16*AO905*'CO2 Conversion Factors'!$G$20/0.8/1000)","v":0},{"$f":"IF(O905=\"130\",2014.4*AO905*'CO2 Conversion Factors'!$J$20/0.8/1000,2096.16*AO905*'CO2 Conversion Factors'!$J$20/0.8/1000)","v":0},0,0,null,null,null,0,0,0,0,"",false,false,false,false,null,"","",""]
[null,null,null,null,null,null,null,null,null,null,null,null,null,null,null,null,null,null,null,null,null,null,null,null,null,null,null,null,null,null,null,null,null,null,null,null,null,{"$f":"IF(O906=\"130\",2014.4*AO906*'CO2 Conversion Factors'!$D$20/0.8/1000,2096.16*AO906*'CO2 Conversion Factors'!$D$20/0.8/1000)","v":0},{"$f":"IF(O906=\"130\",2014.4*AO906*'CO2 Conversion Factors'!$G$20/0.8/1000,2096.16*AO906*'CO2 Conversion Factors'!$G$20/0.8/1000)","v":0},{"$f":"IF(O906=\"130\",2014.4*AO906*'CO2 Conversion Factors'!$J$20/0.8/1000,2096.16*AO906*'CO2 Conversion Factors'!$J$20/0.8/1000)","v":0},0,0,null,null,null,0,0,0,0,"",false,false,false,false,null,"","",""]
[null,null,null,null,null,null,null,null,null,null,null,null,null,null,null,null,null,null,null,null,null,null,null,null,null,null,null,null,null,null,null,null,null,null,null,null,null,{"$f":"IF(O907=\"130\",2014.4*AO907*'CO2 Conversion Factors'!$D$20/0.8/1000,2096.16*AO907*'CO2 Conversion Factors'!$D$20/0.8/1000)","v":0},{"$f":"IF(O907=\"130\",2014.4*AO907*'CO2 Conversion Factors'!$G$20/0.8/1000,2096.16*AO907*'CO2 Conversion Factors'!$G$20/0.8/1000)","v":0},{"$f":"IF(O907=\"130\",2014.4*AO907*'CO2 Conversion Factors'!$J$20/0.8/1000,2096.16*AO907*'CO2 Conversion Factors'!$J$20/0.8/1000)","v":0},0,0,null,null,null,0,0,0,0,"",false,false,false,false,null,"","SU342",""]
[null,null,null,null,null,null,null,null,null,null,null,null,null,null,null,null,null,null,null,null,null,null,null,null,null,null,null,null,null,null,null,null,null,null,null,null,null,{"$f":"IF(O908=\"130\",2014.4*AO908*'CO2 Conversion Factors'!$D$20/0.8/1000,2096.16*AO908*'CO2 Conversion Factors'!$D$20/0.8/1000)","v":0},{"$f":"IF(O908=\"130\",2014.4*AO908*'CO2 Conversion Factors'!$G$20/0.8/1000,2096.16*AO908*'CO2 Conversion Factors'!$G$20/0.8/1000)","v":0},{"$f":"IF(O908=\"130\",2014.4*AO908*'CO2 Conversion Factors'!$J$20/0.8/1000,2096.16*AO908*'CO2 Conversion Factors'!$J$20/0.8/1000)","v":0},0,0,null,null,null,0,0,0,0,"",false,false,false,false,null,"","SU343",""]
[null,null,null,null,null,null,null,null,null,null,null,null,null,null,null,null,null,null,null,null,null,null,null,null,null,null,null,null,null,null,null,null,null,null,null,null,null,{"$f":"IF(O909=\"130\",2014.4*AO909*'CO2 Conversion Factors'!$D$20/0.8/1000,2096.16*AO909*'CO2 Conversion Factors'!$D$20/0.8/1000)","v":0},{"$f":"IF(O909=\"130\",2014.4*AO909*'CO2 Conversion Factors'!$G$20/0.8/1000,2096.16*AO909*'CO2 Conversion Factors'!$G$20/0.8/1000)","v":0},{"$f":"IF(O909=\"130\",2014.4*AO909*'CO2 Conversion Factors'!$J$20/0.8/1000,2096.16*AO909*'CO2 Conversion Factors'!$J$20/0.8/1000)","v":0},0,0,null,null,null,0,0,0,0,"",false,false,false,false,null,"","SU148",""]
[null,null,null,null,null,null,null,null,null,null,null,null,null,null,null,null,null,null,null,null,null,null,null,null,null,null,null,null,null,null,null,null,null,null,null,null,null,{"$f":"IF(O910=\"130\",2014.4*AO910*'CO2 Conversion Factors'!$D$20/0.8/1000,2096.16*AO910*'CO2 Conversion Factors'!$D$20/0.8/1000)","v":0},{"$f":"IF(O910=\"130\",2014.4*AO910*'CO2 Conversion Factors'!$G$20/0.8/1000,2096.16*AO910*'CO2 Conversion Factors'!$G$20/0.8/1000)","v":0},{"$f":"IF(O910=\"130\",2014.4*AO910*'CO2 Conversion Factors'!$J$20/0.8/1000,2096.16*AO910*'CO2 Conversion Factors'!$J$20/0.8/1000)","v":0},0,0,null,null,null,0,0,0,0,"",false,false,false,false,null,"","SU149",""]
[null,null,null,null,null,null,null,null,null,null,null,null,null,null,null,null,null,null,null,null,null,null,null,null,null,null,null,null,null,null,null,null,null,null,null,null,null,{"$f":"IF(O911=\"130\",2014.4*AO911*'CO2 Conversion Factors'!$D$20/0.8/1000,2096.16*AO911*'CO2 Conversion Factors'!$D$20/0.8/1000)","v":0},{"$f":"IF(O911=\"130\",2014.4*AO911*'CO2 Conversion Factors'!$G$20/0.8/1000,2096.16*AO911*'CO2 Conversion Factors'!$G$20/0.8/1000)","v":0},{"$f":"IF(O911=\"130\",2014.4*AO911*'CO2 Conversion Factors'!$J$20/0.8/1000,2096.16*AO911*'CO2 Conversion Factors'!$J$20/0.8/1000)","v":0},0,0,null,null,null,0,0,0,0,"",false,false,false,false,null,"","",""]
[null,null,null,null,null,null,null,null,null,null,null,null,null,null,null,null,null,null,null,null,null,null,null,null,null,null,null,null,null,null,null,null,null,null,null,null,null,{"$f":"IF(O912=\"130\",2014.4*AO912*'CO2 Conversion Factors'!$D$20/0.8/1000,2096.16*AO912*'CO2 Conversion Factors'!$D$20/0.8/1000)","v":0},{"$f":"IF(O912=\"130\",2014.4*AO912*'CO2 Conversion Factors'!$G$20/0.8/1000,2096.16*AO912*'CO2 Conversion Factors'!$G$20/0.8/1000)","v":0},{"$f":"IF(O912=\"130\",2014.4*AO912*'CO2 Conversion Factors'!$J$20/0.8/1000,2096.16*AO912*'CO2 Conversion Factors'!$J$20/0.8/1000)","v":0},0,0,null,null,null,0,0,0,0,"",false,false,false,false,null,"","",""]
[null,null,null,null,null,null,null,null,null,null,null,null,null,null,null,null,null,null,null,null,null,null,null,null,null,null,null,null,null,null,null,null,null,null,null,null,null,{"$f":"IF(O913=\"130\",2014.4*AO913*'CO2 Conversion Factors'!$D$20/0.8/1000,2096.16*AO913*'CO2 Conversion Factors'!$D$20/0.8/1000)","v":0},{"$f":"IF(O913=\"130\",2014.4*AO913*'CO2 Conversion Factors'!$G$20/0.8/1000,2096.16*AO913*'CO2 Conversion Factors'!$G$20/0.8/1000)","v":0},{"$f":"IF(O913=\"130\",2014.4*AO913*'CO2 Conversion Factors'!$J$20/0.8/1000,2096.16*AO913*'CO2 Conversion Factors'!$J$20/0.8/1000)","v":0},0,0,null,null,null,0,0,0,0,"",false,false,false,false,null,"","SU146",""]
[null,null,null,null,null,null,null,null,null,null,null,null,null,null,null,null,null,null,null,null,null,null,null,null,null,null,null,null,null,null,null,null,null,null,null,null,null,{"$f":"IF(O914=\"130\",2014.4*AO914*'CO2 Conversion Factors'!$D$20/0.8/1000,2096.16*AO914*'CO2 Conversion Factors'!$D$20/0.8/1000)","v":0},{"$f":"IF(O914=\"130\",2014.4*AO914*'CO2 Conversion Factors'!$G$20/0.8/1000,2096.16*AO914*'CO2 Conversion Factors'!$G$20/0.8/1000)","v":0},{"$f":"IF(O914=\"130\",2014.4*AO914*'CO2 Conversion Factors'!$J$20/0.8/1000,2096.16*AO914*'CO2 Conversion Factors'!$J$20/0.8/1000)","v":0},0,0,null,null,null,0,0,0,0,"",false,false,false,false,null,"","SU127",""]
[null,null,null,null,null,null,null,null,null,null,null,null,null,null,null,null,null,null,null,null,null,null,null,null,null,null,null,null,null,null,null,null,null,null,null,null,null,{"$f":"IF(O915=\"130\",2014.4*AO915*'CO2 Conversion Factors'!$D$20/0.8/1000,2096.16*AO915*'CO2 Conversion Factors'!$D$20/0.8/1000)","v":0},{"$f":"IF(O915=\"130\",2014.4*AO915*'CO2 Conversion Factors'!$G$20/0.8/1000,2096.16*AO915*'CO2 Conversion Factors'!$G$20/0.8/1000)","v":0},{"$f":"IF(O915=\"130\",2014.4*AO915*'CO2 Conversion Factors'!$J$20/0.8/1000,2096.16*AO915*'CO2 Conversion Factors'!$J$20/0.8/1000)","v":0},0,0,null,null,null,0,0,0,0,"",false,false,false,false,null,"","SU128",""]
[null,null,null,null,null,null,null,null,null,null,null,null,null,null,null,null,null,null,null,null,null,null,null,null,null,null,null,null,null,null,null,null,null,null,null,null,null,{"$f":"IF(O916=\"130\",2014.4*AO916*'CO2 Conversion Factors'!$D$20/0.8/1000,2096.16*AO916*'CO2 Conversion Factors'!$D$20/0.8/1000)","v":0},{"$f":"IF(O916=\"130\",2014.4*AO916*'CO2 Conversion Factors'!$G$20/0.8/1000,2096.16*AO916*'CO2 Conversion Factors'!$G$20/0.8/1000)","v":0},{"$f":"IF(O916=\"130\",2014.4*AO916*'CO2 Conversion Factors'!$J$20/0.8/1000,2096.16*AO916*'CO2 Conversion Factors'!$J$20/0.8/1000)","v":0},0,0,null,null,null,0,0,0,0,"",false,false,false,false,null,"","SU124",""]
[null,null,null,null,null,null,null,null,null,null,null,null,null,null,null,null,null,null,null,null,null,null,null,null,null,null,null,null,null,null,null,null,null,null,null,null,null,{"$f":"IF(O917=\"130\",2014.4*AO917*'CO2 Conversion Factors'!$D$20/0.8/1000,2096.16*AO917*'CO2 Conversion Factors'!$D$20/0.8/1000)","v":0},{"$f":"IF(O917=\"130\",2014.4*AO917*'CO2 Conversion Factors'!$G$20/0.8/1000,2096.16*AO917*'CO2 Conversion Factors'!$G$20/0.8/1000)","v":0},{"$f":"IF(O917=\"130\",2014.4*AO917*'CO2 Conversion Factors'!$J$20/0.8/1000,2096.16*AO917*'CO2 Conversion Factors'!$J$20/0.8/1000)","v":0},0,0,null,null,null,0,0,0,0,"",false,false,false,false,null,"","SU123",""]
[null,null,null,null,null,null,null,null,null,null,null,null,null,null,null,null,null,null,null,null,null,null,null,null,null,null,null,null,null,null,null,null,null,null,null,null,null,{"$f":"IF(O918=\"130\",2014.4*AO918*'CO2 Conversion Factors'!$D$20/0.8/1000,2096.16*AO918*'CO2 Conversion Factors'!$D$20/0.8/1000)","v":0},{"$f":"IF(O918=\"130\",2014.4*AO918*'CO2 Conversion Factors'!$G$20/0.8/1000,2096.16*AO918*'CO2 Conversion Factors'!$G$20/0.8/1000)","v":0},{"$f":"IF(O918=\"130\",2014.4*AO918*'CO2 Conversion Factors'!$J$20/0.8/1000,2096.16*AO918*'CO2 Conversion Factors'!$J$20/0.8/1000)","v":0},0,0,null,null,null,0,0,0,0,"",false,false,false,false,null,"","SU122",""]
[null,null,null,null,null,null,null,null,null,null,null,null,null,null,null,null,null,null,null,null,null,null,null,null,null,null,null,null,null,null,null,null,null,null,null,null,null,{"$f":"IF(O919=\"130\",2014.4*AO919*'CO2 Conversion Factors'!$D$20/0.8/1000,2096.16*AO919*'CO2 Conversion Factors'!$D$20/0.8/1000)","v":0},{"$f":"IF(O919=\"130\",2014.4*AO919*'CO2 Conversion Factors'!$G$20/0.8/1000,2096.16*AO919*'CO2 Conversion Factors'!$G$20/0.8/1000)","v":0},{"$f":"IF(O919=\"130\",2014.4*AO919*'CO2 Conversion Factors'!$J$20/0.8/1000,2096.16*AO919*'CO2 Conversion Factors'!$J$20/0.8/1000)","v":0},0,0,null,null,null,0,0,0,0,"",false,false,false,false,null,"","",""]
[null,null,null,null,null,null,null,null,null,null,null,null,null,null,null,null,null,null,null,null,null,null,null,null,null,null,null,null,null,null,null,null,null,null,null,null,null,{"$f":"IF(O920=\"130\",2014.4*AO920*'CO2 Conversion Factors'!$D$20/0.8/1000,2096.16*AO920*'CO2 Conversion Factors'!$D$20/0.8/1000)","v":0},{"$f":"IF(O920=\"130\",2014.4*AO920*'CO2 Conversion Factors'!$G$20/0.8/1000,2096.16*AO920*'CO2 Conversion Factors'!$G$20/0.8/1000)","v":0},{"$f":"IF(O920=\"130\",2014.4*AO920*'CO2 Conversion Factors'!$J$20/0.8/1000,2096.16*AO920*'CO2 Conversion Factors'!$J$20/0.8/1000)","v":0},0,0,null,null,null,0,0,0,0,"",false,false,false,false,null,"","",""]
[null,null,null,null,null,null,null,null,null,null,null,null,null,null,null,null,null,null,null,null,null,null,null,null,null,null,null,null,null,null,null,null,null,null,null,null,null,{"$f":"IF(O921=\"130\",2014.4*AO921*'CO2 Conversion Factors'!$D$20/0.8/1000,2096.16*AO921*'CO2 Conversion Factors'!$D$20/0.8/1000)","v":0},{"$f":"IF(O921=\"130\",2014.4*AO921*'CO2 Conversion Factors'!$G$20/0.8/1000,2096.16*AO921*'CO2 Conversion Factors'!$G$20/0.8/1000)","v":0},{"$f":"IF(O921=\"130\",2014.4*AO921*'CO2 Conversion Factors'!$J$20/0.8/1000,2096.16*AO921*'CO2 Conversion Factors'!$J$20/0.8/1000)","v":0},0,0,null,null,null,0,0,0,0,"",false,false,false,false,null,"","SU120",""]
[null,null,null,null,null,null,null,null,null,null,null,null,null,null,null,null,null,null,null,null,null,null,null,null,null,null,null,null,null,null,null,null,null,null,null,null,null,{"$f":"IF(O922=\"130\",2014.4*AO922*'CO2 Conversion Factors'!$D$20/0.8/1000,2096.16*AO922*'CO2 Conversion Factors'!$D$20/0.8/1000)","v":0},{"$f":"IF(O922=\"130\",2014.4*AO922*'CO2 Conversion Factors'!$G$20/0.8/1000,2096.16*AO922*'CO2 Conversion Factors'!$G$20/0.8/1000)","v":0},{"$f":"IF(O922=\"130\",2014.4*AO922*'CO2 Conversion Factors'!$J$20/0.8/1000,2096.16*AO922*'CO2 Conversion Factors'!$J$20/0.8/1000)","v":0},0,0,null,null,null,0,0,0,0,"",false,false,false,false,null,"","",""]
[null,null,null,null,null,null,null,null,null,null,null,null,null,null,null,null,null,null,null,null,null,null,null,null,null,null,null,null,null,null,null,null,null,null,null,null,null,{"$f":"IF(O923=\"130\",2014.4*AO923*'CO2 Conversion Factors'!$D$20/0.8/1000,2096.16*AO923*'CO2 Conversion Factors'!$D$20/0.8/1000)","v":0},{"$f":"IF(O923=\"130\",2014.4*AO923*'CO2 Conversion Factors'!$G$20/0.8/1000,2096.16*AO923*'CO2 Conversion Factors'!$G$20/0.8/1000)","v":0},{"$f":"IF(O923=\"130\",2014.4*AO923*'CO2 Conversion Factors'!$J$20/0.8/1000,2096.16*AO923*'CO2 Conversion Factors'!$J$20/0.8/1000)","v":0},0,0,null,null,null,0,0,0,0,"",false,false,false,false,null,"","",""]
[null,null,null,null,null,null,null,null,null,null,null,null,null,null,null,null,null,null,null,null,null,null,null,null,null,null,null,null,null,null,null,null,null,null,null,null,null,{"$f":"IF(O924=\"130\",2014.4*AO924*'CO2 Conversion Factors'!$D$20/0.8/1000,2096.16*AO924*'CO2 Conversion Factors'!$D$20/0.8/1000)","v":0},{"$f":"IF(O924=\"130\",2014.4*AO924*'CO2 Conversion Factors'!$G$20/0.8/1000,2096.16*AO924*'CO2 Conversion Factors'!$G$20/0.8/1000)","v":0},{"$f":"IF(O924=\"130\",2014.4*AO924*'CO2 Conversion Factors'!$J$20/0.8/1000,2096.16*AO924*'CO2 Conversion Factors'!$J$20/0.8/1000)","v":0},0,0,null,null,null,0,0,0,0,"",false,false,false,false,null,"","",""]
[null,null,null,null,null,null,null,null,null,null,null,null,null,null,null,null,null,null,null,null,null,null,null,null,null,null,null,null,null,null,null,null,null,null,null,null,null,{"$f":"IF(O925=\"130\",2014.4*AO925*'CO2 Conversion Factors'!$D$20/0.8/1000,2096.16*AO925*'CO2 Conversion Factors'!$D$20/0.8/1000)","v":0},{"$f":"IF(O925=\"130\",2014.4*AO925*'CO2 Conversion Factors'!$G$20/0.8/1000,2096.16*AO925*'CO2 Conversion Factors'!$G$20/0.8/1000)","v":0},{"$f":"IF(O925=\"130\",2014.4*AO925*'CO2 Conversion Factors'!$J$20/0.8/1000,2096.16*AO925*'CO2 Conversion Factors'!$J$20/0.8/1000)","v":0},0,0,null,null,null,0,0,0,0,"",false,false,false,false,null,"","",""]
[null,null,null,null,null,null,null,null,null,null,null,null,null,null,null,null,null,null,null,null,null,null,null,null,null,null,null,null,null,null,null,null,null,null,null,null,null,{"$f":"IF(O926=\"130\",2014.4*AO926*'CO2 Conversion Factors'!$D$20/0.8/1000,2096.16*AO926*'CO2 Conversion Factors'!$D$20/0.8/1000)","v":0},{"$f":"IF(O926=\"130\",2014.4*AO926*'CO2 Conversion Factors'!$G$20/0.8/1000,2096.16*AO926*'CO2 Conversion Factors'!$G$20/0.8/1000)","v":0},{"$f":"IF(O926=\"130\",2014.4*AO926*'CO2 Conversion Factors'!$J$20/0.8/1000,2096.16*AO926*'CO2 Conversion Factors'!$J$20/0.8/1000)","v":0},0,0,null,null,null,0,0,0,0,"",false,false,false,false,null,"","",""]
[null,null,null,null,null,null,null,null,null,null,null,null,null,null,null,null,null,null,null,null,null,null,null,null,null,null,null,null,null,null,null,null,null,null,null,null,null,{"$f":"IF(O927=\"130\",2014.4*AO927*'CO2 Conversion Factors'!$D$20/0.8/1000,2096.16*AO927*'CO2 Conversion Factors'!$D$20/0.8/1000)","v":0},{"$f":"IF(O927=\"130\",2014.4*AO927*'CO2 Conversion Factors'!$G$20/0.8/1000,2096.16*AO927*'CO2 Conversion Factors'!$G$20/0.8/1000)","v":0},{"$f":"IF(O927=\"130\",2014.4*AO927*'CO2 Conversion Factors'!$J$20/0.8/1000,2096.16*AO927*'CO2 Conversion Factors'!$J$20/0.8/1000)","v":0},0,0,null,null,null,0,0,0,0,"",false,false,false,false,null,"","",""]
[null,null,null,null,null,null,null,null,null,null,null,null,null,null,null,null,null,null,null,null,null,null,null,null,null,null,null,null,null,null,null,null,null,null,null,null,null,{"$f":"IF(O928=\"130\",2014.4*AO928*'CO2 Conversion Factors'!$D$20/0.8/1000,2096.16*AO928*'CO2 Conversion Factors'!$D$20/0.8/1000)","v":0},{"$f":"IF(O928=\"130\",2014.4*AO928*'CO2 Conversion Factors'!$G$20/0.8/1000,2096.16*AO928*'CO2 Conversion Factors'!$G$20/0.8/1000)","v":0},{"$f":"IF(O928=\"130\",2014.4*AO928*'CO2 Conversion Factors'!$J$20/0.8/1000,2096.16*AO928*'CO2 Conversion Factors'!$J$20/0.8/1000)","v":0},0,0,null,null,null,0,0,0,0,"",false,false,false,false,null,"","",""]
[null,null,null,null,null,null,null,null,null,null,null,null,null,null,null,null,null,null,null,null,null,null,null,null,null,null,null,null,null,null,null,null,null,null,null,null,null,{"$f":"IF(O929=\"130\",2014.4*AO929*'CO2 Conversion Factors'!$D$20/0.8/1000,2096.16*AO929*'CO2 Conversion Factors'!$D$20/0.8/1000)","v":0},{"$f":"IF(O929=\"130\",2014.4*AO929*'CO2 Conversion Factors'!$G$20/0.8/1000,2096.16*AO929*'CO2 Conversion Factors'!$G$20/0.8/1000)","v":0},{"$f":"IF(O929=\"130\",2014.4*AO929*'CO2 Conversion Factors'!$J$20/0.8/1000,2096.16*AO929*'CO2 Conversion Factors'!$J$20/0.8/1000)","v":0},0,0,null,null,null,0,0,0,0,"",false,false,false,false,null,"","",""]
[null,null,null,null,null,null,null,null,null,null,null,null,null,null,null,null,null,null,null,null,null,null,null,null,null,null,null,null,null,null,null,null,null,null,null,null,null,{"$f":"IF(O930=\"130\",2014.4*AO930*'CO2 Conversion Factors'!$D$20/0.8/1000,2096.16*AO930*'CO2 Conversion Factors'!$D$20/0.8/1000)","v":0},{"$f":"IF(O930=\"130\",2014.4*AO930*'CO2 Conversion Factors'!$G$20/0.8/1000,2096.16*AO930*'CO2 Conversion Factors'!$G$20/0.8/1000)","v":0},{"$f":"IF(O930=\"130\",2014.4*AO930*'CO2 Conversion Factors'!$J$20/0.8/1000,2096.16*AO930*'CO2 Conversion Factors'!$J$20/0.8/1000)","v":0},0,0,null,null,null,0,0,0,0,"",false,false,false,false,null,"","",""]
[null,null,null,null,null,null,null,null,null,null,null,null,null,null,null,null,null,null,null,null,null,null,null,null,null,null,null,null,null,null,null,null,null,null,null,null,null,{"$f":"IF(O931=\"130\",2014.4*AO931*'CO2 Conversion Factors'!$D$20/0.8/1000,2096.16*AO931*'CO2 Conversion Factors'!$D$20/0.8/1000)","v":0},{"$f":"IF(O931=\"130\",2014.4*AO931*'CO2 Conversion Factors'!$G$20/0.8/1000,2096.16*AO931*'CO2 Conversion Factors'!$G$20/0.8/1000)","v":0},{"$f":"IF(O931=\"130\",2014.4*AO931*'CO2 Conversion Factors'!$J$20/0.8/1000,2096.16*AO931*'CO2 Conversion Factors'!$J$20/0.8/1000)","v":0},0,0,null,null,null,0,0,0,0,"",false,false,false,false,null,"","SU132",""]
[null,null,null,null,null,null,null,null,null,null,null,null,null,null,null,null,null,null,null,null,null,null,null,null,null,null,null,null,null,null,null,null,null,null,null,null,null,{"$f":"IF(O932=\"130\",2014.4*AO932*'CO2 Conversion Factors'!$D$20/0.8/1000,2096.16*AO932*'CO2 Conversion Factors'!$D$20/0.8/1000)","v":0},{"$f":"IF(O932=\"130\",2014.4*AO932*'CO2 Conversion Factors'!$G$20/0.8/1000,2096.16*AO932*'CO2 Conversion Factors'!$G$20/0.8/1000)","v":0},{"$f":"IF(O932=\"130\",2014.4*AO932*'CO2 Conversion Factors'!$J$20/0.8/1000,2096.16*AO932*'CO2 Conversion Factors'!$J$20/0.8/1000)","v":0},0,0,null,null,null,0,0,0,0,"",false,false,false,false,null,"","SU133",""]
[null,null,null,null,null,null,null,null,null,null,null,null,null,null,null,null,null,null,null,null,null,null,null,null,null,null,null,null,null,null,null,null,null,null,null,null,null,{"$f":"IF(O933=\"130\",2014.4*AO933*'CO2 Conversion Factors'!$D$20/0.8/1000,2096.16*AO933*'CO2 Conversion Factors'!$D$20/0.8/1000)","v":0},{"$f":"IF(O933=\"130\",2014.4*AO933*'CO2 Conversion Factors'!$G$20/0.8/1000,2096.16*AO933*'CO2 Conversion Factors'!$G$20/0.8/1000)","v":0},{"$f":"IF(O933=\"130\",2014.4*AO933*'CO2 Conversion Factors'!$J$20/0.8/1000,2096.16*AO933*'CO2 Conversion Factors'!$J$20/0.8/1000)","v":0},0,0,null,null,null,0,0,0,0,"",false,false,false,false,null,"","SU134",""]
[null,null,null,null,null,null,null,null,null,null,null,null,null,null,null,null,null,null,null,null,null,null,null,null,null,null,null,null,null,null,null,null,null,null,null,null,null,{"$f":"IF(O934=\"130\",2014.4*AO934*'CO2 Conversion Factors'!$D$20/0.8/1000,2096.16*AO934*'CO2 Conversion Factors'!$D$20/0.8/1000)","v":0},{"$f":"IF(O934=\"130\",2014.4*AO934*'CO2 Conversion Factors'!$G$20/0.8/1000,2096.16*AO934*'CO2 Conversion Factors'!$G$20/0.8/1000)","v":0},{"$f":"IF(O934=\"130\",2014.4*AO934*'CO2 Conversion Factors'!$J$20/0.8/1000,2096.16*AO934*'CO2 Conversion Factors'!$J$20/0.8/1000)","v":0},0,0,null,null,null,0,0,0,0,"",false,false,false,false,null,"","SU135",""]
[null,null,null,null,null,null,null,null,null,null,null,null,null,null,null,null,null,null,null,null,null,null,null,null,null,null,null,null,null,null,null,null,null,null,null,null,null,{"$f":"IF(O935=\"130\",2014.4*AO935*'CO2 Conversion Factors'!$D$20/0.8/1000,2096.16*AO935*'CO2 Conversion Factors'!$D$20/0.8/1000)","v":0},{"$f":"IF(O935=\"130\",2014.4*AO935*'CO2 Conversion Factors'!$G$20/0.8/1000,2096.16*AO935*'CO2 Conversion Factors'!$G$20/0.8/1000)","v":0},{"$f":"IF(O935=\"130\",2014.4*AO935*'CO2 Conversion Factors'!$J$20/0.8/1000,2096.16*AO935*'CO2 Conversion Factors'!$J$20/0.8/1000)","v":0},0,0,null,null,null,0,0,0,0,"",false,false,false,false,null,"","SU135",""]
[null,null,null,null,null,null,null,null,null,null,null,null,null,null,null,null,null,null,null,null,null,null,null,null,null,null,null,null,null,null,null,null,null,null,null,null,null,{"$f":"IF(O936=\"130\",2014.4*AO936*'CO2 Conversion Factors'!$D$20/0.8/1000,2096.16*AO936*'CO2 Conversion Factors'!$D$20/0.8/1000)","v":0},{"$f":"IF(O936=\"130\",2014.4*AO936*'CO2 Conversion Factors'!$G$20/0.8/1000,2096.16*AO936*'CO2 Conversion Factors'!$G$20/0.8/1000)","v":0},{"$f":"IF(O936=\"130\",2014.4*AO936*'CO2 Conversion Factors'!$J$20/0.8/1000,2096.16*AO936*'CO2 Conversion Factors'!$J$20/0.8/1000)","v":0},0,0,null,null,null,0,0,0,0,"",false,false,false,false,null,"","SU137",""]
[null,null,null,null,null,null,null,null,null,null,null,null,null,null,null,null,null,null,null,null,null,null,null,null,null,null,null,null,null,null,null,null,null,null,null,null,null,{"$f":"IF(O937=\"130\",2014.4*AO937*'CO2 Conversion Factors'!$D$20/0.8/1000,2096.16*AO937*'CO2 Conversion Factors'!$D$20/0.8/1000)","v":0},{"$f":"IF(O937=\"130\",2014.4*AO937*'CO2 Conversion Factors'!$G$20/0.8/1000,2096.16*AO937*'CO2 Conversion Factors'!$G$20/0.8/1000)","v":0},{"$f":"IF(O937=\"130\",2014.4*AO937*'CO2 Conversion Factors'!$J$20/0.8/1000,2096.16*AO937*'CO2 Conversion Factors'!$J$20/0.8/1000)","v":0},0,0,null,null,null,0,0,0,0,"",false,false,false,false,null,"","SU138 ",""]
[null,null,null,null,null,null,null,null,null,null,null,null,null,null,null,null,null,null,null,null,null,null,null,null,null,null,null,null,null,null,null,null,null,null,null,null,null,{"$f":"IF(O938=\"130\",2014.4*AO938*'CO2 Conversion Factors'!$D$20/0.8/1000,2096.16*AO938*'CO2 Conversion Factors'!$D$20/0.8/1000)","v":0},{"$f":"IF(O938=\"130\",2014.4*AO938*'CO2 Conversion Factors'!$G$20/0.8/1000,2096.16*AO938*'CO2 Conversion Factors'!$G$20/0.8/1000)","v":0},{"$f":"IF(O938=\"130\",2014.4*AO938*'CO2 Conversion Factors'!$J$20/0.8/1000,2096.16*AO938*'CO2 Conversion Factors'!$J$20/0.8/1000)","v":0},0,0,null,null,null,0,0,0,0,"",false,false,false,false,null,"","SU139",""]
[null,null,null,null,null,null,null,null,null,null,null,null,null,null,null,null,null,null,null,null,null,null,null,null,null,null,null,null,null,null,null,null,null,null,null,null,null,{"$f":"IF(O939=\"130\",2014.4*AO939*'CO2 Conversion Factors'!$D$20/0.8/1000,2096.16*AO939*'CO2 Conversion Factors'!$D$20/0.8/1000)","v":0},{"$f":"IF(O939=\"130\",2014.4*AO939*'CO2 Conversion Factors'!$G$20/0.8/1000,2096.16*AO939*'CO2 Conversion Factors'!$G$20/0.8/1000)","v":0},{"$f":"IF(O939=\"130\",2014.4*AO939*'CO2 Conversion Factors'!$J$20/0.8/1000,2096.16*AO939*'CO2 Conversion Factors'!$J$20/0.8/1000)","v":0},0,0,null,null,null,0,0,0,0,"",false,false,false,false,null,"","SU142",""]
[null,null,null,null,null,null,null,null,null,null,null,null,null,null,null,null,null,null,null,null,null,null,null,null,null,null,null,null,null,null,null,null,null,null,null,null,null,{"$f":"IF(O940=\"130\",2014.4*AO940*'CO2 Conversion Factors'!$D$20/0.8/1000,2096.16*AO940*'CO2 Conversion Factors'!$D$20/0.8/1000)","v":0},{"$f":"IF(O940=\"130\",2014.4*AO940*'CO2 Conversion Factors'!$G$20/0.8/1000,2096.16*AO940*'CO2 Conversion Factors'!$G$20/0.8/1000)","v":0},{"$f":"IF(O940=\"130\",2014.4*AO940*'CO2 Conversion Factors'!$J$20/0.8/1000,2096.16*AO940*'CO2 Conversion Factors'!$J$20/0.8/1000)","v":0},0,0,null,null,null,0,0,0,0,"",false,false,false,false,null,"","",""]
[null,null,null,null,null,null,null,null,null,null,null,null,null,null,null,null,null,null,null,null,null,null,null,null,null,null,null,null,null,null,null,null,null,null,null,null,null,{"$f":"IF(O941=\"130\",2014.4*AO941*'CO2 Conversion Factors'!$D$20/0.8/1000,2096.16*AO941*'CO2 Conversion Factors'!$D$20/0.8/1000)","v":0},{"$f":"IF(O941=\"130\",2014.4*AO941*'CO2 Conversion Factors'!$G$20/0.8/1000,2096.16*AO941*'CO2 Conversion Factors'!$G$20/0.8/1000)","v":0},{"$f":"IF(O941=\"130\",2014.4*AO941*'CO2 Conversion Factors'!$J$20/0.8/1000,2096.16*AO941*'CO2 Conversion Factors'!$J$20/0.8/1000)","v":0},0,0,null,null,null,0,0,0,0,"",false,false,false,false,null,"","SU144",""]
[null,null,null,null,null,null,null,null,null,null,null,null,null,null,null,null,null,null,null,null,null,null,null,null,null,null,null,null,null,null,null,null,null,null,null,null,null,{"$f":"IF(O942=\"130\",2014.4*AO942*'CO2 Conversion Factors'!$D$20/0.8/1000,2096.16*AO942*'CO2 Conversion Factors'!$D$20/0.8/1000)","v":0},{"$f":"IF(O942=\"130\",2014.4*AO942*'CO2 Conversion Factors'!$G$20/0.8/1000,2096.16*AO942*'CO2 Conversion Factors'!$G$20/0.8/1000)","v":0},{"$f":"IF(O942=\"130\",2014.4*AO942*'CO2 Conversion Factors'!$J$20/0.8/1000,2096.16*AO942*'CO2 Conversion Factors'!$J$20/0.8/1000)","v":0},0,0,null,null,null,0,0,0,0,"",false,false,false,false,null,"","SU145",""]
[null,null,null,null,null,null,null,null,null,null,null,null,null,null,null,null,null,null,null,null,null,null,null,null,null,null,null,null,null,null,null,null,null,null,null,null,null,{"$f":"IF(O943=\"130\",2014.4*AO943*'CO2 Conversion Factors'!$D$20/0.8/1000,2096.16*AO943*'CO2 Conversion Factors'!$D$20/0.8/1000)","v":0},{"$f":"IF(O943=\"130\",2014.4*AO943*'CO2 Conversion Factors'!$G$20/0.8/1000,2096.16*AO943*'CO2 Conversion Factors'!$G$20/0.8/1000)","v":0},{"$f":"IF(O943=\"130\",2014.4*AO943*'CO2 Conversion Factors'!$J$20/0.8/1000,2096.16*AO943*'CO2 Conversion Factors'!$J$20/0.8/1000)","v":0},0,0,null,null,null,0,0,0,0,"",false,false,false,false,null,"","SU145",""]
[null,null,null,null,null,null,null,null,null,null,null,null,null,null,null,null,null,null,null,null,null,null,null,null,null,null,null,null,null,null,null,null,null,null,null,null,null,{"$f":"IF(O944=\"130\",2014.4*AO944*'CO2 Conversion Factors'!$D$20/0.8/1000,2096.16*AO944*'CO2 Conversion Factors'!$D$20/0.8/1000)","v":0},{"$f":"IF(O944=\"130\",2014.4*AO944*'CO2 Conversion Factors'!$G$20/0.8/1000,2096.16*AO944*'CO2 Conversion Factors'!$G$20/0.8/1000)","v":0},{"$f":"IF(O944=\"130\",2014.4*AO944*'CO2 Conversion Factors'!$J$20/0.8/1000,2096.16*AO944*'CO2 Conversion Factors'!$J$20/0.8/1000)","v":0},0,0,null,null,null,0,0,0,0,"",false,false,false,false,null,"","SU341",""]
[null,null,null,null,null,null,null,null,null,null,null,null,null,null,null,null,null,null,null,null,null,null,null,null,null,null,null,null,null,null,null,null,null,null,null,null,null,{"$f":"IF(O945=\"130\",2014.4*AO945*'CO2 Conversion Factors'!$D$20/0.8/1000,2096.16*AO945*'CO2 Conversion Factors'!$D$20/0.8/1000)","v":0},{"$f":"IF(O945=\"130\",2014.4*AO945*'CO2 Conversion Factors'!$G$20/0.8/1000,2096.16*AO945*'CO2 Conversion Factors'!$G$20/0.8/1000)","v":0},{"$f":"IF(O945=\"130\",2014.4*AO945*'CO2 Conversion Factors'!$J$20/0.8/1000,2096.16*AO945*'CO2 Conversion Factors'!$J$20/0.8/1000)","v":0},0,0,null,null,null,0,0,0,0,"",false,false,false,false,null,"","",""]
[null,null,null,null,null,null,null,null,null,null,null,null,null,null,null,null,null,null,null,null,null,null,null,null,null,null,null,null,null,null,null,null,null,null,null,null,null,{"$f":"IF(O946=\"130\",2014.4*AO946*'CO2 Conversion Factors'!$D$20/0.8/1000,2096.16*AO946*'CO2 Conversion Factors'!$D$20/0.8/1000)","v":0},{"$f":"IF(O946=\"130\",2014.4*AO946*'CO2 Conversion Factors'!$G$20/0.8/1000,2096.16*AO946*'CO2 Conversion Factors'!$G$20/0.8/1000)","v":0},{"$f":"IF(O946=\"130\",2014.4*AO946*'CO2 Conversion Factors'!$J$20/0.8/1000,2096.16*AO946*'CO2 Conversion Factors'!$J$20/0.8/1000)","v":0},0,0,null,null,null,0,0,0,0,"",false,false,false,false,null,"","SU118",""]
[null,null,null,null,null,null,null,null,null,null,null,null,null,null,null,null,null,null,null,null,null,null,null,null,null,null,null,null,null,null,null,null,null,null,null,null,null,{"$f":"IF(O947=\"130\",2014.4*AO947*'CO2 Conversion Factors'!$D$20/0.8/1000,2096.16*AO947*'CO2 Conversion Factors'!$D$20/0.8/1000)","v":0},{"$f":"IF(O947=\"130\",2014.4*AO947*'CO2 Conversion Factors'!$G$20/0.8/1000,2096.16*AO947*'CO2 Conversion Factors'!$G$20/0.8/1000)","v":0},{"$f":"IF(O947=\"130\",2014.4*AO947*'CO2 Conversion Factors'!$J$20/0.8/1000,2096.16*AO947*'CO2 Conversion Factors'!$J$20/0.8/1000)","v":0},0,0,null,null,null,0,0,0,0,"",false,false,false,false,null,"","SU119",""]
[null,null,null,null,null,null,null,null,null,null,null,null,null,null,null,null,null,null,null,null,null,null,null,null,null,null,null,null,null,null,null,null,null,null,null,null,null,{"$f":"IF(O948=\"130\",2014.4*AO948*'CO2 Conversion Factors'!$D$20/0.8/1000,2096.16*AO948*'CO2 Conversion Factors'!$D$20/0.8/1000)","v":0},{"$f":"IF(O948=\"130\",2014.4*AO948*'CO2 Conversion Factors'!$G$20/0.8/1000,2096.16*AO948*'CO2 Conversion Factors'!$G$20/0.8/1000)","v":0},{"$f":"IF(O948=\"130\",2014.4*AO948*'CO2 Conversion Factors'!$J$20/0.8/1000,2096.16*AO948*'CO2 Conversion Factors'!$J$20/0.8/1000)","v":0},0,0,null,null,null,0,0,0,0,"",false,false,false,false,null,"","SU114",""]
[null,null,null,null,null,null,null,null,null,null,null,null,null,null,null,null,null,null,null,null,null,null,null,null,null,null,null,null,null,null,null,null,null,null,null,null,null,{"$f":"IF(O949=\"130\",2014.4*AO949*'CO2 Conversion Factors'!$D$20/0.8/1000,2096.16*AO949*'CO2 Conversion Factors'!$D$20/0.8/1000)","v":0},{"$f":"IF(O949=\"130\",2014.4*AO949*'CO2 Conversion Factors'!$G$20/0.8/1000,2096.16*AO949*'CO2 Conversion Factors'!$G$20/0.8/1000)","v":0},{"$f":"IF(O949=\"130\",2014.4*AO949*'CO2 Conversion Factors'!$J$20/0.8/1000,2096.16*AO949*'CO2 Conversion Factors'!$J$20/0.8/1000)","v":0},0,0,null,null,null,0,0,0,0,"",false,false,false,false,null,"","",""]
[null,null,null,null,null,null,null,null,null,null,null,null,null,null,null,null,null,null,null,null,null,null,null,null,null,null,null,null,null,null,null,null,null,null,null,null,null,{"$f":"IF(O950=\"130\",2014.4*AO950*'CO2 Conversion Factors'!$D$20/0.8/1000,2096.16*AO950*'CO2 Conversion Factors'!$D$20/0.8/1000)","v":0},{"$f":"IF(O950=\"130\",2014.4*AO950*'CO2 Conversion Factors'!$G$20/0.8/1000,2096.16*AO950*'CO2 Conversion Factors'!$G$20/0.8/1000)","v":0},{"$f":"IF(O950=\"130\",2014.4*AO950*'CO2 Conversion Factors'!$J$20/0.8/1000,2096.16*AO950*'CO2 Conversion Factors'!$J$20/0.8/1000)","v":0},0,0,null,null,null,0,0,0,0,"",false,false,false,false,null,"","SU104",""]
[null,null,null,null,null,null,null,null,null,null,null,null,null,null,null,null,null,null,null,null,null,null,null,null,null,null,null,null,null,null,null,null,null,null,null,null,null,{"$f":"IF(O951=\"130\",2014.4*AO951*'CO2 Conversion Factors'!$D$20/0.8/1000,2096.16*AO951*'CO2 Conversion Factors'!$D$20/0.8/1000)","v":0},{"$f":"IF(O951=\"130\",2014.4*AO951*'CO2 Conversion Factors'!$G$20/0.8/1000,2096.16*AO951*'CO2 Conversion Factors'!$G$20/0.8/1000)","v":0},{"$f":"IF(O951=\"130\",2014.4*AO951*'CO2 Conversion Factors'!$J$20/0.8/1000,2096.16*AO951*'CO2 Conversion Factors'!$J$20/0.8/1000)","v":0},0,0,null,null,null,0,0,0,0,"",false,false,false,false,null,"","SU105",""]
[null,null,null,null,null,null,null,null,null,null,null,null,null,null,null,null,null,null,null,null,null,null,null,null,null,null,null,null,null,null,null,null,null,null,null,null,null,{"$f":"IF(O952=\"130\",2014.4*AO952*'CO2 Conversion Factors'!$D$20/0.8/1000,2096.16*AO952*'CO2 Conversion Factors'!$D$20/0.8/1000)","v":0},{"$f":"IF(O952=\"130\",2014.4*AO952*'CO2 Conversion Factors'!$G$20/0.8/1000,2096.16*AO952*'CO2 Conversion Factors'!$G$20/0.8/1000)","v":0},{"$f":"IF(O952=\"130\",2014.4*AO952*'CO2 Conversion Factors'!$J$20/0.8/1000,2096.16*AO952*'CO2 Conversion Factors'!$J$20/0.8/1000)","v":0},0,0,null,null,null,0,0,0,0,"",false,false,false,false,null,"","SU106",""]
[null,null,null,null,null,null,null,null,null,null,null,null,null,null,null,null,null,null,null,null,null,null,null,null,null,null,null,null,null,null,null,null,null,null,null,null,null,{"$f":"IF(O953=\"130\",2014.4*AO953*'CO2 Conversion Factors'!$D$20/0.8/1000,2096.16*AO953*'CO2 Conversion Factors'!$D$20/0.8/1000)","v":0},{"$f":"IF(O953=\"130\",2014.4*AO953*'CO2 Conversion Factors'!$G$20/0.8/1000,2096.16*AO953*'CO2 Conversion Factors'!$G$20/0.8/1000)","v":0},{"$f":"IF(O953=\"130\",2014.4*AO953*'CO2 Conversion Factors'!$J$20/0.8/1000,2096.16*AO953*'CO2 Conversion Factors'!$J$20/0.8/1000)","v":0},0,0,null,null,null,0,0,0,0,"",false,false,false,false,null,"","",""]
[null,null,null,null,null,null,null,null,null,null,null,null,null,null,null,null,null,null,null,null,null,null,null,null,null,null,null,null,null,null,null,null,null,null,null,null,null,{"$f":"IF(O954=\"130\",2014.4*AO954*'CO2 Conversion Factors'!$D$20/0.8/1000,2096.16*AO954*'CO2 Conversion Factors'!$D$20/0.8/1000)","v":0},{"$f":"IF(O954=\"130\",2014.4*AO954*'CO2 Conversion Factors'!$G$20/0.8/1000,2096.16*AO954*'CO2 Conversion Factors'!$G$20/0.8/1000)","v":0},{"$f":"IF(O954=\"130\",2014.4*AO954*'CO2 Conversion Factors'!$J$20/0.8/1000,2096.16*AO954*'CO2 Conversion Factors'!$J$20/0.8/1000)","v":0},0,0,null,null,null,0,0,0,0,"",false,false,false,false,null,"","SU431",""]
[null,null,null,null,null,null,null,null,null,null,null,null,null,null,null,null,null,null,null,null,null,null,null,null,null,null,null,null,null,null,null,null,null,null,null,null,null,{"$f":"IF(O955=\"130\",2014.4*AO955*'CO2 Conversion Factors'!$D$20/0.8/1000,2096.16*AO955*'CO2 Conversion Factors'!$D$20/0.8/1000)","v":0},{"$f":"IF(O955=\"130\",2014.4*AO955*'CO2 Conversion Factors'!$G$20/0.8/1000,2096.16*AO955*'CO2 Conversion Factors'!$G$20/0.8/1000)","v":0},{"$f":"IF(O955=\"130\",2014.4*AO955*'CO2 Conversion Factors'!$J$20/0.8/1000,2096.16*AO955*'CO2 Conversion Factors'!$J$20/0.8/1000)","v":0},0,0,null,null,null,0,0,0,0,"",false,false,false,false,null,"","SU101",""]
[null,null,null,null,null,null,null,null,null,null,null,null,null,null,null,null,null,null,null,null,null,null,null,null,null,null,null,null,null,null,null,null,null,null,null,null,null,{"$f":"IF(O956=\"130\",2014.4*AO956*'CO2 Conversion Factors'!$D$20/0.8/1000,2096.16*AO956*'CO2 Conversion Factors'!$D$20/0.8/1000)","v":0},{"$f":"IF(O956=\"130\",2014.4*AO956*'CO2 Conversion Factors'!$G$20/0.8/1000,2096.16*AO956*'CO2 Conversion Factors'!$G$20/0.8/1000)","v":0},{"$f":"IF(O956=\"130\",2014.4*AO956*'CO2 Conversion Factors'!$J$20/0.8/1000,2096.16*AO956*'CO2 Conversion Factors'!$J$20/0.8/1000)","v":0},0,0,null,null,null,0,0,0,0,"",false,false,false,false,null,"","SU100",""]
[null,null,null,null,null,null,null,null,null,null,null,null,null,null,null,null,null,null,null,null,null,null,null,null,null,null,null,null,null,null,null,null,null,null,null,null,null,{"$f":"IF(O957=\"130\",2014.4*AO957*'CO2 Conversion Factors'!$D$20/0.8/1000,2096.16*AO957*'CO2 Conversion Factors'!$D$20/0.8/1000)","v":0},{"$f":"IF(O957=\"130\",2014.4*AO957*'CO2 Conversion Factors'!$G$20/0.8/1000,2096.16*AO957*'CO2 Conversion Factors'!$G$20/0.8/1000)","v":0},{"$f":"IF(O957=\"130\",2014.4*AO957*'CO2 Conversion Factors'!$J$20/0.8/1000,2096.16*AO957*'CO2 Conversion Factors'!$J$20/0.8/1000)","v":0},0,0,null,null,null,0,0,0,0,"",false,false,false,false,null,"","",""]
[null,null,null,null,null,null,null,null,null,null,null,null,null,null,null,null,null,null,null,null,null,null,null,null,null,null,null,null,null,null,null,null,null,null,null,null,null,{"$f":"IF(O958=\"130\",2014.4*AO958*'CO2 Conversion Factors'!$D$20/0.8/1000,2096.16*AO958*'CO2 Conversion Factors'!$D$20/0.8/1000)","v":0},{"$f":"IF(O958=\"130\",2014.4*AO958*'CO2 Conversion Factors'!$G$20/0.8/1000,2096.16*AO958*'CO2 Conversion Factors'!$G$20/0.8/1000)","v":0},{"$f":"IF(O958=\"130\",2014.4*AO958*'CO2 Conversion Factors'!$J$20/0.8/1000,2096.16*AO958*'CO2 Conversion Factors'!$J$20/0.8/1000)","v":0},0,0,null,null,null,0,0,0,0,"",false,false,false,false,null,"","SU098",""]
[null,null,null,null,null,null,null,null,null,null,null,null,null,null,null,null,null,null,null,null,null,null,null,null,null,null,null,null,null,null,null,null,null,null,null,null,null,{"$f":"IF(O959=\"130\",2014.4*AO959*'CO2 Conversion Factors'!$D$20/0.8/1000,2096.16*AO959*'CO2 Conversion Factors'!$D$20/0.8/1000)","v":0},{"$f":"IF(O959=\"130\",2014.4*AO959*'CO2 Conversion Factors'!$G$20/0.8/1000,2096.16*AO959*'CO2 Conversion Factors'!$G$20/0.8/1000)","v":0},{"$f":"IF(O959=\"130\",2014.4*AO959*'CO2 Conversion Factors'!$J$20/0.8/1000,2096.16*AO959*'CO2 Conversion Factors'!$J$20/0.8/1000)","v":0},0,0,null,null,null,0,0,0,0,"",false,false,false,false,null,"","SU430",""]
[null,null,null,null,null,null,null,null,null,null,null,null,null,null,null,null,null,null,null,null,null,null,null,null,null,null,null,null,null,null,null,null,null,null,null,null,null,{"$f":"IF(O960=\"130\",2014.4*AO960*'CO2 Conversion Factors'!$D$20/0.8/1000,2096.16*AO960*'CO2 Conversion Factors'!$D$20/0.8/1000)","v":0},{"$f":"IF(O960=\"130\",2014.4*AO960*'CO2 Conversion Factors'!$G$20/0.8/1000,2096.16*AO960*'CO2 Conversion Factors'!$G$20/0.8/1000)","v":0},{"$f":"IF(O960=\"130\",2014.4*AO960*'CO2 Conversion Factors'!$J$20/0.8/1000,2096.16*AO960*'CO2 Conversion Factors'!$J$20/0.8/1000)","v":0},0,0,null,null,null,0,0,0,0,"",false,false,false,false,null,"","SU429",""]
[null,null,null,null,null,null,null,null,null,null,null,null,null,null,null,null,null,null,null,null,null,null,null,null,null,null,null,null,null,null,null,null,null,null,null,null,null,{"$f":"IF(O961=\"130\",2014.4*AO961*'CO2 Conversion Factors'!$D$20/0.8/1000,2096.16*AO961*'CO2 Conversion Factors'!$D$20/0.8/1000)","v":0},{"$f":"IF(O961=\"130\",2014.4*AO961*'CO2 Conversion Factors'!$G$20/0.8/1000,2096.16*AO961*'CO2 Conversion Factors'!$G$20/0.8/1000)","v":0},{"$f":"IF(O961=\"130\",2014.4*AO961*'CO2 Conversion Factors'!$J$20/0.8/1000,2096.16*AO961*'CO2 Conversion Factors'!$J$20/0.8/1000)","v":0},0,0,null,null,null,0,0,0,0,"",false,false,false,false,null,"","SU097",""]
[null,null,null,null,null,null,null,null,null,null,null,null,null,null,null,null,null,null,null,null,null,null,null,null,null,null,null,null,null,null,null,null,null,null,null,null,null,{"$f":"IF(O962=\"130\",2014.4*AO962*'CO2 Conversion Factors'!$D$20/0.8/1000,2096.16*AO962*'CO2 Conversion Factors'!$D$20/0.8/1000)","v":0},{"$f":"IF(O962=\"130\",2014.4*AO962*'CO2 Conversion Factors'!$G$20/0.8/1000,2096.16*AO962*'CO2 Conversion Factors'!$G$20/0.8/1000)","v":0},{"$f":"IF(O962=\"130\",2014.4*AO962*'CO2 Conversion Factors'!$J$20/0.8/1000,2096.16*AO962*'CO2 Conversion Factors'!$J$20/0.8/1000)","v":0},0,0,null,null,null,0,0,0,0,"",false,false,false,false,null,"","",""]
[null,null,null,null,null,null,null,null,null,null,null,null,null,null,null,null,null,null,null,null,null,null,null,null,null,null,null,null,null,null,null,null,null,null,null,null,null,{"$f":"IF(O963=\"130\",2014.4*AO963*'CO2 Conversion Factors'!$D$20/0.8/1000,2096.16*AO963*'CO2 Conversion Factors'!$D$20/0.8/1000)","v":0},{"$f":"IF(O963=\"130\",2014.4*AO963*'CO2 Conversion Factors'!$G$20/0.8/1000,2096.16*AO963*'CO2 Conversion Factors'!$G$20/0.8/1000)","v":0},{"$f":"IF(O963=\"130\",2014.4*AO963*'CO2 Conversion Factors'!$J$20/0.8/1000,2096.16*AO963*'CO2 Conversion Factors'!$J$20/0.8/1000)","v":0},{"$f":"IFERROR(IF(OR(L963=\"BLW\",L963=\"PRI\",L963=\"LNK\"),IF(Cover_Select_SteamCostUnits=\"£/1000kg\",11.6*(VLOOKUP($I963,Abb_Lookup_OrifaceDia,2,FALSE)^2)*SQRT(($O963-$P963)*($O963+$P963)),25.57363*(VLOOKUP($I963,Abb_Lookup_OrifaceDia,2,FALSE)^2)*SQRT(($O963-$P963)*($O963+$P963)))*(VLOOKUP(AE963,Cover_Lookup_OpTime,4,FALSE)/1000),IF(L963=\"LL\",IF(Cover_Select_SteamCostUnits=\"£/1000kg\",11.6*(VLOOKUP($I963,Abb_Lookup_OrifaceDia,2,FALSE)^2)*SQRT(($O963-$P963)*($O963+$P963)),25.57363*(VLOOKUP($I963,Abb_Lookup_OrifaceDia,2,FALSE)^2)*SQRT(($O963-$P963)*($O963+$P963)))*(VLOOKUP(AE963,Cover_Lookup_OpTime,4,FALSE)/2000),IF(L963=\"SL\",IF(Cover_Select_SteamCostUnits=\"£/1000kg\",11.6*(VLOOKUP($I963,Abb_Lookup_OrifaceDia,2,FALSE)^2)*SQRT(($O963-$P963)*($O963+$P963)),25.57363*(VLOOKUP($I963,Abb_Lookup_OrifaceDia,2,FALSE)^2)*SQRT(($O963-$P963)*($O963+$P963)))*(VLOOKUP(AE963,Cover_Lookup_OpTime,4,FALSE)/4000),0))),0)","v":0},0,null,null,null,0,0,0,0,"",false,false,false,false,null,"","SU095",""]
[null,null,null,null,null,null,null,null,null,null,null,null,null,null,null,null,null,null,null,null,null,null,null,null,null,null,null,null,null,null,null,null,null,null,null,null,null,{"$f":"IF(O964=\"130\",2014.4*AO964*'CO2 Conversion Factors'!$D$20/0.8/1000,2096.16*AO964*'CO2 Conversion Factors'!$D$20/0.8/1000)","v":0},{"$f":"IF(O964=\"130\",2014.4*AO964*'CO2 Conversion Factors'!$G$20/0.8/1000,2096.16*AO964*'CO2 Conversion Factors'!$G$20/0.8/1000)","v":0},{"$f":"IF(O964=\"130\",2014.4*AO964*'CO2 Conversion Factors'!$J$20/0.8/1000,2096.16*AO964*'CO2 Conversion Factors'!$J$20/0.8/1000)","v":0},0,0,null,null,null,0,0,0,0,"",false,false,false,false,null,"","SU094",""]
[null,null,null,null,null,null,null,null,null,null,null,null,null,null,null,null,null,null,null,null,null,null,null,null,null,null,null,null,null,null,null,null,null,null,null,null,null,{"$f":"IF(O965=\"130\",2014.4*AO965*'CO2 Conversion Factors'!$D$20/0.8/1000,2096.16*AO965*'CO2 Conversion Factors'!$D$20/0.8/1000)","v":0},{"$f":"IF(O965=\"130\",2014.4*AO965*'CO2 Conversion Factors'!$G$20/0.8/1000,2096.16*AO965*'CO2 Conversion Factors'!$G$20/0.8/1000)","v":0},{"$f":"IF(O965=\"130\",2014.4*AO965*'CO2 Conversion Factors'!$J$20/0.8/1000,2096.16*AO965*'CO2 Conversion Factors'!$J$20/0.8/1000)","v":0},0,{"$f":"IFERROR(AO965*Cover_Select_SteamCost,0)","v":0},null,null,null,{"$f":"IF(NOT(OR(L965=\"NIS\",L965=\"OFF\")),F965)","v":0},{"$f":"IF(NOT(OR(L965=\"NIS\",L965=\"OFF\",L965=\"PO\")),F965)","v":0},{"$f":"IF(NOT(OR(L965=\"NIS\",L965=\"OFF\")),H965)","v":0},{"$f":"IF(NOT(OR(L965=\"NIS\",L965=\"OFF\",L965=\"PO\")),H965)","v":0},"",{"$f":"IF(L965=\"CLD\", H965)","v":false},{"$f":"IF(L965=\"SL\", H965)","v":false},{"$f":"IF(L965=\"LL\", H965)","v":false},{"$f":"IF(L965=\"BLW\", H965)","v":false},null,"","SU092",""]
[null,null,null,null,null,null,null,null,null,null,null,null,null,null,null,null,null,null,null,null,null,null,null,null,null,null,null,null,null,null,null,null,null,null,null,null,null,{"$f":"IF(O966=\"130\",2014.4*AO966*'CO2 Conversion Factors'!$D$20/0.8/1000,2096.16*AO966*'CO2 Conversion Factors'!$D$20/0.8/1000)","v":0},{"$f":"IF(O966=\"130\",2014.4*AO966*'CO2 Conversion Factors'!$G$20/0.8/1000,2096.16*AO966*'CO2 Conversion Factors'!$G$20/0.8/1000)","v":0},{"$f":"IF(O966=\"130\",2014.4*AO966*'CO2 Conversion Factors'!$J$20/0.8/1000,2096.16*AO966*'CO2 Conversion Factors'!$J$20/0.8/1000)","v":0},0,0,null,null,null,0,0,0,0,{"$f":"F966&H966","v":""},false,false,false,false,null,"","SU091",""]
[null,null,null,null,null,null,null,null,null,null,null,null,null,null,null,null,null,null,null,null,null,null,null,null,null,null,null,null,null,null,null,null,null,null,null,null,null,{"$f":"IF(O967=\"130\",2014.4*AO967*'CO2 Conversion Factors'!$D$20/0.8/1000,2096.16*AO967*'CO2 Conversion Factors'!$D$20/0.8/1000)","v":0},{"$f":"IF(O967=\"130\",2014.4*AO967*'CO2 Conversion Factors'!$G$20/0.8/1000,2096.16*AO967*'CO2 Conversion Factors'!$G$20/0.8/1000)","v":0},{"$f":"IF(O967=\"130\",2014.4*AO967*'CO2 Conversion Factors'!$J$20/0.8/1000,2096.16*AO967*'CO2 Conversion Factors'!$J$20/0.8/1000)","v":0},0,0,null,null,null,0,0,0,0,"",false,false,false,false,null,"","SU090",""]
[null,null,null,null,null,null,null,null,null,null,null,null,null,null,null,null,null,null,null,null,null,null,null,null,null,null,null,null,null,null,null,null,null,null,null,null,null,{"$f":"IF(O968=\"130\",2014.4*AO968*'CO2 Conversion Factors'!$D$20/0.8/1000,2096.16*AO968*'CO2 Conversion Factors'!$D$20/0.8/1000)","v":0},{"$f":"IF(O968=\"130\",2014.4*AO968*'CO2 Conversion Factors'!$G$20/0.8/1000,2096.16*AO968*'CO2 Conversion Factors'!$G$20/0.8/1000)","v":0},{"$f":"IF(O968=\"130\",2014.4*AO968*'CO2 Conversion Factors'!$J$20/0.8/1000,2096.16*AO968*'CO2 Conversion Factors'!$J$20/0.8/1000)","v":0},0,0,null,null,null,0,0,0,0,"",false,false,false,false,null,"","",""]
[null,null,null,null,null,null,null,null,null,null,null,null,null,null,null,null,null,null,null,null,null,null,null,null,null,null,null,null,null,null,null,null,null,null,null,null,null,{"$f":"IF(O969=\"130\",2014.4*AO969*'CO2 Conversion Factors'!$D$20/0.8/1000,2096.16*AO969*'CO2 Conversion Factors'!$D$20/0.8/1000)","v":0},{"$f":"IF(O969=\"130\",2014.4*AO969*'CO2 Conversion Factors'!$G$20/0.8/1000,2096.16*AO969*'CO2 Conversion Factors'!$G$20/0.8/1000)","v":0},{"$f":"IF(O969=\"130\",2014.4*AO969*'CO2 Conversion Factors'!$J$20/0.8/1000,2096.16*AO969*'CO2 Conversion Factors'!$J$20/0.8/1000)","v":0},0,0,null,null,null,0,0,0,0,"",false,false,false,false,null,"","SU090",""]
[null,null,null,null,null,null,null,null,null,null,null,null,null,null,null,null,null,null,null,null,null,null,null,null,null,null,null,null,null,null,null,null,null,null,null,null,null,{"$f":"IF(O970=\"130\",2014.4*AO970*'CO2 Conversion Factors'!$D$20/0.8/1000,2096.16*AO970*'CO2 Conversion Factors'!$D$20/0.8/1000)","v":0},{"$f":"IF(O970=\"130\",2014.4*AO970*'CO2 Conversion Factors'!$G$20/0.8/1000,2096.16*AO970*'CO2 Conversion Factors'!$G$20/0.8/1000)","v":0},{"$f":"IF(O970=\"130\",2014.4*AO970*'CO2 Conversion Factors'!$J$20/0.8/1000,2096.16*AO970*'CO2 Conversion Factors'!$J$20/0.8/1000)","v":0},0,0,null,null,null,0,0,0,0,"",false,false,false,false,null,"","",""]
[null,null,null,null,null,null,null,null,null,null,null,null,null,null,null,null,null,null,null,null,null,null,null,null,null,null,null,null,null,null,null,null,null,null,null,null,null,{"$f":"IF(O971=\"130\",2014.4*AO971*'CO2 Conversion Factors'!$D$20/0.8/1000,2096.16*AO971*'CO2 Conversion Factors'!$D$20/0.8/1000)","v":0},{"$f":"IF(O971=\"130\",2014.4*AO971*'CO2 Conversion Factors'!$G$20/0.8/1000,2096.16*AO971*'CO2 Conversion Factors'!$G$20/0.8/1000)","v":0},{"$f":"IF(O971=\"130\",2014.4*AO971*'CO2 Conversion Factors'!$J$20/0.8/1000,2096.16*AO971*'CO2 Conversion Factors'!$J$20/0.8/1000)","v":0},0,0,null,null,null,0,0,0,0,"",false,false,false,false,null,"","SU088",""]
[null,null,null,null,null,null,null,null,null,null,null,null,null,null,null,null,null,null,null,null,null,null,null,null,null,null,null,null,null,null,null,null,null,null,null,null,null,{"$f":"IF(O972=\"130\",2014.4*AO972*'CO2 Conversion Factors'!$D$20/0.8/1000,2096.16*AO972*'CO2 Conversion Factors'!$D$20/0.8/1000)","v":0},{"$f":"IF(O972=\"130\",2014.4*AO972*'CO2 Conversion Factors'!$G$20/0.8/1000,2096.16*AO972*'CO2 Conversion Factors'!$G$20/0.8/1000)","v":0},{"$f":"IF(O972=\"130\",2014.4*AO972*'CO2 Conversion Factors'!$J$20/0.8/1000,2096.16*AO972*'CO2 Conversion Factors'!$J$20/0.8/1000)","v":0},0,0,null,null,null,0,0,0,0,"",false,false,false,false,null,"","",""]
[null,null,null,null,null,null,null,null,null,null,null,null,null,null,null,null,null,null,null,null,null,null,null,null,null,null,null,null,null,null,null,null,null,null,null,null,null,{"$f":"IF(O973=\"130\",2014.4*AO973*'CO2 Conversion Factors'!$D$20/0.8/1000,2096.16*AO973*'CO2 Conversion Factors'!$D$20/0.8/1000)","v":0},{"$f":"IF(O973=\"130\",2014.4*AO973*'CO2 Conversion Factors'!$G$20/0.8/1000,2096.16*AO973*'CO2 Conversion Factors'!$G$20/0.8/1000)","v":0},{"$f":"IF(O973=\"130\",2014.4*AO973*'CO2 Conversion Factors'!$J$20/0.8/1000,2096.16*AO973*'CO2 Conversion Factors'!$J$20/0.8/1000)","v":0},0,0,null,null,null,0,0,0,0,"",false,false,false,false,null,"","SU087",""]
[null,null,null,null,null,null,null,null,null,null,null,null,null,null,null,null,null,null,null,null,null,null,null,null,null,null,null,null,null,null,null,null,null,null,null,null,null,{"$f":"IF(O974=\"130\",2014.4*AO974*'CO2 Conversion Factors'!$D$20/0.8/1000,2096.16*AO974*'CO2 Conversion Factors'!$D$20/0.8/1000)","v":0},{"$f":"IF(O974=\"130\",2014.4*AO974*'CO2 Conversion Factors'!$G$20/0.8/1000,2096.16*AO974*'CO2 Conversion Factors'!$G$20/0.8/1000)","v":0},{"$f":"IF(O974=\"130\",2014.4*AO974*'CO2 Conversion Factors'!$J$20/0.8/1000,2096.16*AO974*'CO2 Conversion Factors'!$J$20/0.8/1000)","v":0},0,0,null,null,null,0,0,0,0,"",false,false,false,false,null,"","SU084",""]
[null,null,null,null,null,null,null,null,null,null,null,null,null,null,null,null,null,null,null,null,null,null,null,null,null,null,null,null,null,null,null,null,null,null,null,null,null,{"$f":"IF(O975=\"130\",2014.4*AO975*'CO2 Conversion Factors'!$D$20/0.8/1000,2096.16*AO975*'CO2 Conversion Factors'!$D$20/0.8/1000)","v":0},{"$f":"IF(O975=\"130\",2014.4*AO975*'CO2 Conversion Factors'!$G$20/0.8/1000,2096.16*AO975*'CO2 Conversion Factors'!$G$20/0.8/1000)","v":0},{"$f":"IF(O975=\"130\",2014.4*AO975*'CO2 Conversion Factors'!$J$20/0.8/1000,2096.16*AO975*'CO2 Conversion Factors'!$J$20/0.8/1000)","v":0},0,0,null,null,null,0,0,0,0,"",false,false,false,false,null,"","",""]
[null,null,null,null,null,null,null,null,null,null,null,null,null,null,null,null,null,null,null,null,null,null,null,null,null,null,null,null,null,null,null,null,null,null,null,null,null,{"$f":"IF(O976=\"130\",2014.4*AO976*'CO2 Conversion Factors'!$D$20/0.8/1000,2096.16*AO976*'CO2 Conversion Factors'!$D$20/0.8/1000)","v":0},{"$f":"IF(O976=\"130\",2014.4*AO976*'CO2 Conversion Factors'!$G$20/0.8/1000,2096.16*AO976*'CO2 Conversion Factors'!$G$20/0.8/1000)","v":0},{"$f":"IF(O976=\"130\",2014.4*AO976*'CO2 Conversion Factors'!$J$20/0.8/1000,2096.16*AO976*'CO2 Conversion Factors'!$J$20/0.8/1000)","v":0},0,0,null,null,null,0,0,0,0,"",false,false,false,false,null,"","",""]
[null,null,null,null,null,null,null,null,null,null,null,null,null,null,null,null,null,null,null,null,null,null,null,null,null,null,null,null,null,null,null,null,null,null,null,null,null,{"$f":"IF(O977=\"130\",2014.4*AO977*'CO2 Conversion Factors'!$D$20/0.8/1000,2096.16*AO977*'CO2 Conversion Factors'!$D$20/0.8/1000)","v":0},{"$f":"IF(O977=\"130\",2014.4*AO977*'CO2 Conversion Factors'!$G$20/0.8/1000,2096.16*AO977*'CO2 Conversion Factors'!$G$20/0.8/1000)","v":0},{"$f":"IF(O977=\"130\",2014.4*AO977*'CO2 Conversion Factors'!$J$20/0.8/1000,2096.16*AO977*'CO2 Conversion Factors'!$J$20/0.8/1000)","v":0},0,0,null,null,null,0,0,0,0,"",false,false,false,false,null,"","SU068",""]
[null,null,null,null,null,null,null,null,null,null,null,null,null,null,null,null,null,null,null,null,null,null,null,null,null,null,null,null,null,null,null,null,null,null,null,null,null,{"$f":"IF(O978=\"130\",2014.4*AO978*'CO2 Conversion Factors'!$D$20/0.8/1000,2096.16*AO978*'CO2 Conversion Factors'!$D$20/0.8/1000)","v":0},{"$f":"IF(O978=\"130\",2014.4*AO978*'CO2 Conversion Factors'!$G$20/0.8/1000,2096.16*AO978*'CO2 Conversion Factors'!$G$20/0.8/1000)","v":0},{"$f":"IF(O978=\"130\",2014.4*AO978*'CO2 Conversion Factors'!$J$20/0.8/1000,2096.16*AO978*'CO2 Conversion Factors'!$J$20/0.8/1000)","v":0},0,0,null,null,null,0,0,0,0,"",false,false,false,false,null,"","SU068",""]
[null,null,null,null,null,null,null,null,null,null,null,null,null,null,null,null,null,null,null,null,null,null,null,null,null,null,null,null,null,null,null,null,null,null,null,null,null,{"$f":"IF(O979=\"130\",2014.4*AO979*'CO2 Conversion Factors'!$D$20/0.8/1000,2096.16*AO979*'CO2 Conversion Factors'!$D$20/0.8/1000)","v":0},{"$f":"IF(O979=\"130\",2014.4*AO979*'CO2 Conversion Factors'!$G$20/0.8/1000,2096.16*AO979*'CO2 Conversion Factors'!$G$20/0.8/1000)","v":0},{"$f":"IF(O979=\"130\",2014.4*AO979*'CO2 Conversion Factors'!$J$20/0.8/1000,2096.16*AO979*'CO2 Conversion Factors'!$J$20/0.8/1000)","v":0},0,0,null,null,null,0,0,0,0,"",false,false,false,false,null,"","",""]
[null,null,null,null,null,null,null,null,null,null,null,null,null,null,null,null,null,null,null,null,null,null,null,null,null,null,null,null,null,null,null,null,null,null,null,null,null,{"$f":"IF(O980=\"130\",2014.4*AO980*'CO2 Conversion Factors'!$D$20/0.8/1000,2096.16*AO980*'CO2 Conversion Factors'!$D$20/0.8/1000)","v":0},{"$f":"IF(O980=\"130\",2014.4*AO980*'CO2 Conversion Factors'!$G$20/0.8/1000,2096.16*AO980*'CO2 Conversion Factors'!$G$20/0.8/1000)","v":0},{"$f":"IF(O980=\"130\",2014.4*AO980*'CO2 Conversion Factors'!$J$20/0.8/1000,2096.16*AO980*'CO2 Conversion Factors'!$J$20/0.8/1000)","v":0},0,0,null,null,null,0,0,0,0,"",false,false,false,false,null,"","",""]
[null,null,null,null,null,null,null,null,null,null,null,null,null,null,null,null,null,null,null,null,null,null,null,null,null,null,null,null,null,null,null,null,null,null,null,null,null,{"$f":"IF(O981=\"130\",2014.4*AO981*'CO2 Conversion Factors'!$D$20/0.8/1000,2096.16*AO981*'CO2 Conversion Factors'!$D$20/0.8/1000)","v":0},{"$f":"IF(O981=\"130\",2014.4*AO981*'CO2 Conversion Factors'!$G$20/0.8/1000,2096.16*AO981*'CO2 Conversion Factors'!$G$20/0.8/1000)","v":0},{"$f":"IF(O981=\"130\",2014.4*AO981*'CO2 Conversion Factors'!$J$20/0.8/1000,2096.16*AO981*'CO2 Conversion Factors'!$J$20/0.8/1000)","v":0},0,0,null,null,null,0,0,0,0,"",false,false,false,false,null,"","",""]
[null,null,null,null,null,null,null,null,null,null,null,null,null,null,null,null,null,null,null,null,null,null,null,null,null,null,null,null,null,null,null,null,null,null,null,null,null,{"$f":"IF(O982=\"130\",2014.4*AO982*'CO2 Conversion Factors'!$D$20/0.8/1000,2096.16*AO982*'CO2 Conversion Factors'!$D$20/0.8/1000)","v":0},{"$f":"IF(O982=\"130\",2014.4*AO982*'CO2 Conversion Factors'!$G$20/0.8/1000,2096.16*AO982*'CO2 Conversion Factors'!$G$20/0.8/1000)","v":0},{"$f":"IF(O982=\"130\",2014.4*AO982*'CO2 Conversion Factors'!$J$20/0.8/1000,2096.16*AO982*'CO2 Conversion Factors'!$J$20/0.8/1000)","v":0},0,0,null,null,null,0,0,0,0,"",false,false,false,false,null,"","",""]
[null,null,null,null,null,null,null,null,null,null,null,null,null,null,null,null,null,null,null,null,null,null,null,null,null,null,null,null,null,null,null,null,null,null,null,null,null,{"$f":"IF(O983=\"130\",2014.4*AO983*'CO2 Conversion Factors'!$D$20/0.8/1000,2096.16*AO983*'CO2 Conversion Factors'!$D$20/0.8/1000)","v":0},{"$f":"IF(O983=\"130\",2014.4*AO983*'CO2 Conversion Factors'!$G$20/0.8/1000,2096.16*AO983*'CO2 Conversion Factors'!$G$20/0.8/1000)","v":0},{"$f":"IF(O983=\"130\",2014.4*AO983*'CO2 Conversion Factors'!$J$20/0.8/1000,2096.16*AO983*'CO2 Conversion Factors'!$J$20/0.8/1000)","v":0},0,0,null,null,null,0,0,0,0,"",false,false,false,false,null,"","",""]
[null,null,null,null,null,null,null,null,null,null,null,null,null,null,null,null,null,null,null,null,null,null,null,null,null,null,null,null,null,null,null,null,null,null,null,null,null,{"$f":"IF(O984=\"130\",2014.4*AO984*'CO2 Conversion Factors'!$D$20/0.8/1000,2096.16*AO984*'CO2 Conversion Factors'!$D$20/0.8/1000)","v":0},{"$f":"IF(O984=\"130\",2014.4*AO984*'CO2 Conversion Factors'!$G$20/0.8/1000,2096.16*AO984*'CO2 Conversion Factors'!$G$20/0.8/1000)","v":0},{"$f":"IF(O984=\"130\",2014.4*AO984*'CO2 Conversion Factors'!$J$20/0.8/1000,2096.16*AO984*'CO2 Conversion Factors'!$J$20/0.8/1000)","v":0},0,0,null,null,null,0,0,0,0,"",false,false,false,false,null,"","",""]
[null,null,null,null,null,null,null,null,null,null,null,null,null,null,null,null,null,null,null,null,null,null,null,null,null,null,null,null,null,null,null,null,null,null,null,null,null,{"$f":"IF(O985=\"130\",2014.4*AO985*'CO2 Conversion Factors'!$D$20/0.8/1000,2096.16*AO985*'CO2 Conversion Factors'!$D$20/0.8/1000)","v":0},{"$f":"IF(O985=\"130\",2014.4*AO985*'CO2 Conversion Factors'!$G$20/0.8/1000,2096.16*AO985*'CO2 Conversion Factors'!$G$20/0.8/1000)","v":0},{"$f":"IF(O985=\"130\",2014.4*AO985*'CO2 Conversion Factors'!$J$20/0.8/1000,2096.16*AO985*'CO2 Conversion Factors'!$J$20/0.8/1000)","v":0},0,0,null,null,null,0,0,0,0,"",false,false,false,false,null,"","",""]
[null,null,null,null,null,null,null,null,null,null,null,null,null,null,null,null,null,null,null,null,null,null,null,null,null,null,null,null,null,null,null,null,null,null,null,null,null,{"$f":"IF(O986=\"130\",2014.4*AO986*'CO2 Conversion Factors'!$D$20/0.8/1000,2096.16*AO986*'CO2 Conversion Factors'!$D$20/0.8/1000)","v":0},{"$f":"IF(O986=\"130\",2014.4*AO986*'CO2 Conversion Factors'!$G$20/0.8/1000,2096.16*AO986*'CO2 Conversion Factors'!$G$20/0.8/1000)","v":0},{"$f":"IF(O986=\"130\",2014.4*AO986*'CO2 Conversion Factors'!$J$20/0.8/1000,2096.16*AO986*'CO2 Conversion Factors'!$J$20/0.8/1000)","v":0},0,0,null,null,null,0,0,0,0,"",false,false,false,false,null,"","SU078",""]
[null,null,null,null,null,null,null,null,null,null,null,null,null,null,null,null,null,null,null,null,null,null,null,null,null,null,null,null,null,null,null,null,null,null,null,null,null,{"$f":"IF(O987=\"130\",2014.4*AO987*'CO2 Conversion Factors'!$D$20/0.8/1000,2096.16*AO987*'CO2 Conversion Factors'!$D$20/0.8/1000)","v":0},{"$f":"IF(O987=\"130\",2014.4*AO987*'CO2 Conversion Factors'!$G$20/0.8/1000,2096.16*AO987*'CO2 Conversion Factors'!$G$20/0.8/1000)","v":0},{"$f":"IF(O987=\"130\",2014.4*AO987*'CO2 Conversion Factors'!$J$20/0.8/1000,2096.16*AO987*'CO2 Conversion Factors'!$J$20/0.8/1000)","v":0},0,0,null,null,null,0,0,0,0,"",false,false,false,false,null,"","",""]
[null,null,null,null,null,null,null,null,null,null,null,null,null,null,null,null,null,null,null,null,null,null,null,null,null,null,null,null,null,null,null,null,null,null,null,null,null,{"$f":"IF(O988=\"130\",2014.4*AO988*'CO2 Conversion Factors'!$D$20/0.8/1000,2096.16*AO988*'CO2 Conversion Factors'!$D$20/0.8/1000)","v":0},{"$f":"IF(O988=\"130\",2014.4*AO988*'CO2 Conversion Factors'!$G$20/0.8/1000,2096.16*AO988*'CO2 Conversion Factors'!$G$20/0.8/1000)","v":0},{"$f":"IF(O988=\"130\",2014.4*AO988*'CO2 Conversion Factors'!$J$20/0.8/1000,2096.16*AO988*'CO2 Conversion Factors'!$J$20/0.8/1000)","v":0},0,0,null,null,null,0,0,0,0,"",false,false,false,false,null,"","",""]
[null,null,null,null,null,null,null,null,null,null,null,null,null,null,null,null,null,null,null,null,null,null,null,null,null,null,null,null,null,null,null,null,null,null,null,null,null,{"$f":"IF(O989=\"130\",2014.4*AO989*'CO2 Conversion Factors'!$D$20/0.8/1000,2096.16*AO989*'CO2 Conversion Factors'!$D$20/0.8/1000)","v":0},{"$f":"IF(O989=\"130\",2014.4*AO989*'CO2 Conversion Factors'!$G$20/0.8/1000,2096.16*AO989*'CO2 Conversion Factors'!$G$20/0.8/1000)","v":0},{"$f":"IF(O989=\"130\",2014.4*AO989*'CO2 Conversion Factors'!$J$20/0.8/1000,2096.16*AO989*'CO2 Conversion Factors'!$J$20/0.8/1000)","v":0},0,0,null,null,null,0,0,0,0,"",false,false,false,false,null,"","",""]
[null,null,null,null,null,null,null,null,null,null,null,null,null,null,null,null,null,null,null,null,null,null,null,null,null,null,null,null,null,null,null,null,null,null,null,null,null,{"$f":"IF(O990=\"130\",2014.4*AO990*'CO2 Conversion Factors'!$D$20/0.8/1000,2096.16*AO990*'CO2 Conversion Factors'!$D$20/0.8/1000)","v":0},{"$f":"IF(O990=\"130\",2014.4*AO990*'CO2 Conversion Factors'!$G$20/0.8/1000,2096.16*AO990*'CO2 Conversion Factors'!$G$20/0.8/1000)","v":0},{"$f":"IF(O990=\"130\",2014.4*AO990*'CO2 Conversion Factors'!$J$20/0.8/1000,2096.16*AO990*'CO2 Conversion Factors'!$J$20/0.8/1000)","v":0},0,0,null,null,null,0,0,0,0,"",false,false,false,false,null,"","",""]
[null,null,null,null,null,null,null,null,null,null,null,null,null,null,null,null,null,null,null,null,null,null,null,null,null,null,null,null,null,null,null,null,null,null,null,null,null,{"$f":"IF(O991=\"130\",2014.4*AO991*'CO2 Conversion Factors'!$D$20/0.8/1000,2096.16*AO991*'CO2 Conversion Factors'!$D$20/0.8/1000)","v":0},{"$f":"IF(O991=\"130\",2014.4*AO991*'CO2 Conversion Factors'!$G$20/0.8/1000,2096.16*AO991*'CO2 Conversion Factors'!$G$20/0.8/1000)","v":0},{"$f":"IF(O991=\"130\",2014.4*AO991*'CO2 Conversion Factors'!$J$20/0.8/1000,2096.16*AO991*'CO2 Conversion Factors'!$J$20/0.8/1000)","v":0},0,0,null,null,null,0,0,0,0,"",false,false,false,false,null,"","SU073",""]
[null,null,null,null,null,null,null,null,null,null,null,null,null,null,null,null,null,null,null,null,null,null,null,null,null,null,null,null,null,null,null,null,null,null,null,null,null,{"$f":"IF(O992=\"130\",2014.4*AO992*'CO2 Conversion Factors'!$D$20/0.8/1000,2096.16*AO992*'CO2 Conversion Factors'!$D$20/0.8/1000)","v":0},{"$f":"IF(O992=\"130\",2014.4*AO992*'CO2 Conversion Factors'!$G$20/0.8/1000,2096.16*AO992*'CO2 Conversion Factors'!$G$20/0.8/1000)","v":0},{"$f":"IF(O992=\"130\",2014.4*AO992*'CO2 Conversion Factors'!$J$20/0.8/1000,2096.16*AO992*'CO2 Conversion Factors'!$J$20/0.8/1000)","v":0},0,0,null,null,null,0,0,0,0,"",false,false,false,false,null,"","SU069",""]
[null,null,null,null,null,null,null,null,null,null,null,null,null,null,null,null,null,null,null,null,null,null,null,null,null,null,null,null,null,null,null,null,null,null,null,null,null,{"$f":"IF(O993=\"130\",2014.4*AO993*'CO2 Conversion Factors'!$D$20/0.8/1000,2096.16*AO993*'CO2 Conversion Factors'!$D$20/0.8/1000)","v":0},{"$f":"IF(O993=\"130\",2014.4*AO993*'CO2 Conversion Factors'!$G$20/0.8/1000,2096.16*AO993*'CO2 Conversion Factors'!$G$20/0.8/1000)","v":0},{"$f":"IF(O993=\"130\",2014.4*AO993*'CO2 Conversion Factors'!$J$20/0.8/1000,2096.16*AO993*'CO2 Conversion Factors'!$J$20/0.8/1000)","v":0},0,0,null,null,null,0,0,0,0,"",false,false,false,false,null,"","SU066",""]
[null,null,null,null,null,null,null,null,null,null,null,null,null,null,null,null,null,null,null,null,null,null,null,null,null,null,null,null,null,null,null,null,null,null,null,null,null,{"$f":"IF(O994=\"130\",2014.4*AO994*'CO2 Conversion Factors'!$D$20/0.8/1000,2096.16*AO994*'CO2 Conversion Factors'!$D$20/0.8/1000)","v":0},{"$f":"IF(O994=\"130\",2014.4*AO994*'CO2 Conversion Factors'!$G$20/0.8/1000,2096.16*AO994*'CO2 Conversion Factors'!$G$20/0.8/1000)","v":0},{"$f":"IF(O994=\"130\",2014.4*AO994*'CO2 Conversion Factors'!$J$20/0.8/1000,2096.16*AO994*'CO2 Conversion Factors'!$J$20/0.8/1000)","v":0},0,0,null,null,null,0,0,0,0,"",false,false,false,false,null,"","SU059",""]
[null,null,null,null,null,null,null,null,null,null,null,null,null,null,null,null,null,null,null,null,null,null,null,null,null,null,null,null,null,null,null,null,null,null,null,null,null,{"$f":"IF(O995=\"130\",2014.4*AO995*'CO2 Conversion Factors'!$D$20/0.8/1000,2096.16*AO995*'CO2 Conversion Factors'!$D$20/0.8/1000)","v":0},{"$f":"IF(O995=\"130\",2014.4*AO995*'CO2 Conversion Factors'!$G$20/0.8/1000,2096.16*AO995*'CO2 Conversion Factors'!$G$20/0.8/1000)","v":0},{"$f":"IF(O995=\"130\",2014.4*AO995*'CO2 Conversion Factors'!$J$20/0.8/1000,2096.16*AO995*'CO2 Conversion Factors'!$J$20/0.8/1000)","v":0},0,0,null,null,null,0,0,0,0,"",false,false,false,false,null,"","SU057",""]
[null,null,null,null,null,null,null,null,null,null,null,null,null,null,null,null,null,null,null,null,null,null,null,null,null,null,null,null,null,null,null,null,null,null,null,null,null,{"$f":"IF(O996=\"130\",2014.4*AO996*'CO2 Conversion Factors'!$D$20/0.8/1000,2096.16*AO996*'CO2 Conversion Factors'!$D$20/0.8/1000)","v":0},{"$f":"IF(O996=\"130\",2014.4*AO996*'CO2 Conversion Factors'!$G$20/0.8/1000,2096.16*AO996*'CO2 Conversion Factors'!$G$20/0.8/1000)","v":0},{"$f":"IF(O996=\"130\",2014.4*AO996*'CO2 Conversion Factors'!$J$20/0.8/1000,2096.16*AO996*'CO2 Conversion Factors'!$J$20/0.8/1000)","v":0},0,0,null,null,null,0,0,0,0,"",false,false,false,false,null,"","",""]
[null,null,null,null,null,null,null,null,null,null,null,null,null,null,null,null,null,null,null,null,null,null,null,null,null,null,null,null,null,null,null,null,null,null,null,null,null,{"$f":"IF(O997=\"130\",2014.4*AO997*'CO2 Conversion Factors'!$D$20/0.8/1000,2096.16*AO997*'CO2 Conversion Factors'!$D$20/0.8/1000)","v":0},{"$f":"IF(O997=\"130\",2014.4*AO997*'CO2 Conversion Factors'!$G$20/0.8/1000,2096.16*AO997*'CO2 Conversion Factors'!$G$20/0.8/1000)","v":0},{"$f":"IF(O997=\"130\",2014.4*AO997*'CO2 Conversion Factors'!$J$20/0.8/1000,2096.16*AO997*'CO2 Conversion Factors'!$J$20/0.8/1000)","v":0},0,0,null,null,null,0,0,0,0,"",false,false,false,false,null,"","SU056",""]
[null,null,null,null,null,null,null,null,null,null,null,null,null,null,null,null,null,null,null,null,null,null,null,null,null,null,null,null,null,null,null,null,null,null,null,null,null,{"$f":"IF(O998=\"130\",2014.4*AO998*'CO2 Conversion Factors'!$D$20/0.8/1000,2096.16*AO998*'CO2 Conversion Factors'!$D$20/0.8/1000)","v":0},{"$f":"IF(O998=\"130\",2014.4*AO998*'CO2 Conversion Factors'!$G$20/0.8/1000,2096.16*AO998*'CO2 Conversion Factors'!$G$20/0.8/1000)","v":0},{"$f":"IF(O998=\"130\",2014.4*AO998*'CO2 Conversion Factors'!$J$20/0.8/1000,2096.16*AO998*'CO2 Conversion Factors'!$J$20/0.8/1000)","v":0},0,0,null,null,null,0,0,0,0,"",false,false,false,false,null,"","",""]
[null,null,null,null,null,null,null,null,null,null,null,null,null,null,null,null,null,null,null,null,null,null,null,null,null,null,null,null,null,null,null,null,null,null,null,null,null,{"$f":"IF(O999=\"130\",2014.4*AO999*'CO2 Conversion Factors'!$D$20/0.8/1000,2096.16*AO999*'CO2 Conversion Factors'!$D$20/0.8/1000)","v":0},{"$f":"IF(O999=\"130\",2014.4*AO999*'CO2 Conversion Factors'!$G$20/0.8/1000,2096.16*AO999*'CO2 Conversion Factors'!$G$20/0.8/1000)","v":0},{"$f":"IF(O999=\"130\",2014.4*AO999*'CO2 Conversion Factors'!$J$20/0.8/1000,2096.16*AO999*'CO2 Conversion Factors'!$J$20/0.8/1000)","v":0},0,0,null,null,null,0,0,0,0,"",false,false,false,false,null,"","",""]
[null,null,null,null,null,null,null,null,null,null,null,null,null,null,null,null,null,null,null,null,null,null,null,null,null,null,null,null,null,null,null,null,null,null,null,null,null,{"$f":"IF(O1000=\"130\",2014.4*AO1000*'CO2 Conversion Factors'!$D$20/0.8/1000,2096.16*AO1000*'CO2 Conversion Factors'!$D$20/0.8/1000)","v":0},{"$f":"IF(O1000=\"130\",2014.4*AO1000*'CO2 Conversion Factors'!$G$20/0.8/1000,2096.16*AO1000*'CO2 Conversion Factors'!$G$20/0.8/1000)","v":0},{"$f":"IF(O1000=\"130\",2014.4*AO1000*'CO2 Conversion Factors'!$J$20/0.8/1000,2096.16*AO1000*'CO2 Conversion Factors'!$J$20/0.8/1000)","v":0},0,0,null,null,null,0,0,0,0,"",false,false,false,false,null,"","",""]
[null,null,null,null,null,null,null,null,null,null,null,null,null,null,null,null,null,null,null,null,null,null,null,null,null,null,null,null,null,null,null,null,null,null,null,null,null,{"$f":"IF(O1001=\"130\",2014.4*AO1001*'CO2 Conversion Factors'!$D$20/0.8/1000,2096.16*AO1001*'CO2 Conversion Factors'!$D$20/0.8/1000)","v":0},{"$f":"IF(O1001=\"130\",2014.4*AO1001*'CO2 Conversion Factors'!$G$20/0.8/1000,2096.16*AO1001*'CO2 Conversion Factors'!$G$20/0.8/1000)","v":0},{"$f":"IF(O1001=\"130\",2014.4*AO1001*'CO2 Conversion Factors'!$J$20/0.8/1000,2096.16*AO1001*'CO2 Conversion Factors'!$J$20/0.8/1000)","v":0},0,0,null,null,null,0,0,0,0,"",false,false,false,false,null,"","",""]
[null,null,null,null,null,null,null,null,null,null,null,null,null,null,null,null,null,null,null,null,null,null,null,null,null,null,null,null,null,null,null,null,null,null,null,null,null,{"$f":"IF(O1002=\"130\",2014.4*AO1002*'CO2 Conversion Factors'!$D$20/0.8/1000,2096.16*AO1002*'CO2 Conversion Factors'!$D$20/0.8/1000)","v":0},{"$f":"IF(O1002=\"130\",2014.4*AO1002*'CO2 Conversion Factors'!$G$20/0.8/1000,2096.16*AO1002*'CO2 Conversion Factors'!$G$20/0.8/1000)","v":0},{"$f":"IF(O1002=\"130\",2014.4*AO1002*'CO2 Conversion Factors'!$J$20/0.8/1000,2096.16*AO1002*'CO2 Conversion Factors'!$J$20/0.8/1000)","v":0},0,0,null,null,null,0,0,0,0,"",false,false,false,false,null,"","",""]
[null,null,null,null,null,null,null,null,null,null,null,null,null,null,null,null,null,null,null,null,null,null,null,null,null,null,null,null,null,null,null,null,null,null,null,null,null,{"$f":"IF(O1003=\"130\",2014.4*AO1003*'CO2 Conversion Factors'!$D$20/0.8/1000,2096.16*AO1003*'CO2 Conversion Factors'!$D$20/0.8/1000)","v":0},{"$f":"IF(O1003=\"130\",2014.4*AO1003*'CO2 Conversion Factors'!$G$20/0.8/1000,2096.16*AO1003*'CO2 Conversion Factors'!$G$20/0.8/1000)","v":0},{"$f":"IF(O1003=\"130\",2014.4*AO1003*'CO2 Conversion Factors'!$J$20/0.8/1000,2096.16*AO1003*'CO2 Conversion Factors'!$J$20/0.8/1000)","v":0},0,0,null,null,null,0,0,0,0,"",false,false,false,false,null,"","",""]
[null,null,null,null,null,null,null,null,null,null,null,null,null,null,null,null,null,null,null,null,null,null,null,null,null,null,null,null,null,null,null,null,null,null,null,null,null,{"$f":"IF(O1004=\"130\",2014.4*AO1004*'CO2 Conversion Factors'!$D$20/0.8/1000,2096.16*AO1004*'CO2 Conversion Factors'!$D$20/0.8/1000)","v":0},{"$f":"IF(O1004=\"130\",2014.4*AO1004*'CO2 Conversion Factors'!$G$20/0.8/1000,2096.16*AO1004*'CO2 Conversion Factors'!$G$20/0.8/1000)","v":0},{"$f":"IF(O1004=\"130\",2014.4*AO1004*'CO2 Conversion Factors'!$J$20/0.8/1000,2096.16*AO1004*'CO2 Conversion Factors'!$J$20/0.8/1000)","v":0},0,0,null,null,null,0,0,0,0,"",false,false,false,false,null,"","",""]
[null,null,null,null,null,null,null,null,null,null,null,null,null,null,null,null,null,null,null,null,null,null,null,null,null,null,null,null,null,null,null,null,null,null,null,null,null,{"$f":"IF(O1005=\"130\",2014.4*AO1005*'CO2 Conversion Factors'!$D$20/0.8/1000,2096.16*AO1005*'CO2 Conversion Factors'!$D$20/0.8/1000)","v":0},{"$f":"IF(O1005=\"130\",2014.4*AO1005*'CO2 Conversion Factors'!$G$20/0.8/1000,2096.16*AO1005*'CO2 Conversion Factors'!$G$20/0.8/1000)","v":0},{"$f":"IF(O1005=\"130\",2014.4*AO1005*'CO2 Conversion Factors'!$J$20/0.8/1000,2096.16*AO1005*'CO2 Conversion Factors'!$J$20/0.8/1000)","v":0},0,0,null,null,null,0,0,0,0,"",false,false,false,false,null,"","",""]
[null,null,null,null,null,null,null,null,null,null,null,null,null,null,null,null,null,null,null,null,null,null,null,null,null,null,null,null,null,null,null,null,null,null,null,null,null,{"$f":"IF(O1006=\"130\",2014.4*AO1006*'CO2 Conversion Factors'!$D$20/0.8/1000,2096.16*AO1006*'CO2 Conversion Factors'!$D$20/0.8/1000)","v":0},{"$f":"IF(O1006=\"130\",2014.4*AO1006*'CO2 Conversion Factors'!$G$20/0.8/1000,2096.16*AO1006*'CO2 Conversion Factors'!$G$20/0.8/1000)","v":0},{"$f":"IF(O1006=\"130\",2014.4*AO1006*'CO2 Conversion Factors'!$J$20/0.8/1000,2096.16*AO1006*'CO2 Conversion Factors'!$J$20/0.8/1000)","v":0},0,0,null,null,null,0,0,0,0,"",false,false,false,false,null,"","",""]
[null,null,null,null,null,null,null,null,null,null,null,null,null,null,null,null,null,null,null,null,null,null,null,null,null,null,null,null,null,null,null,null,null,null,null,null,null,{"$f":"IF(O1007=\"130\",2014.4*AO1007*'CO2 Conversion Factors'!$D$20/0.8/1000,2096.16*AO1007*'CO2 Conversion Factors'!$D$20/0.8/1000)","v":0},{"$f":"IF(O1007=\"130\",2014.4*AO1007*'CO2 Conversion Factors'!$G$20/0.8/1000,2096.16*AO1007*'CO2 Conversion Factors'!$G$20/0.8/1000)","v":0},{"$f":"IF(O1007=\"130\",2014.4*AO1007*'CO2 Conversion Factors'!$J$20/0.8/1000,2096.16*AO1007*'CO2 Conversion Factors'!$J$20/0.8/1000)","v":0},0,0,null,null,null,0,0,0,0,"",false,false,false,false,null,"","",""]
[null,null,null,null,null,null,null,null,null,null,null,null,null,null,null,null,null,null,null,null,null,null,null,null,null,null,null,null,null,null,null,null,null,null,null,null,null,{"$f":"IF(O1008=\"130\",2014.4*AO1008*'CO2 Conversion Factors'!$D$20/0.8/1000,2096.16*AO1008*'CO2 Conversion Factors'!$D$20/0.8/1000)","v":0},{"$f":"IF(O1008=\"130\",2014.4*AO1008*'CO2 Conversion Factors'!$G$20/0.8/1000,2096.16*AO1008*'CO2 Conversion Factors'!$G$20/0.8/1000)","v":0},{"$f":"IF(O1008=\"130\",2014.4*AO1008*'CO2 Conversion Factors'!$J$20/0.8/1000,2096.16*AO1008*'CO2 Conversion Factors'!$J$20/0.8/1000)","v":0},0,0,null,null,null,0,0,0,0,"",false,false,false,false,null,"","",""]
[null,null,null,null,null,null,null,null,null,null,null,null,null,null,null,null,null,null,null,null,null,null,null,null,null,null,null,null,null,null,null,null,null,null,null,null,null,{"$f":"IF(O1009=\"130\",2014.4*AO1009*'CO2 Conversion Factors'!$D$20/0.8/1000,2096.16*AO1009*'CO2 Conversion Factors'!$D$20/0.8/1000)","v":0},{"$f":"IF(O1009=\"130\",2014.4*AO1009*'CO2 Conversion Factors'!$G$20/0.8/1000,2096.16*AO1009*'CO2 Conversion Factors'!$G$20/0.8/1000)","v":0},{"$f":"IF(O1009=\"130\",2014.4*AO1009*'CO2 Conversion Factors'!$J$20/0.8/1000,2096.16*AO1009*'CO2 Conversion Factors'!$J$20/0.8/1000)","v":0},0,0,null,null,null,0,0,0,0,"",false,false,false,false,null,"","",""]
[null,null,null,null,null,null,null,null,null,null,null,null,null,null,null,null,null,null,null,null,null,null,null,null,null,null,null,null,null,null,null,null,null,null,null,null,null,{"$f":"IF(O1010=\"130\",2014.4*AO1010*'CO2 Conversion Factors'!$D$20/0.8/1000,2096.16*AO1010*'CO2 Conversion Factors'!$D$20/0.8/1000)","v":0},{"$f":"IF(O1010=\"130\",2014.4*AO1010*'CO2 Conversion Factors'!$G$20/0.8/1000,2096.16*AO1010*'CO2 Conversion Factors'!$G$20/0.8/1000)","v":0},{"$f":"IF(O1010=\"130\",2014.4*AO1010*'CO2 Conversion Factors'!$J$20/0.8/1000,2096.16*AO1010*'CO2 Conversion Factors'!$J$20/0.8/1000)","v":0},0,0,null,null,null,0,0,0,0,"",false,false,false,false,null,"","",""]
[null,null,null,null,null,null,null,null,null,null,null,null,null,null,null,null,null,null,null,null,null,null,null,null,null,null,null,null,null,null,null,null,null,null,null,null,null,{"$f":"IF(O1011=\"130\",2014.4*AO1011*'CO2 Conversion Factors'!$D$20/0.8/1000,2096.16*AO1011*'CO2 Conversion Factors'!$D$20/0.8/1000)","v":0},{"$f":"IF(O1011=\"130\",2014.4*AO1011*'CO2 Conversion Factors'!$G$20/0.8/1000,2096.16*AO1011*'CO2 Conversion Factors'!$G$20/0.8/1000)","v":0},{"$f":"IF(O1011=\"130\",2014.4*AO1011*'CO2 Conversion Factors'!$J$20/0.8/1000,2096.16*AO1011*'CO2 Conversion Factors'!$J$20/0.8/1000)","v":0},0,0,null,null,null,0,0,0,0,"",false,false,false,false,null,"","",""]
[null,null,null,null,null,null,null,null,null,null,null,null,null,null,null,null,null,null,null,null,null,null,null,null,null,null,null,null,null,null,null,null,null,null,null,null,null,{"$f":"IF(O1012=\"130\",2014.4*AO1012*'CO2 Conversion Factors'!$D$20/0.8/1000,2096.16*AO1012*'CO2 Conversion Factors'!$D$20/0.8/1000)","v":0},{"$f":"IF(O1012=\"130\",2014.4*AO1012*'CO2 Conversion Factors'!$G$20/0.8/1000,2096.16*AO1012*'CO2 Conversion Factors'!$G$20/0.8/1000)","v":0},{"$f":"IF(O1012=\"130\",2014.4*AO1012*'CO2 Conversion Factors'!$J$20/0.8/1000,2096.16*AO1012*'CO2 Conversion Factors'!$J$20/0.8/1000)","v":0},0,0,null,null,null,0,0,0,0,"",false,false,false,false,null,"","",""]
[null,null,null,null,null,null,null,null,null,null,null,null,null,null,null,null,null,null,null,null,null,null,null,null,null,null,null,null,null,null,null,null,null,null,null,null,null,{"$f":"IF(O1013=\"130\",2014.4*AO1013*'CO2 Conversion Factors'!$D$20/0.8/1000,2096.16*AO1013*'CO2 Conversion Factors'!$D$20/0.8/1000)","v":0},{"$f":"IF(O1013=\"130\",2014.4*AO1013*'CO2 Conversion Factors'!$G$20/0.8/1000,2096.16*AO1013*'CO2 Conversion Factors'!$G$20/0.8/1000)","v":0},{"$f":"IF(O1013=\"130\",2014.4*AO1013*'CO2 Conversion Factors'!$J$20/0.8/1000,2096.16*AO1013*'CO2 Conversion Factors'!$J$20/0.8/1000)","v":0},0,0,null,null,null,0,0,0,0,"",false,false,false,false,null,"","",""]
[null,null,null,null,null,null,null,null,null,null,null,null,null,null,null,null,null,null,null,null,null,null,null,null,null,null,null,null,null,null,null,null,null,null,null,null,null,{"$f":"IF(O1014=\"130\",2014.4*AO1014*'CO2 Conversion Factors'!$D$20/0.8/1000,2096.16*AO1014*'CO2 Conversion Factors'!$D$20/0.8/1000)","v":0},{"$f":"IF(O1014=\"130\",2014.4*AO1014*'CO2 Conversion Factors'!$G$20/0.8/1000,2096.16*AO1014*'CO2 Conversion Factors'!$G$20/0.8/1000)","v":0},{"$f":"IF(O1014=\"130\",2014.4*AO1014*'CO2 Conversion Factors'!$J$20/0.8/1000,2096.16*AO1014*'CO2 Conversion Factors'!$J$20/0.8/1000)","v":0},0,0,null,null,null,0,0,0,0,"",false,false,false,false,null,"","",""]
[null,null,null,null,null,null,null,null,null,null,null,null,null,null,null,null,null,null,null,null,null,null,null,null,null,null,null,null,null,null,null,null,null,null,null,null,null,{"$f":"IF(O1015=\"130\",2014.4*AO1015*'CO2 Conversion Factors'!$D$20/0.8/1000,2096.16*AO1015*'CO2 Conversion Factors'!$D$20/0.8/1000)","v":0},{"$f":"IF(O1015=\"130\",2014.4*AO1015*'CO2 Conversion Factors'!$G$20/0.8/1000,2096.16*AO1015*'CO2 Conversion Factors'!$G$20/0.8/1000)","v":0},{"$f":"IF(O1015=\"130\",2014.4*AO1015*'CO2 Conversion Factors'!$J$20/0.8/1000,2096.16*AO1015*'CO2 Conversion Factors'!$J$20/0.8/1000)","v":0},0,0,null,null,null,0,0,0,0,"",false,false,false,false,null,"","",""]
[null,null,null,null,null,null,null,null,null,null,null,null,null,null,null,null,null,null,null,null,null,null,null,null,null,null,null,null,null,null,null,null,null,null,null,null,null,{"$f":"IF(O1016=\"130\",2014.4*AO1016*'CO2 Conversion Factors'!$D$20/0.8/1000,2096.16*AO1016*'CO2 Conversion Factors'!$D$20/0.8/1000)","v":0},{"$f":"IF(O1016=\"130\",2014.4*AO1016*'CO2 Conversion Factors'!$G$20/0.8/1000,2096.16*AO1016*'CO2 Conversion Factors'!$G$20/0.8/1000)","v":0},{"$f":"IF(O1016=\"130\",2014.4*AO1016*'CO2 Conversion Factors'!$J$20/0.8/1000,2096.16*AO1016*'CO2 Conversion Factors'!$J$20/0.8/1000)","v":0},0,0,null,null,null,0,0,0,0,"",false,false,false,false,null,"","",""]
[null,null,null,null,null,null,null,null,null,null,null,null,null,null,null,null,null,null,null,null,null,null,null,null,null,null,null,null,null,null,null,null,null,null,null,null,null,{"$f":"IF(O1017=\"130\",2014.4*AO1017*'CO2 Conversion Factors'!$D$20/0.8/1000,2096.16*AO1017*'CO2 Conversion Factors'!$D$20/0.8/1000)","v":0},{"$f":"IF(O1017=\"130\",2014.4*AO1017*'CO2 Conversion Factors'!$G$20/0.8/1000,2096.16*AO1017*'CO2 Conversion Factors'!$G$20/0.8/1000)","v":0},{"$f":"IF(O1017=\"130\",2014.4*AO1017*'CO2 Conversion Factors'!$J$20/0.8/1000,2096.16*AO1017*'CO2 Conversion Factors'!$J$20/0.8/1000)","v":0},0,0,null,null,null,0,0,0,0,"",false,false,false,false,null,"","",""]
[null,null,null,null,null,null,null,null,null,null,null,null,null,null,null,null,null,null,null,null,null,null,null,null,null,null,null,null,null,null,null,null,null,null,null,null,null,{"$f":"IF(O1018=\"130\",2014.4*AO1018*'CO2 Conversion Factors'!$D$20/0.8/1000,2096.16*AO1018*'CO2 Conversion Factors'!$D$20/0.8/1000)","v":0},{"$f":"IF(O1018=\"130\",2014.4*AO1018*'CO2 Conversion Factors'!$G$20/0.8/1000,2096.16*AO1018*'CO2 Conversion Factors'!$G$20/0.8/1000)","v":0},{"$f":"IF(O1018=\"130\",2014.4*AO1018*'CO2 Conversion Factors'!$J$20/0.8/1000,2096.16*AO1018*'CO2 Conversion Factors'!$J$20/0.8/1000)","v":0},0,0,null,null,null,0,0,0,0,"",false,false,false,false,null,"","",""]
[null,null,null,null,null,null,null,null,null,null,null,null,null,null,null,null,null,null,null,null,null,null,null,null,null,null,null,null,null,null,null,null,null,null,null,null,null,{"$f":"IF(O1019=\"130\",2014.4*AO1019*'CO2 Conversion Factors'!$D$20/0.8/1000,2096.16*AO1019*'CO2 Conversion Factors'!$D$20/0.8/1000)","v":0},{"$f":"IF(O1019=\"130\",2014.4*AO1019*'CO2 Conversion Factors'!$G$20/0.8/1000,2096.16*AO1019*'CO2 Conversion Factors'!$G$20/0.8/1000)","v":0},{"$f":"IF(O1019=\"130\",2014.4*AO1019*'CO2 Conversion Factors'!$J$20/0.8/1000,2096.16*AO1019*'CO2 Conversion Factors'!$J$20/0.8/1000)","v":0},0,0,null,null,null,0,0,0,0,"",false,false,false,false,null,"","SU427",""]
[null,null,null,null,null,null,null,null,null,null,null,null,null,null,null,null,null,null,null,null,null,null,null,null,null,null,null,null,null,null,null,null,null,null,null,null,null,{"$f":"IF(O1020=\"130\",2014.4*AO1020*'CO2 Conversion Factors'!$D$20/0.8/1000,2096.16*AO1020*'CO2 Conversion Factors'!$D$20/0.8/1000)","v":0},{"$f":"IF(O1020=\"130\",2014.4*AO1020*'CO2 Conversion Factors'!$G$20/0.8/1000,2096.16*AO1020*'CO2 Conversion Factors'!$G$20/0.8/1000)","v":0},{"$f":"IF(O1020=\"130\",2014.4*AO1020*'CO2 Conversion Factors'!$J$20/0.8/1000,2096.16*AO1020*'CO2 Conversion Factors'!$J$20/0.8/1000)","v":0},0,0,null,null,null,0,0,0,0,"",false,false,false,false,null,"","SU032",""]
[null,null,null,null,null,null,null,null,null,null,null,null,null,null,null,null,null,null,null,null,null,null,null,null,null,null,null,null,null,null,null,null,null,null,null,null,null,{"$f":"IF(O1021=\"130\",2014.4*AO1021*'CO2 Conversion Factors'!$D$20/0.8/1000,2096.16*AO1021*'CO2 Conversion Factors'!$D$20/0.8/1000)","v":0},{"$f":"IF(O1021=\"130\",2014.4*AO1021*'CO2 Conversion Factors'!$G$20/0.8/1000,2096.16*AO1021*'CO2 Conversion Factors'!$G$20/0.8/1000)","v":0},{"$f":"IF(O1021=\"130\",2014.4*AO1021*'CO2 Conversion Factors'!$J$20/0.8/1000,2096.16*AO1021*'CO2 Conversion Factors'!$J$20/0.8/1000)","v":0},0,0,null,null,null,0,0,0,0,"",false,false,false,false,null,"","",""]
[null,null,null,null,null,null,null,null,null,null,null,null,null,null,null,null,null,null,null,null,null,null,null,null,null,null,null,null,null,null,null,null,null,null,null,null,null,{"$f":"IF(O1022=\"130\",2014.4*AO1022*'CO2 Conversion Factors'!$D$20/0.8/1000,2096.16*AO1022*'CO2 Conversion Factors'!$D$20/0.8/1000)","v":0},{"$f":"IF(O1022=\"130\",2014.4*AO1022*'CO2 Conversion Factors'!$G$20/0.8/1000,2096.16*AO1022*'CO2 Conversion Factors'!$G$20/0.8/1000)","v":0},{"$f":"IF(O1022=\"130\",2014.4*AO1022*'CO2 Conversion Factors'!$J$20/0.8/1000,2096.16*AO1022*'CO2 Conversion Factors'!$J$20/0.8/1000)","v":0},0,0,null,null,null,0,0,0,0,"",false,false,false,false,null,"","",""]
[null,null,null,null,null,null,null,null,null,null,null,null,null,null,null,null,null,null,null,null,null,null,null,null,null,null,null,null,null,null,null,null,null,null,null,null,null,{"$f":"IF(O1023=\"130\",2014.4*AO1023*'CO2 Conversion Factors'!$D$20/0.8/1000,2096.16*AO1023*'CO2 Conversion Factors'!$D$20/0.8/1000)","v":0},{"$f":"IF(O1023=\"130\",2014.4*AO1023*'CO2 Conversion Factors'!$G$20/0.8/1000,2096.16*AO1023*'CO2 Conversion Factors'!$G$20/0.8/1000)","v":0},{"$f":"IF(O1023=\"130\",2014.4*AO1023*'CO2 Conversion Factors'!$J$20/0.8/1000,2096.16*AO1023*'CO2 Conversion Factors'!$J$20/0.8/1000)","v":0},0,0,null,null,null,0,0,0,0,"",false,false,false,false,null,"","",""]
[null,null,null,null,null,null,null,null,null,null,null,null,null,null,null,null,null,null,null,null,null,null,null,null,null,null,null,null,null,null,null,null,null,null,null,null,null,{"$f":"IF(O1024=\"130\",2014.4*AO1024*'CO2 Conversion Factors'!$D$20/0.8/1000,2096.16*AO1024*'CO2 Conversion Factors'!$D$20/0.8/1000)","v":0},{"$f":"IF(O1024=\"130\",2014.4*AO1024*'CO2 Conversion Factors'!$G$20/0.8/1000,2096.16*AO1024*'CO2 Conversion Factors'!$G$20/0.8/1000)","v":0},{"$f":"IF(O1024=\"130\",2014.4*AO1024*'CO2 Conversion Factors'!$J$20/0.8/1000,2096.16*AO1024*'CO2 Conversion Factors'!$J$20/0.8/1000)","v":0},0,0,null,null,null,0,0,0,0,"",false,false,false,false,null,"","",""]
[null,null,null,null,null,null,null,null,null,null,null,null,null,null,null,null,null,null,null,null,null,null,null,null,null,null,null,null,null,null,null,null,null,null,null,null,null,{"$f":"IF(O1025=\"130\",2014.4*AO1025*'CO2 Conversion Factors'!$D$20/0.8/1000,2096.16*AO1025*'CO2 Conversion Factors'!$D$20/0.8/1000)","v":0},{"$f":"IF(O1025=\"130\",2014.4*AO1025*'CO2 Conversion Factors'!$G$20/0.8/1000,2096.16*AO1025*'CO2 Conversion Factors'!$G$20/0.8/1000)","v":0},{"$f":"IF(O1025=\"130\",2014.4*AO1025*'CO2 Conversion Factors'!$J$20/0.8/1000,2096.16*AO1025*'CO2 Conversion Factors'!$J$20/0.8/1000)","v":0},0,0,null,null,null,0,0,0,0,"",false,false,false,false,null,"","",""]
[null,null,null,null,null,null,null,null,null,null,null,null,null,null,null,null,null,null,null,null,null,null,null,null,null,null,null,null,null,null,null,null,null,null,null,null,null,{"$f":"IF(O1026=\"130\",2014.4*AO1026*'CO2 Conversion Factors'!$D$20/0.8/1000,2096.16*AO1026*'CO2 Conversion Factors'!$D$20/0.8/1000)","v":0},{"$f":"IF(O1026=\"130\",2014.4*AO1026*'CO2 Conversion Factors'!$G$20/0.8/1000,2096.16*AO1026*'CO2 Conversion Factors'!$G$20/0.8/1000)","v":0},{"$f":"IF(O1026=\"130\",2014.4*AO1026*'CO2 Conversion Factors'!$J$20/0.8/1000,2096.16*AO1026*'CO2 Conversion Factors'!$J$20/0.8/1000)","v":0},0,0,null,null,null,0,0,0,0,"",false,false,false,false,null,"","",""]
[null,null,null,null,null,null,null,null,null,null,null,null,null,null,null,null,null,null,null,null,null,null,null,null,null,null,null,null,null,null,null,null,null,null,null,null,null,{"$f":"IF(O1027=\"130\",2014.4*AO1027*'CO2 Conversion Factors'!$D$20/0.8/1000,2096.16*AO1027*'CO2 Conversion Factors'!$D$20/0.8/1000)","v":0},{"$f":"IF(O1027=\"130\",2014.4*AO1027*'CO2 Conversion Factors'!$G$20/0.8/1000,2096.16*AO1027*'CO2 Conversion Factors'!$G$20/0.8/1000)","v":0},{"$f":"IF(O1027=\"130\",2014.4*AO1027*'CO2 Conversion Factors'!$J$20/0.8/1000,2096.16*AO1027*'CO2 Conversion Factors'!$J$20/0.8/1000)","v":0},{"$f":"IFERROR(IF(OR(L1027=\"BLW\",L1027=\"PRI\",L1027=\"LNK\"),IF(Cover_Select_SteamCostUnits=\"£/1000kg\",11.6*(VLOOKUP($I1027,Abb_Lookup_OrifaceDia,2,FALSE)^2)*SQRT(($O1027-$P1027)*($O1027+$P1027)),25.57363*(VLOOKUP($I1027,Abb_Lookup_OrifaceDia,2,FALSE)^2)*SQRT(($O1027-$P1027)*($O1027+$P1027)))*(VLOOKUP(AE1027,Cover_Lookup_OpTime,4,FALSE)/1000),IF(L1027=\"LL\",IF(Cover_Select_SteamCostUnits=\"£/1000kg\",11.6*(VLOOKUP($I1027,Abb_Lookup_OrifaceDia,2,FALSE)^2)*SQRT(($O1027-$P1027)*($O1027+$P1027)),25.57363*(VLOOKUP($I1027,Abb_Lookup_OrifaceDia,2,FALSE)^2)*SQRT(($O1027-$P1027)*($O1027+$P1027)))*(VLOOKUP(AE1027,Cover_Lookup_OpTime,4,FALSE)/2000),IF(L1027=\"SL\",IF(Cover_Select_SteamCostUnits=\"£/1000kg\",11.6*(VLOOKUP($I1027,Abb_Lookup_OrifaceDia,2,FALSE)^2)*SQRT(($O1027-$P1027)*($O1027+$P1027)),25.57363*(VLOOKUP($I1027,Abb_Lookup_OrifaceDia,2,FALSE)^2)*SQRT(($O1027-$P1027)*($O1027+$P1027)))*(VLOOKUP(AE1027,Cover_Lookup_OpTime,4,FALSE)/4000),0))),0)","v":0},0,null,null,null,0,0,0,0,"",false,false,false,false,null,"","",""]
[null,null,null,null,null,null,null,null,null,null,null,null,null,null,null,null,null,null,null,null,null,null,null,null,null,null,null,null,null,null,null,null,null,null,null,null,null,{"$f":"IF(O1028=\"130\",2014.4*AO1028*'CO2 Conversion Factors'!$D$20/0.8/1000,2096.16*AO1028*'CO2 Conversion Factors'!$D$20/0.8/1000)","v":0},{"$f":"IF(O1028=\"130\",2014.4*AO1028*'CO2 Conversion Factors'!$G$20/0.8/1000,2096.16*AO1028*'CO2 Conversion Factors'!$G$20/0.8/1000)","v":0},{"$f":"IF(O1028=\"130\",2014.4*AO1028*'CO2 Conversion Factors'!$J$20/0.8/1000,2096.16*AO1028*'CO2 Conversion Factors'!$J$20/0.8/1000)","v":0},0,0,null,null,null,0,0,0,0,"",false,false,false,false,null,"","",""]
[null,null,null,null,null,null,null,null,null,null,null,null,null,null,null,null,null,null,null,null,null,null,null,null,null,null,null,null,null,null,null,null,null,null,null,null,null,{"$f":"IF(O1029=\"130\",2014.4*AO1029*'CO2 Conversion Factors'!$D$20/0.8/1000,2096.16*AO1029*'CO2 Conversion Factors'!$D$20/0.8/1000)","v":0},{"$f":"IF(O1029=\"130\",2014.4*AO1029*'CO2 Conversion Factors'!$G$20/0.8/1000,2096.16*AO1029*'CO2 Conversion Factors'!$G$20/0.8/1000)","v":0},{"$f":"IF(O1029=\"130\",2014.4*AO1029*'CO2 Conversion Factors'!$J$20/0.8/1000,2096.16*AO1029*'CO2 Conversion Factors'!$J$20/0.8/1000)","v":0},0,{"$f":"IFERROR(AO1029*Cover_Select_SteamCost,0)","v":0},null,null,null,{"$f":"IF(NOT(OR(L1029=\"NIS\",L1029=\"OFF\")),F1029)","v":0},{"$f":"IF(NOT(OR(L1029=\"NIS\",L1029=\"OFF\",L1029=\"PO\")),F1029)","v":0},{"$f":"IF(NOT(OR(L1029=\"NIS\",L1029=\"OFF\")),H1029)","v":0},{"$f":"IF(NOT(OR(L1029=\"NIS\",L1029=\"OFF\",L1029=\"PO\")),H1029)","v":0},"",{"$f":"IF(L1029=\"CLD\", H1029)","v":false},{"$f":"IF(L1029=\"SL\", H1029)","v":false},{"$f":"IF(L1029=\"LL\", H1029)","v":false},{"$f":"IF(L1029=\"BLW\", H1029)","v":false},null,"","",""]
[null,null,null,null,null,null,null,null,null,null,null,null,null,null,null,null,null,null,null,null,null,null,null,null,null,null,null,null,null,null,null,null,null,null,null,null,null,{"$f":"IF(O1030=\"130\",2014.4*AO1030*'CO2 Conversion Factors'!$D$20/0.8/1000,2096.16*AO1030*'CO2 Conversion Factors'!$D$20/0.8/1000)","v":0},{"$f":"IF(O1030=\"130\",2014.4*AO1030*'CO2 Conversion Factors'!$G$20/0.8/1000,2096.16*AO1030*'CO2 Conversion Factors'!$G$20/0.8/1000)","v":0},{"$f":"IF(O1030=\"130\",2014.4*AO1030*'CO2 Conversion Factors'!$J$20/0.8/1000,2096.16*AO1030*'CO2 Conversion Factors'!$J$20/0.8/1000)","v":0},0,0,null,null,null,0,0,0,0,{"$f":"F1030&H1030","v":""},false,false,false,false,null,"","",""]
[null,null,null,null,null,null,null,null,null,null,null,null,null,null,null,null,null,null,null,null,null,null,null,null,null,null,null,null,null,null,null,null,null,null,null,null,null,{"$f":"IF(O1031=\"130\",2014.4*AO1031*'CO2 Conversion Factors'!$D$20/0.8/1000,2096.16*AO1031*'CO2 Conversion Factors'!$D$20/0.8/1000)","v":0},{"$f":"IF(O1031=\"130\",2014.4*AO1031*'CO2 Conversion Factors'!$G$20/0.8/1000,2096.16*AO1031*'CO2 Conversion Factors'!$G$20/0.8/1000)","v":0},{"$f":"IF(O1031=\"130\",2014.4*AO1031*'CO2 Conversion Factors'!$J$20/0.8/1000,2096.16*AO1031*'CO2 Conversion Factors'!$J$20/0.8/1000)","v":0},0,0,null,null,null,0,0,0,0,"",false,false,false,false,null,"","",""]
[null,null,null,null,null,null,null,null,null,null,null,null,null,null,null,null,null,null,null,null,null,null,null,null,null,null,null,null,null,null,null,null,null,null,null,null,null,{"$f":"IF(O1032=\"130\",2014.4*AO1032*'CO2 Conversion Factors'!$D$20/0.8/1000,2096.16*AO1032*'CO2 Conversion Factors'!$D$20/0.8/1000)","v":0},{"$f":"IF(O1032=\"130\",2014.4*AO1032*'CO2 Conversion Factors'!$G$20/0.8/1000,2096.16*AO1032*'CO2 Conversion Factors'!$G$20/0.8/1000)","v":0},{"$f":"IF(O1032=\"130\",2014.4*AO1032*'CO2 Conversion Factors'!$J$20/0.8/1000,2096.16*AO1032*'CO2 Conversion Factors'!$J$20/0.8/1000)","v":0},0,0,null,null,null,0,0,0,0,"",false,false,false,false,null,"","",""]
[null,null,null,null,null,null,null,null,null,null,null,null,null,null,null,null,null,null,null,null,null,null,null,null,null,null,null,null,null,null,null,null,null,null,null,null,null,{"$f":"IF(O1033=\"130\",2014.4*AO1033*'CO2 Conversion Factors'!$D$20/0.8/1000,2096.16*AO1033*'CO2 Conversion Factors'!$D$20/0.8/1000)","v":0},{"$f":"IF(O1033=\"130\",2014.4*AO1033*'CO2 Conversion Factors'!$G$20/0.8/1000,2096.16*AO1033*'CO2 Conversion Factors'!$G$20/0.8/1000)","v":0},{"$f":"IF(O1033=\"130\",2014.4*AO1033*'CO2 Conversion Factors'!$J$20/0.8/1000,2096.16*AO1033*'CO2 Conversion Factors'!$J$20/0.8/1000)","v":0},0,0,null,null,null,0,0,0,0,"",false,false,false,false,null,"","",""]
[null,null,null,null,null,null,null,null,null,null,null,null,null,null,null,null,null,null,null,null,null,null,null,null,null,null,null,null,null,null,null,null,null,null,null,null,null,{"$f":"IF(O1034=\"130\",2014.4*AO1034*'CO2 Conversion Factors'!$D$20/0.8/1000,2096.16*AO1034*'CO2 Conversion Factors'!$D$20/0.8/1000)","v":0},{"$f":"IF(O1034=\"130\",2014.4*AO1034*'CO2 Conversion Factors'!$G$20/0.8/1000,2096.16*AO1034*'CO2 Conversion Factors'!$G$20/0.8/1000)","v":0},{"$f":"IF(O1034=\"130\",2014.4*AO1034*'CO2 Conversion Factors'!$J$20/0.8/1000,2096.16*AO1034*'CO2 Conversion Factors'!$J$20/0.8/1000)","v":0},0,0,null,null,null,0,0,0,0,"",false,false,false,false,null,"","",""]
[null,null,null,null,null,null,null,null,null,null,null,null,null,null,null,null,null,null,null,null,null,null,null,null,null,null,null,null,null,null,null,null,null,null,null,null,null,{"$f":"IF(O1035=\"130\",2014.4*AO1035*'CO2 Conversion Factors'!$D$20/0.8/1000,2096.16*AO1035*'CO2 Conversion Factors'!$D$20/0.8/1000)","v":0},{"$f":"IF(O1035=\"130\",2014.4*AO1035*'CO2 Conversion Factors'!$G$20/0.8/1000,2096.16*AO1035*'CO2 Conversion Factors'!$G$20/0.8/1000)","v":0},{"$f":"IF(O1035=\"130\",2014.4*AO1035*'CO2 Conversion Factors'!$J$20/0.8/1000,2096.16*AO1035*'CO2 Conversion Factors'!$J$20/0.8/1000)","v":0},0,0,null,null,null,0,0,0,0,"",false,false,false,false,null,"","",""]
[null,null,null,null,null,null,null,null,null,null,null,null,null,null,null,null,null,null,null,null,null,null,null,null,null,null,null,null,null,null,null,null,null,null,null,null,null,{"$f":"IF(O1036=\"130\",2014.4*AO1036*'CO2 Conversion Factors'!$D$20/0.8/1000,2096.16*AO1036*'CO2 Conversion Factors'!$D$20/0.8/1000)","v":0},{"$f":"IF(O1036=\"130\",2014.4*AO1036*'CO2 Conversion Factors'!$G$20/0.8/1000,2096.16*AO1036*'CO2 Conversion Factors'!$G$20/0.8/1000)","v":0},{"$f":"IF(O1036=\"130\",2014.4*AO1036*'CO2 Conversion Factors'!$J$20/0.8/1000,2096.16*AO1036*'CO2 Conversion Factors'!$J$20/0.8/1000)","v":0},0,0,null,null,null,0,0,0,0,"",false,false,false,false,null,"","",""]
[null,null,null,null,null,null,null,null,null,null,null,null,null,null,null,null,null,null,null,null,null,null,null,null,null,null,null,null,null,null,null,null,null,null,null,null,null,{"$f":"IF(O1037=\"130\",2014.4*AO1037*'CO2 Conversion Factors'!$D$20/0.8/1000,2096.16*AO1037*'CO2 Conversion Factors'!$D$20/0.8/1000)","v":0},{"$f":"IF(O1037=\"130\",2014.4*AO1037*'CO2 Conversion Factors'!$G$20/0.8/1000,2096.16*AO1037*'CO2 Conversion Factors'!$G$20/0.8/1000)","v":0},{"$f":"IF(O1037=\"130\",2014.4*AO1037*'CO2 Conversion Factors'!$J$20/0.8/1000,2096.16*AO1037*'CO2 Conversion Factors'!$J$20/0.8/1000)","v":0},0,0,null,null,null,0,0,0,0,"",false,false,false,false,null,"","",""]
[null,null,null,null,null,null,null,null,null,null,null,null,null,null,null,null,null,null,null,null,null,null,null,null,null,null,null,null,null,null,null,null,null,null,null,null,null,{"$f":"IF(O1038=\"130\",2014.4*AO1038*'CO2 Conversion Factors'!$D$20/0.8/1000,2096.16*AO1038*'CO2 Conversion Factors'!$D$20/0.8/1000)","v":0},{"$f":"IF(O1038=\"130\",2014.4*AO1038*'CO2 Conversion Factors'!$G$20/0.8/1000,2096.16*AO1038*'CO2 Conversion Factors'!$G$20/0.8/1000)","v":0},{"$f":"IF(O1038=\"130\",2014.4*AO1038*'CO2 Conversion Factors'!$J$20/0.8/1000,2096.16*AO1038*'CO2 Conversion Factors'!$J$20/0.8/1000)","v":0},0,0,null,null,null,0,0,0,0,"",false,false,false,false,null,"","",""]
[null,null,null,null,null,null,null,null,null,null,null,null,null,null,null,null,null,null,null,null,null,null,null,null,null,null,null,null,null,null,null,null,null,null,null,null,null,{"$f":"IF(O1039=\"130\",2014.4*AO1039*'CO2 Conversion Factors'!$D$20/0.8/1000,2096.16*AO1039*'CO2 Conversion Factors'!$D$20/0.8/1000)","v":0},{"$f":"IF(O1039=\"130\",2014.4*AO1039*'CO2 Conversion Factors'!$G$20/0.8/1000,2096.16*AO1039*'CO2 Conversion Factors'!$G$20/0.8/1000)","v":0},{"$f":"IF(O1039=\"130\",2014.4*AO1039*'CO2 Conversion Factors'!$J$20/0.8/1000,2096.16*AO1039*'CO2 Conversion Factors'!$J$20/0.8/1000)","v":0},0,0,null,null,null,0,0,0,0,"",false,false,false,false,null,"","",""]
[null,null,null,null,null,null,null,null,null,null,null,null,null,null,null,null,null,null,null,null,null,null,null,null,null,null,null,null,null,null,null,null,null,null,null,null,null,{"$f":"IF(O1040=\"130\",2014.4*AO1040*'CO2 Conversion Factors'!$D$20/0.8/1000,2096.16*AO1040*'CO2 Conversion Factors'!$D$20/0.8/1000)","v":0},{"$f":"IF(O1040=\"130\",2014.4*AO1040*'CO2 Conversion Factors'!$G$20/0.8/1000,2096.16*AO1040*'CO2 Conversion Factors'!$G$20/0.8/1000)","v":0},{"$f":"IF(O1040=\"130\",2014.4*AO1040*'CO2 Conversion Factors'!$J$20/0.8/1000,2096.16*AO1040*'CO2 Conversion Factors'!$J$20/0.8/1000)","v":0},0,0,null,null,null,0,0,0,0,"",false,false,false,false,null,"","",""]
[null,null,null,null,null,null,null,null,null,null,null,null,null,null,null,null,null,null,null,null,null,null,null,null,null,null,null,null,null,null,null,null,null,null,null,null,null,{"$f":"IF(O1041=\"130\",2014.4*AO1041*'CO2 Conversion Factors'!$D$20/0.8/1000,2096.16*AO1041*'CO2 Conversion Factors'!$D$20/0.8/1000)","v":0},{"$f":"IF(O1041=\"130\",2014.4*AO1041*'CO2 Conversion Factors'!$G$20/0.8/1000,2096.16*AO1041*'CO2 Conversion Factors'!$G$20/0.8/1000)","v":0},{"$f":"IF(O1041=\"130\",2014.4*AO1041*'CO2 Conversion Factors'!$J$20/0.8/1000,2096.16*AO1041*'CO2 Conversion Factors'!$J$20/0.8/1000)","v":0},0,0,null,null,null,0,0,0,0,"",false,false,false,false,null,"","",""]
[null,null,null,null,null,null,null,null,null,null,null,null,null,null,null,null,null,null,null,null,null,null,null,null,null,null,null,null,null,null,null,null,null,null,null,null,null,{"$f":"IF(O1042=\"130\",2014.4*AO1042*'CO2 Conversion Factors'!$D$20/0.8/1000,2096.16*AO1042*'CO2 Conversion Factors'!$D$20/0.8/1000)","v":0},{"$f":"IF(O1042=\"130\",2014.4*AO1042*'CO2 Conversion Factors'!$G$20/0.8/1000,2096.16*AO1042*'CO2 Conversion Factors'!$G$20/0.8/1000)","v":0},{"$f":"IF(O1042=\"130\",2014.4*AO1042*'CO2 Conversion Factors'!$J$20/0.8/1000,2096.16*AO1042*'CO2 Conversion Factors'!$J$20/0.8/1000)","v":0},0,0,null,null,null,0,0,0,0,"",false,false,false,false,null,"","",""]
[null,null,null,null,null,null,null,null,null,null,null,null,null,null,null,null,null,null,null,null,null,null,null,null,null,null,null,null,null,null,null,null,null,null,null,null,null,{"$f":"IF(O1043=\"130\",2014.4*AO1043*'CO2 Conversion Factors'!$D$20/0.8/1000,2096.16*AO1043*'CO2 Conversion Factors'!$D$20/0.8/1000)","v":0},{"$f":"IF(O1043=\"130\",2014.4*AO1043*'CO2 Conversion Factors'!$G$20/0.8/1000,2096.16*AO1043*'CO2 Conversion Factors'!$G$20/0.8/1000)","v":0},{"$f":"IF(O1043=\"130\",2014.4*AO1043*'CO2 Conversion Factors'!$J$20/0.8/1000,2096.16*AO1043*'CO2 Conversion Factors'!$J$20/0.8/1000)","v":0},0,0,null,null,null,0,0,0,0,"",false,false,false,false,null,"","",""]
[null,null,null,null,null,null,null,null,null,null,null,null,null,null,null,null,null,null,null,null,null,null,null,null,null,null,null,null,null,null,null,null,null,null,null,null,null,{"$f":"IF(O1044=\"130\",2014.4*AO1044*'CO2 Conversion Factors'!$D$20/0.8/1000,2096.16*AO1044*'CO2 Conversion Factors'!$D$20/0.8/1000)","v":0},{"$f":"IF(O1044=\"130\",2014.4*AO1044*'CO2 Conversion Factors'!$G$20/0.8/1000,2096.16*AO1044*'CO2 Conversion Factors'!$G$20/0.8/1000)","v":0},{"$f":"IF(O1044=\"130\",2014.4*AO1044*'CO2 Conversion Factors'!$J$20/0.8/1000,2096.16*AO1044*'CO2 Conversion Factors'!$J$20/0.8/1000)","v":0},0,0,null,null,null,0,0,0,0,"",false,false,false,false,null,"","",""]
[null,null,null,null,null,null,null,null,null,null,null,null,null,null,null,null,null,null,null,null,null,null,null,null,null,null,null,null,null,null,null,null,null,null,null,null,null,{"$f":"IF(O1045=\"130\",2014.4*AO1045*'CO2 Conversion Factors'!$D$20/0.8/1000,2096.16*AO1045*'CO2 Conversion Factors'!$D$20/0.8/1000)","v":0},{"$f":"IF(O1045=\"130\",2014.4*AO1045*'CO2 Conversion Factors'!$G$20/0.8/1000,2096.16*AO1045*'CO2 Conversion Factors'!$G$20/0.8/1000)","v":0},{"$f":"IF(O1045=\"130\",2014.4*AO1045*'CO2 Conversion Factors'!$J$20/0.8/1000,2096.16*AO1045*'CO2 Conversion Factors'!$J$20/0.8/1000)","v":0},0,0,null,null,null,0,0,0,0,"",false,false,false,false,null,"","",""]
[null,null,null,null,null,null,null,null,null,null,null,null,null,null,null,null,null,null,null,null,null,null,null,null,null,null,null,null,null,null,null,null,null,null,null,null,null,{"$f":"IF(O1046=\"130\",2014.4*AO1046*'CO2 Conversion Factors'!$D$20/0.8/1000,2096.16*AO1046*'CO2 Conversion Factors'!$D$20/0.8/1000)","v":0},{"$f":"IF(O1046=\"130\",2014.4*AO1046*'CO2 Conversion Factors'!$G$20/0.8/1000,2096.16*AO1046*'CO2 Conversion Factors'!$G$20/0.8/1000)","v":0},{"$f":"IF(O1046=\"130\",2014.4*AO1046*'CO2 Conversion Factors'!$J$20/0.8/1000,2096.16*AO1046*'CO2 Conversion Factors'!$J$20/0.8/1000)","v":0},0,0,null,null,null,0,0,0,0,"",false,false,false,false,null,"","",""]
[null,null,null,null,null,null,null,null,null,null,null,null,null,null,null,null,null,null,null,null,null,null,null,null,null,null,null,null,null,null,null,null,null,null,null,null,null,{"$f":"IF(O1047=\"130\",2014.4*AO1047*'CO2 Conversion Factors'!$D$20/0.8/1000,2096.16*AO1047*'CO2 Conversion Factors'!$D$20/0.8/1000)","v":0},{"$f":"IF(O1047=\"130\",2014.4*AO1047*'CO2 Conversion Factors'!$G$20/0.8/1000,2096.16*AO1047*'CO2 Conversion Factors'!$G$20/0.8/1000)","v":0},{"$f":"IF(O1047=\"130\",2014.4*AO1047*'CO2 Conversion Factors'!$J$20/0.8/1000,2096.16*AO1047*'CO2 Conversion Factors'!$J$20/0.8/1000)","v":0},0,0,null,null,null,0,0,0,0,"",false,false,false,false,null,"","",""]
[null,null,null,null,null,null,null,null,null,null,null,null,null,null,null,null,null,null,null,null,null,null,null,null,null,null,null,null,null,null,null,null,null,null,null,null,null,{"$f":"IF(O1048=\"130\",2014.4*AO1048*'CO2 Conversion Factors'!$D$20/0.8/1000,2096.16*AO1048*'CO2 Conversion Factors'!$D$20/0.8/1000)","v":0},{"$f":"IF(O1048=\"130\",2014.4*AO1048*'CO2 Conversion Factors'!$G$20/0.8/1000,2096.16*AO1048*'CO2 Conversion Factors'!$G$20/0.8/1000)","v":0},{"$f":"IF(O1048=\"130\",2014.4*AO1048*'CO2 Conversion Factors'!$J$20/0.8/1000,2096.16*AO1048*'CO2 Conversion Factors'!$J$20/0.8/1000)","v":0},0,0,null,null,null,0,0,0,0,"",false,false,false,false,null,"","",""]
[null,null,null,null,null,null,null,null,null,null,null,null,null,null,null,null,null,null,null,null,null,null,null,null,null,null,null,null,null,null,null,null,null,null,null,null,null,{"$f":"IF(O1049=\"130\",2014.4*AO1049*'CO2 Conversion Factors'!$D$20/0.8/1000,2096.16*AO1049*'CO2 Conversion Factors'!$D$20/0.8/1000)","v":0},{"$f":"IF(O1049=\"130\",2014.4*AO1049*'CO2 Conversion Factors'!$G$20/0.8/1000,2096.16*AO1049*'CO2 Conversion Factors'!$G$20/0.8/1000)","v":0},{"$f":"IF(O1049=\"130\",2014.4*AO1049*'CO2 Conversion Factors'!$J$20/0.8/1000,2096.16*AO1049*'CO2 Conversion Factors'!$J$20/0.8/1000)","v":0},0,0,null,null,null,0,0,0,0,"",false,false,false,false,null,"","",""]
[null,null,null,null,null,null,null,null,null,null,null,null,null,null,null,null,null,null,null,null,null,null,null,null,null,null,null,null,null,null,null,null,null,null,null,null,null,{"$f":"IF(O1050=\"130\",2014.4*AO1050*'CO2 Conversion Factors'!$D$20/0.8/1000,2096.16*AO1050*'CO2 Conversion Factors'!$D$20/0.8/1000)","v":0},{"$f":"IF(O1050=\"130\",2014.4*AO1050*'CO2 Conversion Factors'!$G$20/0.8/1000,2096.16*AO1050*'CO2 Conversion Factors'!$G$20/0.8/1000)","v":0},{"$f":"IF(O1050=\"130\",2014.4*AO1050*'CO2 Conversion Factors'!$J$20/0.8/1000,2096.16*AO1050*'CO2 Conversion Factors'!$J$20/0.8/1000)","v":0},0,0,null,null,null,0,0,0,0,"",false,false,false,false,null,"","",""]
[null,null,null,null,null,null,null,null,null,null,null,null,null,null,null,null,null,null,null,null,null,null,null,null,null,null,null,null,null,null,null,null,null,null,null,null,null,{"$f":"IF(O1051=\"130\",2014.4*AO1051*'CO2 Conversion Factors'!$D$20/0.8/1000,2096.16*AO1051*'CO2 Conversion Factors'!$D$20/0.8/1000)","v":0},{"$f":"IF(O1051=\"130\",2014.4*AO1051*'CO2 Conversion Factors'!$G$20/0.8/1000,2096.16*AO1051*'CO2 Conversion Factors'!$G$20/0.8/1000)","v":0},{"$f":"IF(O1051=\"130\",2014.4*AO1051*'CO2 Conversion Factors'!$J$20/0.8/1000,2096.16*AO1051*'CO2 Conversion Factors'!$J$20/0.8/1000)","v":0},0,0,null,null,null,0,0,0,0,"",false,false,false,false,null,"","",""]
[null,null,null,null,null,null,null,null,null,null,null,null,null,null,null,null,null,null,null,null,null,null,null,null,null,null,null,null,null,null,null,null,null,null,null,null,null,{"$f":"IF(O1052=\"130\",2014.4*AO1052*'CO2 Conversion Factors'!$D$20/0.8/1000,2096.16*AO1052*'CO2 Conversion Factors'!$D$20/0.8/1000)","v":0},{"$f":"IF(O1052=\"130\",2014.4*AO1052*'CO2 Conversion Factors'!$G$20/0.8/1000,2096.16*AO1052*'CO2 Conversion Factors'!$G$20/0.8/1000)","v":0},{"$f":"IF(O1052=\"130\",2014.4*AO1052*'CO2 Conversion Factors'!$J$20/0.8/1000,2096.16*AO1052*'CO2 Conversion Factors'!$J$20/0.8/1000)","v":0},0,0,null,null,null,0,0,0,0,"",false,false,false,false,null,"","",""]
[null,null,null,null,null,null,null,null,null,null,null,null,null,null,null,null,null,null,null,null,null,null,null,null,null,null,null,null,null,null,null,null,null,null,null,null,null,{"$f":"IF(O1053=\"130\",2014.4*AO1053*'CO2 Conversion Factors'!$D$20/0.8/1000,2096.16*AO1053*'CO2 Conversion Factors'!$D$20/0.8/1000)","v":0},{"$f":"IF(O1053=\"130\",2014.4*AO1053*'CO2 Conversion Factors'!$G$20/0.8/1000,2096.16*AO1053*'CO2 Conversion Factors'!$G$20/0.8/1000)","v":0},{"$f":"IF(O1053=\"130\",2014.4*AO1053*'CO2 Conversion Factors'!$J$20/0.8/1000,2096.16*AO1053*'CO2 Conversion Factors'!$J$20/0.8/1000)","v":0},0,0,null,null,null,0,0,0,0,"",false,false,false,false,null,"","",""]
[null,null,null,null,null,null,null,null,null,null,null,null,null,null,null,null,null,null,null,null,null,null,null,null,null,null,null,null,null,null,null,null,null,null,null,null,null,{"$f":"IF(O1054=\"130\",2014.4*AO1054*'CO2 Conversion Factors'!$D$20/0.8/1000,2096.16*AO1054*'CO2 Conversion Factors'!$D$20/0.8/1000)","v":0},{"$f":"IF(O1054=\"130\",2014.4*AO1054*'CO2 Conversion Factors'!$G$20/0.8/1000,2096.16*AO1054*'CO2 Conversion Factors'!$G$20/0.8/1000)","v":0},{"$f":"IF(O1054=\"130\",2014.4*AO1054*'CO2 Conversion Factors'!$J$20/0.8/1000,2096.16*AO1054*'CO2 Conversion Factors'!$J$20/0.8/1000)","v":0},0,0,null,null,null,0,0,0,0,"",false,false,false,false,null,"","",""]
[null,null,null,null,null,null,null,null,null,null,null,null,null,null,null,null,null,null,null,null,null,null,null,null,null,null,null,null,null,null,null,null,null,null,null,null,null,{"$f":"IF(O1055=\"130\",2014.4*AO1055*'CO2 Conversion Factors'!$D$20/0.8/1000,2096.16*AO1055*'CO2 Conversion Factors'!$D$20/0.8/1000)","v":0},{"$f":"IF(O1055=\"130\",2014.4*AO1055*'CO2 Conversion Factors'!$G$20/0.8/1000,2096.16*AO1055*'CO2 Conversion Factors'!$G$20/0.8/1000)","v":0},{"$f":"IF(O1055=\"130\",2014.4*AO1055*'CO2 Conversion Factors'!$J$20/0.8/1000,2096.16*AO1055*'CO2 Conversion Factors'!$J$20/0.8/1000)","v":0},0,0,null,null,null,0,0,0,0,"",false,false,false,false,null,"","",""]
[null,null,null,null,null,null,null,null,null,null,null,null,null,null,null,null,null,null,null,null,null,null,null,null,null,null,null,null,null,null,null,null,null,null,null,null,null,{"$f":"IF(O1056=\"130\",2014.4*AO1056*'CO2 Conversion Factors'!$D$20/0.8/1000,2096.16*AO1056*'CO2 Conversion Factors'!$D$20/0.8/1000)","v":0},{"$f":"IF(O1056=\"130\",2014.4*AO1056*'CO2 Conversion Factors'!$G$20/0.8/1000,2096.16*AO1056*'CO2 Conversion Factors'!$G$20/0.8/1000)","v":0},{"$f":"IF(O1056=\"130\",2014.4*AO1056*'CO2 Conversion Factors'!$J$20/0.8/1000,2096.16*AO1056*'CO2 Conversion Factors'!$J$20/0.8/1000)","v":0},0,0,null,null,null,0,0,0,0,"",false,false,false,false,null,"","",""]
[null,null,null,null,null,null,null,null,null,null,null,null,null,null,null,null,null,null,null,null,null,null,null,null,null,null,null,null,null,null,null,null,null,null,null,null,null,{"$f":"IF(O1057=\"130\",2014.4*AO1057*'CO2 Conversion Factors'!$D$20/0.8/1000,2096.16*AO1057*'CO2 Conversion Factors'!$D$20/0.8/1000)","v":0},{"$f":"IF(O1057=\"130\",2014.4*AO1057*'CO2 Conversion Factors'!$G$20/0.8/1000,2096.16*AO1057*'CO2 Conversion Factors'!$G$20/0.8/1000)","v":0},{"$f":"IF(O1057=\"130\",2014.4*AO1057*'CO2 Conversion Factors'!$J$20/0.8/1000,2096.16*AO1057*'CO2 Conversion Factors'!$J$20/0.8/1000)","v":0},0,0,null,null,null,0,0,0,0,"",false,false,false,false,null,"","",""]
[null,null,null,null,null,null,null,null,null,null,null,null,null,null,null,null,null,null,null,null,null,null,null,null,null,null,null,null,null,null,null,null,null,null,null,null,null,{"$f":"IF(O1058=\"130\",2014.4*AO1058*'CO2 Conversion Factors'!$D$20/0.8/1000,2096.16*AO1058*'CO2 Conversion Factors'!$D$20/0.8/1000)","v":0},{"$f":"IF(O1058=\"130\",2014.4*AO1058*'CO2 Conversion Factors'!$G$20/0.8/1000,2096.16*AO1058*'CO2 Conversion Factors'!$G$20/0.8/1000)","v":0},{"$f":"IF(O1058=\"130\",2014.4*AO1058*'CO2 Conversion Factors'!$J$20/0.8/1000,2096.16*AO1058*'CO2 Conversion Factors'!$J$20/0.8/1000)","v":0},0,0,null,null,null,0,0,0,0,"",false,false,false,false,null,"","",""]
[null,null,null,null,null,null,null,null,null,null,null,null,null,null,null,null,null,null,null,null,null,null,null,null,null,null,null,null,null,null,null,null,null,null,null,null,null,{"$f":"IF(O1059=\"130\",2014.4*AO1059*'CO2 Conversion Factors'!$D$20/0.8/1000,2096.16*AO1059*'CO2 Conversion Factors'!$D$20/0.8/1000)","v":0},{"$f":"IF(O1059=\"130\",2014.4*AO1059*'CO2 Conversion Factors'!$G$20/0.8/1000,2096.16*AO1059*'CO2 Conversion Factors'!$G$20/0.8/1000)","v":0},{"$f":"IF(O1059=\"130\",2014.4*AO1059*'CO2 Conversion Factors'!$J$20/0.8/1000,2096.16*AO1059*'CO2 Conversion Factors'!$J$20/0.8/1000)","v":0},0,0,null,null,null,0,0,0,0,"",false,false,false,false,null,"","",""]
[null,null,null,null,null,null,null,null,null,null,null,null,null,null,null,null,null,null,null,null,null,null,null,null,null,null,null,null,null,null,null,null,null,null,null,null,null,{"$f":"IF(O1060=\"130\",2014.4*AO1060*'CO2 Conversion Factors'!$D$20/0.8/1000,2096.16*AO1060*'CO2 Conversion Factors'!$D$20/0.8/1000)","v":0},{"$f":"IF(O1060=\"130\",2014.4*AO1060*'CO2 Conversion Factors'!$G$20/0.8/1000,2096.16*AO1060*'CO2 Conversion Factors'!$G$20/0.8/1000)","v":0},{"$f":"IF(O1060=\"130\",2014.4*AO1060*'CO2 Conversion Factors'!$J$20/0.8/1000,2096.16*AO1060*'CO2 Conversion Factors'!$J$20/0.8/1000)","v":0},0,0,null,null,null,0,0,0,0,"",false,false,false,false,null,"","",""]
[null,null,null,null,null,null,null,null,null,null,null,null,null,null,null,null,null,null,null,null,null,null,null,null,null,null,null,null,null,null,null,null,null,null,null,null,null,{"$f":"IF(O1061=\"130\",2014.4*AO1061*'CO2 Conversion Factors'!$D$20/0.8/1000,2096.16*AO1061*'CO2 Conversion Factors'!$D$20/0.8/1000)","v":0},{"$f":"IF(O1061=\"130\",2014.4*AO1061*'CO2 Conversion Factors'!$G$20/0.8/1000,2096.16*AO1061*'CO2 Conversion Factors'!$G$20/0.8/1000)","v":0},{"$f":"IF(O1061=\"130\",2014.4*AO1061*'CO2 Conversion Factors'!$J$20/0.8/1000,2096.16*AO1061*'CO2 Conversion Factors'!$J$20/0.8/1000)","v":0},0,0,null,null,null,0,0,0,0,"",false,false,false,false,null,"","",""]
[null,null,null,null,null,null,null,null,null,null,null,null,null,null,null,null,null,null,null,null,null,null,null,null,null,null,null,null,null,null,null,null,null,null,null,null,null,{"$f":"IF(O1062=\"130\",2014.4*AO1062*'CO2 Conversion Factors'!$D$20/0.8/1000,2096.16*AO1062*'CO2 Conversion Factors'!$D$20/0.8/1000)","v":0},{"$f":"IF(O1062=\"130\",2014.4*AO1062*'CO2 Conversion Factors'!$G$20/0.8/1000,2096.16*AO1062*'CO2 Conversion Factors'!$G$20/0.8/1000)","v":0},{"$f":"IF(O1062=\"130\",2014.4*AO1062*'CO2 Conversion Factors'!$J$20/0.8/1000,2096.16*AO1062*'CO2 Conversion Factors'!$J$20/0.8/1000)","v":0},0,0,null,null,null,0,0,0,0,"",false,false,false,false,null,"","",""]
[null,null,null,null,null,null,null,null,null,null,null,null,null,null,null,null,null,null,null,null,null,null,null,null,null,null,null,null,null,null,null,null,null,null,null,null,null,{"$f":"IF(O1063=\"130\",2014.4*AO1063*'CO2 Conversion Factors'!$D$20/0.8/1000,2096.16*AO1063*'CO2 Conversion Factors'!$D$20/0.8/1000)","v":0},{"$f":"IF(O1063=\"130\",2014.4*AO1063*'CO2 Conversion Factors'!$G$20/0.8/1000,2096.16*AO1063*'CO2 Conversion Factors'!$G$20/0.8/1000)","v":0},{"$f":"IF(O1063=\"130\",2014.4*AO1063*'CO2 Conversion Factors'!$J$20/0.8/1000,2096.16*AO1063*'CO2 Conversion Factors'!$J$20/0.8/1000)","v":0},0,0,null,null,null,0,0,0,0,"",false,false,false,false,null,"","",""]
[null,null,null,null,null,null,null,null,null,null,null,null,null,null,null,null,null,null,null,null,null,null,null,null,null,null,null,null,null,null,null,null,null,null,null,null,null,{"$f":"IF(O1064=\"130\",2014.4*AO1064*'CO2 Conversion Factors'!$D$20/0.8/1000,2096.16*AO1064*'CO2 Conversion Factors'!$D$20/0.8/1000)","v":0},{"$f":"IF(O1064=\"130\",2014.4*AO1064*'CO2 Conversion Factors'!$G$20/0.8/1000,2096.16*AO1064*'CO2 Conversion Factors'!$G$20/0.8/1000)","v":0},{"$f":"IF(O1064=\"130\",2014.4*AO1064*'CO2 Conversion Factors'!$J$20/0.8/1000,2096.16*AO1064*'CO2 Conversion Factors'!$J$20/0.8/1000)","v":0},0,0,null,null,null,0,0,0,0,"",false,false,false,false,null,"","",""]
[null,null,null,null,null,null,null,null,null,null,null,null,null,null,null,null,null,null,null,null,null,null,null,null,null,null,null,null,null,null,null,null,null,null,null,null,null,{"$f":"IF(O1065=\"130\",2014.4*AO1065*'CO2 Conversion Factors'!$D$20/0.8/1000,2096.16*AO1065*'CO2 Conversion Factors'!$D$20/0.8/1000)","v":0},{"$f":"IF(O1065=\"130\",2014.4*AO1065*'CO2 Conversion Factors'!$G$20/0.8/1000,2096.16*AO1065*'CO2 Conversion Factors'!$G$20/0.8/1000)","v":0},{"$f":"IF(O1065=\"130\",2014.4*AO1065*'CO2 Conversion Factors'!$J$20/0.8/1000,2096.16*AO1065*'CO2 Conversion Factors'!$J$20/0.8/1000)","v":0},0,0,null,null,null,0,0,0,0,"",false,false,false,false,null,"","",""]
[null,null,null,null,null,null,null,null,null,null,null,null,null,null,null,null,null,null,null,null,null,null,null,null,null,null,null,null,null,null,null,null,null,null,null,null,null,{"$f":"IF(O1066=\"130\",2014.4*AO1066*'CO2 Conversion Factors'!$D$20/0.8/1000,2096.16*AO1066*'CO2 Conversion Factors'!$D$20/0.8/1000)","v":0},{"$f":"IF(O1066=\"130\",2014.4*AO1066*'CO2 Conversion Factors'!$G$20/0.8/1000,2096.16*AO1066*'CO2 Conversion Factors'!$G$20/0.8/1000)","v":0},{"$f":"IF(O1066=\"130\",2014.4*AO1066*'CO2 Conversion Factors'!$J$20/0.8/1000,2096.16*AO1066*'CO2 Conversion Factors'!$J$20/0.8/1000)","v":0},0,0,null,null,null,0,0,0,0,"",false,false,false,false,null,"","",""]
[null,null,null,null,null,null,null,null,null,null,null,null,null,null,null,null,null,null,null,null,null,null,null,null,null,null,null,null,null,null,null,null,null,null,null,null,null,{"$f":"IF(O1067=\"130\",2014.4*AO1067*'CO2 Conversion Factors'!$D$20/0.8/1000,2096.16*AO1067*'CO2 Conversion Factors'!$D$20/0.8/1000)","v":0},{"$f":"IF(O1067=\"130\",2014.4*AO1067*'CO2 Conversion Factors'!$G$20/0.8/1000,2096.16*AO1067*'CO2 Conversion Factors'!$G$20/0.8/1000)","v":0},{"$f":"IF(O1067=\"130\",2014.4*AO1067*'CO2 Conversion Factors'!$J$20/0.8/1000,2096.16*AO1067*'CO2 Conversion Factors'!$J$20/0.8/1000)","v":0},0,0,null,null,null,0,0,0,0,"",false,false,false,false,null,"","",""]
[null,null,null,null,null,null,null,null,null,null,null,null,null,null,null,null,null,null,null,null,null,null,null,null,null,null,null,null,null,null,null,null,null,null,null,null,null,{"$f":"IF(O1068=\"130\",2014.4*AO1068*'CO2 Conversion Factors'!$D$20/0.8/1000,2096.16*AO1068*'CO2 Conversion Factors'!$D$20/0.8/1000)","v":0},{"$f":"IF(O1068=\"130\",2014.4*AO1068*'CO2 Conversion Factors'!$G$20/0.8/1000,2096.16*AO1068*'CO2 Conversion Factors'!$G$20/0.8/1000)","v":0},{"$f":"IF(O1068=\"130\",2014.4*AO1068*'CO2 Conversion Factors'!$J$20/0.8/1000,2096.16*AO1068*'CO2 Conversion Factors'!$J$20/0.8/1000)","v":0},0,0,null,null,null,0,0,0,0,"",false,false,false,false,null,"","",""]
[null,null,null,null,null,null,null,null,null,null,null,null,null,null,null,null,null,null,null,null,null,null,null,null,null,null,null,null,null,null,null,null,null,null,null,null,null,{"$f":"IF(O1069=\"130\",2014.4*AO1069*'CO2 Conversion Factors'!$D$20/0.8/1000,2096.16*AO1069*'CO2 Conversion Factors'!$D$20/0.8/1000)","v":0},{"$f":"IF(O1069=\"130\",2014.4*AO1069*'CO2 Conversion Factors'!$G$20/0.8/1000,2096.16*AO1069*'CO2 Conversion Factors'!$G$20/0.8/1000)","v":0},{"$f":"IF(O1069=\"130\",2014.4*AO1069*'CO2 Conversion Factors'!$J$20/0.8/1000,2096.16*AO1069*'CO2 Conversion Factors'!$J$20/0.8/1000)","v":0},0,0,null,null,null,0,0,0,0,"",false,false,false,false,null,"","",""]
[null,null,null,null,null,null,null,null,null,null,null,null,null,null,null,null,null,null,null,null,null,null,null,null,null,null,null,null,null,null,null,null,null,null,null,null,null,{"$f":"IF(O1070=\"130\",2014.4*AO1070*'CO2 Conversion Factors'!$D$20/0.8/1000,2096.16*AO1070*'CO2 Conversion Factors'!$D$20/0.8/1000)","v":0},{"$f":"IF(O1070=\"130\",2014.4*AO1070*'CO2 Conversion Factors'!$G$20/0.8/1000,2096.16*AO1070*'CO2 Conversion Factors'!$G$20/0.8/1000)","v":0},{"$f":"IF(O1070=\"130\",2014.4*AO1070*'CO2 Conversion Factors'!$J$20/0.8/1000,2096.16*AO1070*'CO2 Conversion Factors'!$J$20/0.8/1000)","v":0},0,0,null,null,null,0,0,0,0,"",false,false,false,false,null,"","",""]
[null,null,null,null,null,null,null,null,null,null,null,null,null,null,null,null,null,null,null,null,null,null,null,null,null,null,null,null,null,null,null,null,null,null,null,null,null,{"$f":"IF(O1071=\"130\",2014.4*AO1071*'CO2 Conversion Factors'!$D$20/0.8/1000,2096.16*AO1071*'CO2 Conversion Factors'!$D$20/0.8/1000)","v":0},{"$f":"IF(O1071=\"130\",2014.4*AO1071*'CO2 Conversion Factors'!$G$20/0.8/1000,2096.16*AO1071*'CO2 Conversion Factors'!$G$20/0.8/1000)","v":0},{"$f":"IF(O1071=\"130\",2014.4*AO1071*'CO2 Conversion Factors'!$J$20/0.8/1000,2096.16*AO1071*'CO2 Conversion Factors'!$J$20/0.8/1000)","v":0},0,0,null,null,null,0,0,0,0,"",false,false,false,false,null,"","",""]
[null,null,null,null,null,null,null,null,null,null,null,null,null,null,null,null,null,null,null,null,null,null,null,null,null,null,null,null,null,null,null,null,null,null,null,null,null,{"$f":"IF(O1072=\"130\",2014.4*AO1072*'CO2 Conversion Factors'!$D$20/0.8/1000,2096.16*AO1072*'CO2 Conversion Factors'!$D$20/0.8/1000)","v":0},{"$f":"IF(O1072=\"130\",2014.4*AO1072*'CO2 Conversion Factors'!$G$20/0.8/1000,2096.16*AO1072*'CO2 Conversion Factors'!$G$20/0.8/1000)","v":0},{"$f":"IF(O1072=\"130\",2014.4*AO1072*'CO2 Conversion Factors'!$J$20/0.8/1000,2096.16*AO1072*'CO2 Conversion Factors'!$J$20/0.8/1000)","v":0},0,0,null,null,null,0,0,0,0,"",false,false,false,false,null,"","",""]
[null,null,null,null,null,null,null,null,null,null,null,null,null,null,null,null,null,null,null,null,null,null,null,null,null,null,null,null,null,null,null,null,null,null,null,null,null,{"$f":"IF(O1073=\"130\",2014.4*AO1073*'CO2 Conversion Factors'!$D$20/0.8/1000,2096.16*AO1073*'CO2 Conversion Factors'!$D$20/0.8/1000)","v":0},{"$f":"IF(O1073=\"130\",2014.4*AO1073*'CO2 Conversion Factors'!$G$20/0.8/1000,2096.16*AO1073*'CO2 Conversion Factors'!$G$20/0.8/1000)","v":0},{"$f":"IF(O1073=\"130\",2014.4*AO1073*'CO2 Conversion Factors'!$J$20/0.8/1000,2096.16*AO1073*'CO2 Conversion Factors'!$J$20/0.8/1000)","v":0},0,0,null,null,null,0,0,0,0,"",false,false,false,false,null,"","",""]
[null,null,null,null,null,null,null,null,null,null,null,null,null,null,null,null,null,null,null,null,null,null,null,null,null,null,null,null,null,null,null,null,null,null,null,null,null,{"$f":"IF(O1074=\"130\",2014.4*AO1074*'CO2 Conversion Factors'!$D$20/0.8/1000,2096.16*AO1074*'CO2 Conversion Factors'!$D$20/0.8/1000)","v":0},{"$f":"IF(O1074=\"130\",2014.4*AO1074*'CO2 Conversion Factors'!$G$20/0.8/1000,2096.16*AO1074*'CO2 Conversion Factors'!$G$20/0.8/1000)","v":0},{"$f":"IF(O1074=\"130\",2014.4*AO1074*'CO2 Conversion Factors'!$J$20/0.8/1000,2096.16*AO1074*'CO2 Conversion Factors'!$J$20/0.8/1000)","v":0},0,0,null,null,null,0,0,0,0,"",false,false,false,false,null,"","",""]
[null,null,null,null,null,null,null,null,null,null,null,null,null,null,null,null,null,null,null,null,null,null,null,null,null,null,null,null,null,null,null,null,null,null,null,null,null,{"$f":"IF(O1075=\"130\",2014.4*AO1075*'CO2 Conversion Factors'!$D$20/0.8/1000,2096.16*AO1075*'CO2 Conversion Factors'!$D$20/0.8/1000)","v":0},{"$f":"IF(O1075=\"130\",2014.4*AO1075*'CO2 Conversion Factors'!$G$20/0.8/1000,2096.16*AO1075*'CO2 Conversion Factors'!$G$20/0.8/1000)","v":0},{"$f":"IF(O1075=\"130\",2014.4*AO1075*'CO2 Conversion Factors'!$J$20/0.8/1000,2096.16*AO1075*'CO2 Conversion Factors'!$J$20/0.8/1000)","v":0},0,0,null,null,null,0,0,0,0,"",false,false,false,false,null,"","",""]
[null,null,null,null,null,null,null,null,null,null,null,null,null,null,null,null,null,null,null,null,null,null,null,null,null,null,null,null,null,null,null,null,null,null,null,null,null,{"$f":"IF(O1076=\"130\",2014.4*AO1076*'CO2 Conversion Factors'!$D$20/0.8/1000,2096.16*AO1076*'CO2 Conversion Factors'!$D$20/0.8/1000)","v":0},{"$f":"IF(O1076=\"130\",2014.4*AO1076*'CO2 Conversion Factors'!$G$20/0.8/1000,2096.16*AO1076*'CO2 Conversion Factors'!$G$20/0.8/1000)","v":0},{"$f":"IF(O1076=\"130\",2014.4*AO1076*'CO2 Conversion Factors'!$J$20/0.8/1000,2096.16*AO1076*'CO2 Conversion Factors'!$J$20/0.8/1000)","v":0},0,0,null,null,null,0,0,0,0,"",false,false,false,false,null,"","",""]
[null,null,null,null,null,null,null,null,null,null,null,null,null,null,null,null,null,null,null,null,null,null,null,null,null,null,null,null,null,null,null,null,null,null,null,null,null,{"$f":"IF(O1077=\"130\",2014.4*AO1077*'CO2 Conversion Factors'!$D$20/0.8/1000,2096.16*AO1077*'CO2 Conversion Factors'!$D$20/0.8/1000)","v":0},{"$f":"IF(O1077=\"130\",2014.4*AO1077*'CO2 Conversion Factors'!$G$20/0.8/1000,2096.16*AO1077*'CO2 Conversion Factors'!$G$20/0.8/1000)","v":0},{"$f":"IF(O1077=\"130\",2014.4*AO1077*'CO2 Conversion Factors'!$J$20/0.8/1000,2096.16*AO1077*'CO2 Conversion Factors'!$J$20/0.8/1000)","v":0},0,0,null,null,null,0,0,0,0,"",false,false,false,false,null,"","",""]
[null,null,null,null,null,null,null,null,null,null,null,null,null,null,null,null,null,null,null,null,null,null,null,null,null,null,null,null,null,null,null,null,null,null,null,null,null,{"$f":"IF(O1078=\"130\",2014.4*AO1078*'CO2 Conversion Factors'!$D$20/0.8/1000,2096.16*AO1078*'CO2 Conversion Factors'!$D$20/0.8/1000)","v":0},{"$f":"IF(O1078=\"130\",2014.4*AO1078*'CO2 Conversion Factors'!$G$20/0.8/1000,2096.16*AO1078*'CO2 Conversion Factors'!$G$20/0.8/1000)","v":0},{"$f":"IF(O1078=\"130\",2014.4*AO1078*'CO2 Conversion Factors'!$J$20/0.8/1000,2096.16*AO1078*'CO2 Conversion Factors'!$J$20/0.8/1000)","v":0},0,0,null,null,null,0,0,0,0,"",false,false,false,false,null,"","",""]
[null,null,null,null,null,null,null,null,null,null,null,null,null,null,null,null,null,null,null,null,null,null,null,null,null,null,null,null,null,null,null,null,null,null,null,null,null,{"$f":"IF(O1079=\"130\",2014.4*AO1079*'CO2 Conversion Factors'!$D$20/0.8/1000,2096.16*AO1079*'CO2 Conversion Factors'!$D$20/0.8/1000)","v":0},{"$f":"IF(O1079=\"130\",2014.4*AO1079*'CO2 Conversion Factors'!$G$20/0.8/1000,2096.16*AO1079*'CO2 Conversion Factors'!$G$20/0.8/1000)","v":0},{"$f":"IF(O1079=\"130\",2014.4*AO1079*'CO2 Conversion Factors'!$J$20/0.8/1000,2096.16*AO1079*'CO2 Conversion Factors'!$J$20/0.8/1000)","v":0},0,0,null,null,null,0,0,0,0,"",false,false,false,false,null,"","",""]
[null,null,null,null,null,null,null,null,null,null,null,null,null,null,null,null,null,null,null,null,null,null,null,null,null,null,null,null,null,null,null,null,null,null,null,null,null,{"$f":"IF(O1080=\"130\",2014.4*AO1080*'CO2 Conversion Factors'!$D$20/0.8/1000,2096.16*AO1080*'CO2 Conversion Factors'!$D$20/0.8/1000)","v":0},{"$f":"IF(O1080=\"130\",2014.4*AO1080*'CO2 Conversion Factors'!$G$20/0.8/1000,2096.16*AO1080*'CO2 Conversion Factors'!$G$20/0.8/1000)","v":0},{"$f":"IF(O1080=\"130\",2014.4*AO1080*'CO2 Conversion Factors'!$J$20/0.8/1000,2096.16*AO1080*'CO2 Conversion Factors'!$J$20/0.8/1000)","v":0},0,0,null,null,null,0,0,0,0,"",false,false,false,false,null,"","",""]
[null,null,null,null,null,null,null,null,null,null,null,null,null,null,null,null,null,null,null,null,null,null,null,null,null,null,null,null,null,null,null,null,null,null,null,null,null,{"$f":"IF(O1081=\"130\",2014.4*AO1081*'CO2 Conversion Factors'!$D$20/0.8/1000,2096.16*AO1081*'CO2 Conversion Factors'!$D$20/0.8/1000)","v":0},{"$f":"IF(O1081=\"130\",2014.4*AO1081*'CO2 Conversion Factors'!$G$20/0.8/1000,2096.16*AO1081*'CO2 Conversion Factors'!$G$20/0.8/1000)","v":0},{"$f":"IF(O1081=\"130\",2014.4*AO1081*'CO2 Conversion Factors'!$J$20/0.8/1000,2096.16*AO1081*'CO2 Conversion Factors'!$J$20/0.8/1000)","v":0},0,0,null,null,null,0,0,0,0,"",false,false,false,false,null,"","",""]
[null,null,null,null,null,null,null,null,null,null,null,null,null,null,null,null,null,null,null,null,null,null,null,null,null,null,null,null,null,null,null,null,null,null,null,null,null,{"$f":"IF(O1082=\"130\",2014.4*AO1082*'CO2 Conversion Factors'!$D$20/0.8/1000,2096.16*AO1082*'CO2 Conversion Factors'!$D$20/0.8/1000)","v":0},{"$f":"IF(O1082=\"130\",2014.4*AO1082*'CO2 Conversion Factors'!$G$20/0.8/1000,2096.16*AO1082*'CO2 Conversion Factors'!$G$20/0.8/1000)","v":0},{"$f":"IF(O1082=\"130\",2014.4*AO1082*'CO2 Conversion Factors'!$J$20/0.8/1000,2096.16*AO1082*'CO2 Conversion Factors'!$J$20/0.8/1000)","v":0},0,0,null,null,null,0,0,0,0,"",false,false,false,false,null,"","",""]
[null,null,null,null,null,null,null,null,null,null,null,null,null,null,null,null,null,null,null,null,null,null,null,null,null,null,null,null,null,null,null,null,null,null,null,null,null,{"$f":"IF(O1083=\"130\",2014.4*AO1083*'CO2 Conversion Factors'!$D$20/0.8/1000,2096.16*AO1083*'CO2 Conversion Factors'!$D$20/0.8/1000)","v":0},{"$f":"IF(O1083=\"130\",2014.4*AO1083*'CO2 Conversion Factors'!$G$20/0.8/1000,2096.16*AO1083*'CO2 Conversion Factors'!$G$20/0.8/1000)","v":0},{"$f":"IF(O1083=\"130\",2014.4*AO1083*'CO2 Conversion Factors'!$J$20/0.8/1000,2096.16*AO1083*'CO2 Conversion Factors'!$J$20/0.8/1000)","v":0},0,0,null,null,null,0,0,0,0,"",false,false,false,false,null,"","",""]
[null,null,null,null,null,null,null,null,null,null,null,null,null,null,null,null,null,null,null,null,null,null,null,null,null,null,null,null,null,null,null,null,null,null,null,null,null,{"$f":"IF(O1084=\"130\",2014.4*AO1084*'CO2 Conversion Factors'!$D$20/0.8/1000,2096.16*AO1084*'CO2 Conversion Factors'!$D$20/0.8/1000)","v":0},{"$f":"IF(O1084=\"130\",2014.4*AO1084*'CO2 Conversion Factors'!$G$20/0.8/1000,2096.16*AO1084*'CO2 Conversion Factors'!$G$20/0.8/1000)","v":0},{"$f":"IF(O1084=\"130\",2014.4*AO1084*'CO2 Conversion Factors'!$J$20/0.8/1000,2096.16*AO1084*'CO2 Conversion Factors'!$J$20/0.8/1000)","v":0},0,0,null,null,null,0,0,0,0,"",false,false,false,false,null,"","",""]
[null,null,null,null,null,null,null,null,null,null,null,null,null,null,null,null,null,null,null,null,null,null,null,null,null,null,null,null,null,null,null,null,null,null,null,null,null,{"$f":"IF(O1085=\"130\",2014.4*AO1085*'CO2 Conversion Factors'!$D$20/0.8/1000,2096.16*AO1085*'CO2 Conversion Factors'!$D$20/0.8/1000)","v":0},{"$f":"IF(O1085=\"130\",2014.4*AO1085*'CO2 Conversion Factors'!$G$20/0.8/1000,2096.16*AO1085*'CO2 Conversion Factors'!$G$20/0.8/1000)","v":0},{"$f":"IF(O1085=\"130\",2014.4*AO1085*'CO2 Conversion Factors'!$J$20/0.8/1000,2096.16*AO1085*'CO2 Conversion Factors'!$J$20/0.8/1000)","v":0},0,0,null,null,null,0,0,0,0,"",false,false,false,false,null,"","",""]
[null,null,null,null,null,null,null,null,null,null,null,null,null,null,null,null,null,null,null,null,null,null,null,null,null,null,null,null,null,null,null,null,null,null,null,null,null,{"$f":"IF(O1086=\"130\",2014.4*AO1086*'CO2 Conversion Factors'!$D$20/0.8/1000,2096.16*AO1086*'CO2 Conversion Factors'!$D$20/0.8/1000)","v":0},{"$f":"IF(O1086=\"130\",2014.4*AO1086*'CO2 Conversion Factors'!$G$20/0.8/1000,2096.16*AO1086*'CO2 Conversion Factors'!$G$20/0.8/1000)","v":0},{"$f":"IF(O1086=\"130\",2014.4*AO1086*'CO2 Conversion Factors'!$J$20/0.8/1000,2096.16*AO1086*'CO2 Conversion Factors'!$J$20/0.8/1000)","v":0},0,0,null,null,null,0,0,0,0,"",false,false,false,false,null,"","",""]
[null,null,null,null,null,null,null,null,null,null,null,null,null,null,null,null,null,null,null,null,null,null,null,null,null,null,null,null,null,null,null,null,null,null,null,null,null,{"$f":"IF(O1087=\"130\",2014.4*AO1087*'CO2 Conversion Factors'!$D$20/0.8/1000,2096.16*AO1087*'CO2 Conversion Factors'!$D$20/0.8/1000)","v":0},{"$f":"IF(O1087=\"130\",2014.4*AO1087*'CO2 Conversion Factors'!$G$20/0.8/1000,2096.16*AO1087*'CO2 Conversion Factors'!$G$20/0.8/1000)","v":0},{"$f":"IF(O1087=\"130\",2014.4*AO1087*'CO2 Conversion Factors'!$J$20/0.8/1000,2096.16*AO1087*'CO2 Conversion Factors'!$J$20/0.8/1000)","v":0},0,0,null,null,null,0,0,0,0,"",false,false,false,false,null,"","",""]
[null,null,null,null,null,null,null,null,null,null,null,null,null,null,null,null,null,null,null,null,null,null,null,null,null,null,null,null,null,null,null,null,null,null,null,null,null,{"$f":"IF(O1088=\"130\",2014.4*AO1088*'CO2 Conversion Factors'!$D$20/0.8/1000,2096.16*AO1088*'CO2 Conversion Factors'!$D$20/0.8/1000)","v":0},{"$f":"IF(O1088=\"130\",2014.4*AO1088*'CO2 Conversion Factors'!$G$20/0.8/1000,2096.16*AO1088*'CO2 Conversion Factors'!$G$20/0.8/1000)","v":0},{"$f":"IF(O1088=\"130\",2014.4*AO1088*'CO2 Conversion Factors'!$J$20/0.8/1000,2096.16*AO1088*'CO2 Conversion Factors'!$J$20/0.8/1000)","v":0},0,0,null,null,null,0,0,0,0,"",false,false,false,false,null,"","",""]
[null,null,null,null,null,null,null,null,null,null,null,null,null,null,null,null,null,null,null,null,null,null,null,null,null,null,null,null,null,null,null,null,null,null,null,null,null,{"$f":"IF(O1089=\"130\",2014.4*AO1089*'CO2 Conversion Factors'!$D$20/0.8/1000,2096.16*AO1089*'CO2 Conversion Factors'!$D$20/0.8/1000)","v":0},{"$f":"IF(O1089=\"130\",2014.4*AO1089*'CO2 Conversion Factors'!$G$20/0.8/1000,2096.16*AO1089*'CO2 Conversion Factors'!$G$20/0.8/1000)","v":0},{"$f":"IF(O1089=\"130\",2014.4*AO1089*'CO2 Conversion Factors'!$J$20/0.8/1000,2096.16*AO1089*'CO2 Conversion Factors'!$J$20/0.8/1000)","v":0},0,0,null,null,null,0,0,0,0,"",false,false,false,false,null,"","SU020",""]
[null,null,null,null,null,null,null,null,null,null,null,null,null,null,null,null,null,null,null,null,null,null,null,null,null,null,null,null,null,null,null,null,null,null,null,null,null,{"$f":"IF(O1090=\"130\",2014.4*AO1090*'CO2 Conversion Factors'!$D$20/0.8/1000,2096.16*AO1090*'CO2 Conversion Factors'!$D$20/0.8/1000)","v":0},{"$f":"IF(O1090=\"130\",2014.4*AO1090*'CO2 Conversion Factors'!$G$20/0.8/1000,2096.16*AO1090*'CO2 Conversion Factors'!$G$20/0.8/1000)","v":0},{"$f":"IF(O1090=\"130\",2014.4*AO1090*'CO2 Conversion Factors'!$J$20/0.8/1000,2096.16*AO1090*'CO2 Conversion Factors'!$J$20/0.8/1000)","v":0},0,0,null,null,null,0,0,0,0,"",false,false,false,false,null,"","SU009",""]
[null,null,null,null,null,null,null,null,null,null,null,null,null,null,null,null,null,null,null,null,null,null,null,null,null,null,null,null,null,null,null,null,null,null,null,null,null,{"$f":"IF(O1091=\"130\",2014.4*AO1091*'CO2 Conversion Factors'!$D$20/0.8/1000,2096.16*AO1091*'CO2 Conversion Factors'!$D$20/0.8/1000)","v":0},{"$f":"IF(O1091=\"130\",2014.4*AO1091*'CO2 Conversion Factors'!$G$20/0.8/1000,2096.16*AO1091*'CO2 Conversion Factors'!$G$20/0.8/1000)","v":0},{"$f":"IF(O1091=\"130\",2014.4*AO1091*'CO2 Conversion Factors'!$J$20/0.8/1000,2096.16*AO1091*'CO2 Conversion Factors'!$J$20/0.8/1000)","v":0},{"$f":"IFERROR(IF(OR(L1091=\"BLW\",L1091=\"PRI\",L1091=\"LNK\"),IF(Cover_Select_SteamCostUnits=\"£/1000kg\",11.6*(VLOOKUP($I1091,Abb_Lookup_OrifaceDia,2,FALSE)^2)*SQRT(($O1091-$P1091)*($O1091+$P1091)),25.57363*(VLOOKUP($I1091,Abb_Lookup_OrifaceDia,2,FALSE)^2)*SQRT(($O1091-$P1091)*($O1091+$P1091)))*(VLOOKUP(AE1091,Cover_Lookup_OpTime,4,FALSE)/1000),IF(L1091=\"LL\",IF(Cover_Select_SteamCostUnits=\"£/1000kg\",11.6*(VLOOKUP($I1091,Abb_Lookup_OrifaceDia,2,FALSE)^2)*SQRT(($O1091-$P1091)*($O1091+$P1091)),25.57363*(VLOOKUP($I1091,Abb_Lookup_OrifaceDia,2,FALSE)^2)*SQRT(($O1091-$P1091)*($O1091+$P1091)))*(VLOOKUP(AE1091,Cover_Lookup_OpTime,4,FALSE)/2000),IF(L1091=\"SL\",IF(Cover_Select_SteamCostUnits=\"£/1000kg\",11.6*(VLOOKUP($I1091,Abb_Lookup_OrifaceDia,2,FALSE)^2)*SQRT(($O1091-$P1091)*($O1091+$P1091)),25.57363*(VLOOKUP($I1091,Abb_Lookup_OrifaceDia,2,FALSE)^2)*SQRT(($O1091-$P1091)*($O1091+$P1091)))*(VLOOKUP(AE1091,Cover_Lookup_OpTime,4,FALSE)/4000),0))),0)","v":0},0,null,null,null,0,0,0,0,"",false,false,false,false,null,"","SU008",""]
[null,null,null,null,null,null,null,null,null,null,null,null,null,null,null,null,null,null,null,null,null,null,null,null,null,null,null,null,null,null,null,null,null,null,null,null,null,{"$f":"IF(O1092=\"130\",2014.4*AO1092*'CO2 Conversion Factors'!$D$20/0.8/1000,2096.16*AO1092*'CO2 Conversion Factors'!$D$20/0.8/1000)","v":0},{"$f":"IF(O1092=\"130\",2014.4*AO1092*'CO2 Conversion Factors'!$G$20/0.8/1000,2096.16*AO1092*'CO2 Conversion Factors'!$G$20/0.8/1000)","v":0},{"$f":"IF(O1092=\"130\",2014.4*AO1092*'CO2 Conversion Factors'!$J$20/0.8/1000,2096.16*AO1092*'CO2 Conversion Factors'!$J$20/0.8/1000)","v":0},0,0,null,null,null,0,0,0,0,"",false,false,false,false,null,"","SU010",""]
[null,null,null,null,null,null,null,null,null,null,null,null,null,null,null,null,null,null,null,null,null,null,null,null,null,null,null,null,null,null,null,null,null,null,null,null,null,{"$f":"IF(O1093=\"130\",2014.4*AO1093*'CO2 Conversion Factors'!$D$20/0.8/1000,2096.16*AO1093*'CO2 Conversion Factors'!$D$20/0.8/1000)","v":0},{"$f":"IF(O1093=\"130\",2014.4*AO1093*'CO2 Conversion Factors'!$G$20/0.8/1000,2096.16*AO1093*'CO2 Conversion Factors'!$G$20/0.8/1000)","v":0},{"$f":"IF(O1093=\"130\",2014.4*AO1093*'CO2 Conversion Factors'!$J$20/0.8/1000,2096.16*AO1093*'CO2 Conversion Factors'!$J$20/0.8/1000)","v":0},0,{"$f":"IFERROR(AO1093*Cover_Select_SteamCost,0)","v":0},null,null,null,{"$f":"IF(NOT(OR(L1093=\"NIS\",L1093=\"OFF\")),F1093)","v":0},{"$f":"IF(NOT(OR(L1093=\"NIS\",L1093=\"OFF\",L1093=\"PO\")),F1093)","v":0},{"$f":"IF(NOT(OR(L1093=\"NIS\",L1093=\"OFF\")),H1093)","v":0},{"$f":"IF(NOT(OR(L1093=\"NIS\",L1093=\"OFF\",L1093=\"PO\")),H1093)","v":0},"",{"$f":"IF(L1093=\"CLD\", H1093)","v":false},{"$f":"IF(L1093=\"SL\", H1093)","v":false},{"$f":"IF(L1093=\"LL\", H1093)","v":false},{"$f":"IF(L1093=\"BLW\", H1093)","v":false},null,"","",""]
[null,null,null,null,null,null,null,null,null,null,null,null,null,null,null,null,null,null,null,null,null,null,null,null,null,null,null,null,null,null,null,null,null,null,null,null,null,{"$f":"IF(O1094=\"130\",2014.4*AO1094*'CO2 Conversion Factors'!$D$20/0.8/1000,2096.16*AO1094*'CO2 Conversion Factors'!$D$20/0.8/1000)","v":0},{"$f":"IF(O1094=\"130\",2014.4*AO1094*'CO2 Conversion Factors'!$G$20/0.8/1000,2096.16*AO1094*'CO2 Conversion Factors'!$G$20/0.8/1000)","v":0},{"$f":"IF(O1094=\"130\",2014.4*AO1094*'CO2 Conversion Factors'!$J$20/0.8/1000,2096.16*AO1094*'CO2 Conversion Factors'!$J$20/0.8/1000)","v":0},0,0,null,null,null,0,0,0,0,{"$f":"F1094&H1094","v":""},false,false,false,false,null,"","",""]
[null,null,null,null,null,null,null,null,null,null,null,null,null,null,null,null,null,null,null,null,null,null,null,null,null,null,null,null,null,null,null,null,null,null,null,null,null,{"$f":"IF(O1095=\"130\",2014.4*AO1095*'CO2 Conversion Factors'!$D$20/0.8/1000,2096.16*AO1095*'CO2 Conversion Factors'!$D$20/0.8/1000)","v":0},{"$f":"IF(O1095=\"130\",2014.4*AO1095*'CO2 Conversion Factors'!$G$20/0.8/1000,2096.16*AO1095*'CO2 Conversion Factors'!$G$20/0.8/1000)","v":0},{"$f":"IF(O1095=\"130\",2014.4*AO1095*'CO2 Conversion Factors'!$J$20/0.8/1000,2096.16*AO1095*'CO2 Conversion Factors'!$J$20/0.8/1000)","v":0},0,0,null,null,null,0,0,0,0,"",false,false,false,false,null,"","",""]
[null,null,null,null,null,null,null,null,null,null,null,null,null,null,null,null,null,null,null,null,null,null,null,null,null,null,null,null,null,null,null,null,null,null,null,null,null,{"$f":"IF(O1096=\"130\",2014.4*AO1096*'CO2 Conversion Factors'!$D$20/0.8/1000,2096.16*AO1096*'CO2 Conversion Factors'!$D$20/0.8/1000)","v":0},{"$f":"IF(O1096=\"130\",2014.4*AO1096*'CO2 Conversion Factors'!$G$20/0.8/1000,2096.16*AO1096*'CO2 Conversion Factors'!$G$20/0.8/1000)","v":0},{"$f":"IF(O1096=\"130\",2014.4*AO1096*'CO2 Conversion Factors'!$J$20/0.8/1000,2096.16*AO1096*'CO2 Conversion Factors'!$J$20/0.8/1000)","v":0},0,0,null,null,null,0,0,0,0,"",false,false,false,false,null,"","",""]
[null,null,null,null,null,null,null,null,null,null,null,null,null,null,null,null,null,null,null,null,null,null,null,null,null,null,null,null,null,null,null,null,null,null,null,null,null,{"$f":"IF(O1097=\"130\",2014.4*AO1097*'CO2 Conversion Factors'!$D$20/0.8/1000,2096.16*AO1097*'CO2 Conversion Factors'!$D$20/0.8/1000)","v":0},{"$f":"IF(O1097=\"130\",2014.4*AO1097*'CO2 Conversion Factors'!$G$20/0.8/1000,2096.16*AO1097*'CO2 Conversion Factors'!$G$20/0.8/1000)","v":0},{"$f":"IF(O1097=\"130\",2014.4*AO1097*'CO2 Conversion Factors'!$J$20/0.8/1000,2096.16*AO1097*'CO2 Conversion Factors'!$J$20/0.8/1000)","v":0},0,0,null,null,null,0,0,0,0,"",false,false,false,false,null,"","",""]
[null,null,null,null,null,null,null,null,null,null,null,null,null,null,null,null,null,null,null,null,null,null,null,null,null,null,null,null,null,null,null,null,null,null,null,null,null,{"$f":"IF(O1098=\"130\",2014.4*AO1098*'CO2 Conversion Factors'!$D$20/0.8/1000,2096.16*AO1098*'CO2 Conversion Factors'!$D$20/0.8/1000)","v":0},{"$f":"IF(O1098=\"130\",2014.4*AO1098*'CO2 Conversion Factors'!$G$20/0.8/1000,2096.16*AO1098*'CO2 Conversion Factors'!$G$20/0.8/1000)","v":0},{"$f":"IF(O1098=\"130\",2014.4*AO1098*'CO2 Conversion Factors'!$J$20/0.8/1000,2096.16*AO1098*'CO2 Conversion Factors'!$J$20/0.8/1000)","v":0},0,0,null,null,null,0,0,0,0,"",false,false,false,false,null,"","SU013",""]
[null,null,null,null,null,null,null,null,null,null,null,null,null,null,null,null,null,null,null,null,null,null,null,null,null,null,null,null,null,null,null,null,null,null,null,null,null,{"$f":"IF(O1099=\"130\",2014.4*AO1099*'CO2 Conversion Factors'!$D$20/0.8/1000,2096.16*AO1099*'CO2 Conversion Factors'!$D$20/0.8/1000)","v":0},{"$f":"IF(O1099=\"130\",2014.4*AO1099*'CO2 Conversion Factors'!$G$20/0.8/1000,2096.16*AO1099*'CO2 Conversion Factors'!$G$20/0.8/1000)","v":0},{"$f":"IF(O1099=\"130\",2014.4*AO1099*'CO2 Conversion Factors'!$J$20/0.8/1000,2096.16*AO1099*'CO2 Conversion Factors'!$J$20/0.8/1000)","v":0},0,0,null,null,null,0,0,0,0,"",false,false,false,false,null,"","SU015",""]
[null,null,null,null,null,null,null,null,null,null,null,null,null,null,null,null,null,null,null,null,null,null,null,null,null,null,null,null,null,null,null,null,null,null,null,null,null,{"$f":"IF(O1100=\"130\",2014.4*AO1100*'CO2 Conversion Factors'!$D$20/0.8/1000,2096.16*AO1100*'CO2 Conversion Factors'!$D$20/0.8/1000)","v":0},{"$f":"IF(O1100=\"130\",2014.4*AO1100*'CO2 Conversion Factors'!$G$20/0.8/1000,2096.16*AO1100*'CO2 Conversion Factors'!$G$20/0.8/1000)","v":0},{"$f":"IF(O1100=\"130\",2014.4*AO1100*'CO2 Conversion Factors'!$J$20/0.8/1000,2096.16*AO1100*'CO2 Conversion Factors'!$J$20/0.8/1000)","v":0},0,0,null,null,null,0,0,0,0,"",false,false,false,false,null,"","SU012",""]
[null,null,null,null,null,null,null,null,null,null,null,null,null,null,null,null,null,null,null,null,null,null,null,null,null,null,null,null,null,null,null,null,null,null,null,null,null,{"$f":"IF(O1101=\"130\",2014.4*AO1101*'CO2 Conversion Factors'!$D$20/0.8/1000,2096.16*AO1101*'CO2 Conversion Factors'!$D$20/0.8/1000)","v":0},{"$f":"IF(O1101=\"130\",2014.4*AO1101*'CO2 Conversion Factors'!$G$20/0.8/1000,2096.16*AO1101*'CO2 Conversion Factors'!$G$20/0.8/1000)","v":0},{"$f":"IF(O1101=\"130\",2014.4*AO1101*'CO2 Conversion Factors'!$J$20/0.8/1000,2096.16*AO1101*'CO2 Conversion Factors'!$J$20/0.8/1000)","v":0},0,0,null,null,null,0,0,0,0,"",false,false,false,false,null,"","",""]
[null,null,null,null,null,null,null,null,null,null,null,null,null,null,null,null,null,null,null,null,null,null,null,null,null,null,null,null,null,null,null,null,null,null,null,null,null,{"$f":"IF(O1102=\"130\",2014.4*AO1102*'CO2 Conversion Factors'!$D$20/0.8/1000,2096.16*AO1102*'CO2 Conversion Factors'!$D$20/0.8/1000)","v":0},{"$f":"IF(O1102=\"130\",2014.4*AO1102*'CO2 Conversion Factors'!$G$20/0.8/1000,2096.16*AO1102*'CO2 Conversion Factors'!$G$20/0.8/1000)","v":0},{"$f":"IF(O1102=\"130\",2014.4*AO1102*'CO2 Conversion Factors'!$J$20/0.8/1000,2096.16*AO1102*'CO2 Conversion Factors'!$J$20/0.8/1000)","v":0},0,0,null,null,null,0,0,0,0,"",false,false,false,false,null,"","",""]
[null,null,null,null,null,null,null,null,null,null,null,null,null,null,null,null,null,null,null,null,null,null,null,null,null,null,null,null,null,null,null,null,null,null,null,null,null,{"$f":"IF(O1103=\"130\",2014.4*AO1103*'CO2 Conversion Factors'!$D$20/0.8/1000,2096.16*AO1103*'CO2 Conversion Factors'!$D$20/0.8/1000)","v":0},{"$f":"IF(O1103=\"130\",2014.4*AO1103*'CO2 Conversion Factors'!$G$20/0.8/1000,2096.16*AO1103*'CO2 Conversion Factors'!$G$20/0.8/1000)","v":0},{"$f":"IF(O1103=\"130\",2014.4*AO1103*'CO2 Conversion Factors'!$J$20/0.8/1000,2096.16*AO1103*'CO2 Conversion Factors'!$J$20/0.8/1000)","v":0},0,0,null,null,null,0,0,0,0,"",false,false,false,false,null,"","",""]
[null,null,null,null,null,null,null,null,null,null,null,null,null,null,null,null,null,null,null,null,null,null,null,null,null,null,null,null,null,null,null,null,null,null,null,null,null,{"$f":"IF(O1104=\"130\",2014.4*AO1104*'CO2 Conversion Factors'!$D$20/0.8/1000,2096.16*AO1104*'CO2 Conversion Factors'!$D$20/0.8/1000)","v":0},{"$f":"IF(O1104=\"130\",2014.4*AO1104*'CO2 Conversion Factors'!$G$20/0.8/1000,2096.16*AO1104*'CO2 Conversion Factors'!$G$20/0.8/1000)","v":0},{"$f":"IF(O1104=\"130\",2014.4*AO1104*'CO2 Conversion Factors'!$J$20/0.8/1000,2096.16*AO1104*'CO2 Conversion Factors'!$J$20/0.8/1000)","v":0},0,0,null,null,null,0,0,0,0,"",false,false,false,false,null,"","",""]
[null,null,null,null,null,null,null,null,null,null,null,null,null,null,null,null,null,null,null,null,null,null,null,null,null,null,null,null,null,null,null,null,null,null,null,null,null,{"$f":"IF(O1105=\"130\",2014.4*AO1105*'CO2 Conversion Factors'!$D$20/0.8/1000,2096.16*AO1105*'CO2 Conversion Factors'!$D$20/0.8/1000)","v":0},{"$f":"IF(O1105=\"130\",2014.4*AO1105*'CO2 Conversion Factors'!$G$20/0.8/1000,2096.16*AO1105*'CO2 Conversion Factors'!$G$20/0.8/1000)","v":0},{"$f":"IF(O1105=\"130\",2014.4*AO1105*'CO2 Conversion Factors'!$J$20/0.8/1000,2096.16*AO1105*'CO2 Conversion Factors'!$J$20/0.8/1000)","v":0},0,0,null,null,null,0,0,0,0,"",false,false,false,false,null,"","",""]
[null,null,null,null,null,null,null,null,null,null,null,null,null,null,null,null,null,null,null,null,null,null,null,null,null,null,null,null,null,null,null,null,null,null,null,null,null,{"$f":"IF(O1106=\"130\",2014.4*AO1106*'CO2 Conversion Factors'!$D$20/0.8/1000,2096.16*AO1106*'CO2 Conversion Factors'!$D$20/0.8/1000)","v":0},{"$f":"IF(O1106=\"130\",2014.4*AO1106*'CO2 Conversion Factors'!$G$20/0.8/1000,2096.16*AO1106*'CO2 Conversion Factors'!$G$20/0.8/1000)","v":0},{"$f":"IF(O1106=\"130\",2014.4*AO1106*'CO2 Conversion Factors'!$J$20/0.8/1000,2096.16*AO1106*'CO2 Conversion Factors'!$J$20/0.8/1000)","v":0},0,0,null,null,null,0,0,0,0,"",false,false,false,false,null,"","",""]
[null,null,null,null,null,null,null,null,null,null,null,null,null,null,null,null,null,null,null,null,null,null,null,null,null,null,null,null,null,null,null,null,null,null,null,null,null,{"$f":"IF(O1107=\"130\",2014.4*AO1107*'CO2 Conversion Factors'!$D$20/0.8/1000,2096.16*AO1107*'CO2 Conversion Factors'!$D$20/0.8/1000)","v":0},{"$f":"IF(O1107=\"130\",2014.4*AO1107*'CO2 Conversion Factors'!$G$20/0.8/1000,2096.16*AO1107*'CO2 Conversion Factors'!$G$20/0.8/1000)","v":0},{"$f":"IF(O1107=\"130\",2014.4*AO1107*'CO2 Conversion Factors'!$J$20/0.8/1000,2096.16*AO1107*'CO2 Conversion Factors'!$J$20/0.8/1000)","v":0},0,0,null,null,null,0,0,0,0,"",false,false,false,false,null,"","",""]
[null,null,null,null,null,null,null,null,null,null,null,null,null,null,null,null,null,null,null,null,null,null,null,null,null,null,null,null,null,null,null,null,null,null,null,null,null,{"$f":"IF(O1108=\"130\",2014.4*AO1108*'CO2 Conversion Factors'!$D$20/0.8/1000,2096.16*AO1108*'CO2 Conversion Factors'!$D$20/0.8/1000)","v":0},{"$f":"IF(O1108=\"130\",2014.4*AO1108*'CO2 Conversion Factors'!$G$20/0.8/1000,2096.16*AO1108*'CO2 Conversion Factors'!$G$20/0.8/1000)","v":0},{"$f":"IF(O1108=\"130\",2014.4*AO1108*'CO2 Conversion Factors'!$J$20/0.8/1000,2096.16*AO1108*'CO2 Conversion Factors'!$J$20/0.8/1000)","v":0},0,0,null,null,null,0,0,0,0,"",false,false,false,false,null,"","SU322",""]
[null,null,null,null,null,null,null,null,null,null,null,null,null,null,null,null,null,null,null,null,null,null,null,null,null,null,null,null,null,null,null,null,null,null,null,null,null,{"$f":"IF(O1109=\"130\",2014.4*AO1109*'CO2 Conversion Factors'!$D$20/0.8/1000,2096.16*AO1109*'CO2 Conversion Factors'!$D$20/0.8/1000)","v":0},{"$f":"IF(O1109=\"130\",2014.4*AO1109*'CO2 Conversion Factors'!$G$20/0.8/1000,2096.16*AO1109*'CO2 Conversion Factors'!$G$20/0.8/1000)","v":0},{"$f":"IF(O1109=\"130\",2014.4*AO1109*'CO2 Conversion Factors'!$J$20/0.8/1000,2096.16*AO1109*'CO2 Conversion Factors'!$J$20/0.8/1000)","v":0},0,0,null,null,null,0,0,0,0,"",false,false,false,false,null,"","",""]
[null,null,null,null,null,null,null,null,null,null,null,null,null,null,null,null,null,null,null,null,null,null,null,null,null,null,null,null,null,null,null,null,null,null,null,null,null,{"$f":"IF(O1110=\"130\",2014.4*AO1110*'CO2 Conversion Factors'!$D$20/0.8/1000,2096.16*AO1110*'CO2 Conversion Factors'!$D$20/0.8/1000)","v":0},{"$f":"IF(O1110=\"130\",2014.4*AO1110*'CO2 Conversion Factors'!$G$20/0.8/1000,2096.16*AO1110*'CO2 Conversion Factors'!$G$20/0.8/1000)","v":0},{"$f":"IF(O1110=\"130\",2014.4*AO1110*'CO2 Conversion Factors'!$J$20/0.8/1000,2096.16*AO1110*'CO2 Conversion Factors'!$J$20/0.8/1000)","v":0},0,0,null,null,null,0,0,0,0,"",false,false,false,false,null,"","",""]
[null,null,null,null,null,null,null,null,null,null,null,null,null,null,null,null,null,null,null,null,null,null,null,null,null,null,null,null,null,null,null,null,null,null,null,null,null,{"$f":"IF(O1111=\"130\",2014.4*AO1111*'CO2 Conversion Factors'!$D$20/0.8/1000,2096.16*AO1111*'CO2 Conversion Factors'!$D$20/0.8/1000)","v":0},{"$f":"IF(O1111=\"130\",2014.4*AO1111*'CO2 Conversion Factors'!$G$20/0.8/1000,2096.16*AO1111*'CO2 Conversion Factors'!$G$20/0.8/1000)","v":0},{"$f":"IF(O1111=\"130\",2014.4*AO1111*'CO2 Conversion Factors'!$J$20/0.8/1000,2096.16*AO1111*'CO2 Conversion Factors'!$J$20/0.8/1000)","v":0},0,0,null,null,null,0,0,0,0,"",false,false,false,false,null,"","",""]
[null,null,null,null,null,null,null,null,null,null,null,null,null,null,null,null,null,null,null,null,null,null,null,null,null,null,null,null,null,null,null,null,null,null,null,null,null,{"$f":"IF(O1112=\"130\",2014.4*AO1112*'CO2 Conversion Factors'!$D$20/0.8/1000,2096.16*AO1112*'CO2 Conversion Factors'!$D$20/0.8/1000)","v":0},{"$f":"IF(O1112=\"130\",2014.4*AO1112*'CO2 Conversion Factors'!$G$20/0.8/1000,2096.16*AO1112*'CO2 Conversion Factors'!$G$20/0.8/1000)","v":0},{"$f":"IF(O1112=\"130\",2014.4*AO1112*'CO2 Conversion Factors'!$J$20/0.8/1000,2096.16*AO1112*'CO2 Conversion Factors'!$J$20/0.8/1000)","v":0},0,0,null,null,null,0,0,0,0,"",false,false,false,false,null,"","",""]
[null,null,null,null,null,null,null,null,null,null,null,null,null,null,null,null,null,null,null,null,null,null,null,null,null,null,null,null,null,null,null,null,null,null,null,null,null,{"$f":"IF(O1113=\"130\",2014.4*AO1113*'CO2 Conversion Factors'!$D$20/0.8/1000,2096.16*AO1113*'CO2 Conversion Factors'!$D$20/0.8/1000)","v":0},{"$f":"IF(O1113=\"130\",2014.4*AO1113*'CO2 Conversion Factors'!$G$20/0.8/1000,2096.16*AO1113*'CO2 Conversion Factors'!$G$20/0.8/1000)","v":0},{"$f":"IF(O1113=\"130\",2014.4*AO1113*'CO2 Conversion Factors'!$J$20/0.8/1000,2096.16*AO1113*'CO2 Conversion Factors'!$J$20/0.8/1000)","v":0},0,0,null,null,null,0,0,0,0,"",false,false,false,false,null,"","",""]
[null,null,null,null,null,null,null,null,null,null,null,null,null,null,null,null,null,null,null,null,null,null,null,null,null,null,null,null,null,null,null,null,null,null,null,null,null,{"$f":"IF(O1114=\"130\",2014.4*AO1114*'CO2 Conversion Factors'!$D$20/0.8/1000,2096.16*AO1114*'CO2 Conversion Factors'!$D$20/0.8/1000)","v":0},{"$f":"IF(O1114=\"130\",2014.4*AO1114*'CO2 Conversion Factors'!$G$20/0.8/1000,2096.16*AO1114*'CO2 Conversion Factors'!$G$20/0.8/1000)","v":0},{"$f":"IF(O1114=\"130\",2014.4*AO1114*'CO2 Conversion Factors'!$J$20/0.8/1000,2096.16*AO1114*'CO2 Conversion Factors'!$J$20/0.8/1000)","v":0},0,0,null,null,null,0,0,0,0,"",false,false,false,false,null,"","",""]
[null,null,null,null,null,null,null,null,null,null,null,null,null,null,null,null,null,null,null,null,null,null,null,null,null,null,null,null,null,null,null,null,null,null,null,null,null,{"$f":"IF(O1115=\"130\",2014.4*AO1115*'CO2 Conversion Factors'!$D$20/0.8/1000,2096.16*AO1115*'CO2 Conversion Factors'!$D$20/0.8/1000)","v":0},{"$f":"IF(O1115=\"130\",2014.4*AO1115*'CO2 Conversion Factors'!$G$20/0.8/1000,2096.16*AO1115*'CO2 Conversion Factors'!$G$20/0.8/1000)","v":0},{"$f":"IF(O1115=\"130\",2014.4*AO1115*'CO2 Conversion Factors'!$J$20/0.8/1000,2096.16*AO1115*'CO2 Conversion Factors'!$J$20/0.8/1000)","v":0},0,0,null,null,null,0,0,0,0,"",false,false,false,false,null,"","",""]
[null,null,null,null,null,null,null,null,null,null,null,null,null,null,null,null,null,null,null,null,null,null,null,null,null,null,null,null,null,null,null,null,null,null,null,null,null,{"$f":"IF(O1116=\"130\",2014.4*AO1116*'CO2 Conversion Factors'!$D$20/0.8/1000,2096.16*AO1116*'CO2 Conversion Factors'!$D$20/0.8/1000)","v":0},{"$f":"IF(O1116=\"130\",2014.4*AO1116*'CO2 Conversion Factors'!$G$20/0.8/1000,2096.16*AO1116*'CO2 Conversion Factors'!$G$20/0.8/1000)","v":0},{"$f":"IF(O1116=\"130\",2014.4*AO1116*'CO2 Conversion Factors'!$J$20/0.8/1000,2096.16*AO1116*'CO2 Conversion Factors'!$J$20/0.8/1000)","v":0},0,0,null,null,null,0,0,0,0,"",false,false,false,false,null,"","",""]
[null,null,null,null,null,null,null,null,null,null,null,null,null,null,null,null,null,null,null,null,null,null,null,null,null,null,null,null,null,null,null,null,null,null,null,null,null,{"$f":"IF(O1117=\"130\",2014.4*AO1117*'CO2 Conversion Factors'!$D$20/0.8/1000,2096.16*AO1117*'CO2 Conversion Factors'!$D$20/0.8/1000)","v":0},{"$f":"IF(O1117=\"130\",2014.4*AO1117*'CO2 Conversion Factors'!$G$20/0.8/1000,2096.16*AO1117*'CO2 Conversion Factors'!$G$20/0.8/1000)","v":0},{"$f":"IF(O1117=\"130\",2014.4*AO1117*'CO2 Conversion Factors'!$J$20/0.8/1000,2096.16*AO1117*'CO2 Conversion Factors'!$J$20/0.8/1000)","v":0},0,0,null,null,null,0,0,0,0,"",false,false,false,false,null,"","",""]
[null,null,null,null,null,null,null,null,null,null,null,null,null,null,null,null,null,null,null,null,null,null,null,null,null,null,null,null,null,null,null,null,null,null,null,null,null,{"$f":"IF(O1118=\"130\",2014.4*AO1118*'CO2 Conversion Factors'!$D$20/0.8/1000,2096.16*AO1118*'CO2 Conversion Factors'!$D$20/0.8/1000)","v":0},{"$f":"IF(O1118=\"130\",2014.4*AO1118*'CO2 Conversion Factors'!$G$20/0.8/1000,2096.16*AO1118*'CO2 Conversion Factors'!$G$20/0.8/1000)","v":0},{"$f":"IF(O1118=\"130\",2014.4*AO1118*'CO2 Conversion Factors'!$J$20/0.8/1000,2096.16*AO1118*'CO2 Conversion Factors'!$J$20/0.8/1000)","v":0},0,0,null,null,null,0,0,0,0,"",false,false,false,false,null,"","",""]
[null,null,null,null,null,null,null,null,null,null,null,null,null,null,null,null,null,null,null,null,null,null,null,null,null,null,null,null,null,null,null,null,null,null,null,null,null,{"$f":"IF(O1119=\"130\",2014.4*AO1119*'CO2 Conversion Factors'!$D$20/0.8/1000,2096.16*AO1119*'CO2 Conversion Factors'!$D$20/0.8/1000)","v":0},{"$f":"IF(O1119=\"130\",2014.4*AO1119*'CO2 Conversion Factors'!$G$20/0.8/1000,2096.16*AO1119*'CO2 Conversion Factors'!$G$20/0.8/1000)","v":0},{"$f":"IF(O1119=\"130\",2014.4*AO1119*'CO2 Conversion Factors'!$J$20/0.8/1000,2096.16*AO1119*'CO2 Conversion Factors'!$J$20/0.8/1000)","v":0},0,0,null,null,null,0,0,0,0,"",false,false,false,false,null,"","",""]
[null,null,null,null,null,null,null,null,null,null,null,null,null,null,null,null,null,null,null,null,null,null,null,null,null,null,null,null,null,null,null,null,null,null,null,null,null,{"$f":"IF(O1120=\"130\",2014.4*AO1120*'CO2 Conversion Factors'!$D$20/0.8/1000,2096.16*AO1120*'CO2 Conversion Factors'!$D$20/0.8/1000)","v":0},{"$f":"IF(O1120=\"130\",2014.4*AO1120*'CO2 Conversion Factors'!$G$20/0.8/1000,2096.16*AO1120*'CO2 Conversion Factors'!$G$20/0.8/1000)","v":0},{"$f":"IF(O1120=\"130\",2014.4*AO1120*'CO2 Conversion Factors'!$J$20/0.8/1000,2096.16*AO1120*'CO2 Conversion Factors'!$J$20/0.8/1000)","v":0},0,0,null,null,null,0,0,0,0,"",false,false,false,false,null,"","",""]
[null,null,null,null,null,null,null,null,null,null,null,null,null,null,null,null,null,null,null,null,null,null,null,null,null,null,null,null,null,null,null,null,null,null,null,null,null,{"$f":"IF(O1121=\"130\",2014.4*AO1121*'CO2 Conversion Factors'!$D$20/0.8/1000,2096.16*AO1121*'CO2 Conversion Factors'!$D$20/0.8/1000)","v":0},{"$f":"IF(O1121=\"130\",2014.4*AO1121*'CO2 Conversion Factors'!$G$20/0.8/1000,2096.16*AO1121*'CO2 Conversion Factors'!$G$20/0.8/1000)","v":0},{"$f":"IF(O1121=\"130\",2014.4*AO1121*'CO2 Conversion Factors'!$J$20/0.8/1000,2096.16*AO1121*'CO2 Conversion Factors'!$J$20/0.8/1000)","v":0},0,0,null,null,null,0,0,0,0,"",false,false,false,false,null,"","",""]
[null,null,null,null,null,null,null,null,null,null,null,null,null,null,null,null,null,null,null,null,null,null,null,null,null,null,null,null,null,null,null,null,null,null,null,null,null,{"$f":"IF(O1122=\"130\",2014.4*AO1122*'CO2 Conversion Factors'!$D$20/0.8/1000,2096.16*AO1122*'CO2 Conversion Factors'!$D$20/0.8/1000)","v":0},{"$f":"IF(O1122=\"130\",2014.4*AO1122*'CO2 Conversion Factors'!$G$20/0.8/1000,2096.16*AO1122*'CO2 Conversion Factors'!$G$20/0.8/1000)","v":0},{"$f":"IF(O1122=\"130\",2014.4*AO1122*'CO2 Conversion Factors'!$J$20/0.8/1000,2096.16*AO1122*'CO2 Conversion Factors'!$J$20/0.8/1000)","v":0},0,0,null,null,null,0,0,0,0,"",false,false,false,false,null,"","",""]
[null,null,null,null,null,null,null,null,null,null,null,null,null,null,null,null,null,null,null,null,null,null,null,null,null,null,null,null,null,null,null,null,null,null,null,null,null,{"$f":"IF(O1123=\"130\",2014.4*AO1123*'CO2 Conversion Factors'!$D$20/0.8/1000,2096.16*AO1123*'CO2 Conversion Factors'!$D$20/0.8/1000)","v":0},{"$f":"IF(O1123=\"130\",2014.4*AO1123*'CO2 Conversion Factors'!$G$20/0.8/1000,2096.16*AO1123*'CO2 Conversion Factors'!$G$20/0.8/1000)","v":0},{"$f":"IF(O1123=\"130\",2014.4*AO1123*'CO2 Conversion Factors'!$J$20/0.8/1000,2096.16*AO1123*'CO2 Conversion Factors'!$J$20/0.8/1000)","v":0},0,0,null,null,null,0,0,0,0,"",false,false,false,false,null,"","",""]
[null,null,null,null,null,null,null,null,null,null,null,null,null,null,null,null,null,null,null,null,null,null,null,null,null,null,null,null,null,null,null,null,null,null,null,null,null,{"$f":"IF(O1124=\"130\",2014.4*AO1124*'CO2 Conversion Factors'!$D$20/0.8/1000,2096.16*AO1124*'CO2 Conversion Factors'!$D$20/0.8/1000)","v":0},{"$f":"IF(O1124=\"130\",2014.4*AO1124*'CO2 Conversion Factors'!$G$20/0.8/1000,2096.16*AO1124*'CO2 Conversion Factors'!$G$20/0.8/1000)","v":0},{"$f":"IF(O1124=\"130\",2014.4*AO1124*'CO2 Conversion Factors'!$J$20/0.8/1000,2096.16*AO1124*'CO2 Conversion Factors'!$J$20/0.8/1000)","v":0},0,0,null,null,null,0,0,0,0,"",false,false,false,false,null,"","",""]
[null,null,null,null,null,null,null,null,null,null,null,null,null,null,null,null,null,null,null,null,null,null,null,null,null,null,null,null,null,null,null,null,null,null,null,null,null,{"$f":"IF(O1125=\"130\",2014.4*AO1125*'CO2 Conversion Factors'!$D$20/0.8/1000,2096.16*AO1125*'CO2 Conversion Factors'!$D$20/0.8/1000)","v":0},{"$f":"IF(O1125=\"130\",2014.4*AO1125*'CO2 Conversion Factors'!$G$20/0.8/1000,2096.16*AO1125*'CO2 Conversion Factors'!$G$20/0.8/1000)","v":0},{"$f":"IF(O1125=\"130\",2014.4*AO1125*'CO2 Conversion Factors'!$J$20/0.8/1000,2096.16*AO1125*'CO2 Conversion Factors'!$J$20/0.8/1000)","v":0},0,0,null,null,null,0,0,0,0,"",false,false,false,false,null,"","",""]
[null,null,null,null,null,null,null,null,null,null,null,null,null,null,null,null,null,null,null,null,null,null,null,null,null,null,null,null,null,null,null,null,null,null,null,null,null,{"$f":"IF(O1126=\"130\",2014.4*AO1126*'CO2 Conversion Factors'!$D$20/0.8/1000,2096.16*AO1126*'CO2 Conversion Factors'!$D$20/0.8/1000)","v":0},{"$f":"IF(O1126=\"130\",2014.4*AO1126*'CO2 Conversion Factors'!$G$20/0.8/1000,2096.16*AO1126*'CO2 Conversion Factors'!$G$20/0.8/1000)","v":0},{"$f":"IF(O1126=\"130\",2014.4*AO1126*'CO2 Conversion Factors'!$J$20/0.8/1000,2096.16*AO1126*'CO2 Conversion Factors'!$J$20/0.8/1000)","v":0},0,0,null,null,null,0,0,0,0,"",false,false,false,false,null,"","",""]
[null,null,null,null,null,null,null,null,null,null,null,null,null,null,null,null,null,null,null,null,null,null,null,null,null,null,null,null,null,null,null,null,null,null,null,null,null,{"$f":"IF(O1127=\"130\",2014.4*AO1127*'CO2 Conversion Factors'!$D$20/0.8/1000,2096.16*AO1127*'CO2 Conversion Factors'!$D$20/0.8/1000)","v":0},{"$f":"IF(O1127=\"130\",2014.4*AO1127*'CO2 Conversion Factors'!$G$20/0.8/1000,2096.16*AO1127*'CO2 Conversion Factors'!$G$20/0.8/1000)","v":0},{"$f":"IF(O1127=\"130\",2014.4*AO1127*'CO2 Conversion Factors'!$J$20/0.8/1000,2096.16*AO1127*'CO2 Conversion Factors'!$J$20/0.8/1000)","v":0},0,0,null,null,null,0,0,0,0,"",false,false,false,false,null,"","",""]
[null,null,null,null,null,null,null,null,null,null,null,null,null,null,null,null,null,null,null,null,null,null,null,null,null,null,null,null,null,null,null,null,null,null,null,null,null,{"$f":"IF(O1128=\"130\",2014.4*AO1128*'CO2 Conversion Factors'!$D$20/0.8/1000,2096.16*AO1128*'CO2 Conversion Factors'!$D$20/0.8/1000)","v":0},{"$f":"IF(O1128=\"130\",2014.4*AO1128*'CO2 Conversion Factors'!$G$20/0.8/1000,2096.16*AO1128*'CO2 Conversion Factors'!$G$20/0.8/1000)","v":0},{"$f":"IF(O1128=\"130\",2014.4*AO1128*'CO2 Conversion Factors'!$J$20/0.8/1000,2096.16*AO1128*'CO2 Conversion Factors'!$J$20/0.8/1000)","v":0},0,0,null,null,null,0,0,0,0,"",false,false,false,false,null,"","",""]
[null,null,null,null,null,null,null,null,null,null,null,null,null,null,null,null,null,null,null,null,null,null,null,null,null,null,null,null,null,null,null,null,null,null,null,null,null,{"$f":"IF(O1129=\"130\",2014.4*AO1129*'CO2 Conversion Factors'!$D$20/0.8/1000,2096.16*AO1129*'CO2 Conversion Factors'!$D$20/0.8/1000)","v":0},{"$f":"IF(O1129=\"130\",2014.4*AO1129*'CO2 Conversion Factors'!$G$20/0.8/1000,2096.16*AO1129*'CO2 Conversion Factors'!$G$20/0.8/1000)","v":0},{"$f":"IF(O1129=\"130\",2014.4*AO1129*'CO2 Conversion Factors'!$J$20/0.8/1000,2096.16*AO1129*'CO2 Conversion Factors'!$J$20/0.8/1000)","v":0},0,0,null,null,null,0,0,0,0,"",false,false,false,false,null,"","",""]
[null,null,null,null,null,null,null,null,null,null,null,null,null,null,null,null,null,null,null,null,null,null,null,null,null,null,null,null,null,null,null,null,null,null,null,null,null,{"$f":"IF(O1130=\"130\",2014.4*AO1130*'CO2 Conversion Factors'!$D$20/0.8/1000,2096.16*AO1130*'CO2 Conversion Factors'!$D$20/0.8/1000)","v":0},{"$f":"IF(O1130=\"130\",2014.4*AO1130*'CO2 Conversion Factors'!$G$20/0.8/1000,2096.16*AO1130*'CO2 Conversion Factors'!$G$20/0.8/1000)","v":0},{"$f":"IF(O1130=\"130\",2014.4*AO1130*'CO2 Conversion Factors'!$J$20/0.8/1000,2096.16*AO1130*'CO2 Conversion Factors'!$J$20/0.8/1000)","v":0},0,0,null,null,null,0,0,0,0,"",false,false,false,false,null,"","",""]
[null,null,null,null,null,null,null,null,null,null,null,null,null,null,null,null,null,null,null,null,null,null,null,null,null,null,null,null,null,null,null,null,null,null,null,null,null,{"$f":"IF(O1131=\"130\",2014.4*AO1131*'CO2 Conversion Factors'!$D$20/0.8/1000,2096.16*AO1131*'CO2 Conversion Factors'!$D$20/0.8/1000)","v":0},{"$f":"IF(O1131=\"130\",2014.4*AO1131*'CO2 Conversion Factors'!$G$20/0.8/1000,2096.16*AO1131*'CO2 Conversion Factors'!$G$20/0.8/1000)","v":0},{"$f":"IF(O1131=\"130\",2014.4*AO1131*'CO2 Conversion Factors'!$J$20/0.8/1000,2096.16*AO1131*'CO2 Conversion Factors'!$J$20/0.8/1000)","v":0},0,0,null,null,null,0,0,0,0,"",false,false,false,false,null,"","",""]
[null,null,null,null,null,null,null,null,null,null,null,null,null,null,null,null,null,null,null,null,null,null,null,null,null,null,null,null,null,null,null,null,null,null,null,null,null,{"$f":"IF(O1132=\"130\",2014.4*AO1132*'CO2 Conversion Factors'!$D$20/0.8/1000,2096.16*AO1132*'CO2 Conversion Factors'!$D$20/0.8/1000)","v":0},{"$f":"IF(O1132=\"130\",2014.4*AO1132*'CO2 Conversion Factors'!$G$20/0.8/1000,2096.16*AO1132*'CO2 Conversion Factors'!$G$20/0.8/1000)","v":0},{"$f":"IF(O1132=\"130\",2014.4*AO1132*'CO2 Conversion Factors'!$J$20/0.8/1000,2096.16*AO1132*'CO2 Conversion Factors'!$J$20/0.8/1000)","v":0},0,0,null,null,null,0,0,0,0,"",false,false,false,false,null,"","",""]
[null,null,null,null,null,null,null,null,null,null,null,null,null,null,null,null,null,null,null,null,null,null,null,null,null,null,null,null,null,null,null,null,null,null,null,null,null,{"$f":"IF(O1133=\"130\",2014.4*AO1133*'CO2 Conversion Factors'!$D$20/0.8/1000,2096.16*AO1133*'CO2 Conversion Factors'!$D$20/0.8/1000)","v":0},{"$f":"IF(O1133=\"130\",2014.4*AO1133*'CO2 Conversion Factors'!$G$20/0.8/1000,2096.16*AO1133*'CO2 Conversion Factors'!$G$20/0.8/1000)","v":0},{"$f":"IF(O1133=\"130\",2014.4*AO1133*'CO2 Conversion Factors'!$J$20/0.8/1000,2096.16*AO1133*'CO2 Conversion Factors'!$J$20/0.8/1000)","v":0},0,0,null,null,null,0,0,0,0,"",false,false,false,false,null,"","",""]
[null,null,null,null,null,null,null,null,null,null,null,null,null,null,null,null,null,null,null,null,null,null,null,null,null,null,null,null,null,null,null,null,null,null,null,null,null,{"$f":"IF(O1134=\"130\",2014.4*AO1134*'CO2 Conversion Factors'!$D$20/0.8/1000,2096.16*AO1134*'CO2 Conversion Factors'!$D$20/0.8/1000)","v":0},{"$f":"IF(O1134=\"130\",2014.4*AO1134*'CO2 Conversion Factors'!$G$20/0.8/1000,2096.16*AO1134*'CO2 Conversion Factors'!$G$20/0.8/1000)","v":0},{"$f":"IF(O1134=\"130\",2014.4*AO1134*'CO2 Conversion Factors'!$J$20/0.8/1000,2096.16*AO1134*'CO2 Conversion Factors'!$J$20/0.8/1000)","v":0},0,0,null,null,null,0,0,0,0,"",false,false,false,false,null,"","",""]
[null,null,null,null,null,null,null,null,null,null,null,null,null,null,null,null,null,null,null,null,null,null,null,null,null,null,null,null,null,null,null,null,null,null,null,null,null,{"$f":"IF(O1135=\"130\",2014.4*AO1135*'CO2 Conversion Factors'!$D$20/0.8/1000,2096.16*AO1135*'CO2 Conversion Factors'!$D$20/0.8/1000)","v":0},{"$f":"IF(O1135=\"130\",2014.4*AO1135*'CO2 Conversion Factors'!$G$20/0.8/1000,2096.16*AO1135*'CO2 Conversion Factors'!$G$20/0.8/1000)","v":0},{"$f":"IF(O1135=\"130\",2014.4*AO1135*'CO2 Conversion Factors'!$J$20/0.8/1000,2096.16*AO1135*'CO2 Conversion Factors'!$J$20/0.8/1000)","v":0},0,0,null,null,null,0,0,0,0,"",false,false,false,false,null,"","",""]
[null,null,null,null,null,null,null,null,null,null,null,null,null,null,null,null,null,null,null,null,null,null,null,null,null,null,null,null,null,null,null,null,null,null,null,null,null,{"$f":"IF(O1136=\"130\",2014.4*AO1136*'CO2 Conversion Factors'!$D$20/0.8/1000,2096.16*AO1136*'CO2 Conversion Factors'!$D$20/0.8/1000)","v":0},{"$f":"IF(O1136=\"130\",2014.4*AO1136*'CO2 Conversion Factors'!$G$20/0.8/1000,2096.16*AO1136*'CO2 Conversion Factors'!$G$20/0.8/1000)","v":0},{"$f":"IF(O1136=\"130\",2014.4*AO1136*'CO2 Conversion Factors'!$J$20/0.8/1000,2096.16*AO1136*'CO2 Conversion Factors'!$J$20/0.8/1000)","v":0},0,{"$f":"IFERROR(AO1136*Cover_Select_SteamCost,0)","v":0},null,null,null,{"$f":"IF(NOT(OR(L1136=\"NIS\",L1136=\"OFF\")),F1136)","v":0},{"$f":"IF(NOT(OR(L1136=\"NIS\",L1136=\"OFF\",L1136=\"PO\")),F1136)","v":0},{"$f":"IF(NOT(OR(L1136=\"NIS\",L1136=\"OFF\")),H1136)","v":0},{"$f":"IF(NOT(OR(L1136=\"NIS\",L1136=\"OFF\",L1136=\"PO\")),H1136)","v":0},{"$f":"F1136&H1136","v":""},false,false,false,false,null,"","",""]
[null,null,null,null,null,null,null,null,null,null,null,null,null,null,null,null,null,null,null,null,null,null,null,null,null,null,null,null,null,null,null,null,null,null,null,null,null,{"$f":"IF(O1137=\"130\",2014.4*AO1137*'CO2 Conversion Factors'!$D$20/0.8/1000,2096.16*AO1137*'CO2 Conversion Factors'!$D$20/0.8/1000)","v":0},{"$f":"IF(O1137=\"130\",2014.4*AO1137*'CO2 Conversion Factors'!$G$20/0.8/1000,2096.16*AO1137*'CO2 Conversion Factors'!$G$20/0.8/1000)","v":0},{"$f":"IF(O1137=\"130\",2014.4*AO1137*'CO2 Conversion Factors'!$J$20/0.8/1000,2096.16*AO1137*'CO2 Conversion Factors'!$J$20/0.8/1000)","v":0},0,0,null,null,null,0,0,0,0,"",false,false,false,false,null,"","",""]
[null,null,null,null,null,null,null,null,null,null,null,null,null,null,null,null,null,null,null,null,null,null,null,null,null,null,null,null,null,null,null,null,null,null,null,null,null,{"$f":"IF(O1138=\"130\",2014.4*AO1138*'CO2 Conversion Factors'!$D$20/0.8/1000,2096.16*AO1138*'CO2 Conversion Factors'!$D$20/0.8/1000)","v":0},{"$f":"IF(O1138=\"130\",2014.4*AO1138*'CO2 Conversion Factors'!$G$20/0.8/1000,2096.16*AO1138*'CO2 Conversion Factors'!$G$20/0.8/1000)","v":0},{"$f":"IF(O1138=\"130\",2014.4*AO1138*'CO2 Conversion Factors'!$J$20/0.8/1000,2096.16*AO1138*'CO2 Conversion Factors'!$J$20/0.8/1000)","v":0},0,0,null,null,null,0,0,0,0,"",false,false,false,false,null,"","",""]
[null,null,null,null,null,null,null,null,null,null,null,null,null,null,null,null,null,null,null,null,null,null,null,null,null,null,null,null,null,null,null,null,null,null,null,null,null,{"$f":"IF(O1139=\"130\",2014.4*AO1139*'CO2 Conversion Factors'!$D$20/0.8/1000,2096.16*AO1139*'CO2 Conversion Factors'!$D$20/0.8/1000)","v":0},{"$f":"IF(O1139=\"130\",2014.4*AO1139*'CO2 Conversion Factors'!$G$20/0.8/1000,2096.16*AO1139*'CO2 Conversion Factors'!$G$20/0.8/1000)","v":0},{"$f":"IF(O1139=\"130\",2014.4*AO1139*'CO2 Conversion Factors'!$J$20/0.8/1000,2096.16*AO1139*'CO2 Conversion Factors'!$J$20/0.8/1000)","v":0},0,0,null,null,null,0,0,0,0,"",false,false,false,false,null,"","",""]
[null,null,null,null,null,null,null,null,null,null,null,null,null,null,null,null,null,null,null,null,null,null,null,null,null,null,null,null,null,null,null,null,null,null,null,null,null,{"$f":"IF(O1140=\"130\",2014.4*AO1140*'CO2 Conversion Factors'!$D$20/0.8/1000,2096.16*AO1140*'CO2 Conversion Factors'!$D$20/0.8/1000)","v":0},{"$f":"IF(O1140=\"130\",2014.4*AO1140*'CO2 Conversion Factors'!$G$20/0.8/1000,2096.16*AO1140*'CO2 Conversion Factors'!$G$20/0.8/1000)","v":0},{"$f":"IF(O1140=\"130\",2014.4*AO1140*'CO2 Conversion Factors'!$J$20/0.8/1000,2096.16*AO1140*'CO2 Conversion Factors'!$J$20/0.8/1000)","v":0},0,0,null,null,null,0,0,0,0,"",false,false,false,false,null,"","",""]
[null,null,null,null,null,null,null,null,null,null,null,null,null,null,null,null,null,null,null,null,null,null,null,null,null,null,null,null,null,null,null,null,null,null,null,null,null,{"$f":"IF(O1141=\"130\",2014.4*AO1141*'CO2 Conversion Factors'!$D$20/0.8/1000,2096.16*AO1141*'CO2 Conversion Factors'!$D$20/0.8/1000)","v":0},{"$f":"IF(O1141=\"130\",2014.4*AO1141*'CO2 Conversion Factors'!$G$20/0.8/1000,2096.16*AO1141*'CO2 Conversion Factors'!$G$20/0.8/1000)","v":0},{"$f":"IF(O1141=\"130\",2014.4*AO1141*'CO2 Conversion Factors'!$J$20/0.8/1000,2096.16*AO1141*'CO2 Conversion Factors'!$J$20/0.8/1000)","v":0},0,0,null,null,null,0,0,0,0,"",false,false,false,false,null,"","",""]
[null,null,null,null,null,null,null,null,null,null,null,null,null,null,null,null,null,null,null,null,null,null,null,null,null,null,null,null,null,null,null,null,null,null,null,null,null,{"$f":"IF(O1142=\"130\",2014.4*AO1142*'CO2 Conversion Factors'!$D$20/0.8/1000,2096.16*AO1142*'CO2 Conversion Factors'!$D$20/0.8/1000)","v":0},{"$f":"IF(O1142=\"130\",2014.4*AO1142*'CO2 Conversion Factors'!$G$20/0.8/1000,2096.16*AO1142*'CO2 Conversion Factors'!$G$20/0.8/1000)","v":0},{"$f":"IF(O1142=\"130\",2014.4*AO1142*'CO2 Conversion Factors'!$J$20/0.8/1000,2096.16*AO1142*'CO2 Conversion Factors'!$J$20/0.8/1000)","v":0},0,0,null,null,null,0,0,0,0,"",false,false,false,false,null,"","",""]
[null,null,null,null,null,null,null,null,null,null,null,null,null,null,null,null,null,null,null,null,null,null,null,null,null,null,null,null,null,null,null,null,null,null,null,null,null,{"$f":"IF(O1143=\"130\",2014.4*AO1143*'CO2 Conversion Factors'!$D$20/0.8/1000,2096.16*AO1143*'CO2 Conversion Factors'!$D$20/0.8/1000)","v":0},{"$f":"IF(O1143=\"130\",2014.4*AO1143*'CO2 Conversion Factors'!$G$20/0.8/1000,2096.16*AO1143*'CO2 Conversion Factors'!$G$20/0.8/1000)","v":0},{"$f":"IF(O1143=\"130\",2014.4*AO1143*'CO2 Conversion Factors'!$J$20/0.8/1000,2096.16*AO1143*'CO2 Conversion Factors'!$J$20/0.8/1000)","v":0},0,0,null,null,null,0,0,0,0,"",false,false,false,false,null,"","",""]
[null,null,null,null,null,null,null,null,null,null,null,null,null,null,null,null,null,null,null,null,null,null,null,null,null,null,null,null,null,null,null,null,null,null,null,null,null,{"$f":"IF(O1144=\"130\",2014.4*AO1144*'CO2 Conversion Factors'!$D$20/0.8/1000,2096.16*AO1144*'CO2 Conversion Factors'!$D$20/0.8/1000)","v":0},{"$f":"IF(O1144=\"130\",2014.4*AO1144*'CO2 Conversion Factors'!$G$20/0.8/1000,2096.16*AO1144*'CO2 Conversion Factors'!$G$20/0.8/1000)","v":0},{"$f":"IF(O1144=\"130\",2014.4*AO1144*'CO2 Conversion Factors'!$J$20/0.8/1000,2096.16*AO1144*'CO2 Conversion Factors'!$J$20/0.8/1000)","v":0},0,0,null,null,null,0,0,0,0,"",false,false,false,false,null,"","",""]
[null,null,null,null,null,null,null,null,null,null,null,null,null,null,null,null,null,null,null,null,null,null,null,null,null,null,null,null,null,null,null,null,null,null,null,null,null,{"$f":"IF(O1145=\"130\",2014.4*AO1145*'CO2 Conversion Factors'!$D$20/0.8/1000,2096.16*AO1145*'CO2 Conversion Factors'!$D$20/0.8/1000)","v":0},{"$f":"IF(O1145=\"130\",2014.4*AO1145*'CO2 Conversion Factors'!$G$20/0.8/1000,2096.16*AO1145*'CO2 Conversion Factors'!$G$20/0.8/1000)","v":0},{"$f":"IF(O1145=\"130\",2014.4*AO1145*'CO2 Conversion Factors'!$J$20/0.8/1000,2096.16*AO1145*'CO2 Conversion Factors'!$J$20/0.8/1000)","v":0},0,0,null,null,null,0,0,0,0,"",false,false,false,false,null,"","",""]
[null,null,null,null,null,null,null,null,null,null,null,null,null,null,null,null,null,null,null,null,null,null,null,null,null,null,null,null,null,null,null,null,null,null,null,null,null,{"$f":"IF(O1146=\"130\",2014.4*AO1146*'CO2 Conversion Factors'!$D$20/0.8/1000,2096.16*AO1146*'CO2 Conversion Factors'!$D$20/0.8/1000)","v":0},{"$f":"IF(O1146=\"130\",2014.4*AO1146*'CO2 Conversion Factors'!$G$20/0.8/1000,2096.16*AO1146*'CO2 Conversion Factors'!$G$20/0.8/1000)","v":0},{"$f":"IF(O1146=\"130\",2014.4*AO1146*'CO2 Conversion Factors'!$J$20/0.8/1000,2096.16*AO1146*'CO2 Conversion Factors'!$J$20/0.8/1000)","v":0},0,0,null,null,null,0,0,0,0,"",false,false,false,false,null,"","",""]
[null,null,null,null,null,null,null,null,null,null,null,null,null,null,null,null,null,null,null,null,null,null,null,null,null,null,null,null,null,null,null,null,null,null,null,null,null,{"$f":"IF(O1147=\"130\",2014.4*AO1147*'CO2 Conversion Factors'!$D$20/0.8/1000,2096.16*AO1147*'CO2 Conversion Factors'!$D$20/0.8/1000)","v":0},{"$f":"IF(O1147=\"130\",2014.4*AO1147*'CO2 Conversion Factors'!$G$20/0.8/1000,2096.16*AO1147*'CO2 Conversion Factors'!$G$20/0.8/1000)","v":0},{"$f":"IF(O1147=\"130\",2014.4*AO1147*'CO2 Conversion Factors'!$J$20/0.8/1000,2096.16*AO1147*'CO2 Conversion Factors'!$J$20/0.8/1000)","v":0},0,0,null,null,null,0,0,0,0,"",false,false,false,false,null,"","",""]
[null,null,null,null,null,null,null,null,null,null,null,null,null,null,null,null,null,null,null,null,null,null,null,null,null,null,null,null,null,null,null,null,null,null,null,null,null,{"$f":"IF(O1148=\"130\",2014.4*AO1148*'CO2 Conversion Factors'!$D$20/0.8/1000,2096.16*AO1148*'CO2 Conversion Factors'!$D$20/0.8/1000)","v":0},{"$f":"IF(O1148=\"130\",2014.4*AO1148*'CO2 Conversion Factors'!$G$20/0.8/1000,2096.16*AO1148*'CO2 Conversion Factors'!$G$20/0.8/1000)","v":0},{"$f":"IF(O1148=\"130\",2014.4*AO1148*'CO2 Conversion Factors'!$J$20/0.8/1000,2096.16*AO1148*'CO2 Conversion Factors'!$J$20/0.8/1000)","v":0},0,0,null,null,null,0,0,0,0,"",false,false,false,false,null,"","",""]
[null,null,null,null,null,null,null,null,null,null,null,null,null,null,null,null,null,null,null,null,null,null,null,null,null,null,null,null,null,null,null,null,null,null,null,null,null,{"$f":"IF(O1149=\"130\",2014.4*AO1149*'CO2 Conversion Factors'!$D$20/0.8/1000,2096.16*AO1149*'CO2 Conversion Factors'!$D$20/0.8/1000)","v":0},{"$f":"IF(O1149=\"130\",2014.4*AO1149*'CO2 Conversion Factors'!$G$20/0.8/1000,2096.16*AO1149*'CO2 Conversion Factors'!$G$20/0.8/1000)","v":0},{"$f":"IF(O1149=\"130\",2014.4*AO1149*'CO2 Conversion Factors'!$J$20/0.8/1000,2096.16*AO1149*'CO2 Conversion Factors'!$J$20/0.8/1000)","v":0},0,0,null,null,null,0,0,0,0,"",false,false,false,false,null,"","",""]
[null,null,null,null,null,null,null,null,null,null,null,null,null,null,null,null,null,null,null,null,null,null,null,null,null,null,null,null,null,null,null,null,null,null,null,null,null,{"$f":"IF(O1150=\"130\",2014.4*AO1150*'CO2 Conversion Factors'!$D$20/0.8/1000,2096.16*AO1150*'CO2 Conversion Factors'!$D$20/0.8/1000)","v":0},{"$f":"IF(O1150=\"130\",2014.4*AO1150*'CO2 Conversion Factors'!$G$20/0.8/1000,2096.16*AO1150*'CO2 Conversion Factors'!$G$20/0.8/1000)","v":0},{"$f":"IF(O1150=\"130\",2014.4*AO1150*'CO2 Conversion Factors'!$J$20/0.8/1000,2096.16*AO1150*'CO2 Conversion Factors'!$J$20/0.8/1000)","v":0},0,0,null,null,null,0,0,0,0,"",false,false,false,false,null,"","",""]
[null,null,null,null,null,null,null,null,null,null,null,null,null,null,null,null,null,null,null,null,null,null,null,null,null,null,null,null,null,null,null,null,null,null,null,null,null,{"$f":"IF(O1151=\"130\",2014.4*AO1151*'CO2 Conversion Factors'!$D$20/0.8/1000,2096.16*AO1151*'CO2 Conversion Factors'!$D$20/0.8/1000)","v":0},{"$f":"IF(O1151=\"130\",2014.4*AO1151*'CO2 Conversion Factors'!$G$20/0.8/1000,2096.16*AO1151*'CO2 Conversion Factors'!$G$20/0.8/1000)","v":0},{"$f":"IF(O1151=\"130\",2014.4*AO1151*'CO2 Conversion Factors'!$J$20/0.8/1000,2096.16*AO1151*'CO2 Conversion Factors'!$J$20/0.8/1000)","v":0},0,0,null,null,null,0,0,0,0,"",false,false,false,false,null,"","",""]
[null,null,null,null,null,null,null,null,null,null,null,null,null,null,null,null,null,null,null,null,null,null,null,null,null,null,null,null,null,null,null,null,null,null,null,null,null,{"$f":"IF(O1152=\"130\",2014.4*AO1152*'CO2 Conversion Factors'!$D$20/0.8/1000,2096.16*AO1152*'CO2 Conversion Factors'!$D$20/0.8/1000)","v":0},{"$f":"IF(O1152=\"130\",2014.4*AO1152*'CO2 Conversion Factors'!$G$20/0.8/1000,2096.16*AO1152*'CO2 Conversion Factors'!$G$20/0.8/1000)","v":0},{"$f":"IF(O1152=\"130\",2014.4*AO1152*'CO2 Conversion Factors'!$J$20/0.8/1000,2096.16*AO1152*'CO2 Conversion Factors'!$J$20/0.8/1000)","v":0},0,0,null,null,null,0,0,0,0,"",false,false,false,false,null,"","",""]
[null,null,null,null,null,null,null,null,null,null,null,null,null,null,null,null,null,null,null,null,null,null,null,null,null,null,null,null,null,null,null,null,null,null,null,null,null,{"$f":"IF(O1153=\"130\",2014.4*AO1153*'CO2 Conversion Factors'!$D$20/0.8/1000,2096.16*AO1153*'CO2 Conversion Factors'!$D$20/0.8/1000)","v":0},{"$f":"IF(O1153=\"130\",2014.4*AO1153*'CO2 Conversion Factors'!$G$20/0.8/1000,2096.16*AO1153*'CO2 Conversion Factors'!$G$20/0.8/1000)","v":0},{"$f":"IF(O1153=\"130\",2014.4*AO1153*'CO2 Conversion Factors'!$J$20/0.8/1000,2096.16*AO1153*'CO2 Conversion Factors'!$J$20/0.8/1000)","v":0},0,0,null,null,null,0,0,0,0,"",false,false,false,false,null,"","",""]
[null,null,null,null,null,null,null,null,null,null,null,null,null,null,null,null,null,null,null,null,null,null,null,null,null,null,null,null,null,null,null,null,null,null,null,null,null,{"$f":"IF(O1154=\"130\",2014.4*AO1154*'CO2 Conversion Factors'!$D$20/0.8/1000,2096.16*AO1154*'CO2 Conversion Factors'!$D$20/0.8/1000)","v":0},{"$f":"IF(O1154=\"130\",2014.4*AO1154*'CO2 Conversion Factors'!$G$20/0.8/1000,2096.16*AO1154*'CO2 Conversion Factors'!$G$20/0.8/1000)","v":0},{"$f":"IF(O1154=\"130\",2014.4*AO1154*'CO2 Conversion Factors'!$J$20/0.8/1000,2096.16*AO1154*'CO2 Conversion Factors'!$J$20/0.8/1000)","v":0},0,0,null,null,null,0,0,0,0,"",false,false,false,false,null,"","",""]
[null,null,null,null,null,null,null,null,null,null,null,null,null,null,null,null,null,null,null,null,null,null,null,null,null,null,null,null,null,null,null,null,null,null,null,null,null,{"$f":"IF(O1155=\"130\",2014.4*AO1155*'CO2 Conversion Factors'!$D$20/0.8/1000,2096.16*AO1155*'CO2 Conversion Factors'!$D$20/0.8/1000)","v":0},{"$f":"IF(O1155=\"130\",2014.4*AO1155*'CO2 Conversion Factors'!$G$20/0.8/1000,2096.16*AO1155*'CO2 Conversion Factors'!$G$20/0.8/1000)","v":0},{"$f":"IF(O1155=\"130\",2014.4*AO1155*'CO2 Conversion Factors'!$J$20/0.8/1000,2096.16*AO1155*'CO2 Conversion Factors'!$J$20/0.8/1000)","v":0},{"$f":"IFERROR(IF(OR(L1155=\"BLW\",L1155=\"PRI\",L1155=\"LNK\"),IF(Cover_Select_SteamCostUnits=\"£/1000kg\",11.6*(VLOOKUP($I1155,Abb_Lookup_OrifaceDia,2,FALSE)^2)*SQRT(($O1155-$P1155)*($O1155+$P1155)),25.57363*(VLOOKUP($I1155,Abb_Lookup_OrifaceDia,2,FALSE)^2)*SQRT(($O1155-$P1155)*($O1155+$P1155)))*(VLOOKUP(AE1155,Cover_Lookup_OpTime,4,FALSE)/1000),IF(L1155=\"LL\",IF(Cover_Select_SteamCostUnits=\"£/1000kg\",11.6*(VLOOKUP($I1155,Abb_Lookup_OrifaceDia,2,FALSE)^2)*SQRT(($O1155-$P1155)*($O1155+$P1155)),25.57363*(VLOOKUP($I1155,Abb_Lookup_OrifaceDia,2,FALSE)^2)*SQRT(($O1155-$P1155)*($O1155+$P1155)))*(VLOOKUP(AE1155,Cover_Lookup_OpTime,4,FALSE)/2000),IF(L1155=\"SL\",IF(Cover_Select_SteamCostUnits=\"£/1000kg\",11.6*(VLOOKUP($I1155,Abb_Lookup_OrifaceDia,2,FALSE)^2)*SQRT(($O1155-$P1155)*($O1155+$P1155)),25.57363*(VLOOKUP($I1155,Abb_Lookup_OrifaceDia,2,FALSE)^2)*SQRT(($O1155-$P1155)*($O1155+$P1155)))*(VLOOKUP(AE1155,Cover_Lookup_OpTime,4,FALSE)/4000),0))),0)","v":0},0,null,null,null,0,0,0,0,"",false,false,false,false,null,"","",""]
[null,null,null,null,null,null,null,null,null,null,null,null,null,null,null,null,null,null,null,null,null,null,null,null,null,null,null,null,null,null,null,null,null,null,null,null,null,{"$f":"IF(O1156=\"130\",2014.4*AO1156*'CO2 Conversion Factors'!$D$20/0.8/1000,2096.16*AO1156*'CO2 Conversion Factors'!$D$20/0.8/1000)","v":0},{"$f":"IF(O1156=\"130\",2014.4*AO1156*'CO2 Conversion Factors'!$G$20/0.8/1000,2096.16*AO1156*'CO2 Conversion Factors'!$G$20/0.8/1000)","v":0},{"$f":"IF(O1156=\"130\",2014.4*AO1156*'CO2 Conversion Factors'!$J$20/0.8/1000,2096.16*AO1156*'CO2 Conversion Factors'!$J$20/0.8/1000)","v":0},0,0,null,null,null,0,0,0,0,"",false,false,false,false,null,"","",""]
[null,null,null,null,null,null,null,null,null,null,null,null,null,null,null,null,null,null,null,null,null,null,null,null,null,null,null,null,null,null,null,null,null,null,null,null,null,{"$f":"IF(O1157=\"130\",2014.4*AO1157*'CO2 Conversion Factors'!$D$20/0.8/1000,2096.16*AO1157*'CO2 Conversion Factors'!$D$20/0.8/1000)","v":0},{"$f":"IF(O1157=\"130\",2014.4*AO1157*'CO2 Conversion Factors'!$G$20/0.8/1000,2096.16*AO1157*'CO2 Conversion Factors'!$G$20/0.8/1000)","v":0},{"$f":"IF(O1157=\"130\",2014.4*AO1157*'CO2 Conversion Factors'!$J$20/0.8/1000,2096.16*AO1157*'CO2 Conversion Factors'!$J$20/0.8/1000)","v":0},0,0,null,null,null,0,0,0,0,"",{"$f":"IF(L1157=\"CLD\", H1157)","v":false},{"$f":"IF(L1157=\"SL\", H1157)","v":false},{"$f":"IF(L1157=\"LL\", H1157)","v":false},{"$f":"IF(L1157=\"BLW\", H1157)","v":false},null,"","",""]
[null,null,null,null,null,null,null,null,null,null,null,null,null,null,null,null,null,null,null,null,null,null,null,null,null,null,null,null,null,null,null,null,null,null,null,null,null,{"$f":"IF(O1158=\"130\",2014.4*AO1158*'CO2 Conversion Factors'!$D$20/0.8/1000,2096.16*AO1158*'CO2 Conversion Factors'!$D$20/0.8/1000)","v":0},{"$f":"IF(O1158=\"130\",2014.4*AO1158*'CO2 Conversion Factors'!$G$20/0.8/1000,2096.16*AO1158*'CO2 Conversion Factors'!$G$20/0.8/1000)","v":0},{"$f":"IF(O1158=\"130\",2014.4*AO1158*'CO2 Conversion Factors'!$J$20/0.8/1000,2096.16*AO1158*'CO2 Conversion Factors'!$J$20/0.8/1000)","v":0},0,0,null,null,null,0,0,0,0,"",false,false,false,false,null,"","",""]
[null,null,null,null,null,null,null,null,null,null,null,null,null,null,null,null,null,null,null,null,null,null,null,null,null,null,null,null,null,null,null,null,null,null,null,null,null,{"$f":"IF(O1159=\"130\",2014.4*AO1159*'CO2 Conversion Factors'!$D$20/0.8/1000,2096.16*AO1159*'CO2 Conversion Factors'!$D$20/0.8/1000)","v":0},{"$f":"IF(O1159=\"130\",2014.4*AO1159*'CO2 Conversion Factors'!$G$20/0.8/1000,2096.16*AO1159*'CO2 Conversion Factors'!$G$20/0.8/1000)","v":0},{"$f":"IF(O1159=\"130\",2014.4*AO1159*'CO2 Conversion Factors'!$J$20/0.8/1000,2096.16*AO1159*'CO2 Conversion Factors'!$J$20/0.8/1000)","v":0},0,0,null,null,null,0,0,0,0,"",false,false,false,false,null,"","",""]
[null,null,null,null,null,null,null,null,null,null,null,null,null,null,null,null,null,null,null,null,null,null,null,null,null,null,null,null,null,null,null,null,null,null,null,null,null,{"$f":"IF(O1160=\"130\",2014.4*AO1160*'CO2 Conversion Factors'!$D$20/0.8/1000,2096.16*AO1160*'CO2 Conversion Factors'!$D$20/0.8/1000)","v":0},{"$f":"IF(O1160=\"130\",2014.4*AO1160*'CO2 Conversion Factors'!$G$20/0.8/1000,2096.16*AO1160*'CO2 Conversion Factors'!$G$20/0.8/1000)","v":0},{"$f":"IF(O1160=\"130\",2014.4*AO1160*'CO2 Conversion Factors'!$J$20/0.8/1000,2096.16*AO1160*'CO2 Conversion Factors'!$J$20/0.8/1000)","v":0},0,0,null,null,null,0,0,0,0,"",false,false,false,false,null,"","",""]
[null,null,null,null,null,null,null,null,null,null,null,null,null,null,null,null,null,null,null,null,null,null,null,null,null,null,null,null,null,null,null,null,null,null,null,null,null,{"$f":"IF(O1161=\"130\",2014.4*AO1161*'CO2 Conversion Factors'!$D$20/0.8/1000,2096.16*AO1161*'CO2 Conversion Factors'!$D$20/0.8/1000)","v":0},{"$f":"IF(O1161=\"130\",2014.4*AO1161*'CO2 Conversion Factors'!$G$20/0.8/1000,2096.16*AO1161*'CO2 Conversion Factors'!$G$20/0.8/1000)","v":0},{"$f":"IF(O1161=\"130\",2014.4*AO1161*'CO2 Conversion Factors'!$J$20/0.8/1000,2096.16*AO1161*'CO2 Conversion Factors'!$J$20/0.8/1000)","v":0},0,0,null,null,null,0,0,0,0,"",false,false,false,false,null,"","",""]
[null,null,null,null,null,null,null,null,null,null,null,null,null,null,null,null,null,null,null,null,null,null,null,null,null,null,null,null,null,null,null,null,null,null,null,null,null,{"$f":"IF(O1162=\"130\",2014.4*AO1162*'CO2 Conversion Factors'!$D$20/0.8/1000,2096.16*AO1162*'CO2 Conversion Factors'!$D$20/0.8/1000)","v":0},{"$f":"IF(O1162=\"130\",2014.4*AO1162*'CO2 Conversion Factors'!$G$20/0.8/1000,2096.16*AO1162*'CO2 Conversion Factors'!$G$20/0.8/1000)","v":0},{"$f":"IF(O1162=\"130\",2014.4*AO1162*'CO2 Conversion Factors'!$J$20/0.8/1000,2096.16*AO1162*'CO2 Conversion Factors'!$J$20/0.8/1000)","v":0},0,0,null,null,null,0,0,0,0,"",false,false,false,false,null,"","",""]
[null,null,null,null,null,null,null,null,null,null,null,null,null,null,null,null,null,null,null,null,null,null,null,null,null,null,null,null,null,null,null,null,null,null,null,null,null,{"$f":"IF(O1163=\"130\",2014.4*AO1163*'CO2 Conversion Factors'!$D$20/0.8/1000,2096.16*AO1163*'CO2 Conversion Factors'!$D$20/0.8/1000)","v":0},{"$f":"IF(O1163=\"130\",2014.4*AO1163*'CO2 Conversion Factors'!$G$20/0.8/1000,2096.16*AO1163*'CO2 Conversion Factors'!$G$20/0.8/1000)","v":0},{"$f":"IF(O1163=\"130\",2014.4*AO1163*'CO2 Conversion Factors'!$J$20/0.8/1000,2096.16*AO1163*'CO2 Conversion Factors'!$J$20/0.8/1000)","v":0},0,0,null,null,null,0,0,0,0,"",false,false,false,false,null,"","",""]
[null,null,null,null,null,null,null,null,null,null,null,null,null,null,null,null,null,null,null,null,null,null,null,null,null,null,null,null,null,null,null,null,null,null,null,null,null,{"$f":"IF(O1164=\"130\",2014.4*AO1164*'CO2 Conversion Factors'!$D$20/0.8/1000,2096.16*AO1164*'CO2 Conversion Factors'!$D$20/0.8/1000)","v":0},{"$f":"IF(O1164=\"130\",2014.4*AO1164*'CO2 Conversion Factors'!$G$20/0.8/1000,2096.16*AO1164*'CO2 Conversion Factors'!$G$20/0.8/1000)","v":0},{"$f":"IF(O1164=\"130\",2014.4*AO1164*'CO2 Conversion Factors'!$J$20/0.8/1000,2096.16*AO1164*'CO2 Conversion Factors'!$J$20/0.8/1000)","v":0},0,0,null,null,null,0,0,0,0,"",false,false,false,false,null,"","",""]
[null,null,null,null,null,null,null,null,null,null,null,null,null,null,null,null,null,null,null,null,null,null,null,null,null,null,null,null,null,null,null,null,null,null,null,null,null,{"$f":"IF(O1165=\"130\",2014.4*AO1165*'CO2 Conversion Factors'!$D$20/0.8/1000,2096.16*AO1165*'CO2 Conversion Factors'!$D$20/0.8/1000)","v":0},{"$f":"IF(O1165=\"130\",2014.4*AO1165*'CO2 Conversion Factors'!$G$20/0.8/1000,2096.16*AO1165*'CO2 Conversion Factors'!$G$20/0.8/1000)","v":0},{"$f":"IF(O1165=\"130\",2014.4*AO1165*'CO2 Conversion Factors'!$J$20/0.8/1000,2096.16*AO1165*'CO2 Conversion Factors'!$J$20/0.8/1000)","v":0},0,0,null,null,null,0,0,0,0,"",false,false,false,false,null,"","",""]
[null,null,null,null,null,null,null,null,null,null,null,null,null,null,null,null,null,null,null,null,null,null,null,null,null,null,null,null,null,null,null,null,null,null,null,null,null,{"$f":"IF(O1166=\"130\",2014.4*AO1166*'CO2 Conversion Factors'!$D$20/0.8/1000,2096.16*AO1166*'CO2 Conversion Factors'!$D$20/0.8/1000)","v":0},{"$f":"IF(O1166=\"130\",2014.4*AO1166*'CO2 Conversion Factors'!$G$20/0.8/1000,2096.16*AO1166*'CO2 Conversion Factors'!$G$20/0.8/1000)","v":0},{"$f":"IF(O1166=\"130\",2014.4*AO1166*'CO2 Conversion Factors'!$J$20/0.8/1000,2096.16*AO1166*'CO2 Conversion Factors'!$J$20/0.8/1000)","v":0},0,0,null,null,null,0,0,0,0,"",false,false,false,false,null,"","",""]
[null,null,null,null,null,null,null,null,null,null,null,null,null,null,null,null,null,null,null,null,null,null,null,null,null,null,null,null,null,null,null,null,null,null,null,null,null,{"$f":"IF(O1167=\"130\",2014.4*AO1167*'CO2 Conversion Factors'!$D$20/0.8/1000,2096.16*AO1167*'CO2 Conversion Factors'!$D$20/0.8/1000)","v":0},{"$f":"IF(O1167=\"130\",2014.4*AO1167*'CO2 Conversion Factors'!$G$20/0.8/1000,2096.16*AO1167*'CO2 Conversion Factors'!$G$20/0.8/1000)","v":0},{"$f":"IF(O1167=\"130\",2014.4*AO1167*'CO2 Conversion Factors'!$J$20/0.8/1000,2096.16*AO1167*'CO2 Conversion Factors'!$J$20/0.8/1000)","v":0},0,0,null,null,null,0,0,0,0,"",false,false,false,false,null,"","",""]
[null,null,null,null,null,null,null,null,null,null,null,null,null,null,null,null,null,null,null,null,null,null,null,null,null,null,null,null,null,null,null,null,null,null,null,null,null,{"$f":"IF(O1168=\"130\",2014.4*AO1168*'CO2 Conversion Factors'!$D$20/0.8/1000,2096.16*AO1168*'CO2 Conversion Factors'!$D$20/0.8/1000)","v":0},{"$f":"IF(O1168=\"130\",2014.4*AO1168*'CO2 Conversion Factors'!$G$20/0.8/1000,2096.16*AO1168*'CO2 Conversion Factors'!$G$20/0.8/1000)","v":0},{"$f":"IF(O1168=\"130\",2014.4*AO1168*'CO2 Conversion Factors'!$J$20/0.8/1000,2096.16*AO1168*'CO2 Conversion Factors'!$J$20/0.8/1000)","v":0},0,0,null,null,null,0,0,0,0,"",false,false,false,false,null,"","",""]
[null,null,null,null,null,null,null,null,null,null,null,null,null,null,null,null,null,null,null,null,null,null,null,null,null,null,null,null,null,null,null,null,null,null,null,null,null,{"$f":"IF(O1169=\"130\",2014.4*AO1169*'CO2 Conversion Factors'!$D$20/0.8/1000,2096.16*AO1169*'CO2 Conversion Factors'!$D$20/0.8/1000)","v":0},{"$f":"IF(O1169=\"130\",2014.4*AO1169*'CO2 Conversion Factors'!$G$20/0.8/1000,2096.16*AO1169*'CO2 Conversion Factors'!$G$20/0.8/1000)","v":0},{"$f":"IF(O1169=\"130\",2014.4*AO1169*'CO2 Conversion Factors'!$J$20/0.8/1000,2096.16*AO1169*'CO2 Conversion Factors'!$J$20/0.8/1000)","v":0},0,0,null,null,null,0,0,0,0,"",false,false,false,false,null,"","",""]
[null,null,null,null,null,null,null,null,null,null,null,null,null,null,null,null,null,null,null,null,null,null,null,null,null,null,null,null,null,null,null,null,null,null,null,null,null,{"$f":"IF(O1170=\"130\",2014.4*AO1170*'CO2 Conversion Factors'!$D$20/0.8/1000,2096.16*AO1170*'CO2 Conversion Factors'!$D$20/0.8/1000)","v":0},{"$f":"IF(O1170=\"130\",2014.4*AO1170*'CO2 Conversion Factors'!$G$20/0.8/1000,2096.16*AO1170*'CO2 Conversion Factors'!$G$20/0.8/1000)","v":0},{"$f":"IF(O1170=\"130\",2014.4*AO1170*'CO2 Conversion Factors'!$J$20/0.8/1000,2096.16*AO1170*'CO2 Conversion Factors'!$J$20/0.8/1000)","v":0},0,0,null,null,null,0,0,0,0,"",false,false,false,false,null,"","",""]
[null,null,null,null,null,null,null,null,null,null,null,null,null,null,null,null,null,null,null,null,null,null,null,null,null,null,null,null,null,null,null,null,null,null,null,null,null,{"$f":"IF(O1171=\"130\",2014.4*AO1171*'CO2 Conversion Factors'!$D$20/0.8/1000,2096.16*AO1171*'CO2 Conversion Factors'!$D$20/0.8/1000)","v":0},{"$f":"IF(O1171=\"130\",2014.4*AO1171*'CO2 Conversion Factors'!$G$20/0.8/1000,2096.16*AO1171*'CO2 Conversion Factors'!$G$20/0.8/1000)","v":0},{"$f":"IF(O1171=\"130\",2014.4*AO1171*'CO2 Conversion Factors'!$J$20/0.8/1000,2096.16*AO1171*'CO2 Conversion Factors'!$J$20/0.8/1000)","v":0},0,0,null,null,null,0,0,0,0,"",false,false,false,false,null,"","",""]
[null,null,null,null,null,null,null,null,null,null,null,null,null,null,null,null,null,null,null,null,null,null,null,null,null,null,null,null,null,null,null,null,null,null,null,null,null,{"$f":"IF(O1172=\"130\",2014.4*AO1172*'CO2 Conversion Factors'!$D$20/0.8/1000,2096.16*AO1172*'CO2 Conversion Factors'!$D$20/0.8/1000)","v":0},{"$f":"IF(O1172=\"130\",2014.4*AO1172*'CO2 Conversion Factors'!$G$20/0.8/1000,2096.16*AO1172*'CO2 Conversion Factors'!$G$20/0.8/1000)","v":0},{"$f":"IF(O1172=\"130\",2014.4*AO1172*'CO2 Conversion Factors'!$J$20/0.8/1000,2096.16*AO1172*'CO2 Conversion Factors'!$J$20/0.8/1000)","v":0},0,0,null,null,null,0,0,0,0,"",false,false,false,false,null,"","",""]
[null,null,null,null,null,null,null,null,null,null,null,null,null,null,null,null,null,null,null,null,null,null,null,null,null,null,null,null,null,null,null,null,null,null,null,null,null,{"$f":"IF(O1173=\"130\",2014.4*AO1173*'CO2 Conversion Factors'!$D$20/0.8/1000,2096.16*AO1173*'CO2 Conversion Factors'!$D$20/0.8/1000)","v":0},{"$f":"IF(O1173=\"130\",2014.4*AO1173*'CO2 Conversion Factors'!$G$20/0.8/1000,2096.16*AO1173*'CO2 Conversion Factors'!$G$20/0.8/1000)","v":0},{"$f":"IF(O1173=\"130\",2014.4*AO1173*'CO2 Conversion Factors'!$J$20/0.8/1000,2096.16*AO1173*'CO2 Conversion Factors'!$J$20/0.8/1000)","v":0},0,0,null,null,null,0,0,0,0,"",false,false,false,false,null,"","",""]
[null,null,null,null,null,null,null,null,null,null,null,null,null,null,null,null,null,null,null,null,null,null,null,null,null,null,null,null,null,null,null,null,null,null,null,null,null,{"$f":"IF(O1174=\"130\",2014.4*AO1174*'CO2 Conversion Factors'!$D$20/0.8/1000,2096.16*AO1174*'CO2 Conversion Factors'!$D$20/0.8/1000)","v":0},{"$f":"IF(O1174=\"130\",2014.4*AO1174*'CO2 Conversion Factors'!$G$20/0.8/1000,2096.16*AO1174*'CO2 Conversion Factors'!$G$20/0.8/1000)","v":0},{"$f":"IF(O1174=\"130\",2014.4*AO1174*'CO2 Conversion Factors'!$J$20/0.8/1000,2096.16*AO1174*'CO2 Conversion Factors'!$J$20/0.8/1000)","v":0},0,0,null,null,null,0,0,0,0,"",false,false,false,false,null,"","",""]
[null,null,null,null,null,null,null,null,null,null,null,null,null,null,null,null,null,null,null,null,null,null,null,null,null,null,null,null,null,null,null,null,null,null,null,null,null,{"$f":"IF(O1175=\"130\",2014.4*AO1175*'CO2 Conversion Factors'!$D$20/0.8/1000,2096.16*AO1175*'CO2 Conversion Factors'!$D$20/0.8/1000)","v":0},{"$f":"IF(O1175=\"130\",2014.4*AO1175*'CO2 Conversion Factors'!$G$20/0.8/1000,2096.16*AO1175*'CO2 Conversion Factors'!$G$20/0.8/1000)","v":0},{"$f":"IF(O1175=\"130\",2014.4*AO1175*'CO2 Conversion Factors'!$J$20/0.8/1000,2096.16*AO1175*'CO2 Conversion Factors'!$J$20/0.8/1000)","v":0},0,0,null,null,null,0,0,0,0,"",false,false,false,false,null,"","",""]
[null,null,null,null,null,null,null,null,null,null,null,null,null,null,null,null,null,null,null,null,null,null,null,null,null,null,null,null,null,null,null,null,null,null,null,null,null,{"$f":"IF(O1176=\"130\",2014.4*AO1176*'CO2 Conversion Factors'!$D$20/0.8/1000,2096.16*AO1176*'CO2 Conversion Factors'!$D$20/0.8/1000)","v":0},{"$f":"IF(O1176=\"130\",2014.4*AO1176*'CO2 Conversion Factors'!$G$20/0.8/1000,2096.16*AO1176*'CO2 Conversion Factors'!$G$20/0.8/1000)","v":0},{"$f":"IF(O1176=\"130\",2014.4*AO1176*'CO2 Conversion Factors'!$J$20/0.8/1000,2096.16*AO1176*'CO2 Conversion Factors'!$J$20/0.8/1000)","v":0},0,0,null,null,null,0,0,0,0,"",false,false,false,false,null,"","",""]
[null,null,null,null,null,null,null,null,null,null,null,null,null,null,null,null,null,null,null,null,null,null,null,null,null,null,null,null,null,null,null,null,null,null,null,null,null,{"$f":"IF(O1177=\"130\",2014.4*AO1177*'CO2 Conversion Factors'!$D$20/0.8/1000,2096.16*AO1177*'CO2 Conversion Factors'!$D$20/0.8/1000)","v":0},{"$f":"IF(O1177=\"130\",2014.4*AO1177*'CO2 Conversion Factors'!$G$20/0.8/1000,2096.16*AO1177*'CO2 Conversion Factors'!$G$20/0.8/1000)","v":0},{"$f":"IF(O1177=\"130\",2014.4*AO1177*'CO2 Conversion Factors'!$J$20/0.8/1000,2096.16*AO1177*'CO2 Conversion Factors'!$J$20/0.8/1000)","v":0},0,0,null,null,null,0,0,0,0,"",false,false,false,false,null,"","",""]
[null,null,null,null,null,null,null,null,null,null,null,null,null,null,null,null,null,null,null,null,null,null,null,null,null,null,null,null,null,null,null,null,null,null,null,null,null,{"$f":"IF(O1178=\"130\",2014.4*AO1178*'CO2 Conversion Factors'!$D$20/0.8/1000,2096.16*AO1178*'CO2 Conversion Factors'!$D$20/0.8/1000)","v":0},{"$f":"IF(O1178=\"130\",2014.4*AO1178*'CO2 Conversion Factors'!$G$20/0.8/1000,2096.16*AO1178*'CO2 Conversion Factors'!$G$20/0.8/1000)","v":0},{"$f":"IF(O1178=\"130\",2014.4*AO1178*'CO2 Conversion Factors'!$J$20/0.8/1000,2096.16*AO1178*'CO2 Conversion Factors'!$J$20/0.8/1000)","v":0},0,0,null,null,null,0,0,0,0,"",false,false,false,false,null,"","",""]
[null,null,null,null,null,null,null,null,null,null,null,null,null,null,null,null,null,null,null,null,null,null,null,null,null,null,null,null,null,null,null,null,null,null,null,null,null,{"$f":"IF(O1179=\"130\",2014.4*AO1179*'CO2 Conversion Factors'!$D$20/0.8/1000,2096.16*AO1179*'CO2 Conversion Factors'!$D$20/0.8/1000)","v":0},{"$f":"IF(O1179=\"130\",2014.4*AO1179*'CO2 Conversion Factors'!$G$20/0.8/1000,2096.16*AO1179*'CO2 Conversion Factors'!$G$20/0.8/1000)","v":0},{"$f":"IF(O1179=\"130\",2014.4*AO1179*'CO2 Conversion Factors'!$J$20/0.8/1000,2096.16*AO1179*'CO2 Conversion Factors'!$J$20/0.8/1000)","v":0},0,0,null,null,null,0,0,0,0,"",false,false,false,false,null,"","",""]
[null,null,null,null,null,null,null,null,null,null,null,null,null,null,null,null,null,null,null,null,null,null,null,null,null,null,null,null,null,null,null,null,null,null,null,null,null,{"$f":"IF(O1180=\"130\",2014.4*AO1180*'CO2 Conversion Factors'!$D$20/0.8/1000,2096.16*AO1180*'CO2 Conversion Factors'!$D$20/0.8/1000)","v":0},{"$f":"IF(O1180=\"130\",2014.4*AO1180*'CO2 Conversion Factors'!$G$20/0.8/1000,2096.16*AO1180*'CO2 Conversion Factors'!$G$20/0.8/1000)","v":0},{"$f":"IF(O1180=\"130\",2014.4*AO1180*'CO2 Conversion Factors'!$J$20/0.8/1000,2096.16*AO1180*'CO2 Conversion Factors'!$J$20/0.8/1000)","v":0},0,0,null,null,null,0,0,0,0,"",false,false,false,false,null,"","",""]
[null,null,null,null,null,null,null,null,null,null,null,null,null,null,null,null,null,null,null,null,null,null,null,null,null,null,null,null,null,null,null,null,null,null,null,null,null,{"$f":"IF(O1181=\"130\",2014.4*AO1181*'CO2 Conversion Factors'!$D$20/0.8/1000,2096.16*AO1181*'CO2 Conversion Factors'!$D$20/0.8/1000)","v":0},{"$f":"IF(O1181=\"130\",2014.4*AO1181*'CO2 Conversion Factors'!$G$20/0.8/1000,2096.16*AO1181*'CO2 Conversion Factors'!$G$20/0.8/1000)","v":0},{"$f":"IF(O1181=\"130\",2014.4*AO1181*'CO2 Conversion Factors'!$J$20/0.8/1000,2096.16*AO1181*'CO2 Conversion Factors'!$J$20/0.8/1000)","v":0},0,0,null,null,null,0,0,0,0,"",false,false,false,false,null,"","",""]
[null,null,null,null,null,null,null,null,null,null,null,null,null,null,null,null,null,null,null,null,null,null,null,null,null,null,null,null,null,null,null,null,null,null,null,null,null,{"$f":"IF(O1182=\"130\",2014.4*AO1182*'CO2 Conversion Factors'!$D$20/0.8/1000,2096.16*AO1182*'CO2 Conversion Factors'!$D$20/0.8/1000)","v":0},{"$f":"IF(O1182=\"130\",2014.4*AO1182*'CO2 Conversion Factors'!$G$20/0.8/1000,2096.16*AO1182*'CO2 Conversion Factors'!$G$20/0.8/1000)","v":0},{"$f":"IF(O1182=\"130\",2014.4*AO1182*'CO2 Conversion Factors'!$J$20/0.8/1000,2096.16*AO1182*'CO2 Conversion Factors'!$J$20/0.8/1000)","v":0},0,0,null,null,null,0,0,0,0,"",false,false,false,false,null,"","",""]
[null,null,null,null,null,null,null,null,null,null,null,null,null,null,null,null,null,null,null,null,null,null,null,null,null,null,null,null,null,null,null,null,null,null,null,null,null,{"$f":"IF(O1183=\"130\",2014.4*AO1183*'CO2 Conversion Factors'!$D$20/0.8/1000,2096.16*AO1183*'CO2 Conversion Factors'!$D$20/0.8/1000)","v":0},{"$f":"IF(O1183=\"130\",2014.4*AO1183*'CO2 Conversion Factors'!$G$20/0.8/1000,2096.16*AO1183*'CO2 Conversion Factors'!$G$20/0.8/1000)","v":0},{"$f":"IF(O1183=\"130\",2014.4*AO1183*'CO2 Conversion Factors'!$J$20/0.8/1000,2096.16*AO1183*'CO2 Conversion Factors'!$J$20/0.8/1000)","v":0},0,0,null,null,null,0,0,0,0,"",false,false,false,false,null,"","",""]
[null,null,null,null,null,null,null,null,null,null,null,null,null,null,null,null,null,null,null,null,null,null,null,null,null,null,null,null,null,null,null,null,null,null,null,null,null,{"$f":"IF(O1184=\"130\",2014.4*AO1184*'CO2 Conversion Factors'!$D$20/0.8/1000,2096.16*AO1184*'CO2 Conversion Factors'!$D$20/0.8/1000)","v":0},{"$f":"IF(O1184=\"130\",2014.4*AO1184*'CO2 Conversion Factors'!$G$20/0.8/1000,2096.16*AO1184*'CO2 Conversion Factors'!$G$20/0.8/1000)","v":0},{"$f":"IF(O1184=\"130\",2014.4*AO1184*'CO2 Conversion Factors'!$J$20/0.8/1000,2096.16*AO1184*'CO2 Conversion Factors'!$J$20/0.8/1000)","v":0},0,0,null,null,null,0,0,0,0,"",false,false,false,false,null,"","",""]
[null,null,null,null,null,null,null,null,null,null,null,null,null,null,null,null,null,null,null,null,null,null,null,null,null,null,null,null,null,null,null,null,null,null,null,null,null,{"$f":"IF(O1185=\"130\",2014.4*AO1185*'CO2 Conversion Factors'!$D$20/0.8/1000,2096.16*AO1185*'CO2 Conversion Factors'!$D$20/0.8/1000)","v":0},{"$f":"IF(O1185=\"130\",2014.4*AO1185*'CO2 Conversion Factors'!$G$20/0.8/1000,2096.16*AO1185*'CO2 Conversion Factors'!$G$20/0.8/1000)","v":0},{"$f":"IF(O1185=\"130\",2014.4*AO1185*'CO2 Conversion Factors'!$J$20/0.8/1000,2096.16*AO1185*'CO2 Conversion Factors'!$J$20/0.8/1000)","v":0},0,0,null,null,null,0,0,0,0,"",false,false,false,false,null,"","",""]
[null,null,null,null,null,null,null,null,null,null,null,null,null,null,null,null,null,null,null,null,null,null,null,null,null,null,null,null,null,null,null,null,null,null,null,null,null,{"$f":"IF(O1186=\"130\",2014.4*AO1186*'CO2 Conversion Factors'!$D$20/0.8/1000,2096.16*AO1186*'CO2 Conversion Factors'!$D$20/0.8/1000)","v":0},{"$f":"IF(O1186=\"130\",2014.4*AO1186*'CO2 Conversion Factors'!$G$20/0.8/1000,2096.16*AO1186*'CO2 Conversion Factors'!$G$20/0.8/1000)","v":0},{"$f":"IF(O1186=\"130\",2014.4*AO1186*'CO2 Conversion Factors'!$J$20/0.8/1000,2096.16*AO1186*'CO2 Conversion Factors'!$J$20/0.8/1000)","v":0},0,0,null,null,null,0,0,0,0,"",false,false,false,false,null,"","",""]
[null,null,null,null,null,null,null,null,null,null,null,null,null,null,null,null,null,null,null,null,null,null,null,null,null,null,null,null,null,null,null,null,null,null,null,null,null,{"$f":"IF(O1187=\"130\",2014.4*AO1187*'CO2 Conversion Factors'!$D$20/0.8/1000,2096.16*AO1187*'CO2 Conversion Factors'!$D$20/0.8/1000)","v":0},{"$f":"IF(O1187=\"130\",2014.4*AO1187*'CO2 Conversion Factors'!$G$20/0.8/1000,2096.16*AO1187*'CO2 Conversion Factors'!$G$20/0.8/1000)","v":0},{"$f":"IF(O1187=\"130\",2014.4*AO1187*'CO2 Conversion Factors'!$J$20/0.8/1000,2096.16*AO1187*'CO2 Conversion Factors'!$J$20/0.8/1000)","v":0},0,0,null,null,null,0,0,0,0,"",false,false,false,false,null,"","",""]
[null,null,null,null,null,null,null,null,null,null,null,null,null,null,null,null,null,null,null,null,null,null,null,null,null,null,null,null,null,null,null,null,null,null,null,null,null,{"$f":"IF(O1188=\"130\",2014.4*AO1188*'CO2 Conversion Factors'!$D$20/0.8/1000,2096.16*AO1188*'CO2 Conversion Factors'!$D$20/0.8/1000)","v":0},{"$f":"IF(O1188=\"130\",2014.4*AO1188*'CO2 Conversion Factors'!$G$20/0.8/1000,2096.16*AO1188*'CO2 Conversion Factors'!$G$20/0.8/1000)","v":0},{"$f":"IF(O1188=\"130\",2014.4*AO1188*'CO2 Conversion Factors'!$J$20/0.8/1000,2096.16*AO1188*'CO2 Conversion Factors'!$J$20/0.8/1000)","v":0},0,0,null,null,null,0,0,0,0,"",false,false,false,false,null,"","",""]
[null,null,null,null,null,null,null,null,null,null,null,null,null,null,null,null,null,null,null,null,null,null,null,null,null,null,null,null,null,null,null,null,null,null,null,null,null,{"$f":"IF(O1189=\"130\",2014.4*AO1189*'CO2 Conversion Factors'!$D$20/0.8/1000,2096.16*AO1189*'CO2 Conversion Factors'!$D$20/0.8/1000)","v":0},{"$f":"IF(O1189=\"130\",2014.4*AO1189*'CO2 Conversion Factors'!$G$20/0.8/1000,2096.16*AO1189*'CO2 Conversion Factors'!$G$20/0.8/1000)","v":0},{"$f":"IF(O1189=\"130\",2014.4*AO1189*'CO2 Conversion Factors'!$J$20/0.8/1000,2096.16*AO1189*'CO2 Conversion Factors'!$J$20/0.8/1000)","v":0},0,0,null,null,null,0,0,0,0,"",false,false,false,false,null,"","",""]
[null,null,null,null,null,null,null,null,null,null,null,null,null,null,null,null,null,null,null,null,null,null,null,null,null,null,null,null,null,null,null,null,null,null,null,null,null,{"$f":"IF(O1190=\"130\",2014.4*AO1190*'CO2 Conversion Factors'!$D$20/0.8/1000,2096.16*AO1190*'CO2 Conversion Factors'!$D$20/0.8/1000)","v":0},{"$f":"IF(O1190=\"130\",2014.4*AO1190*'CO2 Conversion Factors'!$G$20/0.8/1000,2096.16*AO1190*'CO2 Conversion Factors'!$G$20/0.8/1000)","v":0},{"$f":"IF(O1190=\"130\",2014.4*AO1190*'CO2 Conversion Factors'!$J$20/0.8/1000,2096.16*AO1190*'CO2 Conversion Factors'!$J$20/0.8/1000)","v":0},0,0,null,null,null,0,0,0,0,"",false,false,false,false,null,"","",""]
[null,null,null,null,null,null,null,null,null,null,null,null,null,null,null,null,null,null,null,null,null,null,null,null,null,null,null,null,null,null,null,null,null,null,null,null,null,{"$f":"IF(O1191=\"130\",2014.4*AO1191*'CO2 Conversion Factors'!$D$20/0.8/1000,2096.16*AO1191*'CO2 Conversion Factors'!$D$20/0.8/1000)","v":0},{"$f":"IF(O1191=\"130\",2014.4*AO1191*'CO2 Conversion Factors'!$G$20/0.8/1000,2096.16*AO1191*'CO2 Conversion Factors'!$G$20/0.8/1000)","v":0},{"$f":"IF(O1191=\"130\",2014.4*AO1191*'CO2 Conversion Factors'!$J$20/0.8/1000,2096.16*AO1191*'CO2 Conversion Factors'!$J$20/0.8/1000)","v":0},0,0,null,null,null,0,0,0,0,"",false,false,false,false,null,"","",""]
[null,null,null,null,null,null,null,null,null,null,null,null,null,null,null,null,null,null,null,null,null,null,null,null,null,null,null,null,null,null,null,null,null,null,null,null,null,{"$f":"IF(O1192=\"130\",2014.4*AO1192*'CO2 Conversion Factors'!$D$20/0.8/1000,2096.16*AO1192*'CO2 Conversion Factors'!$D$20/0.8/1000)","v":0},{"$f":"IF(O1192=\"130\",2014.4*AO1192*'CO2 Conversion Factors'!$G$20/0.8/1000,2096.16*AO1192*'CO2 Conversion Factors'!$G$20/0.8/1000)","v":0},{"$f":"IF(O1192=\"130\",2014.4*AO1192*'CO2 Conversion Factors'!$J$20/0.8/1000,2096.16*AO1192*'CO2 Conversion Factors'!$J$20/0.8/1000)","v":0},0,0,null,null,null,0,0,0,0,"",false,false,false,false,null,"","",""]
[null,null,null,null,null,null,null,null,null,null,null,null,null,null,null,null,null,null,null,null,null,null,null,null,null,null,null,null,null,null,null,null,null,null,null,null,null,{"$f":"IF(O1193=\"130\",2014.4*AO1193*'CO2 Conversion Factors'!$D$20/0.8/1000,2096.16*AO1193*'CO2 Conversion Factors'!$D$20/0.8/1000)","v":0},{"$f":"IF(O1193=\"130\",2014.4*AO1193*'CO2 Conversion Factors'!$G$20/0.8/1000,2096.16*AO1193*'CO2 Conversion Factors'!$G$20/0.8/1000)","v":0},{"$f":"IF(O1193=\"130\",2014.4*AO1193*'CO2 Conversion Factors'!$J$20/0.8/1000,2096.16*AO1193*'CO2 Conversion Factors'!$J$20/0.8/1000)","v":0},0,0,null,null,null,0,0,0,0,"",false,false,false,false,null,"","",""]
[null,null,null,null,null,null,null,null,null,null,null,null,null,null,null,null,null,null,null,null,null,null,null,null,null,null,null,null,null,null,null,null,null,null,null,null,null,{"$f":"IF(O1194=\"130\",2014.4*AO1194*'CO2 Conversion Factors'!$D$20/0.8/1000,2096.16*AO1194*'CO2 Conversion Factors'!$D$20/0.8/1000)","v":0},{"$f":"IF(O1194=\"130\",2014.4*AO1194*'CO2 Conversion Factors'!$G$20/0.8/1000,2096.16*AO1194*'CO2 Conversion Factors'!$G$20/0.8/1000)","v":0},{"$f":"IF(O1194=\"130\",2014.4*AO1194*'CO2 Conversion Factors'!$J$20/0.8/1000,2096.16*AO1194*'CO2 Conversion Factors'!$J$20/0.8/1000)","v":0},0,0,null,null,null,0,0,0,0,"",false,false,false,false,null,"","",""]
[null,null,null,null,null,null,null,null,null,null,null,null,null,null,null,null,null,null,null,null,null,null,null,null,null,null,null,null,null,null,null,null,null,null,null,null,null,{"$f":"IF(O1195=\"130\",2014.4*AO1195*'CO2 Conversion Factors'!$D$20/0.8/1000,2096.16*AO1195*'CO2 Conversion Factors'!$D$20/0.8/1000)","v":0},{"$f":"IF(O1195=\"130\",2014.4*AO1195*'CO2 Conversion Factors'!$G$20/0.8/1000,2096.16*AO1195*'CO2 Conversion Factors'!$G$20/0.8/1000)","v":0},{"$f":"IF(O1195=\"130\",2014.4*AO1195*'CO2 Conversion Factors'!$J$20/0.8/1000,2096.16*AO1195*'CO2 Conversion Factors'!$J$20/0.8/1000)","v":0},0,0,null,null,null,0,0,0,0,"",false,false,false,false,null,"","",""]
[null,null,null,null,null,null,null,null,null,null,null,null,null,null,null,null,null,null,null,null,null,null,null,null,null,null,null,null,null,null,null,null,null,null,null,null,null,{"$f":"IF(O1196=\"130\",2014.4*AO1196*'CO2 Conversion Factors'!$D$20/0.8/1000,2096.16*AO1196*'CO2 Conversion Factors'!$D$20/0.8/1000)","v":0},{"$f":"IF(O1196=\"130\",2014.4*AO1196*'CO2 Conversion Factors'!$G$20/0.8/1000,2096.16*AO1196*'CO2 Conversion Factors'!$G$20/0.8/1000)","v":0},{"$f":"IF(O1196=\"130\",2014.4*AO1196*'CO2 Conversion Factors'!$J$20/0.8/1000,2096.16*AO1196*'CO2 Conversion Factors'!$J$20/0.8/1000)","v":0},0,0,null,null,null,0,0,0,0,"",false,false,false,false,null,"","",""]
[null,null,null,null,null,null,null,null,null,null,null,null,null,null,null,null,null,null,null,null,null,null,null,null,null,null,null,null,null,null,null,null,null,null,null,null,null,{"$f":"IF(O1197=\"130\",2014.4*AO1197*'CO2 Conversion Factors'!$D$20/0.8/1000,2096.16*AO1197*'CO2 Conversion Factors'!$D$20/0.8/1000)","v":0},{"$f":"IF(O1197=\"130\",2014.4*AO1197*'CO2 Conversion Factors'!$G$20/0.8/1000,2096.16*AO1197*'CO2 Conversion Factors'!$G$20/0.8/1000)","v":0},{"$f":"IF(O1197=\"130\",2014.4*AO1197*'CO2 Conversion Factors'!$J$20/0.8/1000,2096.16*AO1197*'CO2 Conversion Factors'!$J$20/0.8/1000)","v":0},0,0,null,null,null,0,0,0,0,"",false,false,false,false,null,"","",""]
[null,null,null,null,null,null,null,null,null,null,null,null,null,null,null,null,null,null,null,null,null,null,null,null,null,null,null,null,null,null,null,null,null,null,null,null,null,{"$f":"IF(O1198=\"130\",2014.4*AO1198*'CO2 Conversion Factors'!$D$20/0.8/1000,2096.16*AO1198*'CO2 Conversion Factors'!$D$20/0.8/1000)","v":0},{"$f":"IF(O1198=\"130\",2014.4*AO1198*'CO2 Conversion Factors'!$G$20/0.8/1000,2096.16*AO1198*'CO2 Conversion Factors'!$G$20/0.8/1000)","v":0},{"$f":"IF(O1198=\"130\",2014.4*AO1198*'CO2 Conversion Factors'!$J$20/0.8/1000,2096.16*AO1198*'CO2 Conversion Factors'!$J$20/0.8/1000)","v":0},0,0,null,null,null,0,0,0,0,"",false,false,false,false,null,"","",""]
[null,null,null,null,null,null,null,null,null,null,null,null,null,null,null,null,null,null,null,null,null,null,null,null,null,null,null,null,null,null,null,null,null,null,null,null,null,{"$f":"IF(O1199=\"130\",2014.4*AO1199*'CO2 Conversion Factors'!$D$20/0.8/1000,2096.16*AO1199*'CO2 Conversion Factors'!$D$20/0.8/1000)","v":0},{"$f":"IF(O1199=\"130\",2014.4*AO1199*'CO2 Conversion Factors'!$G$20/0.8/1000,2096.16*AO1199*'CO2 Conversion Factors'!$G$20/0.8/1000)","v":0},{"$f":"IF(O1199=\"130\",2014.4*AO1199*'CO2 Conversion Factors'!$J$20/0.8/1000,2096.16*AO1199*'CO2 Conversion Factors'!$J$20/0.8/1000)","v":0},0,0,null,null,null,0,0,0,0,"",false,false,false,false,null,"","",""]
[null,null,null,null,null,null,null,null,null,null,null,null,null,null,null,null,null,null,null,null,null,null,null,null,null,null,null,null,null,null,null,null,null,null,null,null,null,{"$f":"IF(O1200=\"130\",2014.4*AO1200*'CO2 Conversion Factors'!$D$20/0.8/1000,2096.16*AO1200*'CO2 Conversion Factors'!$D$20/0.8/1000)","v":0},{"$f":"IF(O1200=\"130\",2014.4*AO1200*'CO2 Conversion Factors'!$G$20/0.8/1000,2096.16*AO1200*'CO2 Conversion Factors'!$G$20/0.8/1000)","v":0},{"$f":"IF(O1200=\"130\",2014.4*AO1200*'CO2 Conversion Factors'!$J$20/0.8/1000,2096.16*AO1200*'CO2 Conversion Factors'!$J$20/0.8/1000)","v":0},0,{"$f":"IFERROR(AO1200*Cover_Select_SteamCost,0)","v":0},null,null,null,{"$f":"IF(NOT(OR(L1200=\"NIS\",L1200=\"OFF\")),F1200)","v":0},{"$f":"IF(NOT(OR(L1200=\"NIS\",L1200=\"OFF\",L1200=\"PO\")),F1200)","v":0},{"$f":"IF(NOT(OR(L1200=\"NIS\",L1200=\"OFF\")),H1200)","v":0},{"$f":"IF(NOT(OR(L1200=\"NIS\",L1200=\"OFF\",L1200=\"PO\")),H1200)","v":0},{"$f":"F1200&H1200","v":""},false,false,false,false,null,"","",""]
[null,null,null,null,null,null,null,null,null,null,null,null,null,null,null,null,null,null,null,null,null,null,null,null,null,null,null,null,null,null,null,null,null,null,null,null,null,{"$f":"IF(O1201=\"130\",2014.4*AO1201*'CO2 Conversion Factors'!$D$20/0.8/1000,2096.16*AO1201*'CO2 Conversion Factors'!$D$20/0.8/1000)","v":0},{"$f":"IF(O1201=\"130\",2014.4*AO1201*'CO2 Conversion Factors'!$G$20/0.8/1000,2096.16*AO1201*'CO2 Conversion Factors'!$G$20/0.8/1000)","v":0},{"$f":"IF(O1201=\"130\",2014.4*AO1201*'CO2 Conversion Factors'!$J$20/0.8/1000,2096.16*AO1201*'CO2 Conversion Factors'!$J$20/0.8/1000)","v":0},0,0,null,null,null,0,0,0,0,"",false,false,false,false,null,"","",""]
[null,null,null,null,null,null,null,null,null,null,null,null,null,null,null,null,null,null,null,null,null,null,null,null,null,null,null,null,null,null,null,null,null,null,null,null,null,{"$f":"IF(O1202=\"130\",2014.4*AO1202*'CO2 Conversion Factors'!$D$20/0.8/1000,2096.16*AO1202*'CO2 Conversion Factors'!$D$20/0.8/1000)","v":0},{"$f":"IF(O1202=\"130\",2014.4*AO1202*'CO2 Conversion Factors'!$G$20/0.8/1000,2096.16*AO1202*'CO2 Conversion Factors'!$G$20/0.8/1000)","v":0},{"$f":"IF(O1202=\"130\",2014.4*AO1202*'CO2 Conversion Factors'!$J$20/0.8/1000,2096.16*AO1202*'CO2 Conversion Factors'!$J$20/0.8/1000)","v":0},0,0,null,null,null,0,0,0,0,"",false,false,false,false,null,"","",""]
[null,null,null,null,null,null,null,null,null,null,null,null,null,null,null,null,null,null,null,null,null,null,null,null,null,null,null,null,null,null,null,null,null,null,null,null,null,{"$f":"IF(O1203=\"130\",2014.4*AO1203*'CO2 Conversion Factors'!$D$20/0.8/1000,2096.16*AO1203*'CO2 Conversion Factors'!$D$20/0.8/1000)","v":0},{"$f":"IF(O1203=\"130\",2014.4*AO1203*'CO2 Conversion Factors'!$G$20/0.8/1000,2096.16*AO1203*'CO2 Conversion Factors'!$G$20/0.8/1000)","v":0},{"$f":"IF(O1203=\"130\",2014.4*AO1203*'CO2 Conversion Factors'!$J$20/0.8/1000,2096.16*AO1203*'CO2 Conversion Factors'!$J$20/0.8/1000)","v":0},0,0,null,null,null,0,0,0,0,"",false,false,false,false,null,"","",""]
[null,null,null,null,null,null,null,null,null,null,null,null,null,null,null,null,null,null,null,null,null,null,null,null,null,null,null,null,null,null,null,null,null,null,null,null,null,{"$f":"IF(O1204=\"130\",2014.4*AO1204*'CO2 Conversion Factors'!$D$20/0.8/1000,2096.16*AO1204*'CO2 Conversion Factors'!$D$20/0.8/1000)","v":0},{"$f":"IF(O1204=\"130\",2014.4*AO1204*'CO2 Conversion Factors'!$G$20/0.8/1000,2096.16*AO1204*'CO2 Conversion Factors'!$G$20/0.8/1000)","v":0},{"$f":"IF(O1204=\"130\",2014.4*AO1204*'CO2 Conversion Factors'!$J$20/0.8/1000,2096.16*AO1204*'CO2 Conversion Factors'!$J$20/0.8/1000)","v":0},0,0,null,null,null,0,0,0,0,"",false,false,false,false,null,"","",""]
[null,null,null,null,null,null,null,null,null,null,null,null,null,null,null,null,null,null,null,null,null,null,null,null,null,null,null,null,null,null,null,null,null,null,null,null,null,{"$f":"IF(O1205=\"130\",2014.4*AO1205*'CO2 Conversion Factors'!$D$20/0.8/1000,2096.16*AO1205*'CO2 Conversion Factors'!$D$20/0.8/1000)","v":0},{"$f":"IF(O1205=\"130\",2014.4*AO1205*'CO2 Conversion Factors'!$G$20/0.8/1000,2096.16*AO1205*'CO2 Conversion Factors'!$G$20/0.8/1000)","v":0},{"$f":"IF(O1205=\"130\",2014.4*AO1205*'CO2 Conversion Factors'!$J$20/0.8/1000,2096.16*AO1205*'CO2 Conversion Factors'!$J$20/0.8/1000)","v":0},0,0,null,null,null,0,0,0,0,"",false,false,false,false,null,"","",""]
[null,null,null,null,null,null,null,null,null,null,null,null,null,null,null,null,null,null,null,null,null,null,null,null,null,null,null,null,null,null,null,null,null,null,null,null,null,{"$f":"IF(O1206=\"130\",2014.4*AO1206*'CO2 Conversion Factors'!$D$20/0.8/1000,2096.16*AO1206*'CO2 Conversion Factors'!$D$20/0.8/1000)","v":0},{"$f":"IF(O1206=\"130\",2014.4*AO1206*'CO2 Conversion Factors'!$G$20/0.8/1000,2096.16*AO1206*'CO2 Conversion Factors'!$G$20/0.8/1000)","v":0},{"$f":"IF(O1206=\"130\",2014.4*AO1206*'CO2 Conversion Factors'!$J$20/0.8/1000,2096.16*AO1206*'CO2 Conversion Factors'!$J$20/0.8/1000)","v":0},0,0,null,null,null,0,0,0,0,"",false,false,false,false,null,"","",""]
[null,null,null,null,null,null,null,null,null,null,null,null,null,null,null,null,null,null,null,null,null,null,null,null,null,null,null,null,null,null,null,null,null,null,null,null,null,{"$f":"IF(O1207=\"130\",2014.4*AO1207*'CO2 Conversion Factors'!$D$20/0.8/1000,2096.16*AO1207*'CO2 Conversion Factors'!$D$20/0.8/1000)","v":0},{"$f":"IF(O1207=\"130\",2014.4*AO1207*'CO2 Conversion Factors'!$G$20/0.8/1000,2096.16*AO1207*'CO2 Conversion Factors'!$G$20/0.8/1000)","v":0},{"$f":"IF(O1207=\"130\",2014.4*AO1207*'CO2 Conversion Factors'!$J$20/0.8/1000,2096.16*AO1207*'CO2 Conversion Factors'!$J$20/0.8/1000)","v":0},0,0,null,null,null,0,0,0,0,"",false,false,false,false,null,"","",""]
[null,null,null,null,null,null,null,null,null,null,null,null,null,null,null,null,null,null,null,null,null,null,null,null,null,null,null,null,null,null,null,null,null,null,null,null,null,{"$f":"IF(O1208=\"130\",2014.4*AO1208*'CO2 Conversion Factors'!$D$20/0.8/1000,2096.16*AO1208*'CO2 Conversion Factors'!$D$20/0.8/1000)","v":0},{"$f":"IF(O1208=\"130\",2014.4*AO1208*'CO2 Conversion Factors'!$G$20/0.8/1000,2096.16*AO1208*'CO2 Conversion Factors'!$G$20/0.8/1000)","v":0},{"$f":"IF(O1208=\"130\",2014.4*AO1208*'CO2 Conversion Factors'!$J$20/0.8/1000,2096.16*AO1208*'CO2 Conversion Factors'!$J$20/0.8/1000)","v":0},0,0,null,null,null,0,0,0,0,"",false,false,false,false,null,"","",""]
[null,null,null,null,null,null,null,null,null,null,null,null,null,null,null,null,null,null,null,null,null,null,null,null,null,null,null,null,null,null,null,null,null,null,null,null,null,{"$f":"IF(O1209=\"130\",2014.4*AO1209*'CO2 Conversion Factors'!$D$20/0.8/1000,2096.16*AO1209*'CO2 Conversion Factors'!$D$20/0.8/1000)","v":0},{"$f":"IF(O1209=\"130\",2014.4*AO1209*'CO2 Conversion Factors'!$G$20/0.8/1000,2096.16*AO1209*'CO2 Conversion Factors'!$G$20/0.8/1000)","v":0},{"$f":"IF(O1209=\"130\",2014.4*AO1209*'CO2 Conversion Factors'!$J$20/0.8/1000,2096.16*AO1209*'CO2 Conversion Factors'!$J$20/0.8/1000)","v":0},0,0,null,null,null,0,0,0,0,"",false,false,false,false,null,"","",""]
[null,null,null,null,null,null,null,null,null,null,null,null,null,null,null,null,null,null,null,null,null,null,null,null,null,null,null,null,null,null,null,null,null,null,null,null,null,{"$f":"IF(O1210=\"130\",2014.4*AO1210*'CO2 Conversion Factors'!$D$20/0.8/1000,2096.16*AO1210*'CO2 Conversion Factors'!$D$20/0.8/1000)","v":0},{"$f":"IF(O1210=\"130\",2014.4*AO1210*'CO2 Conversion Factors'!$G$20/0.8/1000,2096.16*AO1210*'CO2 Conversion Factors'!$G$20/0.8/1000)","v":0},{"$f":"IF(O1210=\"130\",2014.4*AO1210*'CO2 Conversion Factors'!$J$20/0.8/1000,2096.16*AO1210*'CO2 Conversion Factors'!$J$20/0.8/1000)","v":0},0,0,null,null,null,0,0,0,0,"",false,false,false,false,null,"","",""]
[null,null,null,null,null,null,null,null,null,null,null,null,null,null,null,null,null,null,null,null,null,null,null,null,null,null,null,null,null,null,null,null,null,null,null,null,null,{"$f":"IF(O1211=\"130\",2014.4*AO1211*'CO2 Conversion Factors'!$D$20/0.8/1000,2096.16*AO1211*'CO2 Conversion Factors'!$D$20/0.8/1000)","v":0},{"$f":"IF(O1211=\"130\",2014.4*AO1211*'CO2 Conversion Factors'!$G$20/0.8/1000,2096.16*AO1211*'CO2 Conversion Factors'!$G$20/0.8/1000)","v":0},{"$f":"IF(O1211=\"130\",2014.4*AO1211*'CO2 Conversion Factors'!$J$20/0.8/1000,2096.16*AO1211*'CO2 Conversion Factors'!$J$20/0.8/1000)","v":0},0,0,null,null,null,0,0,0,0,"",false,false,false,false,null,"","",""]
[null,null,null,null,null,null,null,null,null,null,null,null,null,null,null,null,null,null,null,null,null,null,null,null,null,null,null,null,null,null,null,null,null,null,null,null,null,{"$f":"IF(O1212=\"130\",2014.4*AO1212*'CO2 Conversion Factors'!$D$20/0.8/1000,2096.16*AO1212*'CO2 Conversion Factors'!$D$20/0.8/1000)","v":0},{"$f":"IF(O1212=\"130\",2014.4*AO1212*'CO2 Conversion Factors'!$G$20/0.8/1000,2096.16*AO1212*'CO2 Conversion Factors'!$G$20/0.8/1000)","v":0},{"$f":"IF(O1212=\"130\",2014.4*AO1212*'CO2 Conversion Factors'!$J$20/0.8/1000,2096.16*AO1212*'CO2 Conversion Factors'!$J$20/0.8/1000)","v":0},0,0,null,null,null,0,0,0,0,"",false,false,false,false,null,"","",""]
[null,null,null,null,null,null,null,null,null,null,null,null,null,null,null,null,null,null,null,null,null,null,null,null,null,null,null,null,null,null,null,null,null,null,null,null,null,{"$f":"IF(O1213=\"130\",2014.4*AO1213*'CO2 Conversion Factors'!$D$20/0.8/1000,2096.16*AO1213*'CO2 Conversion Factors'!$D$20/0.8/1000)","v":0},{"$f":"IF(O1213=\"130\",2014.4*AO1213*'CO2 Conversion Factors'!$G$20/0.8/1000,2096.16*AO1213*'CO2 Conversion Factors'!$G$20/0.8/1000)","v":0},{"$f":"IF(O1213=\"130\",2014.4*AO1213*'CO2 Conversion Factors'!$J$20/0.8/1000,2096.16*AO1213*'CO2 Conversion Factors'!$J$20/0.8/1000)","v":0},0,0,null,null,null,0,0,0,0,"",false,false,false,false,null,"","",""]
[null,null,null,null,null,null,null,null,null,null,null,null,null,null,null,null,null,null,null,null,null,null,null,null,null,null,null,null,null,null,null,null,null,null,null,null,null,{"$f":"IF(O1214=\"130\",2014.4*AO1214*'CO2 Conversion Factors'!$D$20/0.8/1000,2096.16*AO1214*'CO2 Conversion Factors'!$D$20/0.8/1000)","v":0},{"$f":"IF(O1214=\"130\",2014.4*AO1214*'CO2 Conversion Factors'!$G$20/0.8/1000,2096.16*AO1214*'CO2 Conversion Factors'!$G$20/0.8/1000)","v":0},{"$f":"IF(O1214=\"130\",2014.4*AO1214*'CO2 Conversion Factors'!$J$20/0.8/1000,2096.16*AO1214*'CO2 Conversion Factors'!$J$20/0.8/1000)","v":0},0,0,null,null,null,0,0,0,0,"",false,false,false,false,null,"","",""]
[null,null,null,null,null,null,null,null,null,null,null,null,null,null,null,null,null,null,null,null,null,null,null,null,null,null,null,null,null,null,null,null,null,null,null,null,null,{"$f":"IF(O1215=\"130\",2014.4*AO1215*'CO2 Conversion Factors'!$D$20/0.8/1000,2096.16*AO1215*'CO2 Conversion Factors'!$D$20/0.8/1000)","v":0},{"$f":"IF(O1215=\"130\",2014.4*AO1215*'CO2 Conversion Factors'!$G$20/0.8/1000,2096.16*AO1215*'CO2 Conversion Factors'!$G$20/0.8/1000)","v":0},{"$f":"IF(O1215=\"130\",2014.4*AO1215*'CO2 Conversion Factors'!$J$20/0.8/1000,2096.16*AO1215*'CO2 Conversion Factors'!$J$20/0.8/1000)","v":0},0,0,null,null,null,0,0,0,0,"",false,false,false,false,null,"","",""]
[null,null,null,null,null,null,null,null,null,null,null,null,null,null,null,null,null,null,null,null,null,null,null,null,null,null,null,null,null,null,null,null,null,null,null,null,null,{"$f":"IF(O1216=\"130\",2014.4*AO1216*'CO2 Conversion Factors'!$D$20/0.8/1000,2096.16*AO1216*'CO2 Conversion Factors'!$D$20/0.8/1000)","v":0},{"$f":"IF(O1216=\"130\",2014.4*AO1216*'CO2 Conversion Factors'!$G$20/0.8/1000,2096.16*AO1216*'CO2 Conversion Factors'!$G$20/0.8/1000)","v":0},{"$f":"IF(O1216=\"130\",2014.4*AO1216*'CO2 Conversion Factors'!$J$20/0.8/1000,2096.16*AO1216*'CO2 Conversion Factors'!$J$20/0.8/1000)","v":0},0,0,null,null,null,0,0,0,0,"",false,false,false,false,null,"","",""]
[null,null,null,null,null,null,null,null,null,null,null,null,null,null,null,null,null,null,null,null,null,null,null,null,null,null,null,null,null,null,null,null,null,null,null,null,null,{"$f":"IF(O1217=\"130\",2014.4*AO1217*'CO2 Conversion Factors'!$D$20/0.8/1000,2096.16*AO1217*'CO2 Conversion Factors'!$D$20/0.8/1000)","v":0},{"$f":"IF(O1217=\"130\",2014.4*AO1217*'CO2 Conversion Factors'!$G$20/0.8/1000,2096.16*AO1217*'CO2 Conversion Factors'!$G$20/0.8/1000)","v":0},{"$f":"IF(O1217=\"130\",2014.4*AO1217*'CO2 Conversion Factors'!$J$20/0.8/1000,2096.16*AO1217*'CO2 Conversion Factors'!$J$20/0.8/1000)","v":0},0,0,null,null,null,0,0,0,0,"",false,false,false,false,null,"","",""]
[null,null,null,null,null,null,null,null,null,null,null,null,null,null,null,null,null,null,null,null,null,null,null,null,null,null,null,null,null,null,null,null,null,null,null,null,null,{"$f":"IF(O1218=\"130\",2014.4*AO1218*'CO2 Conversion Factors'!$D$20/0.8/1000,2096.16*AO1218*'CO2 Conversion Factors'!$D$20/0.8/1000)","v":0},{"$f":"IF(O1218=\"130\",2014.4*AO1218*'CO2 Conversion Factors'!$G$20/0.8/1000,2096.16*AO1218*'CO2 Conversion Factors'!$G$20/0.8/1000)","v":0},{"$f":"IF(O1218=\"130\",2014.4*AO1218*'CO2 Conversion Factors'!$J$20/0.8/1000,2096.16*AO1218*'CO2 Conversion Factors'!$J$20/0.8/1000)","v":0},0,0,null,null,null,0,0,0,0,"",false,false,false,false,null,"","",""]
[null,null,null,null,null,null,null,null,null,null,null,null,null,null,null,null,null,null,null,null,null,null,null,null,null,null,null,null,null,null,null,null,null,null,null,null,null,{"$f":"IF(O1219=\"130\",2014.4*AO1219*'CO2 Conversion Factors'!$D$20/0.8/1000,2096.16*AO1219*'CO2 Conversion Factors'!$D$20/0.8/1000)","v":0},{"$f":"IF(O1219=\"130\",2014.4*AO1219*'CO2 Conversion Factors'!$G$20/0.8/1000,2096.16*AO1219*'CO2 Conversion Factors'!$G$20/0.8/1000)","v":0},{"$f":"IF(O1219=\"130\",2014.4*AO1219*'CO2 Conversion Factors'!$J$20/0.8/1000,2096.16*AO1219*'CO2 Conversion Factors'!$J$20/0.8/1000)","v":0},{"$f":"IFERROR(IF(OR(L1219=\"BLW\",L1219=\"PRI\",L1219=\"LNK\"),IF(Cover_Select_SteamCostUnits=\"£/1000kg\",11.6*(VLOOKUP($I1219,Abb_Lookup_OrifaceDia,2,FALSE)^2)*SQRT(($O1219-$P1219)*($O1219+$P1219)),25.57363*(VLOOKUP($I1219,Abb_Lookup_OrifaceDia,2,FALSE)^2)*SQRT(($O1219-$P1219)*($O1219+$P1219)))*(VLOOKUP(AE1219,Cover_Lookup_OpTime,4,FALSE)/1000),IF(L1219=\"LL\",IF(Cover_Select_SteamCostUnits=\"£/1000kg\",11.6*(VLOOKUP($I1219,Abb_Lookup_OrifaceDia,2,FALSE)^2)*SQRT(($O1219-$P1219)*($O1219+$P1219)),25.57363*(VLOOKUP($I1219,Abb_Lookup_OrifaceDia,2,FALSE)^2)*SQRT(($O1219-$P1219)*($O1219+$P1219)))*(VLOOKUP(AE1219,Cover_Lookup_OpTime,4,FALSE)/2000),IF(L1219=\"SL\",IF(Cover_Select_SteamCostUnits=\"£/1000kg\",11.6*(VLOOKUP($I1219,Abb_Lookup_OrifaceDia,2,FALSE)^2)*SQRT(($O1219-$P1219)*($O1219+$P1219)),25.57363*(VLOOKUP($I1219,Abb_Lookup_OrifaceDia,2,FALSE)^2)*SQRT(($O1219-$P1219)*($O1219+$P1219)))*(VLOOKUP(AE1219,Cover_Lookup_OpTime,4,FALSE)/4000),0))),0)","v":0},0,null,null,null,0,0,0,0,"",false,false,false,false,null,"","",""]
[null,null,null,null,null,null,null,null,null,null,null,null,null,null,null,null,null,null,null,null,null,null,null,null,null,null,null,null,null,null,null,null,null,null,null,null,null,{"$f":"IF(O1220=\"130\",2014.4*AO1220*'CO2 Conversion Factors'!$D$20/0.8/1000,2096.16*AO1220*'CO2 Conversion Factors'!$D$20/0.8/1000)","v":0},{"$f":"IF(O1220=\"130\",2014.4*AO1220*'CO2 Conversion Factors'!$G$20/0.8/1000,2096.16*AO1220*'CO2 Conversion Factors'!$G$20/0.8/1000)","v":0},{"$f":"IF(O1220=\"130\",2014.4*AO1220*'CO2 Conversion Factors'!$J$20/0.8/1000,2096.16*AO1220*'CO2 Conversion Factors'!$J$20/0.8/1000)","v":0},0,0,null,null,null,0,0,0,0,"",false,false,false,false,null,"","",""]
[null,null,null,null,null,null,null,null,null,null,null,null,null,null,null,null,null,null,null,null,null,null,null,null,null,null,null,null,null,null,null,null,null,null,null,null,null,{"$f":"IF(O1221=\"130\",2014.4*AO1221*'CO2 Conversion Factors'!$D$20/0.8/1000,2096.16*AO1221*'CO2 Conversion Factors'!$D$20/0.8/1000)","v":0},{"$f":"IF(O1221=\"130\",2014.4*AO1221*'CO2 Conversion Factors'!$G$20/0.8/1000,2096.16*AO1221*'CO2 Conversion Factors'!$G$20/0.8/1000)","v":0},{"$f":"IF(O1221=\"130\",2014.4*AO1221*'CO2 Conversion Factors'!$J$20/0.8/1000,2096.16*AO1221*'CO2 Conversion Factors'!$J$20/0.8/1000)","v":0},0,0,null,null,null,0,0,0,0,"",{"$f":"IF(L1221=\"CLD\", H1221)","v":false},{"$f":"IF(L1221=\"SL\", H1221)","v":false},{"$f":"IF(L1221=\"LL\", H1221)","v":false},{"$f":"IF(L1221=\"BLW\", H1221)","v":false},null,"","",""]
[null,null,null,null,null,null,null,null,null,null,null,null,null,null,null,null,null,null,null,null,null,null,null,null,null,null,null,null,null,null,null,null,null,null,null,null,null,{"$f":"IF(O1222=\"130\",2014.4*AO1222*'CO2 Conversion Factors'!$D$20/0.8/1000,2096.16*AO1222*'CO2 Conversion Factors'!$D$20/0.8/1000)","v":0},{"$f":"IF(O1222=\"130\",2014.4*AO1222*'CO2 Conversion Factors'!$G$20/0.8/1000,2096.16*AO1222*'CO2 Conversion Factors'!$G$20/0.8/1000)","v":0},{"$f":"IF(O1222=\"130\",2014.4*AO1222*'CO2 Conversion Factors'!$J$20/0.8/1000,2096.16*AO1222*'CO2 Conversion Factors'!$J$20/0.8/1000)","v":0},0,0,null,null,null,0,0,0,0,"",false,false,false,false,null,"","",""]
[null,null,null,null,null,null,null,null,null,null,null,null,null,null,null,null,null,null,null,null,null,null,null,null,null,null,null,null,null,null,null,null,null,null,null,null,null,{"$f":"IF(O1223=\"130\",2014.4*AO1223*'CO2 Conversion Factors'!$D$20/0.8/1000,2096.16*AO1223*'CO2 Conversion Factors'!$D$20/0.8/1000)","v":0},{"$f":"IF(O1223=\"130\",2014.4*AO1223*'CO2 Conversion Factors'!$G$20/0.8/1000,2096.16*AO1223*'CO2 Conversion Factors'!$G$20/0.8/1000)","v":0},{"$f":"IF(O1223=\"130\",2014.4*AO1223*'CO2 Conversion Factors'!$J$20/0.8/1000,2096.16*AO1223*'CO2 Conversion Factors'!$J$20/0.8/1000)","v":0},0,0,null,null,null,0,0,0,0,"",false,false,false,false,null,"","",""]
[null,null,null,null,null,null,null,null,null,null,null,null,null,null,null,null,null,null,null,null,null,null,null,null,null,null,null,null,null,null,null,null,null,null,null,null,null,{"$f":"IF(O1224=\"130\",2014.4*AO1224*'CO2 Conversion Factors'!$D$20/0.8/1000,2096.16*AO1224*'CO2 Conversion Factors'!$D$20/0.8/1000)","v":0},{"$f":"IF(O1224=\"130\",2014.4*AO1224*'CO2 Conversion Factors'!$G$20/0.8/1000,2096.16*AO1224*'CO2 Conversion Factors'!$G$20/0.8/1000)","v":0},{"$f":"IF(O1224=\"130\",2014.4*AO1224*'CO2 Conversion Factors'!$J$20/0.8/1000,2096.16*AO1224*'CO2 Conversion Factors'!$J$20/0.8/1000)","v":0},0,0,null,null,null,0,0,0,0,"",false,false,false,false,null,"","",""]
[null,null,null,null,null,null,null,null,null,null,null,null,null,null,null,null,null,null,null,null,null,null,null,null,null,null,null,null,null,null,null,null,null,null,null,null,null,{"$f":"IF(O1225=\"130\",2014.4*AO1225*'CO2 Conversion Factors'!$D$20/0.8/1000,2096.16*AO1225*'CO2 Conversion Factors'!$D$20/0.8/1000)","v":0},{"$f":"IF(O1225=\"130\",2014.4*AO1225*'CO2 Conversion Factors'!$G$20/0.8/1000,2096.16*AO1225*'CO2 Conversion Factors'!$G$20/0.8/1000)","v":0},{"$f":"IF(O1225=\"130\",2014.4*AO1225*'CO2 Conversion Factors'!$J$20/0.8/1000,2096.16*AO1225*'CO2 Conversion Factors'!$J$20/0.8/1000)","v":0},0,0,null,null,null,0,0,0,0,"",false,false,false,false,null,"","",""]
[null,null,null,null,null,null,null,null,null,null,null,null,null,null,null,null,null,null,null,null,null,null,null,null,null,null,null,null,null,null,null,null,null,null,null,null,null,{"$f":"IF(O1226=\"130\",2014.4*AO1226*'CO2 Conversion Factors'!$D$20/0.8/1000,2096.16*AO1226*'CO2 Conversion Factors'!$D$20/0.8/1000)","v":0},{"$f":"IF(O1226=\"130\",2014.4*AO1226*'CO2 Conversion Factors'!$G$20/0.8/1000,2096.16*AO1226*'CO2 Conversion Factors'!$G$20/0.8/1000)","v":0},{"$f":"IF(O1226=\"130\",2014.4*AO1226*'CO2 Conversion Factors'!$J$20/0.8/1000,2096.16*AO1226*'CO2 Conversion Factors'!$J$20/0.8/1000)","v":0},0,0,null,null,null,0,0,0,0,"",false,false,false,false,null,"","",""]
[null,null,null,null,null,null,null,null,null,null,null,null,null,null,null,null,null,null,null,null,null,null,null,null,null,null,null,null,null,null,null,null,null,null,null,null,null,{"$f":"IF(O1227=\"130\",2014.4*AO1227*'CO2 Conversion Factors'!$D$20/0.8/1000,2096.16*AO1227*'CO2 Conversion Factors'!$D$20/0.8/1000)","v":0},{"$f":"IF(O1227=\"130\",2014.4*AO1227*'CO2 Conversion Factors'!$G$20/0.8/1000,2096.16*AO1227*'CO2 Conversion Factors'!$G$20/0.8/1000)","v":0},{"$f":"IF(O1227=\"130\",2014.4*AO1227*'CO2 Conversion Factors'!$J$20/0.8/1000,2096.16*AO1227*'CO2 Conversion Factors'!$J$20/0.8/1000)","v":0},0,0,null,null,null,0,0,0,0,"",false,false,false,false,null,"","",""]
[null,null,null,null,null,null,null,null,null,null,null,null,null,null,null,null,null,null,null,null,null,null,null,null,null,null,null,null,null,null,null,null,null,null,null,null,null,{"$f":"IF(O1228=\"130\",2014.4*AO1228*'CO2 Conversion Factors'!$D$20/0.8/1000,2096.16*AO1228*'CO2 Conversion Factors'!$D$20/0.8/1000)","v":0},{"$f":"IF(O1228=\"130\",2014.4*AO1228*'CO2 Conversion Factors'!$G$20/0.8/1000,2096.16*AO1228*'CO2 Conversion Factors'!$G$20/0.8/1000)","v":0},{"$f":"IF(O1228=\"130\",2014.4*AO1228*'CO2 Conversion Factors'!$J$20/0.8/1000,2096.16*AO1228*'CO2 Conversion Factors'!$J$20/0.8/1000)","v":0},0,0,null,null,null,0,0,0,0,"",false,false,false,false,null,"","",""]
[null,null,null,null,null,null,null,null,null,null,null,null,null,null,null,null,null,null,null,null,null,null,null,null,null,null,null,null,null,null,null,null,null,null,null,null,null,{"$f":"IF(O1229=\"130\",2014.4*AO1229*'CO2 Conversion Factors'!$D$20/0.8/1000,2096.16*AO1229*'CO2 Conversion Factors'!$D$20/0.8/1000)","v":0},{"$f":"IF(O1229=\"130\",2014.4*AO1229*'CO2 Conversion Factors'!$G$20/0.8/1000,2096.16*AO1229*'CO2 Conversion Factors'!$G$20/0.8/1000)","v":0},{"$f":"IF(O1229=\"130\",2014.4*AO1229*'CO2 Conversion Factors'!$J$20/0.8/1000,2096.16*AO1229*'CO2 Conversion Factors'!$J$20/0.8/1000)","v":0},0,0,null,null,null,0,0,0,0,"",false,false,false,false,null,"","",""]
[null,null,null,null,null,null,null,null,null,null,null,null,null,null,null,null,null,null,null,null,null,null,null,null,null,null,null,null,null,null,null,null,null,null,null,null,null,{"$f":"IF(O1230=\"130\",2014.4*AO1230*'CO2 Conversion Factors'!$D$20/0.8/1000,2096.16*AO1230*'CO2 Conversion Factors'!$D$20/0.8/1000)","v":0},{"$f":"IF(O1230=\"130\",2014.4*AO1230*'CO2 Conversion Factors'!$G$20/0.8/1000,2096.16*AO1230*'CO2 Conversion Factors'!$G$20/0.8/1000)","v":0},{"$f":"IF(O1230=\"130\",2014.4*AO1230*'CO2 Conversion Factors'!$J$20/0.8/1000,2096.16*AO1230*'CO2 Conversion Factors'!$J$20/0.8/1000)","v":0},0,0,null,null,null,0,0,0,0,"",false,false,false,false,null,"","",""]
[null,null,null,null,null,null,null,null,null,null,null,null,null,null,null,null,null,null,null,null,null,null,null,null,null,null,null,null,null,null,null,null,null,null,null,null,null,{"$f":"IF(O1231=\"130\",2014.4*AO1231*'CO2 Conversion Factors'!$D$20/0.8/1000,2096.16*AO1231*'CO2 Conversion Factors'!$D$20/0.8/1000)","v":0},{"$f":"IF(O1231=\"130\",2014.4*AO1231*'CO2 Conversion Factors'!$G$20/0.8/1000,2096.16*AO1231*'CO2 Conversion Factors'!$G$20/0.8/1000)","v":0},{"$f":"IF(O1231=\"130\",2014.4*AO1231*'CO2 Conversion Factors'!$J$20/0.8/1000,2096.16*AO1231*'CO2 Conversion Factors'!$J$20/0.8/1000)","v":0},0,0,null,null,null,0,0,0,0,"",false,false,false,false,null,"","",""]
[null,null,null,null,null,null,null,null,null,null,null,null,null,null,null,null,null,null,null,null,null,null,null,null,null,null,null,null,null,null,null,null,null,null,null,null,null,{"$f":"IF(O1232=\"130\",2014.4*AO1232*'CO2 Conversion Factors'!$D$20/0.8/1000,2096.16*AO1232*'CO2 Conversion Factors'!$D$20/0.8/1000)","v":0},{"$f":"IF(O1232=\"130\",2014.4*AO1232*'CO2 Conversion Factors'!$G$20/0.8/1000,2096.16*AO1232*'CO2 Conversion Factors'!$G$20/0.8/1000)","v":0},{"$f":"IF(O1232=\"130\",2014.4*AO1232*'CO2 Conversion Factors'!$J$20/0.8/1000,2096.16*AO1232*'CO2 Conversion Factors'!$J$20/0.8/1000)","v":0},0,0,null,null,null,0,0,0,0,"",false,false,false,false,null,"","",""]
[null,null,null,null,null,null,null,null,null,null,null,null,null,null,null,null,null,null,null,null,null,null,null,null,null,null,null,null,null,null,null,null,null,null,null,null,null,{"$f":"IF(O1233=\"130\",2014.4*AO1233*'CO2 Conversion Factors'!$D$20/0.8/1000,2096.16*AO1233*'CO2 Conversion Factors'!$D$20/0.8/1000)","v":0},{"$f":"IF(O1233=\"130\",2014.4*AO1233*'CO2 Conversion Factors'!$G$20/0.8/1000,2096.16*AO1233*'CO2 Conversion Factors'!$G$20/0.8/1000)","v":0},{"$f":"IF(O1233=\"130\",2014.4*AO1233*'CO2 Conversion Factors'!$J$20/0.8/1000,2096.16*AO1233*'CO2 Conversion Factors'!$J$20/0.8/1000)","v":0},0,0,null,null,null,0,0,0,0,"",false,false,false,false,null,"","",""]
[null,null,null,null,null,null,null,null,null,null,null,null,null,null,null,null,null,null,null,null,null,null,null,null,null,null,null,null,null,null,null,null,null,null,null,null,null,{"$f":"IF(O1234=\"130\",2014.4*AO1234*'CO2 Conversion Factors'!$D$20/0.8/1000,2096.16*AO1234*'CO2 Conversion Factors'!$D$20/0.8/1000)","v":0},{"$f":"IF(O1234=\"130\",2014.4*AO1234*'CO2 Conversion Factors'!$G$20/0.8/1000,2096.16*AO1234*'CO2 Conversion Factors'!$G$20/0.8/1000)","v":0},{"$f":"IF(O1234=\"130\",2014.4*AO1234*'CO2 Conversion Factors'!$J$20/0.8/1000,2096.16*AO1234*'CO2 Conversion Factors'!$J$20/0.8/1000)","v":0},0,0,null,null,null,0,0,0,0,"",false,false,false,false,null,"","",""]

{"sheet":"Abbreviations","index":3,"n_rows":99,"n_cols":3,"rows_kept":99,"cut":false,"hidden":false,"merged":[[98,1,98,2],[0,1,0,2],[41,1,41,2],[24,1,24,2],[12,1,12,2],[1,1,1,2],[81,1,81,2],[76,1,76,2],[46,1,46,2],[61,1,61,2],[70,1,70,2]]}
[null,"ABBREVIATION TABLES"]
[null,"APPLICATION"]
[null,"DP","Drip"]
[null,"UH","Unit Heater"]
[null,"AH","Air Handler Coil"]
[null,"HX","Heat Exchanger"]
[null,"TR","Tracing"]
[null,"FL","Flash Tank"]
[null,"PC","Process Coil"]
[null,"SS","Steam Separator"]
[null,"OTH","Others"]
[]
[null,"SIZE"]
[null,"3/8","3/8\""]
[null,"1/2","1/2\""]
[null,"3/4","3/4\""]
[null,"1","1\""]
[null,"1 1/4","1 1/4\""]
[null,"1 1/2","1.5\""]
[null,"2.0","2.0\""]
[null,"2 1/4","2 1/4\""]
[null,"2 1/2","2 1/2\""]
[null,"3","3\""]
[]
[null,"MANUFACTURER"]
[null,"ARM","Armstrong"]
[null,"BLO","Blok Gouda"]
[null,"COL","Colton"]
[null,"ERW","Erwell"]
[null,"GES","Gestra"]
[null,"HOF","Hoffman"]
[null,"NIC","Nicholson"]
[null,"JUK","Jucker"]
[null,"SPI","Spirax Sarco"]
[null,"TLV","TLV"]
[null,"UNK","Unknown or illegible"]
[null,"TRA","Trane"]
[null,"VEL","Velan"]
[null,"WLW","Watlow"]
[null,"YAR","Yarway"]
[]
[null,"STEAM TYPE"]
[null,"SUP","Superheat"]
[null,"SAT","Saturated"]
[]
[]
[null,"OPERATION STATUS"]
[null,"PO","Proper Operation"]
[null,"BLW","Blowing Failure Mode"]
[null,"LL","Large Leak"]
[null,"SL","Small Leak"]
[null,"PRI","Loss of Prime (IB Only)"]
[null,"LNK","Linkage"]
[null,"CHK","Check Valve Problem"]
[null,"ACC","Could Not Access"]
[null,"SBD","Steam binding"]
[null,"CLD","Cold - (below op temp)"]
[null,"NIS","Not in Service (steam on)"]
[null,"OFF","Steam service was off"]
[]
[]
[null,"STEAM TRAP TYPE"]
[null,"IB","Inverted Bucket"]
[null,"FT","Float & Thermostatic"]
[null,"FF","Free Float"]
[null,"TD","Thermodynamic"]
[null,"TS","Thermostatic"]
[null,"BM","Bi-metallic"]
[null,"O","Orifice"]
[]
[null,"CONNECTION TYPE"]
[null,"NPT","Threaded"]
[null,"SW","Socket Weld"]
[null,"FLG","Flanged"]
[null,"CMP","Compression"]
[]
[null,"YES NO"]
[null,"Y","Yes"]
[null,"N","No"]
[null,"N/A","N/A"]
[]
[null,"ORIFACE DIAMETER"]
[null,"1/32",3.125E-2]
[null,"1/16",6.25E-2]
[null,"3/32",9.375E-2]
[null,"1/8",0.125]
[null,"5/32",0.15625]
[null,"3/16",0.1875]
[null,"7/32",0.21875]
[null,"1/4",0.25]
[null,"9/32",0.28125]
[null,"5/16",0.3125]
[null,"11/32",0.34375]
[null,"3/8",0.375]
[null,"13/32",0.40625]
[null,"7/16",0.4375]
[null,"15/32",0.46875]
[null,"1/2",0.5]
[null,"Copy Rights: Not to be copied or distributed without specific permission from Inveno Engineering LLC; kelly.paffel@invenoeng.com"]

{"sheet":"Orifice","index":4,"n_rows":58,"n_cols":10,"rows_kept":58,"cut":false,"hidden":false,"merged":[[0,1,0,5],[57,1,57,5]]}
[null,"Steam Trap Orifice Diameters"]
[null,"TLV Steam Trap",null,null,null,"K Factor",null,"Inches",null,"mm"]
[null,null,"HP","MP","LP"]
[null,null,"66 bar (957.25 psi)","21 bar (304.58 psi))","5 bar (72.52 psi)"]
[null,"A46",0.125,0.125,0.125]
[null,"A46S",0.125,0.125,0.125]
[null,"A65",0.125,0.125,0.125]
[null,"A65S",0.125,0.125,0.125]
[null,"FL"]
[null,"FREE FLOAT"]
[null,"HN5N"]
[null,"HR80A",0.125,0.125,0.125]
[null,"HRF 3"]
[null,"JH10",0.5,0.5,0.5]
[null,"JH7.5",0.5,0.5,0.5]
[null,"JH75-22A"]
[null,"JH75N-70"]
[null,"JH75R-40"]
[null,"JH7N",0.5,0.5,0.5]
[null,"JH7N-12",0.5,0.5,0.5]
[null,"JH8-3",0.5,0.5,0.5]
[null,"JH8N 50",0.5,0.5,0.5]
[null,"JH8SN H",0.5,0.5,0.5]
[null,"JHF 3N",0.1875,0.1875,0.1875]
[null,"P46SR",0.1875,0.1875,0.1875]
[null,"P46SR A",0.1875,0.1875,0.1875]
[null,"PF3N"]
[null,"PF3N-300"]
[null,"PF3N-900"]
[null,"SS1 - 10",6.25E-2,null,null,null,null,"1/16",6.25E-2,1.6]
[null,"SS3N-5",0.1875,0.1875,0.1875]
[null,"UNK"]
[null,"L21S",0.1875,0.1875,0.1875,0.6,"0.131 from pics scale with K=0.6"]
[]
[null,"Armstrong"]
[null,1822,6.25E-2,{"$f":"7/64","v":0.109375},{"$f":"3/16","v":0.1875}]
[null,1811,6.25E-2,{"$f":"5/64","v":7.8125E-2},{"$f":"5/32","v":0.15625}]
[null,1810,6.25E-2,7.8125E-2,{"$f":"1/8","v":0.125}]
[null,2022,6.25E-2,{"$f":"7/64","v":0.109375},0.125]
[null,"2011/5",6.25E-2,{"$f":"5/64","v":7.8125E-2},{"$f":"5/32","v":0.15625}]
[null,"401-SH",6.25E-2,7.0000000000000007E-2,7.0000000000000007E-2]
[null,"SH 900 H",6.25E-2,6.25E-2,6.25E-2]
[null,1012,6.25E-2,{"$f":"5/64","v":7.8125E-2},{"$f":"1/8","v":0.125}]
[null,"1012/7",6.25E-2,{"$f":"5/64","v":7.8125E-2},{"$f":"1/8","v":0.125}]
[null,"TRP 814",0.25,0.25,0.25]
[]
[null,"Spirax Sarco"]
[null,"TD42",0.125,0.125,0.125]
[null,"TD32F",6.25E-2,6.25E-2,6.25E-2]
[]
[null,"Yarway"]
[null,"761",0.125,0.125,0.125,0.1,"From pictures measured 0.25\" but K factor would be 0.1, so changed to 0.101 with K factor=0.6"]
[]
[null,"Gestra"]
[null,"MK35/32",0.125,0.125,0.125]
[null,"MK45-2",0.125,0.125,0.125]
[null,"MK55/3",0.125,0.125,0.125]
[null,"Copy Rights: Not to be copied or distributed without specific permission from Inveno Engineering LLC; kelly.paffel@invenoeng.com"]

{"sheet":"Field Sheets","index":5,"n_rows":4,"n_cols":34,"rows_kept":4,"cut":false,"hidden":false,"merged":[[0,33,2,33],[0,32,2,32],[0,0,2,0],[1,7,1,10],[1,11,1,15],[0,16,1,27],[0,28,1,31],[0,2,0,3],[0,4,0,6],[0,7,0,10],[0,11,0,15],[1,2,1,3],[1,4,1,6]]}
["TRAP ID",null,"DATE",null,"PLANT",null,null,"SPECIFIC LOCATION",null,null,null,"DESCRIPTION",null,null,null,null,"INSTALLATION DETAILS",null,null,null,null,null,null,null,null,null,null,null,"DRIP POCKET DETAILS",null,null,null,"COMMENTS / NOTES","PHOTOS"]
[]
[null,"Location","MANUFACTURER","MODEL","TYPE","ORIFACE DIAMETER","TRAP CAPACITY","APPLICATION","OPERATIONAL STATUS","CONNECTION TYPE","CONNECTION SIZE\n(INCHES)","INLET\nPRESSURE","OUTLET\nPRESSURE","INLET\nTEMPERATURE","OUTLET\nTEMPERATURE","SUPERHEAT","INSTALLED ELEVATION","CONDENSATE\nRETURN","CONDENSATE ELEVATION RISE","UPSTREAM\nISOLATION VALVE","DOWNSTREAM\nISOLATION VALVE","UNIVERSAL MOUNT","STRAINER","STRAINER\nBLOWDOWN","DOWNSTREAM\nPIPE SIZE INCREASE","CHECK VALVE","BYPASS","OPERATION TIME","HEADER SIZE","POCKET SIZE","POCKET LENGTH","BLOWDOWN"]
["1",null,"SPI","TD30L","TD","1/16",300,"DP","CLD","SW","1",40,0,10,10,"Y",1,"Y",5,"N","N","Y","Y","N","N","N","N","ALL YEAR",null,null,null,null,"PRIMARY ISOLATION VALVE INACCESSABLE.\nLOKRING UNION USED FOR CONNECTION OF OLD TO NEW PIPEWORK.\nLAGGING NOT REPLACED ON NEW PIPEWORK ABOVE HEAD HEIGHT.","911"]

{"sheet":"CO2 Conversion Factors","index":6,"n_rows":25,"n_cols":12,"rows_kept":25,"cut":false,"hidden":false,"merged":[]}
[]
["Fuel Type"," lbs CO2 / MMBtu","kg CO2 / MMBtu","kg CO2 / GJ","lbs NOX / MMBtu","g NOX / MMBtu","kg NOX / GJ","lbs SO2 /MMBtu","g SO2 /MMBtu","kg CH4 /GJ","BTU/unit"]
["Black Liquor",{"$f":"C3*2.204623","v":221.59808896480979},{"$f":"D3*1.055056","v":100.51518512},95.27]
["Blast Furnace Gas",{"$f":"C4*2.204623","v":562.89217518089606},{"$f":"D4*1.055056","v":255.32355200000001},242,0.24210000000000001,{"$f":"E4*0.45359237","v":0.10981471277700001},{"$f":"F4/1.055056","v":0.10408425029287546},8.5,{"$f":"H4*0.45359237","v":3.8555351450000002},{"$f":"I4/1.055056","v":3.6543417079282996},95,"BTU/scf"]
["Butane",140.1648036214909,{"$f":"D5*1.055056","v":63.577674559999998},60.26,0.14699999999999999,{"$f":"E5*0.45359237","v":6.6678078390000006E-2},{"$f":"F5/1.055056","v":6.3198615419465892E-2},8.0500000000000002E-2,{"$f":"H5*0.45359237","v":3.6514185785E-2},{"$f":"I5/1.055056","v":3.4608765586850367E-2},102032,"BTU/gal"]
["Coal",220.03966847980479,99.808297599999989,94.6,0.45700000000000002,0.20729171309000002,0.19647460712038037,2.5910000000000002,1.1752578306700001,1.1139293370873207,12000,"BTU/lb"]
["Coke",251.67327832468163,114.15705920000001,108.2,0.75,0.34019427750000003,0.32244191540543821,4.1790000000000003,1.8955625142300001,1.7966463526391017,14000,"BTU/lb"]
["Coke Oven Gas",110.95023452945762,50.326171200000005,47.7,0.13900000000000001,6.3049339430000004E-2,5.9759234988474547E-2,2.3690000000000002,1.0745603245300002,1.0184865301273109,574,"BTU/scf"]
["Crude Petrolium"]
["Diesel (Light/#2 Fuel Oil)",172.3566536401008,78.179649599999991,74.099999999999994,7.2099999999999997E-2,3.2704009877E-2,3.0997416134309459E-2,1.0238,0.46438786840600005,0.44015471065611689,137380,"BTU/gal"]
["Electricity (purchased)",127.55787969801794,57.859271040000003,54.84,null,0,null,null,0,null,3413,"BTU/KWh"]
["Gasoline",161.19185016543841,73.115380799999997,69.3,1.63,0.73935556309999995,0.70077376281448567,8.4000000000000005E-2,3.8101759080000006E-2,3.611349452540908E-2,124340,"BTU/gal"]
["Kerosene (#1 Fuel Oil)",166.30905175799202,75.436503999999999,71.5,0.72899999999999998,0.33066883773,0.31341354177408592,0.30299999999999999,0.13743848811000001,0.13026653382379705,134000,"BTU/gal"]
["Liquefied Petroleum Gas (LPG)",146.77064567733282,66.574033600000007,63.1,0.21099999999999999,9.5707990069999999E-2,9.0713658867396615E-2,9.0999999999999998E-2,4.1276905670000003E-2,3.9122952402526501E-2,95475,"BTU/gal"]
["Methane / Landfill Gas",127.93003981384003,58.028080000000003,55,6.7299999999999999E-2,3.0526766501000002E-2,2.8933787875714656E-2,5.75E-6,2.6081561275000002E-6,2.4720546847750262E-6,490,"BTU/MMscf"]
["Municipal refuse (Dry)",145.88676540225538,66.173112320000001,62.72,0.55549999999999999,0.25197056153500003,0.23882197867696126,0.1888,8.5638239456000007E-2,8.1169378171395648E-2,4500,"BTU/lb"]
["Natural Gas",132.1168411168384,59.927180799999995,56.8,9.1999999999999998E-2,4.1730498040000001E-2,3.056E-2,1,0.45359237000000002,8.6110000000000006E-2,1020,"BTU/scf"]
["Propane",136.7688425646144,62.037292799999996,58.8,0.14219999999999999,6.4500835014000002E-2,6.1134987160871082E-2,0.08,3.6287389600000004E-2,3.4393804309913414E-2,91410,"BTU/gal"]
["Wood",230.50667173730082,104.55604959999999,99.1,null,0,null,null,0]
["Residual Fuel Oil (Heavy/#6 Fuel Oil)",183.47493710028547,83.222817280000001,78.88,0.44800000000000001,0.20320938176,0.21667,1.1220000000000001,0.50893063914000003,8.3299999999999999E-2]
[]
["CO2 Conversion Factor Source: ","DEFRA"]
["NOX Conversion Factor Source: ","DEFRA"]
["CH4 Conversion Factor Source: ","DEFRA"]
["Copy Rights: Not to be copied or distributed without specific permission from Inveno Engineering LLC; kelly.paffel@invenoeng.com"]

{"sheet":"SOP","index":7,"n_rows":28,"n_cols":4,"rows_kept":28,"cut":false,"hidden":false,"merged":[]}
[]
[]
[null,"This workbook contains the worksheets needed to complete a steam trap survey.  Worksheets are:"]
[]
[null,"Report Sheet",null,"This worksheet is the sheet that field information should be typed into.  This sheet will be included in the steam trap report."]
[null,"Field Survey Sheet",null,"This is to be printed out and used in the field to record steam trap survey results. "]
[null,"Abbreviations",null,"This sheet should also be printed out and taken into the field as a reference and refered to when recording results so that the recorded data will be the same"]
[null,"Steam Leak rev 8.1",null,"A calculation worksheet that assists with energy loss and emission calculations for input on the \"Report Sheet\" Energy and Emission Loss area"]
[null,"Steam water pres table May-2009",null,"Supporting worksheet for Steam Leak rev 8.1."]
[null,"CO2 conversion factors",null,"Supporting worksheet for Steam Leak rev 8.1."]
[]
[]
[null,"Steam Trap Survey Procedures - Field Survey"]
[]
[null,1,"Print out \"Field Survey Sheet\" to take into the field.  (Make sure that enough copies of the \"Field Survey Sheet\" are made)"]
[null,2,"Print out \"Abbreviations\" sheet to be used when filling out \"Field Survey Sheet\""]
[null,3,"Put data collected from Field Steam Trap Survey onto \"Report Sheet\" in excel"]
[null,4,"On the \"Cover\" sheet select the fuel, costs and units"]
[null,5,"The energy and emission losses will be calculated automatically"]
[]
[]
[]
[]
[null,"Change History"]
[]
[null,"Ver 3.1","Fixed steam cost not showing up for $/1000lbs steam on Report Sheet \"AQ\""]
[]
[null,"Copy Rights: Not to be copied or distributed without specific permission from Inveno Engineering LLC; kelly.paffel@invenoeng.com"]

{"sheet":"X Steam Example","index":8,"n_rows":31,"n_cols":8,"rows_kept":31,"cut":false,"hidden":false,"merged":[[30,1,30,7]]}
[null,"Steam Tables  (English Units)"]
[null,"Excel macros, IF-97 Steam tables. ",null,"The excel scripts are stored inside this workbook. A complete list of functions for use is available on the \"Calling functions\" worksheet"]
[null,null,null,"The steam tables are free and provided as is. We take no responsibilities for any errors in the code or damage thereby."]
[null,null,null,"OBS: This workbook uses macros. Set security options in Tools:Macro:Security… to enable macros."]
[]
[null,"Saturation properties given temperature",null,null,null,"Saturation properties given pressure"]
[null,"Temperature",50,"degF",null,"Pressure",30,"psi (a)"]
[null,"Saturation pressure",{"$f":"psat_t(C7)","v":0.17813301000769874},"psi (a)",null,"Saturation temperature",{"$f":"Tsat_p(G7)","v":250.30114838394121},"degF"]
[null,"Liquid",null,null,null,"Liquid"]
[null,"Enthalpy",{"$f":"hL_T(C7)","v":18.065816271919097},"btu/lb",null,"Enthalpy",{"$f":"hL_p(G7)","v":218.9253402586838},"btu/lb"]
[null,"Density",{"$f":"rhoL_T(C7)","v":62.406342618778162},"lb /ft3",null,"Density",{"$f":"rhoL_P(G7)","v":58.811617875558412},"lb /ft3"]
[null,"Entropy",{"$f":"sL_T(C7)","v":3.6086052903275448E-2},"btu/(lb F)",null,"Entropy",{"$f":"sL_p(G7)","v":0.36820406853846449},"btu/(lb F)"]
[null,"Vapour",null,null,null,"Vapour"]
[null,"Vapour enthalpy",{"$f":"hV_T(C7)","v":1083.0738774464417},"btu/lb",null,"Vapour enthalpy",{"$f":"hV_p(G7)","v":1164.1380861879077},"btu/lb"]
[null,"Vapour density",{"$f":"rhoV_T(C7)","v":5.8723286456754725E-4},"lb /ft3",null,"Vapour density",{"$f":"rhoV_p(G7)","v":7.2736612709398921E-2},"lb /ft3"]
[null,"Vapour Entropy",{"$f":"sV_T(C7)","v":2.1256916787390598},"btu/(lb F)",null,"vapour Entropy",{"$f":"sV_p(G7)","v":1.6995390247980418},"btu/(lb F)"]
[null,"Evaporation energy",{"$f":"C14-C10","v":1065.0080611745225},"btu/lb",null,"Evaporation energy",{"$f":"G14-G10","v":945.21274592922384},"btu/lb"]
[]
[null,"Properties given pressure and temperature",null,null,null,"Properties given pressure and enthalpy"]
[null,"Pressure",100,"psi (a)",null,"Pressure",12.57,"psi (a)"]
[null,"Temperature",50,"degF",null,"Enthalpy",2788,"btu/lb"]
[null,"Enthalpy",{"$f":"h_pt(C20,C21)","v":18.354327600849064},"btu/lb",null,"Temperature",{"$f":"T_ph(G20,G21)","v":3074.5707483291626},"degF"]
[null,"Density",{"$f":"rho_pT(C20,C21)","v":62.426859281115377},"lb /ft3",null,"Density",{"$f":"rho_ph(G20,G21)","v":5.9703452166335897E-3},"lb /ft3"]
[null,"Entropy",{"$f":"s_pT(C20,C21)","v":3.6071463664522962E-2},"btu/(lb F)",null,"Entropy",{"$f":"s_ph(G20,G21)","v":2.674276314249977},"btu/(lb F)"]
[null,"Vapour fraction",{"$f":"x_ph(C20,C22)*100","v":0},"%",null,"Vapour fraction",{"$f":"x_ph(G20,G21)*100","v":100},"%"]
[null,"IF97 Region",{"$f":"region_pt(C20/10,C21+273.15)","v":1},null,null,"IF97 Region",{"$f":"region_ph(G20/10,G21)","v":2}]
[null,"Phase",{"$f":"IF(C26=2,\"Steam\",IF(C26=1,\"Liquid\",IF(C26=4,\"Mixture\",\"\")))","v":"Liquid"},null,null,"Phase",{"$f":"IF(G26=2,\"Steam\",IF(G26=1,\"Liquid\",IF(G26=4,\"Mixture\",\"\")))","v":"Steam"}]
[null,"Isobaric heat capacity ",{"$f":"Cp_pT(C20,C21)","v":1.0015340327424829},"btu/(lb F)",null,"Isobaric heat capacity ",{"$f":"Cp_ph(G20,G21)","v":0.67524179335823475},"btu/(lb F)"]
[null,"Speed of sound",{"$f":"w_pT(C20,C21)","v":4752.2401977897171},"ft/s",null,"Speed of sound",{"$f":"w_ph(G20,G21)","v":3414.439143641735},"ft/s"]
[]
[null,"Copy Rights: Not to be copied or distributed without specific permission from Inveno Engineering LLC; kelly.paffel@invenoeng.com"]

{"sheet":"SEA Steam Leak Est rev 8.1","index":9,"n_rows":110,"n_cols":26,"rows_kept":110,"cut":false,"hidden":true,"merged":[[73,17,73,20],[47,1,47,15],[131,1,131,10],[95,1,95,15],[79,1,79,15],[63,1,63,15],[70,17,70,20],[72,17,72,20],[7,4,7,6],[7,7,7,11],[6,6,6,11],[31,1,31,15],[9,11,9,15],[10,1,10,15],[11,1,11,15],[15,1,15,15],[0,17,0,20],[2,3,2,6],[2,17,2,18],[2,19,3,19],[2,20,3,20],[0,1,0,15],[1,1,1,15],[2,9,5,15]]}
[null,"Swagelok Energy Advisors                              www.swagelokenergy.com",null,null,null,null,null,null,null,null,null,null,null,null,null,null,null,"Pipe Diameter Reference"]
[null,"Steam loss can be estimated using the following variant of Napier's formula:"]
[null,null,null,"Steam Loss = 22.88 x Pa X D^2",null,null,null,null,null,"Emissions Factors Used by Save Energy Now Program (CO2/MMBtu Primary), other emissions provided by USA EIA.",null,null,null,null,null,null,null,"Nominal Pipe Size",null,"OD (in)","ID (in)"]
[null,null,null,"22.88 = constant",null,null,null,null,null,null,null,null,null,null,null,null,null,"Size","Schedule"]
[null,null,null,"Pa = Absolute Steam Pressure",null,null,null,null,null,null,null,null,null,null,null,null,null,"1/8","STD",0.40500000000000003,0.26900000000000002]
[null,null,null,"D = Diameter of leak",null,null,null,null,null,null,null,null,null,null,null,null,null,null,"XS",null,0.215]
[null,null,null,"Cost of Steam ",10,"$/1000lbs"," Add the steam cost per thousand lbs of steam"]
[null,null,null,"Fuel type","Natural Gas",null,null,"Drop down window for fuel selections",null,null,null,null,null,null,null,null,null,"1/4","STD",0.54,0.36399999999999999]
[]
[]
[null,"Quick Calculation - User defined ",null,null,null,null,null,null,null,null,null,null,null,null,null,null,null,null,"XS",null,0.30199999999999999]
[null,"CELLS THAT CAN BE MODIFY",null,null,null,null,null,null,null,null,null,null,null,null,null,null,null,"3/8","STD",0.67500000000000004,0.49299999999999999]
[null,"Pressure",null,"Abs Pressure","Constant","Diameter","D^2","Steam Loss (pph)","Cost / Hour","Days / Year","Cost / Year","CO2 Emissions / Year","NOX","SO2","Particulates","Mercury",null,null,"XS",null,0.42299999999999999]
[null,15,null,{"$f":"B14+14.696","v":29.695999999999998},22.88,0.125,{"$f":"F14^2","v":1.5625E-2},{"$f":"D14*E14*G14","v":10.616319999999998},{"$f":"(H14/1000)*E7","v":0.10616319999999999},350,{"$f":"I14*24*J14","v":891.77087999999981},{"$f":"((((VLOOKUP($B14,#REF!,8,FALSE)*$H14)/1000000)*(VLOOKUP($E$8,'CO2 Conversion Factors'!$A$3:$J$20,3,FALSE)))*24)*$J14","v":{"$error":"#REF!"}},{"$f":"((((VLOOKUP($B14,#REF!,8,FALSE)*$H14)/1000000)*(VLOOKUP($E$8,'CO2 Conversion Factors'!$A$3:$J$20,4,FALSE)))*24)*$J14","v":{"$error":"#REF!"}},{"$f":"((((VLOOKUP($B14,#REF!,8,FALSE)*$H14)/1000000)*(VLOOKUP($E$8,'CO2 Conversion Factors'!$A$3:$J$20,5,FALSE)))*24)*$J14","v":{"$error":"#REF!"}},{"$f":"((((VLOOKUP($B14,#REF!,8,FALSE)*$H14)/1000000)*(VLOOKUP($E$8,'CO2 Conversion Factors'!$A$3:$J$20,6,FALSE)))*24)*$J14","v":{"$error":"#REF!"}},{"$f":"((((VLOOKUP($B14,#REF!,8,FALSE)*$H14)/1000000)*(VLOOKUP($E$8,'CO2 Conversion Factors'!$A$3:$J$20,7,FALSE)))*24)*$J14","v":{"$error":"#REF!"}},null,"1/2","STD",0.84,0.622]
[null,null,null,null,null,null,null,null,null,null,null,null,null,null,null,null,null,null,"XS",null,0.54600000000000004]
[null,"1/16\" Leak",null,null,null,null,null,null,null,null,null,null,null,null,null,null,null,null,"XXS",null,0.252]
[null,"Pressure","Bar","Abs Pressure","Constant","Diameter","D^2","Steam Loss (pph)","Cost / Hour","Days / Year","Cost / Year","CO2 Emissions / Year","NOX","SO2","Particulates","Mercury",null,"3/4","STD",1.05,0.82399999999999995]
[null,5,null,{"$f":"B18+14.696","v":19.695999999999998},22.88,{"$f":"1/16","v":6.25E-2},{"$f":"F18^2","v":3.90625E-3},{"$f":"D18*E18*G18","v":1.7603299999999997},{"$f":"(H18/1000)*E$7","v":1.7603299999999995E-2},365,{"$f":"I18*24*J18","v":154.20490799999996},{"$f":"((((hV_p(B18+14.696)*$H18)/1000000)*(VLOOKUP($E$8,'CO2 Conversion Factors'!$A$3:$J$20,3,FALSE)))*24)*$J18","v":1068.1715056192509},{"$f":"((((hV_p(B18+14.696)*$H18)/1000000)*(VLOOKUP($E$8,'CO2 Conversion Factors'!$A$3:$J$20,4,FALSE)))*24)*$J18","v":1012.4310990310003},{"$f":"((((hV_p(B18+14.696)*$H18)/1000000)*(VLOOKUP($E$8,'CO2 Conversion Factors'!$A$3:$J$20,5,FALSE)))*24)*$J18","v":1.6398531885713383},{"$f":"((((hV_p(B18+14.696)*$H18)/1000000)*(VLOOKUP($E$8,'CO2 Conversion Factors'!$A$3:$J$20,6,FALSE)))*24)*$J18","v":0.74382489425613041},{"$f":"((((hV_p(B18+14.696)*$H18)/1000000)*(VLOOKUP($E$8,'CO2 Conversion Factors'!$A$3:$J$20,7,FALSE)))*24)*$J18","v":0.54471645046456629},null,null,"XS",null,0.74199999999999999,null,null,null,0.01,16897]
[null,15,null,29.695999999999998,22.88,6.25E-2,3.90625E-3,2.6540799999999996,2.6540799999999996E-2,365,232.49740799999995,{"$f":"((((hV_p(B19+14.696)*$H19)/1000000)*(VLOOKUP($E$8,'CO2 Conversion Factors'!$A$3:$J$20,3,FALSE)))*24)*$J19","v":1621.7035440172101},{"$f":"((((hV_p(B19+14.696)*$H19)/1000000)*(VLOOKUP($E$8,'CO2 Conversion Factors'!$A$3:$J$20,4,FALSE)))*24)*$J19","v":1537.0781683789396},{"$f":"((((hV_p(B19+14.696)*$H19)/1000000)*(VLOOKUP($E$8,'CO2 Conversion Factors'!$A$3:$J$20,5,FALSE)))*24)*$J19","v":2.4896336530081413},{"$f":"((((hV_p(B19+14.696)*$H19)/1000000)*(VLOOKUP($E$8,'CO2 Conversion Factors'!$A$3:$J$20,6,FALSE)))*24)*$J19","v":1.1292788290997207},{"$f":"((((hV_p(B19+14.696)*$H19)/1000000)*(VLOOKUP($E$8,'CO2 Conversion Factors'!$A$3:$J$20,7,FALSE)))*24)*$J19","v":0.82699135256444356},null,null,"XXS",null,0.434,null,null,{"$f":"F19","v":6.25E-2},{"$f":"(X19+X21)/2","v":9.375E-2},{"$f":"L21","v":2457.8136913798239}]
[null,25,null,39.695999999999998,22.88,6.25E-2,3.90625E-3,3.5478299999999998,3.5478299999999997E-2,365,310.78990799999997,{"$f":"((((hV_p(B20+14.696)*$H20)/1000000)*(VLOOKUP($E$8,'CO2 Conversion Factors'!$A$3:$J$20,3,FALSE)))*24)*$J20","v":2178.4960861641821},{"$f":"((((hV_p(B20+14.696)*$H20)/1000000)*(VLOOKUP($E$8,'CO2 Conversion Factors'!$A$3:$J$20,4,FALSE)))*24)*$J20","v":2064.8155985693479},{"$f":"((((hV_p(B20+14.696)*$H20)/1000000)*(VLOOKUP($E$8,'CO2 Conversion Factors'!$A$3:$J$20,5,FALSE)))*24)*$J20","v":3.3444196314855636},{"$f":"((((hV_p(B20+14.696)*$H20)/1000000)*(VLOOKUP($E$8,'CO2 Conversion Factors'!$A$3:$J$20,6,FALSE)))*24)*$J20","v":1.5170032269200635},{"$f":"((((hV_p(B20+14.696)*$H20)/1000000)*(VLOOKUP($E$8,'CO2 Conversion Factors'!$A$3:$J$20,7,FALSE)))*24)*$J20","v":1.1109289558499871}]
[null,30,null,44.695999999999998,22.88,6.25E-2,3.90625E-3,3.9947049999999997,3.9947049999999998E-2,365,349.93615799999998,{"$f":"((((hV_p(B21+14.696)*$H21)/1000000)*(VLOOKUP($E$8,'CO2 Conversion Factors'!$A$3:$J$20,3,FALSE)))*24)*$J21","v":2457.8136913798239},{"$f":"((((hV_p(B21+14.696)*$H21)/1000000)*(VLOOKUP($E$8,'CO2 Conversion Factors'!$A$3:$J$20,4,FALSE)))*24)*$J21","v":2329.5575698160328},{"$f":"((((hV_p(B21+14.696)*$H21)/1000000)*(VLOOKUP($E$8,'CO2 Conversion Factors'!$A$3:$J$20,5,FALSE)))*24)*$J21","v":3.7732270497020246},{"$f":"((((hV_p(B21+14.696)*$H21)/1000000)*(VLOOKUP($E$8,'CO2 Conversion Factors'!$A$3:$J$20,6,FALSE)))*24)*$J21","v":1.7115070000224495},{"$f":"((((hV_p(B21+14.696)*$H21)/1000000)*(VLOOKUP($E$8,'CO2 Conversion Factors'!$A$3:$J$20,7,FALSE)))*24)*$J21","v":1.2533675939010205},null,1,"STD",1.3149999999999999,1.0489999999999999,null,null,{"$f":"F34","v":0.125},{"$f":"(X21+X22)/2","v":0.15625},{"$f":"L37","v":9831.2547655192957}]
[null,40,null,54.695999999999998,22.88,6.25E-2,3.90625E-3,4.8884549999999996,4.8884549999999999E-2,365,428.228658,{"$f":"((((hV_p(B22+14.696)*$H22)/1000000)*(VLOOKUP($E$8,'CO2 Conversion Factors'!$A$3:$J$20,3,FALSE)))*24)*$J22","v":3017.9126397157365},{"$f":"((((hV_p(B22+14.696)*$H22)/1000000)*(VLOOKUP($E$8,'CO2 Conversion Factors'!$A$3:$J$20,4,FALSE)))*24)*$J22","v":2860.4288679612614},{"$f":"((((hV_p(B22+14.696)*$H22)/1000000)*(VLOOKUP($E$8,'CO2 Conversion Factors'!$A$3:$J$20,5,FALSE)))*24)*$J22","v":4.6330890114865495},{"$f":"((((hV_p(B22+14.696)*$H22)/1000000)*(VLOOKUP($E$8,'CO2 Conversion Factors'!$A$3:$J$20,6,FALSE)))*24)*$J22","v":2.1015338251411411},{"$f":"((((hV_p(B22+14.696)*$H22)/1000000)*(VLOOKUP($E$8,'CO2 Conversion Factors'!$A$3:$J$20,7,FALSE)))*24)*$J22","v":1.5389913064242278},null,null,"XS",null,0.95699999999999996,null,null,{"$f":"F50","v":0.1875},{"$f":"(X22+X24)/2","v":0.21875},{"$f":"L54","v":27161.213757441623}]
[null,50,null,64.695999999999998,22.88,6.25E-2,3.90625E-3,5.7822049999999994,5.7822049999999993E-2,365,506.52115799999996,{"$f":"((((hV_p(B23+14.696)*$H23)/1000000)*(VLOOKUP($E$8,'CO2 Conversion Factors'!$A$3:$J$20,3,FALSE)))*24)*$J23","v":3579.6126477877469},{"$f":"((((hV_p(B23+14.696)*$H23)/1000000)*(VLOOKUP($E$8,'CO2 Conversion Factors'!$A$3:$J$20,4,FALSE)))*24)*$J23","v":3392.8176777230278},{"$f":"((((hV_p(B23+14.696)*$H23)/1000000)*(VLOOKUP($E$8,'CO2 Conversion Factors'!$A$3:$J$20,5,FALSE)))*24)*$J23","v":5.4954089146218061},{"$f":"((((hV_p(B23+14.696)*$H23)/1000000)*(VLOOKUP($E$8,'CO2 Conversion Factors'!$A$3:$J$20,6,FALSE)))*24)*$J23","v":2.492675553702433},{"$f":"((((hV_p(B23+14.696)*$H23)/1000000)*(VLOOKUP($E$8,'CO2 Conversion Factors'!$A$3:$J$20,7,FALSE)))*24)*$J23","v":1.8254314829439391}]
[null,75,null,89.695999999999998,22.88,6.25E-2,3.90625E-3,8.0165799999999994,8.0165799999999982E-2,365,702.25240799999983,{"$f":"((((hV_p(B24+14.696)*$H24)/1000000)*(VLOOKUP($E$8,'CO2 Conversion Factors'!$A$3:$J$20,3,FALSE)))*24)*$J24","v":4989.0192764136673},{"$f":"((((hV_p(B24+14.696)*$H24)/1000000)*(VLOOKUP($E$8,'CO2 Conversion Factors'!$A$3:$J$20,4,FALSE)))*24)*$J24","v":4728.6772232124813},{"$f":"((((hV_p(B24+14.696)*$H24)/1000000)*(VLOOKUP($E$8,'CO2 Conversion Factors'!$A$3:$J$20,5,FALSE)))*24)*$J24","v":7.6591250798512025},{"$f":"((((hV_p(B24+14.696)*$H24)/1000000)*(VLOOKUP($E$8,'CO2 Conversion Factors'!$A$3:$J$20,6,FALSE)))*24)*$J24","v":3.4741206970961471},{"$f":"((((hV_p(B24+14.696)*$H24)/1000000)*(VLOOKUP($E$8,'CO2 Conversion Factors'!$A$3:$J$20,7,FALSE)))*24)*$J24","v":2.5441615482636166},null,null,"XXS",null,0.59899999999999998,null,null,{"$f":"F66","v":0.25},{"$f":"(X24+X25)/2","v":0.3125},{"$f":"L69","v":39325.019062077183}]
[null,100,null,114.696,22.88,6.25E-2,3.90625E-3,10.250954999999999,0.10250954999999999,365,897.98365799999988,{"$f":"((((hV_p(B25+14.696)*$H25)/1000000)*(VLOOKUP($E$8,'CO2 Conversion Factors'!$A$3:$J$20,3,FALSE)))*24)*$J25","v":6403.5645129912209},{"$f":"((((hV_p(B25+14.696)*$H25)/1000000)*(VLOOKUP($E$8,'CO2 Conversion Factors'!$A$3:$J$20,4,FALSE)))*24)*$J25","v":6069.4072286127212},{"$f":"((((hV_p(B25+14.696)*$H25)/1000000)*(VLOOKUP($E$8,'CO2 Conversion Factors'!$A$3:$J$20,5,FALSE)))*24)*$J25","v":9.8307300181755348},{"$f":"((((hV_p(B25+14.696)*$H25)/1000000)*(VLOOKUP($E$8,'CO2 Conversion Factors'!$A$3:$J$20,6,FALSE)))*24)*$J25","v":4.4591441277743833},{"$f":"((((hV_p(B25+14.696)*$H25)/1000000)*(VLOOKUP($E$8,'CO2 Conversion Factors'!$A$3:$J$20,7,FALSE)))*24)*$J25","v":3.265512058211351},null,"1-1/4","STD",1.66,1.38,null,null,{"$f":"F82","v":0.375},{"$f":"(X25+X30)/2","v":0.4375},{"$f":"L85","v":88481.292889673656}]
[null,150,null,164.696,22.88,6.25E-2,3.90625E-3,14.719704999999999,0.14719705,365,1289.446158,{"$f":"((((hV_p(B26+14.696)*$H26)/1000000)*(VLOOKUP($E$8,'CO2 Conversion Factors'!$A$3:$J$20,3,FALSE)))*24)*$J26","v":9241.572264221204},{"$f":"((((hV_p(B26+14.696)*$H26)/1000000)*(VLOOKUP($E$8,'CO2 Conversion Factors'!$A$3:$J$20,4,FALSE)))*24)*$J26","v":8759.3191870585106},{"$f":"((((hV_p(B26+14.696)*$H26)/1000000)*(VLOOKUP($E$8,'CO2 Conversion Factors'!$A$3:$J$20,5,FALSE)))*24)*$J26","v":14.187629669179282},{"$f":"((((hV_p(B26+14.696)*$H26)/1000000)*(VLOOKUP($E$8,'CO2 Conversion Factors'!$A$3:$J$20,6,FALSE)))*24)*$J26","v":6.4354005663253462},{"$f":"((((hV_p(B26+14.696)*$H26)/1000000)*(VLOOKUP($E$8,'CO2 Conversion Factors'!$A$3:$J$20,7,FALSE)))*24)*$J26","v":4.7127604640230301},null,null,null,null,null,null,null,{"$f":"F83","v":0.375},{"$f":"(X26+X31)/2","v":0.1875},{"$f":"L86","v":108644.85502976649}]
[null,250,null,264.69600000000003,22.88,6.25E-2,3.90625E-3,23.657205000000001,0.23657205000000001,365,2072.3711579999999,{"$f":"((((hV_p(B27+14.696)*$H27)/1000000)*(VLOOKUP($E$8,'CO2 Conversion Factors'!$A$3:$J$20,3,FALSE)))*24)*$J27","v":14930.30683738625},{"$f":"((((hV_p(B27+14.696)*$H27)/1000000)*(VLOOKUP($E$8,'CO2 Conversion Factors'!$A$3:$J$20,4,FALSE)))*24)*$J27","v":14151.198455234842},{"$f":"((((hV_p(B27+14.696)*$H27)/1000000)*(VLOOKUP($E$8,'CO2 Conversion Factors'!$A$3:$J$20,5,FALSE)))*24)*$J27","v":22.920955244394463},{"$f":"((((hV_p(B27+14.696)*$H27)/1000000)*(VLOOKUP($E$8,'CO2 Conversion Factors'!$A$3:$J$20,6,FALSE)))*24)*$J27","v":10.396770411968815},{"$f":"((((hV_p(B27+14.696)*$H27)/1000000)*(VLOOKUP($E$8,'CO2 Conversion Factors'!$A$3:$J$20,7,FALSE)))*24)*$J27","v":7.6137433942249437},null,null,"XS",null,1.278,null,null,{"$f":"F84","v":0.375},{"$f":"(X27+X32)/2","v":0.1875},{"$f":"L87","v":128866.05532035886}]
[null,300,null,314.69600000000003,22.88,6.25E-2,3.90625E-3,28.125955000000001,0.28125955000000002,365,2463.833658,{"$f":"((((hV_p(B28+14.696)*$H28)/1000000)*(VLOOKUP($E$8,'CO2 Conversion Factors'!$A$3:$J$20,3,FALSE)))*24)*$J28","v":17773.685147393},{"$f":"((((hV_p(B28+14.696)*$H28)/1000000)*(VLOOKUP($E$8,'CO2 Conversion Factors'!$A$3:$J$20,4,FALSE)))*24)*$J28","v":16846.200720523841},{"$f":"((((hV_p(B28+14.696)*$H28)/1000000)*(VLOOKUP($E$8,'CO2 Conversion Factors'!$A$3:$J$20,5,FALSE)))*24)*$J28","v":27.286099758594951},{"$f":"((((hV_p(B28+14.696)*$H28)/1000000)*(VLOOKUP($E$8,'CO2 Conversion Factors'!$A$3:$J$20,6,FALSE)))*24)*$J28","v":12.376766657557512},{"$f":"((((hV_p(B28+14.696)*$H28)/1000000)*(VLOOKUP($E$8,'CO2 Conversion Factors'!$A$3:$J$20,7,FALSE)))*24)*$J28","v":9.0637305285071932},null,null,"XXS",null,0.89600000000000002,null,null,{"$f":"F85","v":0.375},{"$f":"(X28+X33)/2","v":0.1875},{"$f":"L88","v":179604.69395089205}]
[null,400,null,414.69600000000003,22.88,6.25E-2,3.90625E-3,37.063454999999998,0.37063454999999995,365,3246.7586579999997,{"$f":"((((hV_p(B29+14.696)*$H29)/1000000)*(VLOOKUP($E$8,'CO2 Conversion Factors'!$A$3:$J$20,3,FALSE)))*24)*$J29","v":23448.00367029331},{"$f":"((((hV_p(B29+14.696)*$H29)/1000000)*(VLOOKUP($E$8,'CO2 Conversion Factors'!$A$3:$J$20,4,FALSE)))*24)*$J29","v":22224.41621136064},{"$f":"((((hV_p(B29+14.696)*$H29)/1000000)*(VLOOKUP($E$8,'CO2 Conversion Factors'!$A$3:$J$20,5,FALSE)))*24)*$J29","v":35.997293863471462},{"$f":"((((hV_p(B29+14.696)*$H29)/1000000)*(VLOOKUP($E$8,'CO2 Conversion Factors'!$A$3:$J$20,6,FALSE)))*24)*$J29","v":16.328097837118477},{"$f":"((((hV_p(B29+14.696)*$H29)/1000000)*(VLOOKUP($E$8,'CO2 Conversion Factors'!$A$3:$J$20,7,FALSE)))*24)*$J29","v":11.957361961605304},null,"1-1/2","STD",1.9,1.61,null,null,{"$f":"F86","v":0.375},{"$f":"(X29+X34)/2","v":0.1875},{"$f":"L89","v":230528.32246768405}]
[null,600,null,614.69600000000003,22.88,6.25E-2,3.90625E-3,54.938454999999998,0.54938454999999997,365,4812.6086579999992,{"$f":"((((hV_p(B30+14.696)*$H30)/1000000)*(VLOOKUP($E$8,'CO2 Conversion Factors'!$A$3:$J$20,3,FALSE)))*24)*$J30","v":34713.30738646695},{"$f":"((((hV_p(B30+14.696)*$H30)/1000000)*(VLOOKUP($E$8,'CO2 Conversion Factors'!$A$3:$J$20,4,FALSE)))*24)*$J30","v":32901.862447554398},{"$f":"((((hV_p(B30+14.696)*$H30)/1000000)*(VLOOKUP($E$8,'CO2 Conversion Factors'!$A$3:$J$20,5,FALSE)))*24)*$J30","v":53.291749034771208},{"$f":"((((hV_p(B30+14.696)*$H30)/1000000)*(VLOOKUP($E$8,'CO2 Conversion Factors'!$A$3:$J$20,6,FALSE)))*24)*$J30","v":24.172730746127083},{"$f":"((((hV_p(B30+14.696)*$H30)/1000000)*(VLOOKUP($E$8,'CO2 Conversion Factors'!$A$3:$J$20,7,FALSE)))*24)*$J30","v":17.702128809810958},null,null,"XS",null,1.5,null,null,{"$f":"F98","v":0.5},{"$f":"G98","v":0.25}]
[null,null,null,null,null,null,null,null,null,null,null,null,null,null,null,null,null,null,"XXS",null,0.95]
[null,"1/8\" Leak",null,null,null,null,null,null,null,null,null,null,null,null,null,null,null,2,"STD",2.375,2.0670000000000002]
[null,"Pressure",null,"Abs Pressure","Constant","Diameter","D^2","Steam Loss (pph)","Cost / Hour","Days / Year","Cost / Year","CO2 Emissions / Year","NOX","SO2","Particulates","Mercury"]
[null,5,null,{"$f":"B34+14.696","v":19.695999999999998},22.88,{"$f":"1/8","v":0.125},{"$f":"F34^2","v":1.5625E-2},{"$f":"D34*E34*G34","v":7.0413199999999989},{"$f":"(H34/1000)*E$7","v":7.0413199999999981E-2},365,{"$f":"I34*24*J34","v":616.81963199999984},{"$f":"((((hV_p(B34+14.696)*$H34)/1000000)*(VLOOKUP($E$8,'CO2 Conversion Factors'!$A$3:$J$20,3,FALSE)))*24)*$J34","v":4272.6860224770035},{"$f":"((((hV_p(B34+14.696)*$H34)/1000000)*(VLOOKUP($E$8,'CO2 Conversion Factors'!$A$3:$J$20,4,FALSE)))*24)*$J34","v":4049.724396124001},{"$f":"((((hV_p(B34+14.696)*$H34)/1000000)*(VLOOKUP($E$8,'CO2 Conversion Factors'!$A$3:$J$20,5,FALSE)))*24)*$J34","v":6.5594127542853533},{"$f":"((((hV_p(B34+14.696)*$H34)/1000000)*(VLOOKUP($E$8,'CO2 Conversion Factors'!$A$3:$J$20,6,FALSE)))*24)*$J34","v":2.9752995770245216},{"$f":"((((hV_p(B34+14.696)*$H34)/1000000)*(VLOOKUP($E$8,'CO2 Conversion Factors'!$A$3:$J$20,7,FALSE)))*24)*$J34","v":2.1788658018582652},null,null,"XS",null,1.9390000000000001]
[null,15,null,29.695999999999998,22.88,0.125,1.5625E-2,10.616319999999998,0.10616319999999999,365,929.9896319999998,{"$f":"((((hV_p(B35+14.696)*$H35)/1000000)*(VLOOKUP($E$8,'CO2 Conversion Factors'!$A$3:$J$20,3,FALSE)))*24)*$J35","v":6486.8141760688404},{"$f":"((((hV_p(B35+14.696)*$H35)/1000000)*(VLOOKUP($E$8,'CO2 Conversion Factors'!$A$3:$J$20,4,FALSE)))*24)*$J35","v":6148.3126735157584},{"$f":"((((hV_p(B35+14.696)*$H35)/1000000)*(VLOOKUP($E$8,'CO2 Conversion Factors'!$A$3:$J$20,5,FALSE)))*24)*$J35","v":9.9585346120325653},{"$f":"((((hV_p(B35+14.696)*$H35)/1000000)*(VLOOKUP($E$8,'CO2 Conversion Factors'!$A$3:$J$20,6,FALSE)))*24)*$J35","v":4.5171153163988826},{"$f":"((((hV_p(B35+14.696)*$H35)/1000000)*(VLOOKUP($E$8,'CO2 Conversion Factors'!$A$3:$J$20,7,FALSE)))*24)*$J35","v":3.3079654102577742},null,null,"XXS",null,1.5029999999999999]
[null,25,null,39.695999999999998,22.88,0.125,1.5625E-2,14.191319999999999,0.14191319999999999,365,1243.1596319999999,{"$f":"((((hV_p(B36+14.696)*$H36)/1000000)*(VLOOKUP($E$8,'CO2 Conversion Factors'!$A$3:$J$20,3,FALSE)))*24)*$J36","v":8713.9843446567284},{"$f":"((((hV_p(B36+14.696)*$H36)/1000000)*(VLOOKUP($E$8,'CO2 Conversion Factors'!$A$3:$J$20,4,FALSE)))*24)*$J36","v":8259.2623942773916},{"$f":"((((hV_p(B36+14.696)*$H36)/1000000)*(VLOOKUP($E$8,'CO2 Conversion Factors'!$A$3:$J$20,5,FALSE)))*24)*$J36","v":13.377678525942255},{"$f":"((((hV_p(B36+14.696)*$H36)/1000000)*(VLOOKUP($E$8,'CO2 Conversion Factors'!$A$3:$J$20,6,FALSE)))*24)*$J36","v":6.068012907680254},{"$f":"((((hV_p(B36+14.696)*$H36)/1000000)*(VLOOKUP($E$8,'CO2 Conversion Factors'!$A$3:$J$20,7,FALSE)))*24)*$J36","v":4.4437158233999483}]
[null,30,null,44.695999999999998,22.88,0.125,1.5625E-2,15.978819999999999,0.15978819999999999,365,1399.7446319999999,{"$f":"((((hV_p(B37+14.696)*$H37)/1000000)*(VLOOKUP($E$8,'CO2 Conversion Factors'!$A$3:$J$20,3,FALSE)))*24)*$J37","v":9831.2547655192957},{"$f":"((((hV_p(B37+14.696)*$H37)/1000000)*(VLOOKUP($E$8,'CO2 Conversion Factors'!$A$3:$J$20,4,FALSE)))*24)*$J37","v":9318.2302792641312},{"$f":"((((hV_p(B37+14.696)*$H37)/1000000)*(VLOOKUP($E$8,'CO2 Conversion Factors'!$A$3:$J$20,5,FALSE)))*24)*$J37","v":15.092908198808098},{"$f":"((((hV_p(B37+14.696)*$H37)/1000000)*(VLOOKUP($E$8,'CO2 Conversion Factors'!$A$3:$J$20,6,FALSE)))*24)*$J37","v":6.8460280000897979},{"$f":"((((hV_p(B37+14.696)*$H37)/1000000)*(VLOOKUP($E$8,'CO2 Conversion Factors'!$A$3:$J$20,7,FALSE)))*24)*$J37","v":5.0134703756040819},null,"2-1/2","STD",2.875,2.4689999999999999]
[null,40,null,54.695999999999998,22.88,0.125,1.5625E-2,19.553819999999998,0.1955382,365,1712.914632,{"$f":"((((hV_p(B38+14.696)*$H38)/1000000)*(VLOOKUP($E$8,'CO2 Conversion Factors'!$A$3:$J$20,3,FALSE)))*24)*$J38","v":12071.650558862946},{"$f":"((((hV_p(B38+14.696)*$H38)/1000000)*(VLOOKUP($E$8,'CO2 Conversion Factors'!$A$3:$J$20,4,FALSE)))*24)*$J38","v":11441.715471845046},{"$f":"((((hV_p(B38+14.696)*$H38)/1000000)*(VLOOKUP($E$8,'CO2 Conversion Factors'!$A$3:$J$20,5,FALSE)))*24)*$J38","v":18.532356045946198},{"$f":"((((hV_p(B38+14.696)*$H38)/1000000)*(VLOOKUP($E$8,'CO2 Conversion Factors'!$A$3:$J$20,6,FALSE)))*24)*$J38","v":8.4061353005645643},{"$f":"((((hV_p(B38+14.696)*$H38)/1000000)*(VLOOKUP($E$8,'CO2 Conversion Factors'!$A$3:$J$20,7,FALSE)))*24)*$J38","v":6.1559652256969111},null,null,"XS",null,2.323]
[null,50,null,64.695999999999998,22.88,0.125,1.5625E-2,23.128819999999997,0.23128819999999997,365,2026.0846319999998,{"$f":"((((hV_p(B39+14.696)*$H39)/1000000)*(VLOOKUP($E$8,'CO2 Conversion Factors'!$A$3:$J$20,3,FALSE)))*24)*$J39","v":14318.450591150988},{"$f":"((((hV_p(B39+14.696)*$H39)/1000000)*(VLOOKUP($E$8,'CO2 Conversion Factors'!$A$3:$J$20,4,FALSE)))*24)*$J39","v":13571.270710892111},{"$f":"((((hV_p(B39+14.696)*$H39)/1000000)*(VLOOKUP($E$8,'CO2 Conversion Factors'!$A$3:$J$20,5,FALSE)))*24)*$J39","v":21.981635658487225},{"$f":"((((hV_p(B39+14.696)*$H39)/1000000)*(VLOOKUP($E$8,'CO2 Conversion Factors'!$A$3:$J$20,6,FALSE)))*24)*$J39","v":9.970702214809732},{"$f":"((((hV_p(B39+14.696)*$H39)/1000000)*(VLOOKUP($E$8,'CO2 Conversion Factors'!$A$3:$J$20,7,FALSE)))*24)*$J39","v":7.3017259317757564}]
[null,75,null,89.695999999999998,22.88,0.125,1.5625E-2,32.066319999999997,0.32066319999999993,365,2809.0096319999993,{"$f":"((((hV_p(B40+14.696)*$H40)/1000000)*(VLOOKUP($E$8,'CO2 Conversion Factors'!$A$3:$J$20,3,FALSE)))*24)*$J40","v":19956.077105654669},{"$f":"((((hV_p(B40+14.696)*$H40)/1000000)*(VLOOKUP($E$8,'CO2 Conversion Factors'!$A$3:$J$20,4,FALSE)))*24)*$J40","v":18914.708892849925},{"$f":"((((hV_p(B40+14.696)*$H40)/1000000)*(VLOOKUP($E$8,'CO2 Conversion Factors'!$A$3:$J$20,5,FALSE)))*24)*$J40","v":30.63650031940481},{"$f":"((((hV_p(B40+14.696)*$H40)/1000000)*(VLOOKUP($E$8,'CO2 Conversion Factors'!$A$3:$J$20,6,FALSE)))*24)*$J40","v":13.896482788384589},{"$f":"((((hV_p(B40+14.696)*$H40)/1000000)*(VLOOKUP($E$8,'CO2 Conversion Factors'!$A$3:$J$20,7,FALSE)))*24)*$J40","v":10.176646193054466},null,null,"XXS",null,1.7709999999999999]
[null,100,null,114.696,22.88,0.125,1.5625E-2,41.003819999999997,0.41003819999999996,365,3591.9346319999995,{"$f":"((((hV_p(B41+14.696)*$H41)/1000000)*(VLOOKUP($E$8,'CO2 Conversion Factors'!$A$3:$J$20,3,FALSE)))*24)*$J41","v":25614.258051964884},{"$f":"((((hV_p(B41+14.696)*$H41)/1000000)*(VLOOKUP($E$8,'CO2 Conversion Factors'!$A$3:$J$20,4,FALSE)))*24)*$J41","v":24277.628914450885},{"$f":"((((hV_p(B41+14.696)*$H41)/1000000)*(VLOOKUP($E$8,'CO2 Conversion Factors'!$A$3:$J$20,5,FALSE)))*24)*$J41","v":39.322920072702139},{"$f":"((((hV_p(B41+14.696)*$H41)/1000000)*(VLOOKUP($E$8,'CO2 Conversion Factors'!$A$3:$J$20,6,FALSE)))*24)*$J41","v":17.836576511097533},{"$f":"((((hV_p(B41+14.696)*$H41)/1000000)*(VLOOKUP($E$8,'CO2 Conversion Factors'!$A$3:$J$20,7,FALSE)))*24)*$J41","v":13.062048232845404},null,3,"STD",3.5,3.0680000000000001]
[null,150,null,164.696,22.88,0.125,1.5625E-2,58.878819999999997,0.58878819999999998,365,5157.7846319999999,{"$f":"((((hV_p(B42+14.696)*$H42)/1000000)*(VLOOKUP($E$8,'CO2 Conversion Factors'!$A$3:$J$20,3,FALSE)))*24)*$J42","v":36966.289056884816},{"$f":"((((hV_p(B42+14.696)*$H42)/1000000)*(VLOOKUP($E$8,'CO2 Conversion Factors'!$A$3:$J$20,4,FALSE)))*24)*$J42","v":35037.276748234042},{"$f":"((((hV_p(B42+14.696)*$H42)/1000000)*(VLOOKUP($E$8,'CO2 Conversion Factors'!$A$3:$J$20,5,FALSE)))*24)*$J42","v":56.750518676717128},{"$f":"((((hV_p(B42+14.696)*$H42)/1000000)*(VLOOKUP($E$8,'CO2 Conversion Factors'!$A$3:$J$20,6,FALSE)))*24)*$J42","v":25.741602265301385},{"$f":"((((hV_p(B42+14.696)*$H42)/1000000)*(VLOOKUP($E$8,'CO2 Conversion Factors'!$A$3:$J$20,7,FALSE)))*24)*$J42","v":18.85104185609212},null,null,"XS",null,2.9]
[null,250,null,264.69600000000003,22.88,0.125,1.5625E-2,94.628820000000005,0.94628820000000002,365,8289.4846319999997,{"$f":"((((hV_p(B43+14.696)*$H43)/1000000)*(VLOOKUP($E$8,'CO2 Conversion Factors'!$A$3:$J$20,3,FALSE)))*24)*$J43","v":59721.227349544999},{"$f":"((((hV_p(B43+14.696)*$H43)/1000000)*(VLOOKUP($E$8,'CO2 Conversion Factors'!$A$3:$J$20,4,FALSE)))*24)*$J43","v":56604.793820939369},{"$f":"((((hV_p(B43+14.696)*$H43)/1000000)*(VLOOKUP($E$8,'CO2 Conversion Factors'!$A$3:$J$20,5,FALSE)))*24)*$J43","v":91.683820977577852},{"$f":"((((hV_p(B43+14.696)*$H43)/1000000)*(VLOOKUP($E$8,'CO2 Conversion Factors'!$A$3:$J$20,6,FALSE)))*24)*$J43","v":41.587081647875259},{"$f":"((((hV_p(B43+14.696)*$H43)/1000000)*(VLOOKUP($E$8,'CO2 Conversion Factors'!$A$3:$J$20,7,FALSE)))*24)*$J43","v":30.454973576899775},null,null,"XXS",null,2.2999999999999998]
[null,300,null,314.69600000000003,22.88,0.125,1.5625E-2,112.50382,1.1250382000000001,365,9855.3346320000001,{"$f":"((((hV_p(B44+14.696)*$H44)/1000000)*(VLOOKUP($E$8,'CO2 Conversion Factors'!$A$3:$J$20,3,FALSE)))*24)*$J44","v":71094.740589572},{"$f":"((((hV_p(B44+14.696)*$H44)/1000000)*(VLOOKUP($E$8,'CO2 Conversion Factors'!$A$3:$J$20,4,FALSE)))*24)*$J44","v":67384.802882095362},{"$f":"((((hV_p(B44+14.696)*$H44)/1000000)*(VLOOKUP($E$8,'CO2 Conversion Factors'!$A$3:$J$20,5,FALSE)))*24)*$J44","v":109.1443990343798},{"$f":"((((hV_p(B44+14.696)*$H44)/1000000)*(VLOOKUP($E$8,'CO2 Conversion Factors'!$A$3:$J$20,6,FALSE)))*24)*$J44","v":49.507066630230049},{"$f":"((((hV_p(B44+14.696)*$H44)/1000000)*(VLOOKUP($E$8,'CO2 Conversion Factors'!$A$3:$J$20,7,FALSE)))*24)*$J44","v":36.254922114028773},null,"3-1/2","STD",4,3.548]
[null,400,null,414.69600000000003,22.88,0.125,1.5625E-2,148.25381999999999,1.4825381999999998,365,12987.034631999999,{"$f":"((((hV_p(B45+14.696)*$H45)/1000000)*(VLOOKUP($E$8,'CO2 Conversion Factors'!$A$3:$J$20,3,FALSE)))*24)*$J45","v":93792.014681173241},{"$f":"((((hV_p(B45+14.696)*$H45)/1000000)*(VLOOKUP($E$8,'CO2 Conversion Factors'!$A$3:$J$20,4,FALSE)))*24)*$J45","v":88897.664845442559},{"$f":"((((hV_p(B45+14.696)*$H45)/1000000)*(VLOOKUP($E$8,'CO2 Conversion Factors'!$A$3:$J$20,5,FALSE)))*24)*$J45","v":143.98917545388585},{"$f":"((((hV_p(B45+14.696)*$H45)/1000000)*(VLOOKUP($E$8,'CO2 Conversion Factors'!$A$3:$J$20,6,FALSE)))*24)*$J45","v":65.312391348473909},{"$f":"((((hV_p(B45+14.696)*$H45)/1000000)*(VLOOKUP($E$8,'CO2 Conversion Factors'!$A$3:$J$20,7,FALSE)))*24)*$J45","v":47.829447846421218},null,null,"XS",null,3.3639999999999999]
[null,600,null,614.69600000000003,22.88,0.125,1.5625E-2,219.75381999999999,2.1975381999999999,365,19250.434631999997,{"$f":"((((hV_p(B46+14.696)*$H46)/1000000)*(VLOOKUP($E$8,'CO2 Conversion Factors'!$A$3:$J$20,3,FALSE)))*24)*$J46","v":138853.2295458678},{"$f":"((((hV_p(B46+14.696)*$H46)/1000000)*(VLOOKUP($E$8,'CO2 Conversion Factors'!$A$3:$J$20,4,FALSE)))*24)*$J46","v":131607.44979021759},{"$f":"((((hV_p(B46+14.696)*$H46)/1000000)*(VLOOKUP($E$8,'CO2 Conversion Factors'!$A$3:$J$20,5,FALSE)))*24)*$J46","v":213.16699613908483},{"$f":"((((hV_p(B46+14.696)*$H46)/1000000)*(VLOOKUP($E$8,'CO2 Conversion Factors'!$A$3:$J$20,6,FALSE)))*24)*$J46","v":96.690922984508333},{"$f":"((((hV_p(B46+14.696)*$H46)/1000000)*(VLOOKUP($E$8,'CO2 Conversion Factors'!$A$3:$J$20,7,FALSE)))*24)*$J46","v":70.808515239243832}]
[null,null,null,null,null,null,null,null,null,null,null,null,null,null,null,null,null,null,"XXS",null,2.7280000000000002]
[null,"3/16\" Leak",null,null,null,null,null,null,null,null,null,null,null,null,null,null,null,4,"STD",4.5,4.0259999999999998]
[null,"Pressure",null,"Abs Pressure","Constant","Diameter","D^2","Steam Loss (pph)","Cost / Hour","Days / Year","Cost / Year","CO2 Emissions / Year","NOX","SO2","Particulates","Mercury"]
[null,5,null,{"$f":"B50+14.696","v":19.695999999999998},22.88,{"$f":"3/16","v":0.1875},{"$f":"F50^2","v":3.515625E-2},{"$f":"D50*E50*G50","v":15.842969999999998},{"$f":"(H50/1000)*E$7","v":0.15842969999999998},365,{"$f":"I50*24*J50","v":1387.8441719999998},{"$f":"((((hV_p(B50+14.696)*$H50)/1000000)*(VLOOKUP($E$8,'CO2 Conversion Factors'!$A$3:$J$20,3,FALSE)))*24)*$J50","v":9613.5435505732585},{"$f":"((((hV_p(B50+14.696)*$H50)/1000000)*(VLOOKUP($E$8,'CO2 Conversion Factors'!$A$3:$J$20,4,FALSE)))*24)*$J50","v":9111.8798912790025},{"$f":"((((hV_p(B50+14.696)*$H50)/1000000)*(VLOOKUP($E$8,'CO2 Conversion Factors'!$A$3:$J$20,5,FALSE)))*24)*$J50","v":14.758678697142047},{"$f":"((((hV_p(B50+14.696)*$H50)/1000000)*(VLOOKUP($E$8,'CO2 Conversion Factors'!$A$3:$J$20,6,FALSE)))*24)*$J50","v":6.6944240483051729},{"$f":"((((hV_p(B50+14.696)*$H50)/1000000)*(VLOOKUP($E$8,'CO2 Conversion Factors'!$A$3:$J$20,7,FALSE)))*24)*$J50","v":4.9024480541810984},null,null,"XS",null,3.8260000000000001]
[null,15,null,29.695999999999998,22.88,0.1875,3.515625E-2,23.886719999999997,0.23886719999999997,365,2092.4766719999998,{"$f":"((((hV_p(B51+14.696)*$H51)/1000000)*(VLOOKUP($E$8,'CO2 Conversion Factors'!$A$3:$J$20,3,FALSE)))*24)*$J51","v":14595.331896154894},{"$f":"((((hV_p(B51+14.696)*$H51)/1000000)*(VLOOKUP($E$8,'CO2 Conversion Factors'!$A$3:$J$20,4,FALSE)))*24)*$J51","v":13833.703515410456},{"$f":"((((hV_p(B51+14.696)*$H51)/1000000)*(VLOOKUP($E$8,'CO2 Conversion Factors'!$A$3:$J$20,5,FALSE)))*24)*$J51","v":22.406702877073275},{"$f":"((((hV_p(B51+14.696)*$H51)/1000000)*(VLOOKUP($E$8,'CO2 Conversion Factors'!$A$3:$J$20,6,FALSE)))*24)*$J51","v":10.163509461897485},{"$f":"((((hV_p(B51+14.696)*$H51)/1000000)*(VLOOKUP($E$8,'CO2 Conversion Factors'!$A$3:$J$20,7,FALSE)))*24)*$J51","v":7.4429221730799933},null,null,"XXS",null,3.1520000000000001]
[null,25,null,39.695999999999998,22.88,0.1875,3.515625E-2,31.93047,0.3193047,365,2797.1091719999999,{"$f":"((((hV_p(B52+14.696)*$H52)/1000000)*(VLOOKUP($E$8,'CO2 Conversion Factors'!$A$3:$J$20,3,FALSE)))*24)*$J52","v":19606.464775477631},{"$f":"((((hV_p(B52+14.696)*$H52)/1000000)*(VLOOKUP($E$8,'CO2 Conversion Factors'!$A$3:$J$20,4,FALSE)))*24)*$J52","v":18583.340387124128},{"$f":"((((hV_p(B52+14.696)*$H52)/1000000)*(VLOOKUP($E$8,'CO2 Conversion Factors'!$A$3:$J$20,5,FALSE)))*24)*$J52","v":30.099776683370074},{"$f":"((((hV_p(B52+14.696)*$H52)/1000000)*(VLOOKUP($E$8,'CO2 Conversion Factors'!$A$3:$J$20,6,FALSE)))*24)*$J52","v":13.653029042280572},{"$f":"((((hV_p(B52+14.696)*$H52)/1000000)*(VLOOKUP($E$8,'CO2 Conversion Factors'!$A$3:$J$20,7,FALSE)))*24)*$J52","v":9.9983606026498837},null,5,"STD",5.5629999999999997,5.0469999999999997]
[null,30,null,44.695999999999998,22.88,0.1875,3.515625E-2,35.952344999999994,0.35952344999999997,365,3149.4254219999998,{"$f":"((((hV_p(B53+14.696)*$H53)/1000000)*(VLOOKUP($E$8,'CO2 Conversion Factors'!$A$3:$J$20,3,FALSE)))*24)*$J53","v":22120.323222418414},{"$f":"((((hV_p(B53+14.696)*$H53)/1000000)*(VLOOKUP($E$8,'CO2 Conversion Factors'!$A$3:$J$20,4,FALSE)))*24)*$J53","v":20966.018128344294},{"$f":"((((hV_p(B53+14.696)*$H53)/1000000)*(VLOOKUP($E$8,'CO2 Conversion Factors'!$A$3:$J$20,5,FALSE)))*24)*$J53","v":33.959043447318223},{"$f":"((((hV_p(B53+14.696)*$H53)/1000000)*(VLOOKUP($E$8,'CO2 Conversion Factors'!$A$3:$J$20,6,FALSE)))*24)*$J53","v":15.403563000202043},{"$f":"((((hV_p(B53+14.696)*$H53)/1000000)*(VLOOKUP($E$8,'CO2 Conversion Factors'!$A$3:$J$20,7,FALSE)))*24)*$J53","v":11.280308345109184},null,null,"XS",null,4.8129999999999997]
[null,40,null,54.695999999999998,22.88,0.1875,3.515625E-2,43.996094999999997,0.43996095000000002,365,3854.057922,{"$f":"((((hV_p(B54+14.696)*$H54)/1000000)*(VLOOKUP($E$8,'CO2 Conversion Factors'!$A$3:$J$20,3,FALSE)))*24)*$J54","v":27161.213757441623},{"$f":"((((hV_p(B54+14.696)*$H54)/1000000)*(VLOOKUP($E$8,'CO2 Conversion Factors'!$A$3:$J$20,4,FALSE)))*24)*$J54","v":25743.859811651349},{"$f":"((((hV_p(B54+14.696)*$H54)/1000000)*(VLOOKUP($E$8,'CO2 Conversion Factors'!$A$3:$J$20,5,FALSE)))*24)*$J54","v":41.697801103378943},{"$f":"((((hV_p(B54+14.696)*$H54)/1000000)*(VLOOKUP($E$8,'CO2 Conversion Factors'!$A$3:$J$20,6,FALSE)))*24)*$J54","v":18.913804426270271},{"$f":"((((hV_p(B54+14.696)*$H54)/1000000)*(VLOOKUP($E$8,'CO2 Conversion Factors'!$A$3:$J$20,7,FALSE)))*24)*$J54","v":13.85092175781805},null,null,"XXS",null,4.0629999999999997]
[null,50,null,64.695999999999998,22.88,0.1875,3.515625E-2,52.039844999999993,0.52039844999999996,365,4558.6904219999997,{"$f":"((((hV_p(B55+14.696)*$H55)/1000000)*(VLOOKUP($E$8,'CO2 Conversion Factors'!$A$3:$J$20,3,FALSE)))*24)*$J55","v":32216.513830089716},{"$f":"((((hV_p(B55+14.696)*$H55)/1000000)*(VLOOKUP($E$8,'CO2 Conversion Factors'!$A$3:$J$20,4,FALSE)))*24)*$J55","v":30535.359099507248},{"$f":"((((hV_p(B55+14.696)*$H55)/1000000)*(VLOOKUP($E$8,'CO2 Conversion Factors'!$A$3:$J$20,5,FALSE)))*24)*$J55","v":49.458680231596247},{"$f":"((((hV_p(B55+14.696)*$H55)/1000000)*(VLOOKUP($E$8,'CO2 Conversion Factors'!$A$3:$J$20,6,FALSE)))*24)*$J55","v":22.434079983321894},{"$f":"((((hV_p(B55+14.696)*$H55)/1000000)*(VLOOKUP($E$8,'CO2 Conversion Factors'!$A$3:$J$20,7,FALSE)))*24)*$J55","v":16.42888334649545},null,6,"STD",6.625,6.0650000000000004]
[null,75,null,89.695999999999998,22.88,0.1875,3.515625E-2,72.14922,0.72149220000000003,365,6320.2716719999999,{"$f":"((((hV_p(B56+14.696)*$H56)/1000000)*(VLOOKUP($E$8,'CO2 Conversion Factors'!$A$3:$J$20,3,FALSE)))*24)*$J56","v":44901.173487723012},{"$f":"((((hV_p(B56+14.696)*$H56)/1000000)*(VLOOKUP($E$8,'CO2 Conversion Factors'!$A$3:$J$20,4,FALSE)))*24)*$J56","v":42558.095008912336},{"$f":"((((hV_p(B56+14.696)*$H56)/1000000)*(VLOOKUP($E$8,'CO2 Conversion Factors'!$A$3:$J$20,5,FALSE)))*24)*$J56","v":68.932125718660828},{"$f":"((((hV_p(B56+14.696)*$H56)/1000000)*(VLOOKUP($E$8,'CO2 Conversion Factors'!$A$3:$J$20,6,FALSE)))*24)*$J56","v":31.267086273865317},{"$f":"((((hV_p(B56+14.696)*$H56)/1000000)*(VLOOKUP($E$8,'CO2 Conversion Factors'!$A$3:$J$20,7,FALSE)))*24)*$J56","v":22.897453934372557},null,null,"XS",null,5.7610000000000001]
[null,100,null,114.696,22.88,0.1875,3.515625E-2,92.258595,0.92258594999999999,365,8081.8529219999991,{"$f":"((((hV_p(B57+14.696)*$H57)/1000000)*(VLOOKUP($E$8,'CO2 Conversion Factors'!$A$3:$J$20,3,FALSE)))*24)*$J57","v":57632.080616921012},{"$f":"((((hV_p(B57+14.696)*$H57)/1000000)*(VLOOKUP($E$8,'CO2 Conversion Factors'!$A$3:$J$20,4,FALSE)))*24)*$J57","v":54624.665057514496},{"$f":"((((hV_p(B57+14.696)*$H57)/1000000)*(VLOOKUP($E$8,'CO2 Conversion Factors'!$A$3:$J$20,5,FALSE)))*24)*$J57","v":88.476570163579808},{"$f":"((((hV_p(B57+14.696)*$H57)/1000000)*(VLOOKUP($E$8,'CO2 Conversion Factors'!$A$3:$J$20,6,FALSE)))*24)*$J57","v":40.132297149969453},{"$f":"((((hV_p(B57+14.696)*$H57)/1000000)*(VLOOKUP($E$8,'CO2 Conversion Factors'!$A$3:$J$20,7,FALSE)))*24)*$J57","v":29.389608523902165},null,null,"XXS",null,4.8970000000000002]
[null,150,null,164.696,22.88,0.1875,3.515625E-2,132.47734499999999,1.3247734499999999,365,11605.015421999999,{"$f":"((((hV_p(B58+14.696)*$H58)/1000000)*(VLOOKUP($E$8,'CO2 Conversion Factors'!$A$3:$J$20,3,FALSE)))*24)*$J58","v":83174.150377990823},{"$f":"((((hV_p(B58+14.696)*$H58)/1000000)*(VLOOKUP($E$8,'CO2 Conversion Factors'!$A$3:$J$20,4,FALSE)))*24)*$J58","v":78833.872683526584},{"$f":"((((hV_p(B58+14.696)*$H58)/1000000)*(VLOOKUP($E$8,'CO2 Conversion Factors'!$A$3:$J$20,5,FALSE)))*24)*$J58","v":127.68866702261349},{"$f":"((((hV_p(B58+14.696)*$H58)/1000000)*(VLOOKUP($E$8,'CO2 Conversion Factors'!$A$3:$J$20,6,FALSE)))*24)*$J58","v":57.918605096928104},{"$f":"((((hV_p(B58+14.696)*$H58)/1000000)*(VLOOKUP($E$8,'CO2 Conversion Factors'!$A$3:$J$20,7,FALSE)))*24)*$J58","v":42.414844176207268},null,8,"STD",8.625,7.9809999999999999]
[null,250,null,264.69600000000003,22.88,0.1875,3.515625E-2,212.91484500000001,2.1291484500000002,365,18651.340422000001,{"$f":"((((hV_p(B59+14.696)*$H59)/1000000)*(VLOOKUP($E$8,'CO2 Conversion Factors'!$A$3:$J$20,3,FALSE)))*24)*$J59","v":134372.76153647626},{"$f":"((((hV_p(B59+14.696)*$H59)/1000000)*(VLOOKUP($E$8,'CO2 Conversion Factors'!$A$3:$J$20,4,FALSE)))*24)*$J59","v":127360.78609711357},{"$f":"((((hV_p(B59+14.696)*$H59)/1000000)*(VLOOKUP($E$8,'CO2 Conversion Factors'!$A$3:$J$20,5,FALSE)))*24)*$J59","v":206.28859719955014},{"$f":"((((hV_p(B59+14.696)*$H59)/1000000)*(VLOOKUP($E$8,'CO2 Conversion Factors'!$A$3:$J$20,6,FALSE)))*24)*$J59","v":93.570933707719334},{"$f":"((((hV_p(B59+14.696)*$H59)/1000000)*(VLOOKUP($E$8,'CO2 Conversion Factors'!$A$3:$J$20,7,FALSE)))*24)*$J59","v":68.52369054802449}]
[null,300,null,314.69600000000003,22.88,0.1875,3.515625E-2,253.13359500000001,2.5313359499999999,365,22174.502922,{"$f":"((((hV_p(B60+14.696)*$H60)/1000000)*(VLOOKUP($E$8,'CO2 Conversion Factors'!$A$3:$J$20,3,FALSE)))*24)*$J60","v":159963.166326537},{"$f":"((((hV_p(B60+14.696)*$H60)/1000000)*(VLOOKUP($E$8,'CO2 Conversion Factors'!$A$3:$J$20,4,FALSE)))*24)*$J60","v":151615.80648471456},{"$f":"((((hV_p(B60+14.696)*$H60)/1000000)*(VLOOKUP($E$8,'CO2 Conversion Factors'!$A$3:$J$20,5,FALSE)))*24)*$J60","v":245.57489782735456},{"$f":"((((hV_p(B60+14.696)*$H60)/1000000)*(VLOOKUP($E$8,'CO2 Conversion Factors'!$A$3:$J$20,6,FALSE)))*24)*$J60","v":111.39089991801762},{"$f":"((((hV_p(B60+14.696)*$H60)/1000000)*(VLOOKUP($E$8,'CO2 Conversion Factors'!$A$3:$J$20,7,FALSE)))*24)*$J60","v":81.573574756564739},null,null,"XS",null,7.8250000000000002]
[null,400,null,414.69600000000003,22.88,0.1875,3.515625E-2,333.57109499999996,3.3357109499999997,365,29220.827922,{"$f":"((((hV_p(B61+14.696)*$H61)/1000000)*(VLOOKUP($E$8,'CO2 Conversion Factors'!$A$3:$J$20,3,FALSE)))*24)*$J61","v":211032.03303263974},{"$f":"((((hV_p(B61+14.696)*$H61)/1000000)*(VLOOKUP($E$8,'CO2 Conversion Factors'!$A$3:$J$20,4,FALSE)))*24)*$J61","v":200019.74590224572},{"$f":"((((hV_p(B61+14.696)*$H61)/1000000)*(VLOOKUP($E$8,'CO2 Conversion Factors'!$A$3:$J$20,5,FALSE)))*24)*$J61","v":323.97564477124303},{"$f":"((((hV_p(B61+14.696)*$H61)/1000000)*(VLOOKUP($E$8,'CO2 Conversion Factors'!$A$3:$J$20,6,FALSE)))*24)*$J61","v":146.95288053406625},{"$f":"((((hV_p(B61+14.696)*$H61)/1000000)*(VLOOKUP($E$8,'CO2 Conversion Factors'!$A$3:$J$20,7,FALSE)))*24)*$J61","v":107.61625765444771},null,null,"XXS",null,6.875]
[null,600,null,614.69600000000003,22.88,0.1875,3.515625E-2,494.44609499999996,4.9444609499999999,365,43313.477921999998,{"$f":"((((hV_p(B62+14.696)*$H62)/1000000)*(VLOOKUP($E$8,'CO2 Conversion Factors'!$A$3:$J$20,3,FALSE)))*24)*$J62","v":312419.76647820248},{"$f":"((((hV_p(B62+14.696)*$H62)/1000000)*(VLOOKUP($E$8,'CO2 Conversion Factors'!$A$3:$J$20,4,FALSE)))*24)*$J62","v":296116.76202798955},{"$f":"((((hV_p(B62+14.696)*$H62)/1000000)*(VLOOKUP($E$8,'CO2 Conversion Factors'!$A$3:$J$20,5,FALSE)))*24)*$J62","v":479.62574131294082},{"$f":"((((hV_p(B62+14.696)*$H62)/1000000)*(VLOOKUP($E$8,'CO2 Conversion Factors'!$A$3:$J$20,6,FALSE)))*24)*$J62","v":217.55457671514372},{"$f":"((((hV_p(B62+14.696)*$H62)/1000000)*(VLOOKUP($E$8,'CO2 Conversion Factors'!$A$3:$J$20,7,FALSE)))*24)*$J62","v":159.31915928829861}]
[null,null,null,null,null,null,null,null,null,null,null,null,null,null,null,null,null,10,"STD",10.75,10.02]
[null,"1/4\" Leak",null,null,null,null,null,null,null,null,null,null,null,null,null,null,null,null,"XS",null,9.75]
[null,"Pressure",null,"Abs Pressure","Constant","Diameter","D^2","Steam Loss (pph)","Cost / Hour","Days / Year","Cost / Year","CO2 Emissions / Year","NOX","SO2","Particulates","Mercury"]
[null,5,null,{"$f":"B66+14.696","v":19.695999999999998},22.88,{"$f":"4/16","v":0.25},{"$f":"F66^2","v":6.25E-2},{"$f":"D66*E66*G66","v":28.165279999999996},{"$f":"(H66/1000)*E$7","v":0.28165279999999993},365,{"$f":"I66*24*J66","v":2467.2785279999994},{"$f":"((((hV_p(B66+14.696)*$H66)/1000000)*(VLOOKUP($E$8,'CO2 Conversion Factors'!$A$3:$J$20,3,FALSE)))*24)*$J66","v":17090.744089908014},{"$f":"((((hV_p(B66+14.696)*$H66)/1000000)*(VLOOKUP($E$8,'CO2 Conversion Factors'!$A$3:$J$20,4,FALSE)))*24)*$J66","v":16198.897584496004},{"$f":"((((hV_p(B66+14.696)*$H66)/1000000)*(VLOOKUP($E$8,'CO2 Conversion Factors'!$A$3:$J$20,5,FALSE)))*24)*$J66","v":26.237651017141413},{"$f":"((((hV_p(B66+14.696)*$H66)/1000000)*(VLOOKUP($E$8,'CO2 Conversion Factors'!$A$3:$J$20,6,FALSE)))*24)*$J66","v":11.901198308098087},{"$f":"((((hV_p(B66+14.696)*$H66)/1000000)*(VLOOKUP($E$8,'CO2 Conversion Factors'!$A$3:$J$20,7,FALSE)))*24)*$J66","v":8.7154632074330607},null,null,"XXS"]
[null,15,null,29.695999999999998,22.88,0.25,6.25E-2,42.465279999999993,0.42465279999999994,365,3719.9585279999992,{"$f":"((((hV_p(B67+14.696)*$H67)/1000000)*(VLOOKUP($E$8,'CO2 Conversion Factors'!$A$3:$J$20,3,FALSE)))*24)*$J67","v":25947.256704275362},{"$f":"((((hV_p(B67+14.696)*$H67)/1000000)*(VLOOKUP($E$8,'CO2 Conversion Factors'!$A$3:$J$20,4,FALSE)))*24)*$J67","v":24593.250694063034},{"$f":"((((hV_p(B67+14.696)*$H67)/1000000)*(VLOOKUP($E$8,'CO2 Conversion Factors'!$A$3:$J$20,5,FALSE)))*24)*$J67","v":39.834138448130261},{"$f":"((((hV_p(B67+14.696)*$H67)/1000000)*(VLOOKUP($E$8,'CO2 Conversion Factors'!$A$3:$J$20,6,FALSE)))*24)*$J67","v":18.068461265595531},{"$f":"((((hV_p(B67+14.696)*$H67)/1000000)*(VLOOKUP($E$8,'CO2 Conversion Factors'!$A$3:$J$20,7,FALSE)))*24)*$J67","v":13.231861641031097},null,12,"STD",12.75,12]
[null,25,null,39.695999999999998,22.88,0.25,6.25E-2,56.765279999999997,0.56765279999999996,365,4972.6385279999995,{"$f":"((((hV_p(B68+14.696)*$H68)/1000000)*(VLOOKUP($E$8,'CO2 Conversion Factors'!$A$3:$J$20,3,FALSE)))*24)*$J68","v":34855.937378626913},{"$f":"((((hV_p(B68+14.696)*$H68)/1000000)*(VLOOKUP($E$8,'CO2 Conversion Factors'!$A$3:$J$20,4,FALSE)))*24)*$J68","v":33037.049577109567},{"$f":"((((hV_p(B68+14.696)*$H68)/1000000)*(VLOOKUP($E$8,'CO2 Conversion Factors'!$A$3:$J$20,5,FALSE)))*24)*$J68","v":53.510714103769018},{"$f":"((((hV_p(B68+14.696)*$H68)/1000000)*(VLOOKUP($E$8,'CO2 Conversion Factors'!$A$3:$J$20,6,FALSE)))*24)*$J68","v":24.272051630721016},{"$f":"((((hV_p(B68+14.696)*$H68)/1000000)*(VLOOKUP($E$8,'CO2 Conversion Factors'!$A$3:$J$20,7,FALSE)))*24)*$J68","v":17.774863293599793}]
[null,30,null,44.695999999999998,22.88,0.25,6.25E-2,63.915279999999996,0.63915279999999997,365,5598.9785279999996,{"$f":"((((hV_p(B69+14.696)*$H69)/1000000)*(VLOOKUP($E$8,'CO2 Conversion Factors'!$A$3:$J$20,3,FALSE)))*24)*$J69","v":39325.019062077183},{"$f":"((((hV_p(B69+14.696)*$H69)/1000000)*(VLOOKUP($E$8,'CO2 Conversion Factors'!$A$3:$J$20,4,FALSE)))*24)*$J69","v":37272.921117056525},{"$f":"((((hV_p(B69+14.696)*$H69)/1000000)*(VLOOKUP($E$8,'CO2 Conversion Factors'!$A$3:$J$20,5,FALSE)))*24)*$J69","v":60.371632795232394},{"$f":"((((hV_p(B69+14.696)*$H69)/1000000)*(VLOOKUP($E$8,'CO2 Conversion Factors'!$A$3:$J$20,6,FALSE)))*24)*$J69","v":27.384112000359192},{"$f":"((((hV_p(B69+14.696)*$H69)/1000000)*(VLOOKUP($E$8,'CO2 Conversion Factors'!$A$3:$J$20,7,FALSE)))*24)*$J69","v":20.053881502416328},null,null,"XS",null,11.75]
[null,40,null,54.695999999999998,22.88,0.25,6.25E-2,78.215279999999993,0.78215279999999998,365,6851.6585279999999,{"$f":"((((hV_p(B70+14.696)*$H70)/1000000)*(VLOOKUP($E$8,'CO2 Conversion Factors'!$A$3:$J$20,3,FALSE)))*24)*$J70","v":48286.602235451785},{"$f":"((((hV_p(B70+14.696)*$H70)/1000000)*(VLOOKUP($E$8,'CO2 Conversion Factors'!$A$3:$J$20,4,FALSE)))*24)*$J70","v":45766.861887380182},{"$f":"((((hV_p(B70+14.696)*$H70)/1000000)*(VLOOKUP($E$8,'CO2 Conversion Factors'!$A$3:$J$20,5,FALSE)))*24)*$J70","v":74.129424183784792},{"$f":"((((hV_p(B70+14.696)*$H70)/1000000)*(VLOOKUP($E$8,'CO2 Conversion Factors'!$A$3:$J$20,6,FALSE)))*24)*$J70","v":33.624541202258257},{"$f":"((((hV_p(B70+14.696)*$H70)/1000000)*(VLOOKUP($E$8,'CO2 Conversion Factors'!$A$3:$J$20,7,FALSE)))*24)*$J70","v":24.623860902787644},null,null,"XXS"]
[null,50,null,64.695999999999998,22.88,0.25,6.25E-2,92.51527999999999,0.92515279999999989,365,8104.3385279999993,{"$f":"((((hV_p(B71+14.696)*$H71)/1000000)*(VLOOKUP($E$8,'CO2 Conversion Factors'!$A$3:$J$20,3,FALSE)))*24)*$J71","v":57273.802364603951},{"$f":"((((hV_p(B71+14.696)*$H71)/1000000)*(VLOOKUP($E$8,'CO2 Conversion Factors'!$A$3:$J$20,4,FALSE)))*24)*$J71","v":54285.082843568445},{"$f":"((((hV_p(B71+14.696)*$H71)/1000000)*(VLOOKUP($E$8,'CO2 Conversion Factors'!$A$3:$J$20,5,FALSE)))*24)*$J71","v":87.926542633948898},{"$f":"((((hV_p(B71+14.696)*$H71)/1000000)*(VLOOKUP($E$8,'CO2 Conversion Factors'!$A$3:$J$20,6,FALSE)))*24)*$J71","v":39.882808859238928},{"$f":"((((hV_p(B71+14.696)*$H71)/1000000)*(VLOOKUP($E$8,'CO2 Conversion Factors'!$A$3:$J$20,7,FALSE)))*24)*$J71","v":29.206903727103025},null,">12  OD is nominal size"]
[null,75,null,89.695999999999998,22.88,0.25,6.25E-2,128.26527999999999,1.2826527999999997,365,11236.038527999997,{"$f":"((((hV_p(B72+14.696)*$H72)/1000000)*(VLOOKUP($E$8,'CO2 Conversion Factors'!$A$3:$J$20,3,FALSE)))*24)*$J72","v":79824.308422618677},{"$f":"((((hV_p(B72+14.696)*$H72)/1000000)*(VLOOKUP($E$8,'CO2 Conversion Factors'!$A$3:$J$20,4,FALSE)))*24)*$J72","v":75658.835571399701},{"$f":"((((hV_p(B72+14.696)*$H72)/1000000)*(VLOOKUP($E$8,'CO2 Conversion Factors'!$A$3:$J$20,5,FALSE)))*24)*$J72","v":122.54600127761924},{"$f":"((((hV_p(B72+14.696)*$H72)/1000000)*(VLOOKUP($E$8,'CO2 Conversion Factors'!$A$3:$J$20,6,FALSE)))*24)*$J72","v":55.585931153538354},{"$f":"((((hV_p(B72+14.696)*$H72)/1000000)*(VLOOKUP($E$8,'CO2 Conversion Factors'!$A$3:$J$20,7,FALSE)))*24)*$J72","v":40.706584772217866}]
[null,100,null,114.696,22.88,0.25,6.25E-2,164.01527999999999,1.6401527999999999,365,14367.738527999998,{"$f":"((((hV_p(B73+14.696)*$H73)/1000000)*(VLOOKUP($E$8,'CO2 Conversion Factors'!$A$3:$J$20,3,FALSE)))*24)*$J73","v":102457.03220785953},{"$f":"((((hV_p(B73+14.696)*$H73)/1000000)*(VLOOKUP($E$8,'CO2 Conversion Factors'!$A$3:$J$20,4,FALSE)))*24)*$J73","v":97110.515657803538},{"$f":"((((hV_p(B73+14.696)*$H73)/1000000)*(VLOOKUP($E$8,'CO2 Conversion Factors'!$A$3:$J$20,5,FALSE)))*24)*$J73","v":157.29168029080856},{"$f":"((((hV_p(B73+14.696)*$H73)/1000000)*(VLOOKUP($E$8,'CO2 Conversion Factors'!$A$3:$J$20,6,FALSE)))*24)*$J73","v":71.346306044390133},{"$f":"((((hV_p(B73+14.696)*$H73)/1000000)*(VLOOKUP($E$8,'CO2 Conversion Factors'!$A$3:$J$20,7,FALSE)))*24)*$J73","v":52.248192931381617},null,"STD = 0.375 wall thickness"]
[null,150,null,164.696,22.88,0.25,6.25E-2,235.51527999999999,2.3551527999999999,365,20631.138527999999,{"$f":"((((hV_p(B74+14.696)*$H74)/1000000)*(VLOOKUP($E$8,'CO2 Conversion Factors'!$A$3:$J$20,3,FALSE)))*24)*$J74","v":147865.15622753926},{"$f":"((((hV_p(B74+14.696)*$H74)/1000000)*(VLOOKUP($E$8,'CO2 Conversion Factors'!$A$3:$J$20,4,FALSE)))*24)*$J74","v":140149.10699293617},{"$f":"((((hV_p(B74+14.696)*$H74)/1000000)*(VLOOKUP($E$8,'CO2 Conversion Factors'!$A$3:$J$20,5,FALSE)))*24)*$J74","v":227.00207470686851},{"$f":"((((hV_p(B74+14.696)*$H74)/1000000)*(VLOOKUP($E$8,'CO2 Conversion Factors'!$A$3:$J$20,6,FALSE)))*24)*$J74","v":102.96640906120554},{"$f":"((((hV_p(B74+14.696)*$H74)/1000000)*(VLOOKUP($E$8,'CO2 Conversion Factors'!$A$3:$J$20,7,FALSE)))*24)*$J74","v":75.404167424368481},null,"XS = 0.500 wall thickness"]
[null,250,null,264.69600000000003,22.88,0.25,6.25E-2,378.51528000000002,3.7851528000000001,365,33157.938527999999,{"$f":"((((hV_p(B75+14.696)*$H75)/1000000)*(VLOOKUP($E$8,'CO2 Conversion Factors'!$A$3:$J$20,3,FALSE)))*24)*$J75","v":238884.90939818},{"$f":"((((hV_p(B75+14.696)*$H75)/1000000)*(VLOOKUP($E$8,'CO2 Conversion Factors'!$A$3:$J$20,4,FALSE)))*24)*$J75","v":226419.17528375747},{"$f":"((((hV_p(B75+14.696)*$H75)/1000000)*(VLOOKUP($E$8,'CO2 Conversion Factors'!$A$3:$J$20,5,FALSE)))*24)*$J75","v":366.73528391031141},{"$f":"((((hV_p(B75+14.696)*$H75)/1000000)*(VLOOKUP($E$8,'CO2 Conversion Factors'!$A$3:$J$20,6,FALSE)))*24)*$J75","v":166.34832659150103},{"$f":"((((hV_p(B75+14.696)*$H75)/1000000)*(VLOOKUP($E$8,'CO2 Conversion Factors'!$A$3:$J$20,7,FALSE)))*24)*$J75","v":121.8198943075991}]
[null,300,null,314.69600000000003,22.88,0.25,6.25E-2,450.01528000000002,4.5001528000000004,365,39421.338528,{"$f":"((((hV_p(B76+14.696)*$H76)/1000000)*(VLOOKUP($E$8,'CO2 Conversion Factors'!$A$3:$J$20,3,FALSE)))*24)*$J76","v":284378.962358288},{"$f":"((((hV_p(B76+14.696)*$H76)/1000000)*(VLOOKUP($E$8,'CO2 Conversion Factors'!$A$3:$J$20,4,FALSE)))*24)*$J76","v":269539.21152838145},{"$f":"((((hV_p(B76+14.696)*$H76)/1000000)*(VLOOKUP($E$8,'CO2 Conversion Factors'!$A$3:$J$20,5,FALSE)))*24)*$J76","v":436.57759613751921},{"$f":"((((hV_p(B76+14.696)*$H76)/1000000)*(VLOOKUP($E$8,'CO2 Conversion Factors'!$A$3:$J$20,6,FALSE)))*24)*$J76","v":198.0282665209202},{"$f":"((((hV_p(B76+14.696)*$H76)/1000000)*(VLOOKUP($E$8,'CO2 Conversion Factors'!$A$3:$J$20,7,FALSE)))*24)*$J76","v":145.01968845611509}]
[null,400,null,414.69600000000003,22.88,0.25,6.25E-2,593.01527999999996,5.9301527999999992,365,51948.138527999996,{"$f":"((((hV_p(B77+14.696)*$H77)/1000000)*(VLOOKUP($E$8,'CO2 Conversion Factors'!$A$3:$J$20,3,FALSE)))*24)*$J77","v":375168.05872469296},{"$f":"((((hV_p(B77+14.696)*$H77)/1000000)*(VLOOKUP($E$8,'CO2 Conversion Factors'!$A$3:$J$20,4,FALSE)))*24)*$J77","v":355590.65938177024},{"$f":"((((hV_p(B77+14.696)*$H77)/1000000)*(VLOOKUP($E$8,'CO2 Conversion Factors'!$A$3:$J$20,5,FALSE)))*24)*$J77","v":575.9567018155434},{"$f":"((((hV_p(B77+14.696)*$H77)/1000000)*(VLOOKUP($E$8,'CO2 Conversion Factors'!$A$3:$J$20,6,FALSE)))*24)*$J77","v":261.24956539389564},{"$f":"((((hV_p(B77+14.696)*$H77)/1000000)*(VLOOKUP($E$8,'CO2 Conversion Factors'!$A$3:$J$20,7,FALSE)))*24)*$J77","v":191.31779138568487}]
[null,600,null,614.69600000000003,22.88,0.25,6.25E-2,879.01527999999996,8.7901527999999995,365,77001.738527999987,{"$f":"((((hV_p(B78+14.696)*$H78)/1000000)*(VLOOKUP($E$8,'CO2 Conversion Factors'!$A$3:$J$20,3,FALSE)))*24)*$J78","v":555412.91818347119},{"$f":"((((hV_p(B78+14.696)*$H78)/1000000)*(VLOOKUP($E$8,'CO2 Conversion Factors'!$A$3:$J$20,4,FALSE)))*24)*$J78","v":526429.79916087037},{"$f":"((((hV_p(B78+14.696)*$H78)/1000000)*(VLOOKUP($E$8,'CO2 Conversion Factors'!$A$3:$J$20,5,FALSE)))*24)*$J78","v":852.66798455633932},{"$f":"((((hV_p(B78+14.696)*$H78)/1000000)*(VLOOKUP($E$8,'CO2 Conversion Factors'!$A$3:$J$20,6,FALSE)))*24)*$J78","v":386.76369193803333},{"$f":"((((hV_p(B78+14.696)*$H78)/1000000)*(VLOOKUP($E$8,'CO2 Conversion Factors'!$A$3:$J$20,7,FALSE)))*24)*$J78","v":283.23406095697533}]
[]
[null,"3/8\" Leak"]
[null,"Pressure",null,"Abs Pressure","Constant","Diameter","D^2","Steam Loss (pph)","Cost / Hour","Days / Year","Cost / Year","CO2 Emissions / Year","NOX","SO2","Particulates","Mercury"]
[null,5,null,{"$f":"B82+14.696","v":19.695999999999998},22.88,0.375,{"$f":"F82^2","v":0.140625},{"$f":"D82*E82*G82","v":63.37187999999999},{"$f":"(H82/1000)*E$7","v":0.63371879999999992},365,{"$f":"I82*24*J82","v":5551.3766879999994},{"$f":"((((hV_p(B82+14.696)*$H82)/1000000)*(VLOOKUP($E$8,'CO2 Conversion Factors'!$A$3:$J$20,3,FALSE)))*24)*$J82","v":38454.174202293034},{"$f":"((((hV_p(B82+14.696)*$H82)/1000000)*(VLOOKUP($E$8,'CO2 Conversion Factors'!$A$3:$J$20,4,FALSE)))*24)*$J82","v":36447.51956511601},{"$f":"((((hV_p(B82+14.696)*$H82)/1000000)*(VLOOKUP($E$8,'CO2 Conversion Factors'!$A$3:$J$20,5,FALSE)))*24)*$J82","v":59.034714788568188},{"$f":"((((hV_p(B82+14.696)*$H82)/1000000)*(VLOOKUP($E$8,'CO2 Conversion Factors'!$A$3:$J$20,6,FALSE)))*24)*$J82","v":26.777696193220692},{"$f":"((((hV_p(B82+14.696)*$H82)/1000000)*(VLOOKUP($E$8,'CO2 Conversion Factors'!$A$3:$J$20,7,FALSE)))*24)*$J82","v":19.609792216724394}]
[null,15,null,29.695999999999998,22.88,0.375,0.140625,95.546879999999987,0.9554687999999999,365,8369.9066879999991,{"$f":"((((hV_p(B83+14.696)*$H83)/1000000)*(VLOOKUP($E$8,'CO2 Conversion Factors'!$A$3:$J$20,3,FALSE)))*24)*$J83","v":58381.327584619576},{"$f":"((((hV_p(B83+14.696)*$H83)/1000000)*(VLOOKUP($E$8,'CO2 Conversion Factors'!$A$3:$J$20,4,FALSE)))*24)*$J83","v":55334.814061641824},{"$f":"((((hV_p(B83+14.696)*$H83)/1000000)*(VLOOKUP($E$8,'CO2 Conversion Factors'!$A$3:$J$20,5,FALSE)))*24)*$J83","v":89.626811508293102},{"$f":"((((hV_p(B83+14.696)*$H83)/1000000)*(VLOOKUP($E$8,'CO2 Conversion Factors'!$A$3:$J$20,6,FALSE)))*24)*$J83","v":40.65403784758994},{"$f":"((((hV_p(B83+14.696)*$H83)/1000000)*(VLOOKUP($E$8,'CO2 Conversion Factors'!$A$3:$J$20,7,FALSE)))*24)*$J83","v":29.771688692319973}]
[null,25,null,39.695999999999998,22.88,0.375,0.140625,127.72188,1.2772188,365,11188.436688,{"$f":"((((hV_p(B84+14.696)*$H84)/1000000)*(VLOOKUP($E$8,'CO2 Conversion Factors'!$A$3:$J$20,3,FALSE)))*24)*$J84","v":78425.859101910522},{"$f":"((((hV_p(B84+14.696)*$H84)/1000000)*(VLOOKUP($E$8,'CO2 Conversion Factors'!$A$3:$J$20,4,FALSE)))*24)*$J84","v":74333.361548496512},{"$f":"((((hV_p(B84+14.696)*$H84)/1000000)*(VLOOKUP($E$8,'CO2 Conversion Factors'!$A$3:$J$20,5,FALSE)))*24)*$J84","v":120.39910673348029},{"$f":"((((hV_p(B84+14.696)*$H84)/1000000)*(VLOOKUP($E$8,'CO2 Conversion Factors'!$A$3:$J$20,6,FALSE)))*24)*$J84","v":54.612116169122288},{"$f":"((((hV_p(B84+14.696)*$H84)/1000000)*(VLOOKUP($E$8,'CO2 Conversion Factors'!$A$3:$J$20,7,FALSE)))*24)*$J84","v":39.993442410599535}]
[null,30,null,44.695999999999998,22.88,0.375,0.140625,143.80937999999998,1.4380937999999999,365,12597.701687999999,{"$f":"((((hV_p(B85+14.696)*$H85)/1000000)*(VLOOKUP($E$8,'CO2 Conversion Factors'!$A$3:$J$20,3,FALSE)))*24)*$J85","v":88481.292889673656},{"$f":"((((hV_p(B85+14.696)*$H85)/1000000)*(VLOOKUP($E$8,'CO2 Conversion Factors'!$A$3:$J$20,4,FALSE)))*24)*$J85","v":83864.072513377178},{"$f":"((((hV_p(B85+14.696)*$H85)/1000000)*(VLOOKUP($E$8,'CO2 Conversion Factors'!$A$3:$J$20,5,FALSE)))*24)*$J85","v":135.83617378927289},{"$f":"((((hV_p(B85+14.696)*$H85)/1000000)*(VLOOKUP($E$8,'CO2 Conversion Factors'!$A$3:$J$20,6,FALSE)))*24)*$J85","v":61.614252000808172},{"$f":"((((hV_p(B85+14.696)*$H85)/1000000)*(VLOOKUP($E$8,'CO2 Conversion Factors'!$A$3:$J$20,7,FALSE)))*24)*$J85","v":45.121233380436735}]
[null,40,null,54.695999999999998,22.88,0.375,0.140625,175.98437999999999,1.7598438000000001,365,15416.231688,{"$f":"((((hV_p(B86+14.696)*$H86)/1000000)*(VLOOKUP($E$8,'CO2 Conversion Factors'!$A$3:$J$20,3,FALSE)))*24)*$J86","v":108644.85502976649},{"$f":"((((hV_p(B86+14.696)*$H86)/1000000)*(VLOOKUP($E$8,'CO2 Conversion Factors'!$A$3:$J$20,4,FALSE)))*24)*$J86","v":102975.4392466054},{"$f":"((((hV_p(B86+14.696)*$H86)/1000000)*(VLOOKUP($E$8,'CO2 Conversion Factors'!$A$3:$J$20,5,FALSE)))*24)*$J86","v":166.79120441351577},{"$f":"((((hV_p(B86+14.696)*$H86)/1000000)*(VLOOKUP($E$8,'CO2 Conversion Factors'!$A$3:$J$20,6,FALSE)))*24)*$J86","v":75.655217705081085},{"$f":"((((hV_p(B86+14.696)*$H86)/1000000)*(VLOOKUP($E$8,'CO2 Conversion Factors'!$A$3:$J$20,7,FALSE)))*24)*$J86","v":55.403687031272199}]
[null,50,null,64.695999999999998,22.88,0.375,0.140625,208.15937999999997,2.0815937999999998,365,18234.761687999999,{"$f":"((((hV_p(B87+14.696)*$H87)/1000000)*(VLOOKUP($E$8,'CO2 Conversion Factors'!$A$3:$J$20,3,FALSE)))*24)*$J87","v":128866.05532035886},{"$f":"((((hV_p(B87+14.696)*$H87)/1000000)*(VLOOKUP($E$8,'CO2 Conversion Factors'!$A$3:$J$20,4,FALSE)))*24)*$J87","v":122141.43639802899},{"$f":"((((hV_p(B87+14.696)*$H87)/1000000)*(VLOOKUP($E$8,'CO2 Conversion Factors'!$A$3:$J$20,5,FALSE)))*24)*$J87","v":197.83472092638499},{"$f":"((((hV_p(B87+14.696)*$H87)/1000000)*(VLOOKUP($E$8,'CO2 Conversion Factors'!$A$3:$J$20,6,FALSE)))*24)*$J87","v":89.736319933287575},{"$f":"((((hV_p(B87+14.696)*$H87)/1000000)*(VLOOKUP($E$8,'CO2 Conversion Factors'!$A$3:$J$20,7,FALSE)))*24)*$J87","v":65.7155333859818}]
[null,75,null,89.695999999999998,22.88,0.375,0.140625,288.59688,2.8859688000000001,365,25281.086687999999,{"$f":"((((hV_p(B88+14.696)*$H88)/1000000)*(VLOOKUP($E$8,'CO2 Conversion Factors'!$A$3:$J$20,3,FALSE)))*24)*$J88","v":179604.69395089205},{"$f":"((((hV_p(B88+14.696)*$H88)/1000000)*(VLOOKUP($E$8,'CO2 Conversion Factors'!$A$3:$J$20,4,FALSE)))*24)*$J88","v":170232.38003564934},{"$f":"((((hV_p(B88+14.696)*$H88)/1000000)*(VLOOKUP($E$8,'CO2 Conversion Factors'!$A$3:$J$20,5,FALSE)))*24)*$J88","v":275.72850287464331},{"$f":"((((hV_p(B88+14.696)*$H88)/1000000)*(VLOOKUP($E$8,'CO2 Conversion Factors'!$A$3:$J$20,6,FALSE)))*24)*$J88","v":125.06834509546127},{"$f":"((((hV_p(B88+14.696)*$H88)/1000000)*(VLOOKUP($E$8,'CO2 Conversion Factors'!$A$3:$J$20,7,FALSE)))*24)*$J88","v":91.589815737490227}]
[null,100,null,114.696,22.88,0.375,0.140625,369.03438,3.6903438,365,32327.411687999997,{"$f":"((((hV_p(B89+14.696)*$H89)/1000000)*(VLOOKUP($E$8,'CO2 Conversion Factors'!$A$3:$J$20,3,FALSE)))*24)*$J89","v":230528.32246768405},{"$f":"((((hV_p(B89+14.696)*$H89)/1000000)*(VLOOKUP($E$8,'CO2 Conversion Factors'!$A$3:$J$20,4,FALSE)))*24)*$J89","v":218498.66023005798},{"$f":"((((hV_p(B89+14.696)*$H89)/1000000)*(VLOOKUP($E$8,'CO2 Conversion Factors'!$A$3:$J$20,5,FALSE)))*24)*$J89","v":353.90628065431923},{"$f":"((((hV_p(B89+14.696)*$H89)/1000000)*(VLOOKUP($E$8,'CO2 Conversion Factors'!$A$3:$J$20,6,FALSE)))*24)*$J89","v":160.52918859987781},{"$f":"((((hV_p(B89+14.696)*$H89)/1000000)*(VLOOKUP($E$8,'CO2 Conversion Factors'!$A$3:$J$20,7,FALSE)))*24)*$J89","v":117.55843409560866}]
[null,150,null,164.696,22.88,0.375,0.140625,529.90937999999994,5.2990937999999996,365,46420.061687999994,{"$f":"((((hV_p(B90+14.696)*$H90)/1000000)*(VLOOKUP($E$8,'CO2 Conversion Factors'!$A$3:$J$20,3,FALSE)))*24)*$J90","v":332696.60151196329},{"$f":"((((hV_p(B90+14.696)*$H90)/1000000)*(VLOOKUP($E$8,'CO2 Conversion Factors'!$A$3:$J$20,4,FALSE)))*24)*$J90","v":315335.49073410634},{"$f":"((((hV_p(B90+14.696)*$H90)/1000000)*(VLOOKUP($E$8,'CO2 Conversion Factors'!$A$3:$J$20,5,FALSE)))*24)*$J90","v":510.75466809045395},{"$f":"((((hV_p(B90+14.696)*$H90)/1000000)*(VLOOKUP($E$8,'CO2 Conversion Factors'!$A$3:$J$20,6,FALSE)))*24)*$J90","v":231.67442038771242},{"$f":"((((hV_p(B90+14.696)*$H90)/1000000)*(VLOOKUP($E$8,'CO2 Conversion Factors'!$A$3:$J$20,7,FALSE)))*24)*$J90","v":169.65937670482907}]
[null,250,null,264.69600000000003,22.88,0.375,0.140625,851.65938000000006,8.5165938000000008,365,74605.361688000005,{"$f":"((((hV_p(B91+14.696)*$H91)/1000000)*(VLOOKUP($E$8,'CO2 Conversion Factors'!$A$3:$J$20,3,FALSE)))*24)*$J91","v":537491.04614590504},{"$f":"((((hV_p(B91+14.696)*$H91)/1000000)*(VLOOKUP($E$8,'CO2 Conversion Factors'!$A$3:$J$20,4,FALSE)))*24)*$J91","v":509443.14438845427},{"$f":"((((hV_p(B91+14.696)*$H91)/1000000)*(VLOOKUP($E$8,'CO2 Conversion Factors'!$A$3:$J$20,5,FALSE)))*24)*$J91","v":825.15438879820056},{"$f":"((((hV_p(B91+14.696)*$H91)/1000000)*(VLOOKUP($E$8,'CO2 Conversion Factors'!$A$3:$J$20,6,FALSE)))*24)*$J91","v":374.28373483087734},{"$f":"((((hV_p(B91+14.696)*$H91)/1000000)*(VLOOKUP($E$8,'CO2 Conversion Factors'!$A$3:$J$20,7,FALSE)))*24)*$J91","v":274.09476219209796}]
[null,300,null,314.69600000000003,22.88,0.375,0.140625,1012.5343800000001,10.1253438,365,88698.011687999999,{"$f":"((((hV_p(B92+14.696)*$H92)/1000000)*(VLOOKUP($E$8,'CO2 Conversion Factors'!$A$3:$J$20,3,FALSE)))*24)*$J92","v":639852.665306148},{"$f":"((((hV_p(B92+14.696)*$H92)/1000000)*(VLOOKUP($E$8,'CO2 Conversion Factors'!$A$3:$J$20,4,FALSE)))*24)*$J92","v":606463.22593885823},{"$f":"((((hV_p(B92+14.696)*$H92)/1000000)*(VLOOKUP($E$8,'CO2 Conversion Factors'!$A$3:$J$20,5,FALSE)))*24)*$J92","v":982.29959130941825},{"$f":"((((hV_p(B92+14.696)*$H92)/1000000)*(VLOOKUP($E$8,'CO2 Conversion Factors'!$A$3:$J$20,6,FALSE)))*24)*$J92","v":445.5635996720705},{"$f":"((((hV_p(B92+14.696)*$H92)/1000000)*(VLOOKUP($E$8,'CO2 Conversion Factors'!$A$3:$J$20,7,FALSE)))*24)*$J92","v":326.29429902625895}]
[null,400,null,414.69600000000003,22.88,0.375,0.140625,1334.2843799999998,13.342843799999999,365,116883.311688,{"$f":"((((hV_p(B93+14.696)*$H93)/1000000)*(VLOOKUP($E$8,'CO2 Conversion Factors'!$A$3:$J$20,3,FALSE)))*24)*$J93","v":844128.13213055895},{"$f":"((((hV_p(B93+14.696)*$H93)/1000000)*(VLOOKUP($E$8,'CO2 Conversion Factors'!$A$3:$J$20,4,FALSE)))*24)*$J93","v":800078.98360898288},{"$f":"((((hV_p(B93+14.696)*$H93)/1000000)*(VLOOKUP($E$8,'CO2 Conversion Factors'!$A$3:$J$20,5,FALSE)))*24)*$J93","v":1295.9025790849721},{"$f":"((((hV_p(B93+14.696)*$H93)/1000000)*(VLOOKUP($E$8,'CO2 Conversion Factors'!$A$3:$J$20,6,FALSE)))*24)*$J93","v":587.81152213626501},{"$f":"((((hV_p(B93+14.696)*$H93)/1000000)*(VLOOKUP($E$8,'CO2 Conversion Factors'!$A$3:$J$20,7,FALSE)))*24)*$J93","v":430.46503061779083}]
[null,600,null,614.69600000000003,22.88,0.375,0.140625,1977.7843799999998,19.777843799999999,365,173253.91168799999,{"$f":"((((hV_p(B94+14.696)*$H94)/1000000)*(VLOOKUP($E$8,'CO2 Conversion Factors'!$A$3:$J$20,3,FALSE)))*24)*$J94","v":1249679.0659128099},{"$f":"((((hV_p(B94+14.696)*$H94)/1000000)*(VLOOKUP($E$8,'CO2 Conversion Factors'!$A$3:$J$20,4,FALSE)))*24)*$J94","v":1184467.0481119582},{"$f":"((((hV_p(B94+14.696)*$H94)/1000000)*(VLOOKUP($E$8,'CO2 Conversion Factors'!$A$3:$J$20,5,FALSE)))*24)*$J94","v":1918.5029652517633},{"$f":"((((hV_p(B94+14.696)*$H94)/1000000)*(VLOOKUP($E$8,'CO2 Conversion Factors'!$A$3:$J$20,6,FALSE)))*24)*$J94","v":870.2183068605749},{"$f":"((((hV_p(B94+14.696)*$H94)/1000000)*(VLOOKUP($E$8,'CO2 Conversion Factors'!$A$3:$J$20,7,FALSE)))*24)*$J94","v":637.27663715319443}]
[]
[null,"1/2\" Leak"]
[null,"Pressure",null,"Abs Pressure","Constant","Diameter","D^2","Steam Loss (pph)","Cost / Hour","Days / Year","Cost / Year","CO2 Emissions / Year","NOX","SO2","Particulates","Mercury"]
[null,5,null,{"$f":"B98+14.696","v":19.695999999999998},22.88,0.5,{"$f":"F98^2","v":0.25},{"$f":"D98*E98*G98","v":112.66111999999998},{"$f":"(H98/1000)*E$7","v":1.1266111999999997},365,{"$f":"I98*24*J98","v":9869.1141119999975},{"$f":"((((hV_p(B98+14.696)*$H98)/1000000)*(VLOOKUP($E$8,'CO2 Conversion Factors'!$A$3:$J$20,3,FALSE)))*24)*$J98","v":68362.976359632055},{"$f":"((((hV_p(B98+14.696)*$H98)/1000000)*(VLOOKUP($E$8,'CO2 Conversion Factors'!$A$3:$J$20,4,FALSE)))*24)*$J98","v":64795.590337984017},{"$f":"((((hV_p(B98+14.696)*$H98)/1000000)*(VLOOKUP($E$8,'CO2 Conversion Factors'!$A$3:$J$20,5,FALSE)))*24)*$J98","v":104.95060406856565},{"$f":"((((hV_p(B98+14.696)*$H98)/1000000)*(VLOOKUP($E$8,'CO2 Conversion Factors'!$A$3:$J$20,6,FALSE)))*24)*$J98","v":47.604793232392346},{"$f":"((((hV_p(B98+14.696)*$H98)/1000000)*(VLOOKUP($E$8,'CO2 Conversion Factors'!$A$3:$J$20,7,FALSE)))*24)*$J98","v":34.861852829732243}]
[null,15,null,29.695999999999998,22.88,0.5,0.25,169.86111999999997,1.6986111999999998,365,14879.834111999997,{"$f":"((((hV_p(B99+14.696)*$H99)/1000000)*(VLOOKUP($E$8,'CO2 Conversion Factors'!$A$3:$J$20,3,FALSE)))*24)*$J99","v":103789.02681710145},{"$f":"((((hV_p(B99+14.696)*$H99)/1000000)*(VLOOKUP($E$8,'CO2 Conversion Factors'!$A$3:$J$20,4,FALSE)))*24)*$J99","v":98373.002776252135},{"$f":"((((hV_p(B99+14.696)*$H99)/1000000)*(VLOOKUP($E$8,'CO2 Conversion Factors'!$A$3:$J$20,5,FALSE)))*24)*$J99","v":159.33655379252104},{"$f":"((((hV_p(B99+14.696)*$H99)/1000000)*(VLOOKUP($E$8,'CO2 Conversion Factors'!$A$3:$J$20,6,FALSE)))*24)*$J99","v":72.273845062382122},{"$f":"((((hV_p(B99+14.696)*$H99)/1000000)*(VLOOKUP($E$8,'CO2 Conversion Factors'!$A$3:$J$20,7,FALSE)))*24)*$J99","v":52.927446564124388}]
[null,25,null,39.695999999999998,22.88,0.5,0.25,227.06111999999999,2.2706111999999998,365,19890.554111999998,{"$f":"((((hV_p(B100+14.696)*$H100)/1000000)*(VLOOKUP($E$8,'CO2 Conversion Factors'!$A$3:$J$20,3,FALSE)))*24)*$J100","v":139423.74951450765},{"$f":"((((hV_p(B100+14.696)*$H100)/1000000)*(VLOOKUP($E$8,'CO2 Conversion Factors'!$A$3:$J$20,4,FALSE)))*24)*$J100","v":132148.19830843827},{"$f":"((((hV_p(B100+14.696)*$H100)/1000000)*(VLOOKUP($E$8,'CO2 Conversion Factors'!$A$3:$J$20,5,FALSE)))*24)*$J100","v":214.04285641507607},{"$f":"((((hV_p(B100+14.696)*$H100)/1000000)*(VLOOKUP($E$8,'CO2 Conversion Factors'!$A$3:$J$20,6,FALSE)))*24)*$J100","v":97.088206522884064},{"$f":"((((hV_p(B100+14.696)*$H100)/1000000)*(VLOOKUP($E$8,'CO2 Conversion Factors'!$A$3:$J$20,7,FALSE)))*24)*$J100","v":71.099453174399173}]
[null,30,null,44.695999999999998,22.88,0.5,0.25,255.66111999999998,2.5566111999999999,365,22395.914111999999,{"$f":"((((hV_p(B101+14.696)*$H101)/1000000)*(VLOOKUP($E$8,'CO2 Conversion Factors'!$A$3:$J$20,3,FALSE)))*24)*$J101","v":157300.07624830873},{"$f":"((((hV_p(B101+14.696)*$H101)/1000000)*(VLOOKUP($E$8,'CO2 Conversion Factors'!$A$3:$J$20,4,FALSE)))*24)*$J101","v":149091.6844682261},{"$f":"((((hV_p(B101+14.696)*$H101)/1000000)*(VLOOKUP($E$8,'CO2 Conversion Factors'!$A$3:$J$20,5,FALSE)))*24)*$J101","v":241.48653118092957},{"$f":"((((hV_p(B101+14.696)*$H101)/1000000)*(VLOOKUP($E$8,'CO2 Conversion Factors'!$A$3:$J$20,6,FALSE)))*24)*$J101","v":109.53644800143677},{"$f":"((((hV_p(B101+14.696)*$H101)/1000000)*(VLOOKUP($E$8,'CO2 Conversion Factors'!$A$3:$J$20,7,FALSE)))*24)*$J101","v":80.215526009665311}]
[null,40,null,54.695999999999998,22.88,0.5,0.25,312.86111999999997,3.1286111999999999,365,27406.634112,{"$f":"((((hV_p(B102+14.696)*$H102)/1000000)*(VLOOKUP($E$8,'CO2 Conversion Factors'!$A$3:$J$20,3,FALSE)))*24)*$J102","v":193146.40894180714},{"$f":"((((hV_p(B102+14.696)*$H102)/1000000)*(VLOOKUP($E$8,'CO2 Conversion Factors'!$A$3:$J$20,4,FALSE)))*24)*$J102","v":183067.44754952073},{"$f":"((((hV_p(B102+14.696)*$H102)/1000000)*(VLOOKUP($E$8,'CO2 Conversion Factors'!$A$3:$J$20,5,FALSE)))*24)*$J102","v":296.51769673513917},{"$f":"((((hV_p(B102+14.696)*$H102)/1000000)*(VLOOKUP($E$8,'CO2 Conversion Factors'!$A$3:$J$20,6,FALSE)))*24)*$J102","v":134.49816480903303},{"$f":"((((hV_p(B102+14.696)*$H102)/1000000)*(VLOOKUP($E$8,'CO2 Conversion Factors'!$A$3:$J$20,7,FALSE)))*24)*$J102","v":98.495443611150577}]
[null,50,null,64.695999999999998,22.88,0.5,0.25,370.06111999999996,3.7006111999999995,365,32417.354111999997,{"$f":"((((hV_p(B103+14.696)*$H103)/1000000)*(VLOOKUP($E$8,'CO2 Conversion Factors'!$A$3:$J$20,3,FALSE)))*24)*$J103","v":229095.2094584158},{"$f":"((((hV_p(B103+14.696)*$H103)/1000000)*(VLOOKUP($E$8,'CO2 Conversion Factors'!$A$3:$J$20,4,FALSE)))*24)*$J103","v":217140.33137427378},{"$f":"((((hV_p(B103+14.696)*$H103)/1000000)*(VLOOKUP($E$8,'CO2 Conversion Factors'!$A$3:$J$20,5,FALSE)))*24)*$J103","v":351.70617053579559},{"$f":"((((hV_p(B103+14.696)*$H103)/1000000)*(VLOOKUP($E$8,'CO2 Conversion Factors'!$A$3:$J$20,6,FALSE)))*24)*$J103","v":159.53123543695571},{"$f":"((((hV_p(B103+14.696)*$H103)/1000000)*(VLOOKUP($E$8,'CO2 Conversion Factors'!$A$3:$J$20,7,FALSE)))*24)*$J103","v":116.8276149084121}]
[null,75,null,89.695999999999998,22.88,0.5,0.25,513.06111999999996,5.1306111999999988,365,44944.154111999989,{"$f":"((((hV_p(B104+14.696)*$H104)/1000000)*(VLOOKUP($E$8,'CO2 Conversion Factors'!$A$3:$J$20,3,FALSE)))*24)*$J104","v":319297.23369047471},{"$f":"((((hV_p(B104+14.696)*$H104)/1000000)*(VLOOKUP($E$8,'CO2 Conversion Factors'!$A$3:$J$20,4,FALSE)))*24)*$J104","v":302635.3422855988},{"$f":"((((hV_p(B104+14.696)*$H104)/1000000)*(VLOOKUP($E$8,'CO2 Conversion Factors'!$A$3:$J$20,5,FALSE)))*24)*$J104","v":490.18400511047696},{"$f":"((((hV_p(B104+14.696)*$H104)/1000000)*(VLOOKUP($E$8,'CO2 Conversion Factors'!$A$3:$J$20,6,FALSE)))*24)*$J104","v":222.34372461415342},{"$f":"((((hV_p(B104+14.696)*$H104)/1000000)*(VLOOKUP($E$8,'CO2 Conversion Factors'!$A$3:$J$20,7,FALSE)))*24)*$J104","v":162.82633908887146}]
[null,100,null,114.696,22.88,0.5,0.25,656.06111999999996,6.5606111999999994,365,57470.954111999992,{"$f":"((((hV_p(B105+14.696)*$H105)/1000000)*(VLOOKUP($E$8,'CO2 Conversion Factors'!$A$3:$J$20,3,FALSE)))*24)*$J105","v":409828.12883143814},{"$f":"((((hV_p(B105+14.696)*$H105)/1000000)*(VLOOKUP($E$8,'CO2 Conversion Factors'!$A$3:$J$20,4,FALSE)))*24)*$J105","v":388442.06263121415},{"$f":"((((hV_p(B105+14.696)*$H105)/1000000)*(VLOOKUP($E$8,'CO2 Conversion Factors'!$A$3:$J$20,5,FALSE)))*24)*$J105","v":629.16672116323423},{"$f":"((((hV_p(B105+14.696)*$H105)/1000000)*(VLOOKUP($E$8,'CO2 Conversion Factors'!$A$3:$J$20,6,FALSE)))*24)*$J105","v":285.38522417756053},{"$f":"((((hV_p(B105+14.696)*$H105)/1000000)*(VLOOKUP($E$8,'CO2 Conversion Factors'!$A$3:$J$20,7,FALSE)))*24)*$J105","v":208.99277172552647}]
[null,150,null,164.696,22.88,0.5,0.25,942.06111999999996,9.4206111999999997,365,82524.554111999998,{"$f":"((((hV_p(B106+14.696)*$H106)/1000000)*(VLOOKUP($E$8,'CO2 Conversion Factors'!$A$3:$J$20,3,FALSE)))*24)*$J106","v":591460.62491015706},{"$f":"((((hV_p(B106+14.696)*$H106)/1000000)*(VLOOKUP($E$8,'CO2 Conversion Factors'!$A$3:$J$20,4,FALSE)))*24)*$J106","v":560596.42797174468},{"$f":"((((hV_p(B106+14.696)*$H106)/1000000)*(VLOOKUP($E$8,'CO2 Conversion Factors'!$A$3:$J$20,5,FALSE)))*24)*$J106","v":908.00829882747405},{"$f":"((((hV_p(B106+14.696)*$H106)/1000000)*(VLOOKUP($E$8,'CO2 Conversion Factors'!$A$3:$J$20,6,FALSE)))*24)*$J106","v":411.86563624482216},{"$f":"((((hV_p(B106+14.696)*$H106)/1000000)*(VLOOKUP($E$8,'CO2 Conversion Factors'!$A$3:$J$20,7,FALSE)))*24)*$J106","v":301.61666969747392}]
[null,250,null,264.69600000000003,22.88,0.5,0.25,1514.0611200000001,15.1406112,365,132631.754112,{"$f":"((((hV_p(B107+14.696)*$H107)/1000000)*(VLOOKUP($E$8,'CO2 Conversion Factors'!$A$3:$J$20,3,FALSE)))*24)*$J107","v":955539.63759271998},{"$f":"((((hV_p(B107+14.696)*$H107)/1000000)*(VLOOKUP($E$8,'CO2 Conversion Factors'!$A$3:$J$20,4,FALSE)))*24)*$J107","v":905676.7011350299},{"$f":"((((hV_p(B107+14.696)*$H107)/1000000)*(VLOOKUP($E$8,'CO2 Conversion Factors'!$A$3:$J$20,5,FALSE)))*24)*$J107","v":1466.9411356412456},{"$f":"((((hV_p(B107+14.696)*$H107)/1000000)*(VLOOKUP($E$8,'CO2 Conversion Factors'!$A$3:$J$20,6,FALSE)))*24)*$J107","v":665.39330636600414},{"$f":"((((hV_p(B107+14.696)*$H107)/1000000)*(VLOOKUP($E$8,'CO2 Conversion Factors'!$A$3:$J$20,7,FALSE)))*24)*$J107","v":487.2795772303964}]
[null,300,null,314.69600000000003,22.88,0.5,0.25,1800.0611200000001,18.000611200000002,365,157685.354112,{"$f":"((((hV_p(B108+14.696)*$H108)/1000000)*(VLOOKUP($E$8,'CO2 Conversion Factors'!$A$3:$J$20,3,FALSE)))*24)*$J108","v":1137515.849433152},{"$f":"((((hV_p(B108+14.696)*$H108)/1000000)*(VLOOKUP($E$8,'CO2 Conversion Factors'!$A$3:$J$20,4,FALSE)))*24)*$J108","v":1078156.8461135258},{"$f":"((((hV_p(B108+14.696)*$H108)/1000000)*(VLOOKUP($E$8,'CO2 Conversion Factors'!$A$3:$J$20,5,FALSE)))*24)*$J108","v":1746.3103845500768},{"$f":"((((hV_p(B108+14.696)*$H108)/1000000)*(VLOOKUP($E$8,'CO2 Conversion Factors'!$A$3:$J$20,6,FALSE)))*24)*$J108","v":792.11306608368079},{"$f":"((((hV_p(B108+14.696)*$H108)/1000000)*(VLOOKUP($E$8,'CO2 Conversion Factors'!$A$3:$J$20,7,FALSE)))*24)*$J108","v":580.07875382446036}]
[null,400,null,414.69600000000003,22.88,0.5,0.25,2372.0611199999998,23.720611199999997,365,207792.55411199998,{"$f":"((((hV_p(B109+14.696)*$H109)/1000000)*(VLOOKUP($E$8,'CO2 Conversion Factors'!$A$3:$J$20,3,FALSE)))*24)*$J109","v":1500672.2348987719},{"$f":"((((hV_p(B109+14.696)*$H109)/1000000)*(VLOOKUP($E$8,'CO2 Conversion Factors'!$A$3:$J$20,4,FALSE)))*24)*$J109","v":1422362.637527081},{"$f":"((((hV_p(B109+14.696)*$H109)/1000000)*(VLOOKUP($E$8,'CO2 Conversion Factors'!$A$3:$J$20,5,FALSE)))*24)*$J109","v":2303.8268072621736},{"$f":"((((hV_p(B109+14.696)*$H109)/1000000)*(VLOOKUP($E$8,'CO2 Conversion Factors'!$A$3:$J$20,6,FALSE)))*24)*$J109","v":1044.9982615755825},{"$f":"((((hV_p(B109+14.696)*$H109)/1000000)*(VLOOKUP($E$8,'CO2 Conversion Factors'!$A$3:$J$20,7,FALSE)))*24)*$J109","v":765.27116554273948}]
[null,600,null,614.69600000000003,22.88,0.5,0.25,3516.0611199999998,35.160611199999998,365,308006.95411199995,{"$f":"((((hV_p(B110+14.696)*$H110)/1000000)*(VLOOKUP($E$8,'CO2 Conversion Factors'!$A$3:$J$20,3,FALSE)))*24)*$J110","v":2221651.6727338848},{"$f":"((((hV_p(B110+14.696)*$H110)/1000000)*(VLOOKUP($E$8,'CO2 Conversion Factors'!$A$3:$J$20,4,FALSE)))*24)*$J110","v":2105719.1966434815},{"$f":"((((hV_p(B110+14.696)*$H110)/1000000)*(VLOOKUP($E$8,'CO2 Conversion Factors'!$A$3:$J$20,5,FALSE)))*24)*$J110","v":3410.6719382253573},{"$f":"((((hV_p(B110+14.696)*$H110)/1000000)*(VLOOKUP($E$8,'CO2 Conversion Factors'!$A$3:$J$20,6,FALSE)))*24)*$J110","v":1547.0547677521333},{"$f":"((((hV_p(B110+14.696)*$H110)/1000000)*(VLOOKUP($E$8,'CO2 Conversion Factors'!$A$3:$J$20,7,FALSE)))*24)*$J110","v":1132.9362438279013}]

{"sheet":"X Steam Functions","index":10,"n_rows":115,"n_cols":8,"rows_kept":115,"cut":false,"hidden":false,"merged":[[114,0,114,8]]}
["Steam Tables",null,null,"v2.6"]
[]
["The excel scripts are stored inside this workbook. (No extra files are needed. Start from a copy of this workbook. This page can be removed)"]
[]
["The steam tables are free and provided as is. We take no responsibilities for any errors in the code or damage thereby."]
["OBS: This workbook uses macros. Set security options in Tools:Macro:Security… to enable macros."]
[]
["Temperature",null,null,null,null,"English Result",null,"Function"]
[" Tsat_p",14.503773799999999,"psi",null,null,{"$f":"Tsat_p(B9)","v":211.2906535708841},"°F","Saturation temperature"]
[" T_ph",1,"psi",100,"btu/lb",{"$f":"T_ph(B10,D10)","v":101.69433722352896},"°F","Temperture as a function of pressure and enthalpy"]
[" T_ps",1,"psi",1,"btu/(lb F)",{"$f":"T_ps(B11,D11)","v":101.69433722352896},"°F","Temperture as a function of pressure and entropy"]
[" T_hs",100,"btu/lb",0.2,"btu/(lb F)",{"$f":"T_hs(B12,D12)","v":40.712708761178419},"°F","Temperture as a function of enthalpy and entropy"]
["Pressure"]
[" psat_T",100,"deg F",null,null,{"$f":"psat_t(B14)","v":0.95043933077881249},"psi (a)","Saturation pressure"]
[" p_hs",100,"btu/lb",{"$f":"F49","v":0.18512524760110738},"btu/(lb F)",{"$f":"p_hs(B15,D15)","v":5.9882919074278274},"psi (a)","Pressure as a function of h and s. "]
[" p_hrho",100,"btu/lb",5,"lb/ft3",{"$f":"p_hrho(B16,D16)","v":2.2737319182747444},"psi (a)","Pressure as a function of h and rho (density). Very unaccurate for solid water region since it's almost incompressible!"]
["Enthalpy"]
[" hV_p",100,"psi",null,null,{"$f":"hV_p(B18)","v":1187.4927801925837},"btu/lb","Saturated vapour enthalpy"]
[" hL_p",1,"psi",null,null,{"$f":"hL_p(B19)","v":69.728239049354812},"btu/lb","Saturated liquid enthalpy"]
[" hV_T",100,"deg F",null,null,{"$f":"hV_T(B20)","v":1104.7148547166025},"btu/lb","Saturated vapour enthalpy"]
[" hL_T",100,"deg F",null,null,{"$f":"hL_T(B21)","v":68.036985639994001},"btu/lb","Saturated liquid enthalpy"]
[" h_pT",14.503773799999999,"psi",68,"deg F",{"$f":"h_pt(B22,D22)","v":36.11857745798283},"btu/lb","Entalpy as a function of pressure and temperature."]
[" h_ps",1,"psi",1,"btu/(lb F)",{"$f":"h_ps(B23,D23)","v":556.63691364819874},"btu/lb","Entalpy as a function of pressure and entropy."]
[" h_px",1,"psi",0.5,null,{"$f":"h_px(B24,D24)","v":587.58378885667753},"btu/lb","Entalpy as a function of pressure and vapour fraction"]
[" h_Tx",100,"deg F",0.5,null,{"$f":"h_tx(B25,D25)","v":586.37592017829832},"btu/lb","Entalpy as a function of temperature and vapour fraction"]
[" h_prho",1,"psi",2,"lb/ft3",{"$f":"h_prho(B26,D26)","v":71.230953968579257},"btu/lb","Entalpy as a function of pressure and density. Observe for low temperatures (liquid) this equation has 2 solutions. (Not valid!!)"]
["Specific volume"]
[" vV_p",1,"psi",null,null,{"$f":"vV_p(B28)","v":333.50751891901803},"ft3/lb","Saturated vapour volume"]
[" vL_p",1,"psi",null,null,{"$f":"vL_p(B29)","v":1.613681120860341E-2},"ft3/lb","Saturated liquid volume"]
[" vV_T",100,"deg F",null,null,{"$f":"vV_T(B30)","v":349.8695998974697},"ft3/lb","Saturated vapour volume"]
[" vL_T",100,"deg F",null,null,{"$f":"vL_T(B31)","v":1.6131174327003114E-2},"ft3/lb","Saturated liquid volume"]
[" v_pT",1,"psi",100,"deg F",{"$f":"v_pT(B32,D32)","v":1.6131171891217523E-2},"ft3/lb","Specific volume as a function of pressure and temperature."]
[" v_ph",1,"psi",1000,"btu/lb",{"$f":"v_ph(B33,D33)","v":299.55682476050805},"ft3/lb","Specific volume as a function of pressure and enthalpy"]
[" v_ps",10,"psi",{"$f":"F49","v":0.18512524760110738},"btu/(lb F)",{"$f":"v_ps(B34,D34)","v":1.6255423844855975E-2},"ft3/lb","Specific volume as a function of pressure and entropy."]
["Density"]
[" rhoV_p",1,"psi",null,null,{"$f":"rhoV_p(B36)","v":2.9984331484976777E-3},"lb/ft3","Saturated vapour density"]
[" rhoL_p",1,"psi",null,null,{"$f":"rhoL_P(B37)","v":61.970112128897298},"lb/ft3","Saturated liquid density"]
[" rhoV_T",100,"deg F",null,null,{"$f":"rhoV_T(B38)","v":2.858207744522682E-3},"lb/ft3","Saturated vapour density"]
[" rhoL_T",100,"deg F",null,null,{"$f":"rhoL_T(B39)","v":61.991766980413153},"lb/ft3","Saturated liquid density"]
[" rho_pT",1,"psi",100,"deg F",{"$f":"rho_pT(B40,D40)","v":61.991776341087863},"lb/ft3","Density as a function of pressure and temperature."]
[" rho_ph",1,"psi",1000,"btu/lb",{"$f":"rho_ph(B41,D41)","v":3.3382647876558564E-3},"lb/ft3","Density as a function of pressure and enthalpy"]
[" rho_ps",1,"psi",1,"btu/(lb F)",{"$f":"rho_ps(B42,D42)","v":6.3776664978736569E-3},"lb/ft3","Density as a function of pressure and entropy."]
["Specific entropy "]
[" sV_p",1,"psi",null,null,{"$f":"sV_p(B44)","v":1.9776246796445243},"btu/(lb F)","Saturated vapour entropy"]
[" sL_p",1,"psi",null,null,{"$f":"sL_p(B45)","v":0.13263149847209779},"btu/(lb F)","Saturated liquid entropy"]
[" sV_T",50,"deg F",null,null,{"$f":"sV_T(B46)","v":2.1256916787390598},"btu/(lb F)","Saturated vapour entropy"]
[" sL_T",100,"deg F",null,null,{"$f":"sL_T(B47)","v":0.12961445130558455},"btu/(lb F)","Saturated liquid entropy"]
[" s_pT",1,"psi",50,"deg F",{"$f":"s_pT(B48,D48)","v":3.6085933900856779E-2},"btu/(lb F)","Specific entropy as a function of pressure and temperature (Returns saturated vapour entalpy if mixture.)"]
[" s_ph",10,"psi",100,"btu/lb",{"$f":"s_ph(B49,D49)","v":0.18512524760110738},"btu/(lb F)","Specific entropy as a function of pressure and enthalpy"]
["Specific internal energy "]
[" uV_p",1,"psi",null,null,{"$f":"uV_p(B51)","v":1043.7238674299194},"btu/lb","Saturated vapour internal energy"]
[" uL_p",1,"psi",null,null,{"$f":"uL_p(B52)","v":69.725252937044104},"btu/lb","Saturated liquid internal energy"]
[" uV_T",100,"deg F",null,null,{"$f":"uV_T(B53)","v":1043.1803048366698},"btu/lb","Saturated vapour internal energy"]
[" uL_T",100,"deg F",null,null,{"$f":"uL_T(B54)","v":68.034148512814212},"btu/lb","Saturated liquid internal energy"]
[" u_pT",1,"psi",100,"deg F",{"$f":"u_pT(B55,D55)","v":68.034131602610202},"btu/lb","Specific internal energy as a function of pressure and temperature."]
[" u_ph",1,"psi",1000,"btu/lb",{"$f":"u_ph(B56,D56)","v":944.56709503461354},"btu/lb","Specific internal energy as a function of pressure and enthalpy"]
[" u_ps",1,"psi",1,"btu/(lb F)",{"$f":"u_ps(B57,D57)","v":527.62164375518705},"btu/lb","Specific internal energy as a function of pressure and entropy."]
["Specific isobaric heat capacity "]
[" CpV_p",1,"psi",null,null,{"$f":"CpV_p(B59)","v":0.4610466176319381},"btu/(lb F)","Saturated vapour heat capacity "]
[" CpL_p",1,"psi",null,null,{"$f":"CpL_p(B60)","v":0.99809613194003055},"btu/(lb F)","Saturated liquid heat capacity "]
[" CpV_T",100,"deg F",null,null,{"$f":"CpV_T(B61)","v":0.46071413521990223},"btu/(lb F)","Saturated vapour heat capacity "]
[" CpL_T",100,"deg F",null,null,{"$f":"CpL_T(B62)","v":0.9981101482481709},"btu/(lb F)","Saturated liquid heat capacity "]
[" Cp_pT",1,"psi",100,"deg F",{"$f":"Cp_pT(B63,D63)","v":0.99810994311651391},"btu/(lb F)","Specific isobaric heat capacity as a function of pressure and temperature."]
[" Cp_ph",100,"psi",200,"btu/lb",{"$f":"Cp_ph(B64,D64)","v":1.010383515186803},"btu/(lb F)","Specific isobaric heat capacity as a function of pressure and enthalpy"]
[" Cp_ps",100,"psi",{"$f":"F49","v":0.18512524760110738},"btu/(lb F)",{"$f":"Cp_ps(B65,D65)","v":0.99831685085166899},"btu/(lb F)","Specific isobaric heat capacity as a function of pressure and entropy."]
["Specific isochoric heat capacity "]
[" CvV_p",1,"psi",null,null,{"$f":"CvV_p(B67)","v":0.3473815118397266},"btu/(lb F)","Saturated vapour isochoric heat capacity"]
[" CvL_p",1,"psi",null,null,{"$f":"CvL_p(B68)","v":0.97419487072272337},"btu/(lb F)","Saturated liquid isochoric heat capacity"]
[" CvV_T",100,"deg F",null,null,{"$f":"CvV_T(B69)","v":0.3471349756795683},"btu/(lb F)","Saturated vapour isochoric heat capacity"]
[" CvL_T",100,"deg F",null,null,{"$f":"CvL_T(B70)","v":0.97523713984845961},"btu/(lb F)","Saturated liquid isochoric heat capacity"]
[" Cv_pT",1,"psi",100,"deg F",{"$f":"Cv_pT(B71,D71)","v":0.97523690155523191},"btu/(lb F)","Specific isochoric heat capacity as a function of pressure and temperature."]
[" Cv_ph",100,"psi",200,"btu/lb",{"$f":"Cv_ph(B72,D72)","v":0.88674221718338608},"btu/(lb F)","Specific isochoric heat capacity as a function of pressure and enthalpy"]
[" Cv_ps",100,"psi",{"$f":"D65","v":0.18512524760110738},"btu/(lb F)",{"$f":"Cv_ps(B73,D73)","v":0.95412073194367009},"btu/(lb F)","Specific isochoric heat capacity as a function of pressure and entropy."]
["Speed of sound "]
[" wV_p",1,"psi",null,null,{"$f":"wV_p(B75)","v":1430.0233443387121},"ft/s","Saturated vapour speed of sound"]
[" wL_p",1,"psi",null,null,{"$f":"wL_p(B76)","v":5016.1265905500759},"ft/s","Saturated liquid speed of sound"]
[" wV_T",100,"deg F",null,null,{"$f":"wV_T(B77)","v":1427.980732399066},"ft/s","Saturated vapour speed of sound"]
[" wL_T",100,"deg F",null,null,{"$f":"wL_T(B78)","v":5010.5240656699543},"ft/s","Saturated liquid speed of sound"]
[" w_pT",1,"psi",100,"deg F",{"$f":"w_pT(B79,D79)","v":5010.5258732811444},"ft/s","Speed of sound as a function of pressure and temperature."]
[" w_ph",100,"psi",100,"btu/lb",{"$f":"w_ph(B80,D80)","v":5090.5177966055244},"ft/s","Speed of sound as a function of pressure and enthalpy"]
[" w_ps",100,"psi",{"$f":"D73","v":0.18512524760110738},"btu/(lb F)",{"$f":"w_ps(B81,D81)","v":5090.9193656722355},"ft/s","Speed of sound as a function of pressure and entropy."]
["Dynamic Viscosity"]
["Viscosity is not part of IAPWS Steam IF97. Equations from \"\"Revised Release on the IAPWS Formulation 1985 for the Viscosity of Ordinary Water Substance\"\", 2003 are used."]
["Viscosity in the mixed region (4) is interpolated according to the density. This is not true since it will be two fases."]
[" my_pT",1,"psi",100,"deg F",{"$f":"my_pT(B85,D85)","v":1.6478178107529025},"lb/ft/hr","Viscosity as a function of pressure and temperature."]
[" my_ph",100,"psi",100,"btu/lb",{"$f":"my_ph(B86,D86)","v":1.2111188734075722},"lb/ft/hr","Viscosity as a function of pressure and enthalpy"]
[" my_ps",100,"psi",{"$f":"D81","v":0.18512524760110738},"btu/(lb F)",{"$f":"my_ps(B87,D87)","v":1.2081795712174075},"lb/ft/hr","Viscosity as a function of pressure and entropy."]
["Prandtl"]
["Calcualted as Cp*my/tc"]
[" pr_pT",1,"psi",200,"deg F",{"$f":"pr_pT(B90,D90)","v":0.97012024380540329},"-"]
[" pr_ph",1,"psi",0.19,"btu/lb",{"$f":"pr_ph(B91,D91)","v":13.405629376747422},"-"]
["Thermal Conductivity"]
["Revised release on the IAPS Formulation 1985 for the Thermal Conductivity of ordinary water substance (IAPWS 1998)"]
[" tcL_p",1,"psi",null,null,{"$f":"tcL_p(B94)","v":0.36222613868369979},"btu/(h*ft*F)","Saturated vapour thermal conductivity"]
[" tcV_p",1,"psi",null,null,{"$f":"tcV_p(B95)","v":1.1197748930408077E-2},"btu/(h*ft*F)","Saturated liquid thermal conductivity"]
[" tcL_T",50,"deg F",null,null,{"$f":"tcL_T(B96)","v":0.33622668208052353},"btu/(h*ft*F)","Saturated vapour thermal conductivity"]
[" tcV_T",50,"deg F",null,null,{"$f":"tcV_T(B97)","v":9.9463765547369021E-3},"btu/(h*ft*F)","Saturated liquid thermal conductivity"]
[" tc_pT",1,"psi",50,"deg F",{"$f":"tc_pt(B98,D98)","v":0.33622852115403534},"btu/(h*ft*F)","Thermal conductivity as a function of pressure and temperature."]
[" tc_ph",1,"psi",100,"btu/(lb F)",{"$f":"tc_ph(B99,D99)","v":2.0136752000970422E-2},"btu/(h*ft*F)","Thermal conductivity as a function of pressure and enthalpy"]
[" tc_hs",100,"btu/lb",{"$f":"D73","v":0.18512524760110738},"btu/(lb F)",{"$f":"tc_hs(B100,D100)","v":0.37348196102713527},"btu/(h*ft*F)","Thermal conductivity as a function of enthalpy and entropy"]
["Surface Tension"]
["IAPWS Release on Surface Tension of Ordinary Water Substance, September 1994"]
[" st_T",100,"deg F",null,null,{"$f":"st_T(B104)","v":5.3422775305155355E-3},"lb/ft","Surface tension for two phase water/steam as a function of T"]
[" st_p",1,"psi",null,null,{"$f":"st_p(B104)","v":4.7830973201098753E-3},"lb/ft","Surface tension for two phase water/steam as a function of T"]
["Vapour fraction"]
[" x_ph",1,"psi",1000,"btu/lb",{"$f":"x_ph(B106,D106)","v":0.89819618742791218},null,"Vapour fraction as a function of pressure and enthalpy"]
[" x_ps",1,"psi",4,"btu/(lb F)",{"$f":"x_ps(B107,D107)","v":1},null,"Vapour fraction as a function of pressure and entropy."]
["Vapour Volume Fraction"]
["Observe that vapour volume fraction is very sensitive. Vapour volume is about 1000 times greater than liquid volume and therfore vapour volume fraction"]
["gets close to the accurancy of steam IF-97"]
[" vx_ph",1,"psi",418,"btu/lb",{"$f":"vx_ph(B111,D111)","v":0.99990450365888783},null,"Vapour volume fraction as a function of pressure and enthalpy"]
[" vx_ps",1,"psi",4,"btu/(lb F)",{"$f":"vx_ps(B112,D112)","v":1},null,"Vapour volume fraction as a function of pressure and entropy."]
[]
[]
["Copy Rights: Not to be copied or distributed without specific permission from Inveno Engineering LLC; kelly.paffel@invenoeng.com"]

{"sheet":"Abbreviations (2)","index":11,"n_rows":66,"n_cols":7,"rows_kept":66,"cut":false,"hidden":false,"merged":[[0,1,0,2],[1,1,1,2],[12,1,12,2],[24,1,24,2],[0,5,0,6],[5,5,5,6],[65,1,65,2],[20,5,20,6],[29,5,29,6],[35,5,35,6],[48,1,48,2]]}
[null,"ABBREVIATION TABLES",null,null,null,"STEAM TYPE"]
[null,"APPLICATION",null,null,null,"SUP","Superheat"]
[null,"DP","Drip",null,null,"SAT","Saturated"]
[null,"UH","Unit Heater"]
[null,"AH","Air Handler Coil"]
[null,"HX","Heat Exchanger",null,null,"OPERATION STATUS"]
[null,"TR","Tracing",null,null,"PO","Proper Operation"]
[null,"FL","Flash Tank",null,null,"BLW","Blowing Failure Mode"]
[null,"PC","Process Coil",null,null,"LL","Large Leak"]
[null,"SS","Steam Separator",null,null,"SL","Small Leak"]
[null,"OTH","Others",null,null,"PRI","Loss of Prime (IB Only)"]
[null,null,null,null,null,"LNK","Linkage"]
[null,"SIZE",null,null,null,"CHK","Check Valve Problem"]
[null,"3/8","3/8\"",null,null,"ACC","Could Not Access"]
[null,"1/2","1/2\"",null,null,"SBD","Steam binding"]
[null,"3/4","3/4\"",null,null,"CLD","Cold - (below op temp)"]
[null,"1","1\"",null,null,"NIS","Not in Service (steam on)"]
[null,"1 1/4","1 1/4\"",null,null,"OFF","Steam service was off"]
[null,"1 1/2","1.5\""]
[null,"2.0","2.0\""]
[null,"2 1/4","2 1/4\"",null,null,"STEAM TRAP TYPE"]
[null,"2 1/2","2 1/2\"",null,null,"IB","Inverted Bucket"]
[null,"3","3\"",null,null,"FT","Float & Thermostatic"]
[null,null,null,null,null,"FF","Free Float"]
[null,"MANUFACTURER",null,null,null,"TD","Thermodynamic"]
[null,"ARM","Armstrong",null,null,"TS","Thermostatic"]
[null,"BLO","Blok Gouda",null,null,"BM","Bi-metallic"]
[null,"COL","Colton",null,null,"O","Orifice"]
[null,"ERW","Erwell"]
[null,"GES","Gestra",null,null,"CONNECTION TYPE"]
[null,"HOF","Hoffman",null,null,"NPT","Threaded"]
[null,"NIC","Nicholson",null,null,"SW","Socket Weld"]
[null,"JUK","Jucker",null,null,"FLG","Flanged"]
[null,"SPI","Spirax Sarco",null,null,"CMP","Compression"]
[null,"TLV","TLV"]
[null,"UNK","Unknown or illegible",null,null,"YES NO"]
[null,"TRA","Trane",null,null,"Y","Yes"]
[null,"VEL","Velan",null,null,"N","No"]
[null,"WLW","Watlow",null,null,"N/A","N/A"]
[null,"YAR","Yarway"]
[]
[]
[]
[]
[]
[]
[]
[]
[null,"ORIFACE DIAMETER"]
[null,"1/32",3.125E-2]
[null,"1/16",6.25E-2]
[null,"3/32",9.375E-2]
[null,"1/8",0.125]
[null,"5/32",0.15625]
[null,"3/16",0.1875]
[null,"7/32",0.21875]
[null,"1/4",0.25]
[null,"9/32",0.28125]
[null,"5/16",0.3125]
[null,"11/32",0.34375]
[null,"3/8",0.375]
[null,"13/32",0.40625]
[null,"7/16",0.4375]
[null,"15/32",0.46875]
[null,"1/2",0.5]
[null,"Copy Rights: Not to be copied or distributed without specific permission from Inveno Engineering LLC; kelly.paffel@invenoeng.com"]